{"text_format":"1","workbook":"xlsx","n_sheets":4,"sheets":["Lista","IMPRIMIR","Vendedores","FOTOGRAFICO"],"not_rendered":{"charts":0,"images":10,"macros":1,"external_links":0,"defined_names":7,"comments":0,"pivot_tables":0},"unopened":[],"bounds":{"document_bytes":16777216,"sheet_cells":100000,"rows_first":2000,"rows_last":500,"rows_between":2000,"halvings":0,"cell_chars":16384,"cell_head_chars":4096},"cells_cut":0,"cells_raw":0,"read":"whole","date_system":"1900"}

{"sheet":"Lista","index":0,"n_rows":21119,"n_cols":17,"rows_kept":4500,"cut":true,"hidden":false,"merged":[[15,2,15,5],[0,5,0,6],[1,7,1,12],[2,7,2,12],[3,7,3,12],[4,7,4,12],[9,7,9,12],[10,7,10,12],[0,13,0,14],[5,7,5,12],[6,7,6,12],[7,7,7,12],[8,7,8,12]],"bounds":{"rows_first":2000,"rows_last":500,"rows_between":2000,"halvings":0}}
[null,null,null,null,null,"No. vendedor",null,10,{"$f":"IFERROR(VLOOKUP(H1,Vendedores!A:B,2,FALSE),\"Nota General\")","v":"----"},null,null,null,null,{"$f":"TODAY()","v":"2024-07-26"},null,"N° Orden"]
[null,null,null,null,null,"Marcador","Código","producto",null,null,null,null,null,"Cantidad","Ubicación","Precio","Total"]
[null,null,null,null,null,"a",{"$f":"IFERROR(VLOOKUP(F3,A:C,3,FALSE),\"-\")","v":"-"},{"$f":"IFERROR(VLOOKUP(F3,A:E,5,FALSE),\"-\")","v":"-"},null,null,null,null,null,{"$f":"IFERROR(VLOOKUP(F3,A:B,2,FALSE),\"-\")","v":"-"},{"$f":"IFERROR(VLOOKUP(F3,A:H,8,FALSE),\"-\")","v":"-"},{"$f":"IFERROR(VLOOKUP(F3,A:F,6,FALSE),\"-\")","v":"-"},{"$f":"IFERROR(N3*P3,\"-\")","v":"-"}]
[null,null,null,null,null,"b","-","-",null,null,null,null,null,"-","-","-","-"]
[null,null,null,null,null,"c","-","-",null,null,null,null,null,"-","-","-","-"]
[null,null,null,null,null,"d","-","-",null,null,null,null,null,"-","-","-","-"]
[null,null,null,null,null,"e","-","-",null,null,null,null,null,"-","-","-","-"]
[null,null,null,null,null,"f","-","-",null,null,null,null,null,"-","-","-","-"]
[null,null,null,null,null,"g","-","-",null,null,null,null,null,"-","-","-","-"]
[null,null,null,null,null,"h","-","-",null,null,null,null,null,"-","-","-","-"]
[null,null,null,null,null,"i","-","-",null,null,null,null,null,"-","-","-","-"]
[null,null,null,null,null,null,null,null,null,null,null,null,null,null,null,"TOTAL",{"$f":"ROUNDUP(SUMIF(Q3:Q11,\">0\",Q3:Q11),0)","v":0}]
[]
[]
[]
["Marcador","Cantidad",null,null,null,null,"Existencia  Refaccionaria \nGonzalez","Existencia  Refaccionaria \nTaxi Express","Existencia  Refaccionaria \ndel Ahorro","Existencia  Refaccionaria \nlas Vias del Ahorro","Existencia  Refaccionaria \nla Central del Ahorro","Existencia  Refaccionaria \ndel Ahorro Tlalne","FOTOGRAFIA"]
["Marcador","Cant","Codigo","producto","Descripcion","Precio","Cant Eca","Cant Tal","Cant Coa","Cant Jar","Cant Azt","Cant Tla","FOTOGRAFIA"]
[null,null,"05069631AA","ABRAZADERA","ABRAZADERA BUJE HORQUILLA ATOS 99-04 EXTERIOR MARCA BRUCK     GERMANY 05069631AA",37.61,6,0,0,0,0,0,{"$f":"+IFERROR(HYPERLINK(VLOOKUP(C18,FOTOGRAFICO!C:E,3,FALSE),C18),\"\")","v":"05069631AA"}]
[null,null,"15-0087","ABRAZADERA","ABRAZADERA BARRA ESTAB POINTER 98-09 JUEGO 2 PIEZAS MARCA     NACIONAL",22.18,11,6,7,1,0,6,{"$f":"+IFERROR(HYPERLINK(VLOOKUP(C19,FOTOGRAFICO!C:E,3,FALSE),C19),\"\")","v":"15-0087"}]
[null,null,"90147127","ABRAZADERA","ABRAZADERA BARRA EST CHEVY 94- 12 CON GOMA MARCA SAFETY       IMPORTADO 90168602-C",75.42,0,0,0,0,9,0,{"$f":"+IFERROR(HYPERLINK(VLOOKUP(C20,FOTOGRAFICO!C:E,3,FALSE),C20),\"\")","v":"90147127"}]
[null,null,"ABCP","ABRAZADERA","ABRAZADERA TUBO ESCAP VW SEDAN 68-03 COMBI 1600 70-87 MARCA   PRUMSA NACIONAL ATE-VW",16.27,84,20,4,23,12,9,{"$f":"+IFERROR(HYPERLINK(VLOOKUP(C21,FOTOGRAFICO!C:E,3,FALSE),C21),\"\")","v":"ABCP"}]
[null,null,"BRU1J0411336D","ABRAZADERA","ABRAZADERA BARRA EST JETTA A4  2.0 99-15 GOLF A4 2.0 99-07    BEETLE 2.0 98-11 MARCA BRUCK G",16.47,6,0,0,0,0,2,{"$f":"+IFERROR(HYPERLINK(VLOOKUP(C22,FOTOGRAFICO!C:E,3,FALSE),C22),\"\")","v":"BRU1J0411336D"}]
[null,null,"CIN20","ABRAZADERA","CINCHO NYLON 20CM TRANSPARENTE",0.36,450,596,1242,386,1184,190,{"$f":"+IFERROR(HYPERLINK(VLOOKUP(C23,FOTOGRAFICO!C:E,3,FALSE),C23),\"\")","v":"CIN20"}]
[null,null,"ECO101","ABRAZADERA","ABRAZADERA BARRA ESTAB COMBI   70-01 DEL 2 GOMAS 2 ABRAZADERA 2 SEGUROS MARCA NACIONAL",75.459999999999994,5,0,4,7,0,1,{"$f":"+IFERROR(HYPERLINK(VLOOKUP(C24,FOTOGRAFICO!C:E,3,FALSE),C24),\"\")","v":"ECO101"}]
[null,null,"ECO102","ABRAZADERA","ABRAZADER BARRA ESTAB VW SEDAN 78-03 C/GOMAS GROSOR ORIGINAL  MARCA BRUCK GERMANY 111498101A",96.38,12,4,2,5,0,2,{"$f":"+IFERROR(HYPERLINK(VLOOKUP(C25,FOTOGRAFICO!C:E,3,FALSE),C25),\"\")","v":"ECO102"}]
[null,null,"ECOA01","ABRAZADERA","ABRAZADERA BOBINA VW SEDAN 65- 92 COMBI 72-92 GOLF JETTA A2   CARIBE ATLANTIC MARCA NACIONAL",12.57,32,8,0,15,5,2,{"$f":"+IFERROR(HYPERLINK(VLOOKUP(C26,FOTOGRAFICO!C:E,3,FALSE),C26),\"\")","v":"ECOA01"}]
[null,null,"ECOABRAGEN","ABRAZADERA","ABRAZADERA GENERADOR VW SEDAN  54-91 COMBI 1600 70-87 MARCA   NACIONAL",16.43,11,4,5,2,0,5,{"$f":"+IFERROR(HYPERLINK(VLOOKUP(C27,FOTOGRAFICO!C:E,3,FALSE),C27),\"\")","v":"ECOABRAGEN"}]
[null,null,"G30A","ABRAZADERA","ABRAZADERA DISTRIBUID VW SEDAN 74-03 COMBI 73-93 NEGRO MARCA  NACIONAL",17.079999999999998,14,0,0,13,1,5,{"$f":"+IFERROR(HYPERLINK(VLOOKUP(C28,FOTOGRAFICO!C:E,3,FALSE),C28),\"\")","v":"G30A"}]
[null,null,"MEX6080","ABRAZADERA","ABRAZADERA CINCHO NYLON GRANDE 36 CM MARCA IPS IMPORTADO      KCC5100300",0.67,3088,4342,3095,4010,2507,3315,{"$f":"+IFERROR(HYPERLINK(VLOOKUP(C29,FOTOGRAFICO!C:E,3,FALSE),C29),\"\")","v":"MEX6080"}]
[null,null,"ORI043903117","ABRAZADERA","ABRAZADERA ALTERNADOR VW SEDAN 92-03 F.I. MARCA NACIONAL",25.46,11,15,4,0,4,0,{"$f":"+IFERROR(HYPERLINK(VLOOKUP(C30,FOTOGRAFICO!C:E,3,FALSE),C30),\"\")","v":"ORI043903117"}]
[null,null,"ORI191253111","ABRAZADERA","ABRAZADERA ESCAP GOLF JETTA A2 A3 1.8 2.0 87-99 DERBY 1.8 2.0 95-00 MARCA BRUCK GERMANY",37.619999999999997,0,0,0,6,0,5,{"$f":"+IFERROR(HYPERLINK(VLOOKUP(C31,FOTOGRAFICO!C:E,3,FALSE),C31),\"\")","v":"ORI191253111"}]
[null,null,"VAR1012","ABRAZADERA","ABRAZADERA 5.6 A 16 MM DORADA  ANCHO 7.9 MM MANGUERA GASOLINA TORQU 25 LB/PULG VARESE LMD-04",4.3899999999999997,0,34,0,0,0,0,{"$f":"+IFERROR(HYPERLINK(VLOOKUP(C32,FOTOGRAFICO!C:E,3,FALSE),C32),\"\")","v":"VAR1012"}]
[null,null,"VAR1016","ABRAZADERA","ABRAZADERA 5.6 A 16 MM DORADA  ANCHO 7.9 MM MANGUERA GASOLINA TORQU 25 LB/PULG VARESE LMD-04",3.56,276,135,126,79,77,109,{"$f":"+IFERROR(HYPERLINK(VLOOKUP(C33,FOTOGRAFICO!C:E,3,FALSE),C33),\"\")","v":"VAR1016"}]
[null,null,"VAR1220","ABRAZADERA","ABRAZADERA 11 A 20 MM DORADA   ANCHO 7.9 MM MANGUERA AGUA     TORQUE 25 LB/PULG LMD-06",3.56,62,38,72,43,40,47,{"$f":"+IFERROR(HYPERLINK(VLOOKUP(C34,FOTOGRAFICO!C:E,3,FALSE),C34),\"\")","v":"VAR1220"}]
[null,null,"VAR1625","ABRAZADERA","ABRAZADERA 14 A 27 MM DORADA   ANCHO 7.9 MM TORQUE 25 LB/PULG MARCA VARESE LMD-10",7.01,33,49,22,34,0,32,{"$f":"+IFERROR(HYPERLINK(VLOOKUP(C35,FOTOGRAFICO!C:E,3,FALSE),C35),\"\")","v":"VAR1625"}]
[null,null,"VAR2032","ABRAZADERA","ABRAZADERA 17 A 32 MM DORADA   ANCHO 7.9 MM TORQUE 25 LB/PULG MARCA VARESE LMD-12",7.09,18,44,55,38,18,50,{"$f":"+IFERROR(HYPERLINK(VLOOKUP(C36,FOTOGRAFICO!C:E,3,FALSE),C36),\"\")","v":"VAR2032"}]
[null,null,"VAR2540","ABRAZADERA","ABRAZADERA 24 A 38 MM DORADA   ANCHO 7.9 MM TORQUE 25 LB/PULG MARCA VARESE LMD-16",8.0500000000000007,70,60,75,54,20,39,{"$f":"+IFERROR(HYPERLINK(VLOOKUP(C37,FOTOGRAFICO!C:E,3,FALSE),C37),\"\")","v":"VAR2540"}]
[null,null,"VAR3250","ABRAZADERA","ABRAZADERA 37 A 51 MM DORADA   ANCHO 7.9 MM COPLE UNION MANI  FUL GOMA MULTIPLE LMD-24",8.8800000000000008,75,90,65,70,46,63,{"$f":"+IFERROR(HYPERLINK(VLOOKUP(C38,FOTOGRAFICO!C:E,3,FALSE),C38),\"\")","v":"VAR3250"}]
[null,null,"NNSAPLA","ABRILLANTA","ABRILLANTADOR PLATINUM NEW     SHINE 750 ML VINIL PLASTICOS   PIEL",95.05,6,4,3,0,5,2,{"$f":"+IFERROR(HYPERLINK(VLOOKUP(C39,FOTOGRAFICO!C:E,3,FALSE),C39),\"\")","v":"NNSAPLA"}]
[null,null,"NSC033","ABRILLANTA","ABRILLANTADOR LLANTAS GEL AZUL MARCA NEW SHINE 500 GRAMOS     PIDE ROA LUIS RODRIGO",60.13,0,0,0,0,0,0,{"$f":"+IFERROR(HYPERLINK(VLOOKUP(C40,FOTOGRAFICO!C:E,3,FALSE),C40),\"\")","v":""}]
[null,null,"05013457AA","ACEITE","ACEITE ATF ATF+4 SINTE.BOTELLA 946 ML MOPAR ATF+3 ATF+2 ATF+  MS-9602 TRANS. AUT.",296.74,5,8,11,16,11,8,{"$f":"+IFERROR(HYPERLINK(VLOOKUP(C41,FOTOGRAFICO!C:E,3,FALSE),C41),\"\")","v":"05013457AA"}]
[null,null,"05114225AA","ACEITE","ACEITE MOPAR 20W50 BOTELLA 946 ML API SN",109.25,10,8,16,14,10,8,{"$f":"+IFERROR(HYPERLINK(VLOOKUP(C42,FOTOGRAFICO!C:E,3,FALSE),C42),\"\")","v":"05114225AA"}]
[null,null,"05114226AA","ACEITE","ACEITE MOPAR 20W50 GARRAFA 5   LTS API SN",532.79,4,10,17,20,14,4,{"$f":"+IFERROR(HYPERLINK(VLOOKUP(C43,FOTOGRAFICO!C:E,3,FALSE),C43),\"\")","v":"05114226AA"}]
[null,null,"1004502","ACEITE","ACEITE AK 25W60 DIESEL API CUB CF-4 MARCA GONHER CUBETA 19    LITROS MOTOR DIESEL",1660.95,0,0,0,0,0,0,{"$f":"+IFERROR(HYPERLINK(VLOOKUP(C44,FOTOGRAFICO!C:E,3,FALSE),C44),\"\")","v":""}]
[null,null,"1005392","ACEITE","ACEITE GONHER CUBETA 20W50 GT  TURBO NUEVA ESPECIFICACION API SP 19 LITROS",1433.08,32,7,26,44,8,14,{"$f":"+IFERROR(HYPERLINK(VLOOKUP(C45,FOTOGRAFICO!C:E,3,FALSE),C45),\"\")","v":"1005392"}]
[null,null,"1005412","ACEITE","ACEITE GONHER CUBETA SAE 15W40 CI-4 19 LITROS SUPER FLEET     PARA MOTORES A DIESEL",1518.46,12,3,6,10,4,11,{"$f":"+IFERROR(HYPERLINK(VLOOKUP(C46,FOTOGRAFICO!C:E,3,FALSE),C46),\"\")","v":"1005412"}]
[null,null,"1005562","ACEITE","ACEITE GONHER CUBETA SAE 40    API DF/DF-2 19 LITROS PARA     MOTORES A DIESEL",1378.68,0,0,0,0,0,0,{"$f":"+IFERROR(HYPERLINK(VLOOKUP(C47,FOTOGRAFICO!C:E,3,FALSE),C47),\"\")","v":""}]
[null,null,"1012743","ACEITE","ACEITE ATF DEXRON III BOTELLA  946 ML GONHER TRANSMISION AUTO MATICA DIRECCION HIDRAULICA",89.21,182,94,283,114,266,462,{"$f":"+IFERROR(HYPERLINK(VLOOKUP(C48,FOTOGRAFICO!C:E,3,FALSE),C48),\"\")","v":"1012743"}]
[null,null,"1012745","ACEITE","ACEITE ATF DEXRON III GARRAFA  5 LTS GONHER MERCON DEXRON III AUT. DIR.HID. CAJA 4 PIEZAS",396.94,70,11,28,52,54,26,{"$f":"+IFERROR(HYPERLINK(VLOOKUP(C49,FOTOGRAFICO!C:E,3,FALSE),C49),\"\")","v":"1012745"}]
[null,null,"1012747","ACEITE","ACEITE 20W50 GARRAFA 5 LITROS  GT TURBO ROJA MARCA GONHER     ESPECIFICACION API SL",426.02,161,79,48,41,59,257,{"$f":"+IFERROR(HYPERLINK(VLOOKUP(C50,FOTOGRAFICO!C:E,3,FALSE),C50),\"\")","v":"1012747"}]
[null,null,"1012750","ACEITE","ACEITE 25W50 BOTELLA 946 ML    100 MIL KM ESPECIFICACION SL   API MARCA GONHER MEX",86.94,718,253,684,405,674,1433,{"$f":"+IFERROR(HYPERLINK(VLOOKUP(C51,FOTOGRAFICO!C:E,3,FALSE),C51),\"\")","v":"1012750"}]
[null,null,"1012754","ACEITE","ACEITE 25W50 GARRAFA 5 LITROS  100 MIL KM ESPECIFICACION SL   API MARCA GONHER MEX",426.02,545,217,650,560,307,1389,{"$f":"+IFERROR(HYPERLINK(VLOOKUP(C52,FOTOGRAFICO!C:E,3,FALSE),C52),\"\")","v":"1012754"}]
[null,null,"1014872","ACEITE","ACEITE MERCON V ATF BOTELLA    946 ML GONHER SINTETICO TRANS  AUT DIR HID",184.67,40,5,79,62,99,32,{"$f":"+IFERROR(HYPERLINK(VLOOKUP(C53,FOTOGRAFICO!C:E,3,FALSE),C53),\"\")","v":"1014872"}]
[null,null,"1021287","ACEITE","ACEITE GONHER DEXRON VI ATF    MERCON LV BOTE 946 ML TRANSMIS AUTOMATICA SINTETICO",178.11,16,12,45,8,39,100,{"$f":"+IFERROR(HYPERLINK(VLOOKUP(C54,FOTOGRAFICO!C:E,3,FALSE),C54),\"\")","v":"1021287"}]
[null,null,"1027389","ACEITE","ACEI BOTELLA NEGRA GONHER 5W30 PRIME 100% SINTETICO NUEVA     ESPECIFICACION API SP .946 LTS",131.34,186,154,328,230,95,0,{"$f":"+IFERROR(HYPERLINK(VLOOKUP(C55,FOTOGRAFICO!C:E,3,FALSE),C55),\"\")","v":"1027389"}]
[null,null,"1027390","ACEITE","ACEI GARRAFA NEGRA GONHER 5W30 PRIME 100% SINTETICO NUEVA     ESPECIFICACION API SP 5 LITROS",644.37,355,179,456,202,117,1799,{"$f":"+IFERROR(HYPERLINK(VLOOKUP(C56,FOTOGRAFICO!C:E,3,FALSE),C56),\"\")","v":"1027390"}]
[null,null,"1027394","ACEITE","ACEI GARRAFA NEGRA GONHER 5W50 PRIME 100% SINTETICO NUEVA     CLASIFICACION API SP 5 LITROS",643.54,85,38,32,100,10,131,{"$f":"+IFERROR(HYPERLINK(VLOOKUP(C57,FOTOGRAFICO!C:E,3,FALSE),C57),\"\")","v":"1027394"}]
[null,null,"1027399","ACEITE","ACEI GARRAFA ROJA GONHER 20W50 GT TURBO NUEVA ESPECIFICACION  API SP 5 LITROS",462.91,159,86,339,120,178,86,{"$f":"+IFERROR(HYPERLINK(VLOOKUP(C58,FOTOGRAFICO!C:E,3,FALSE),C58),\"\")","v":"1027399"}]
[null,null,"1027402","ACEITE","ACEI GARRAFA GRIS GONHER 15W40 SELECT SEMI-SINTETICO NUEVA    ESPECIFICACION API SP 5 LITROS",517.9,78,40,162,47,35,245,{"$f":"+IFERROR(HYPERLINK(VLOOKUP(C59,FOTOGRAFICO!C:E,3,FALSE),C59),\"\")","v":"1027402"}]
[null,null,"1027407","ACEITE","ACEI BOTELLA NEGRA GONHER 5W50 PRIME 100% SINTETICO NUEVA     ESPECIFICACION API SP .946 LT",122.53,22,20,50,47,41,131,{"$f":"+IFERROR(HYPERLINK(VLOOKUP(C60,FOTOGRAFICO!C:E,3,FALSE),C60),\"\")","v":"1027407"}]
[null,null,"1027408","ACEITE","ACE BOTELLA ROJA GONHER 20W50  GT TURBO NUEVA ESPECIFICACION  API SP .946 LITRO",94.47,47,152,96,93,116,144,{"$f":"+IFERROR(HYPERLINK(VLOOKUP(C61,FOTOGRAFICO!C:E,3,FALSE),C61),\"\")","v":"1027408"}]
[null,null,"1027410","ACEITE","ACEI BOTELLA GRIS GONHER 15W40 SELECT SEMI-SINTETICO NUEVA    ESPECIFICACION API SP .976 LTS",93.33,143,50,28,87,119,207,{"$f":"+IFERROR(HYPERLINK(VLOOKUP(C62,FOTOGRAFICO!C:E,3,FALSE),C62),\"\")","v":"1027410"}]
[null,null,"1027417","ACEITE","ACE BOTELLA NEGRA GONHER 10W30 PRIME 100% SINTETICO NUEVA     ESPECIFICACION API SP .946 LT",131.34,21,18,72,80,29,77,{"$f":"+IFERROR(HYPERLINK(VLOOKUP(C63,FOTOGRAFICO!C:E,3,FALSE),C63),\"\")","v":"1027417"}]
[null,null,"1027418","ACEITE","ACE GARRAFA NEGRA GONHER 10W30 PRIME 100% SINTETICO NUEVA     ESPECIFICACION API SP 5 LITROS",643.54,37,32,134,40,21,59,{"$f":"+IFERROR(HYPERLINK(VLOOKUP(C64,FOTOGRAFICO!C:E,3,FALSE),C64),\"\")","v":"1027418"}]
[null,null,"1030990","ACEITE","ACEITE GONHER CVT BOTELLA 946  ML TRANSMISION AUTOMATICA CAJA 16 PZA MARCA GONHER",181.04,46,27,72,79,88,35,{"$f":"+IFERROR(HYPERLINK(VLOOKUP(C65,FOTOGRAFICO!C:E,3,FALSE),C65),\"\")","v":"1030990"}]
[null,null,"12341","ACEITE","ACEITE 20W50 MOTOS 4T BOTELLA  946 ML BARDAHL API SL JASO MA2 CAJA 12 PIEZAS",83.44,83,0,36,43,39,27,{"$f":"+IFERROR(HYPERLINK(VLOOKUP(C66,FOTOGRAFICO!C:E,3,FALSE),C66),\"\")","v":"12341"}]
[null,null,"19114358-PROM","ACEITE","ACEITE SINTETICO 5W30 BOTELLA  946 ML ACDELCO API SN CAJA 12  PIEZAS PROMOCION LIMITADA",156.13,0,0,0,0,0,0,{"$f":"+IFERROR(HYPERLINK(VLOOKUP(C67,FOTOGRAFICO!C:E,3,FALSE),C67),\"\")","v":""}]
[null,null,"19192753","ACEITE","ACEITE ACDELCO SINT.10W40 BOTE 946 ML API SN                  CAJA 12 PIEZAS",137.13999999999999,36,48,76,37,26,27,{"$f":"+IFERROR(HYPERLINK(VLOOKUP(C68,FOTOGRAFICO!C:E,3,FALSE),C68),\"\")","v":"19192753"}]
[null,null,"19192753-PROM","ACEITE","ACEITE ACDELCO SINT.10W40 BOTE 946 ML API SN CAJA 12 PIEZAS   PROMOCION LIMITADA",114.06,0,0,0,0,0,0,{"$f":"+IFERROR(HYPERLINK(VLOOKUP(C69,FOTOGRAFICO!C:E,3,FALSE),C69),\"\")","v":""}]
[null,null,"19366878","ACEITE","ACEITE SINTETICO 5W30 BOTELLA  946 ML ACDELCO API SN          CAJA 12 PIEZAS",175.34,24,23,24,34,12,13,{"$f":"+IFERROR(HYPERLINK(VLOOKUP(C70,FOTOGRAFICO!C:E,3,FALSE),C70),\"\")","v":"19366878"}]
[null,null,"19434093-PROM","ACEITE","ACEITE SINTET.5W30 GARRA 5 LTS ACDELCO API SN CAJA 4 PIEZAS   PROMOCION LIMITADA",751.43,0,0,0,0,0,0,{"$f":"+IFERROR(HYPERLINK(VLOOKUP(C71,FOTOGRAFICO!C:E,3,FALSE),C71),\"\")","v":""}]
[null,null,"20179","ACEITE","ACEITE CVT TRANSMAX BOTELLA    946 ML CASTROL TRANSMISION     AUTOMATICA CAJA 6 PIEZAS",232.49,0,0,0,0,0,0,{"$f":"+IFERROR(HYPERLINK(VLOOKUP(C72,FOTOGRAFICO!C:E,3,FALSE),C72),\"\")","v":"20179"}]
[null,null,"21211509","ACEITE","ACEITE HEAVY DUTY 15W40 BOTELL 946 ML QUAKER API SN/CF        GASOLINA CAJA 16 PZA",109.84,12,14,19,9,0,13,{"$f":"+IFERROR(HYPERLINK(VLOOKUP(C73,FOTOGRAFICO!C:E,3,FALSE),C73),\"\")","v":"21211509"}]
[null,null,"22973","ACEITE","ACEITE MOBIL DEXRON VI ATF BOT 946 ML TRANSMISION AUTOMATICA  CAJA 6 PIEZAS",211.93,26,31,16,19,14,3,{"$f":"+IFERROR(HYPERLINK(VLOOKUP(C74,FOTOGRAFICO!C:E,3,FALSE),C74),\"\")","v":"22973"}]
[null,null,"24140319","ACEITE","ACEITE QUAKER HIDRAULICO 68    CUBETA 19 LITROS               SOBRE PEDIDO MIGUEL COTOC",738.33,0,0,0,0,0,0,{"$f":"+IFERROR(HYPERLINK(VLOOKUP(C75,FOTOGRAFICO!C:E,3,FALSE),C75),\"\")","v":""}]
[null,null,"43120","ACEITE","ACEITE GT TURBO 20W50 BOTELLA  946 ML GONHER API SL",86.94,498,177,91,141,244,497,{"$f":"+IFERROR(HYPERLINK(VLOOKUP(C76,FOTOGRAFICO!C:E,3,FALSE),C76),\"\")","v":"43120"}]
[null,null,"43309","ACEITE","ACEITE GT-TURBO 10W30 BOTELLA  946 ML GONHER API SN ILSAC     GF-5",94.48,40,0,13,17,14,20,{"$f":"+IFERROR(HYPERLINK(VLOOKUP(C77,FOTOGRAFICO!C:E,3,FALSE),C77),\"\")","v":"43309"}]
[null,null,"68218891MD","ACEITE","ACEITE 5W20 GARRAFA 5 LITROS   API SN MARCA MOPAR PIDE        YOHAN",808.12,3,4,1,2,5,4,{"$f":"+IFERROR(HYPERLINK(VLOOKUP(C78,FOTOGRAFICO!C:E,3,FALSE),C78),\"\")","v":"68218891MD"}]
[null,null,"70415","ACEITE","ACEITE MEXLUB CUBETA 20W50 API CH-4 19 LITROS MOTORES DIESEL",1535.68,0,7,0,10,6,8,{"$f":"+IFERROR(HYPERLINK(VLOOKUP(C79,FOTOGRAFICO!C:E,3,FALSE),C79),\"\")","v":"70415"}]
[null,null,"8770","ACEITE","ACEITE GONHER SUPER HD40 BOTEL 946 ML API SL",84.78,253,71,91,206,198,671,{"$f":"+IFERROR(HYPERLINK(VLOOKUP(C80,FOTOGRAFICO!C:E,3,FALSE),C80),\"\")","v":"8770"}]
[null,null,"888662170","ACEITE","ACEITE DEXRON VI ATF BOTELLA 1 LT ACDELCO TRANSMISION         AUTOMATICA CAJA 6 PIEZAS",298.39999999999998,0,6,6,27,9,6,{"$f":"+IFERROR(HYPERLINK(VLOOKUP(C81,FOTOGRAFICO!C:E,3,FALSE),C81),\"\")","v":"888662170"}]
[null,null,"93438514-PROM","ACEITE","ACEITE ACDELCO 20W50 BOTELLA   946 ML API SL CAJA 12 PIEZAS   PROMOCION LIMITADA",91.11,0,0,0,0,0,0,{"$f":"+IFERROR(HYPERLINK(VLOOKUP(C82,FOTOGRAFICO!C:E,3,FALSE),C82),\"\")","v":""}]
[null,null,"93438515-PROM","ACEITE","ACEITE ACDELCO 20W50 GARRAFA 5 LTS API SL CAJA 4 PIEZAS       PROMOCION LIMITADA",0,0,0,0,0,0,0,{"$f":"+IFERROR(HYPERLINK(VLOOKUP(C83,FOTOGRAFICO!C:E,3,FALSE),C83),\"\")","v":""}]
[null,null,"93438519-PROM","ACEITE","ACEITE AC DELCO 80W90 BOTELLA  946 ML API GL-5 TRANS.STD      CAJA 12 PIEZAS PROMOCION LIMIT",93.87,0,0,0,0,0,0,{"$f":"+IFERROR(HYPERLINK(VLOOKUP(C84,FOTOGRAFICO!C:E,3,FALSE),C84),\"\")","v":""}]
[null,null,"ACD93438514","ACEITE","ACEITE ACDELCO 20W50 BOTELLA   946 ML API SL                  CAJA 12 PIEZAS",107.9,26,42,34,37,24,8,{"$f":"+IFERROR(HYPERLINK(VLOOKUP(C85,FOTOGRAFICO!C:E,3,FALSE),C85),\"\")","v":"ACD93438514"}]
[null,null,"ACDELCO-5W30-4LT","ACEITE","ACEITE SINT.5W30 GARRA 3.78 LT ACDELCO API SN                 CAJA 4 PIEZAS",701.39,11,21,13,36,17,4,{"$f":"+IFERROR(HYPERLINK(VLOOKUP(C86,FOTOGRAFICO!C:E,3,FALSE),C86),\"\")","v":"ACDELCO-5W30-4LT"}]
[null,null,"ACDELCO-5W30-5LT","ACEITE","ACEITE SINTET.5W30 GARRA 5 LTS ACDELCO API SN                 CAJA 4 PIEZAS",930.69,25,13,23,28,12,7,{"$f":"+IFERROR(HYPERLINK(VLOOKUP(C87,FOTOGRAFICO!C:E,3,FALSE),C87),\"\")","v":"ACDELCO-5W30-5LT"}]
[null,null,"ACDGARRAFA","ACEITE","ACEITE ACDELCO 20W50 GARRAFA 5 LTS API SL                     CAJA 4 PIEZAS",532.79,22,21,14,24,13,5,{"$f":"+IFERROR(HYPERLINK(VLOOKUP(C88,FOTOGRAFICO!C:E,3,FALSE),C88),\"\")","v":"ACDGARRAFA"}]
[null,null,"AP1G-1SAE90-L","ACEITE","ACEITE MOTORCRAFT SAE90 BOTELL A 1 LITRO TRASMISION STD SAE90 ORIGINAL MOTORCRAFT",54.5,0,0,0,0,0,0,{"$f":"+IFERROR(HYPERLINK(VLOOKUP(C89,FOTOGRAFICO!C:E,3,FALSE),C89),\"\")","v":""}]
[null,null,"BAR12721","ACEITE","ACEITE 20W50 MOTOTAXI 4T BOTEL LA 946 ML BARDAHL API SL JASO  MA2 CAJA 12 PZ",100.13,8,14,5,14,1,8,{"$f":"+IFERROR(HYPERLINK(VLOOKUP(C90,FOTOGRAFICO!C:E,3,FALSE),C90),\"\")","v":"BAR12721"}]
[null,null,"BAR13113","ACEITE","ACEITE ATF DEXRON III BOTELLA  946 ML BARDAHL MERCON TRANS.   AUT. DIR.HID. CAJA 12 PIEZAS",69.87,362,239,185,203,88,67,{"$f":"+IFERROR(HYPERLINK(VLOOKUP(C91,FOTOGRAFICO!C:E,3,FALSE),C91),\"\")","v":"BAR13113"}]
[null,null,"BAR16510","ACEITE","ACEITE BARDAHL 15W40 BOTELLA   946 ML API SL SUPER RACING OIL CAJA 12 PIEZAS",100.12,12,45,19,11,7,5,{"$f":"+IFERROR(HYPERLINK(VLOOKUP(C92,FOTOGRAFICO!C:E,3,FALSE),C92),\"\")","v":"BAR16510"}]
[null,null,"BAR16680","ACEITE","ACEITE FUSION 20W50 BOTELLA    946 ML BARDAHL API SN CON      ADITIVO FUSION 1 CAJA 12 PZA",108.39,8,30,15,27,6,14,{"$f":"+IFERROR(HYPERLINK(VLOOKUP(C93,FOTOGRAFICO!C:E,3,FALSE),C93),\"\")","v":"BAR16680"}]
[null,null,"BAR17303","ACEITE","ACEITE BARDAHL 25W50 BOLSA 946 ML API SL ALTO KILOMETRAJE     CAJA 12 PIEZAS",73.849999999999994,104,216,255,153,180,62,{"$f":"+IFERROR(HYPERLINK(VLOOKUP(C94,FOTOGRAFICO!C:E,3,FALSE),C94),\"\")","v":"BAR17303"}]
[null,null,"BAR17308","ACEITE","ACEITE BARDAHL 25W50 BOTELLA   946 ML API SL ALTO KILOMETRAJE CAJA 12 PIEZAS",100.12,17,16,12,0,12,0,{"$f":"+IFERROR(HYPERLINK(VLOOKUP(C95,FOTOGRAFICO!C:E,3,FALSE),C95),\"\")","v":"BAR17308"}]
[null,null,"BAR17402","ACEITE","ACEITE BARDAHL 90 BOTELLA 946  ML API GL-1 TRANS.STD          CAJA 12 PIEZAS",74.83,127,67,127,113,39,41,{"$f":"+IFERROR(HYPERLINK(VLOOKUP(C96,FOTOGRAFICO!C:E,3,FALSE),C96),\"\")","v":"BAR17402"}]
[null,null,"BAR17411","ACEITE","ACEITE BARDAHL 140 BOTELLA 946 ML API GL-1 TRANS.STD          CAJA 12 PIEZAS",74.83,93,45,38,69,17,39,{"$f":"+IFERROR(HYPERLINK(VLOOKUP(C97,FOTOGRAFICO!C:E,3,FALSE),C97),\"\")","v":"BAR17411"}]
[null,null,"BAR17421","ACEITE","ACEITE BARDAHL 250 BOTELLA 946 ML API GL-1 TRANS.STD          CAJA 12 PIEZAS",74.83,67,26,66,62,26,17,{"$f":"+IFERROR(HYPERLINK(VLOOKUP(C98,FOTOGRAFICO!C:E,3,FALSE),C98),\"\")","v":"BAR17421"}]
[null,null,"BAR17461","ACEITE","ACEITE BARDAHL 80W90 BOTELLA   946 ML API GL-5 TRANS.STD      CAJA 12 PIEZAS",83.44,225,304,355,229,97,42,{"$f":"+IFERROR(HYPERLINK(VLOOKUP(C99,FOTOGRAFICO!C:E,3,FALSE),C99),\"\")","v":"BAR17461"}]
[null,null,"BAR70225","ACEITE","ACEITE MEXLUB HD40 CUBETA      19 LTS CF/CF-2 SERIES 3 DIESEL",1018.52,16,16,7,6,10,13,{"$f":"+IFERROR(HYPERLINK(VLOOKUP(C100,FOTOGRAFICO!C:E,3,FALSE),C100),\"\")","v":"BAR70225"}]
[null,null,"BAR70235","ACEITE","ACEITE MEXLUB HD50 CUBETA      19 LTS CF/CF-2 SERIES 3 DIESEL",1018.52,11,1,16,21,12,22,{"$f":"+IFERROR(HYPERLINK(VLOOKUP(C101,FOTOGRAFICO!C:E,3,FALSE),C101),\"\")","v":"BAR70235"}]
[null,null,"BAR70644","ACEITE","ACEITE MEXLUB HD50 GARRAFA     5 LTS CF/CF-2 SERIES 3 DIESEL  CAJA 4 PIEZAS",401.55,0,0,0,0,0,0,{"$f":"+IFERROR(HYPERLINK(VLOOKUP(C102,FOTOGRAFICO!C:E,3,FALSE),C102),\"\")","v":"BAR70644"}]
[null,null,"BARDAHLATF","ACEITE","ACEITE ATF DEXRON III GARRAFA  5 LTS BARDAHL MERCON TRANS.    AUT. DIR.HID. CAJA 4 PIEZAS",459.36,7,8,2,8,7,7,{"$f":"+IFERROR(HYPERLINK(VLOOKUP(C103,FOTOGRAFICO!C:E,3,FALSE),C103),\"\")","v":"BARDAHLATF"}]
[null,null,"BARDAHLG20W50","ACEITE","ACEITE BARDAHL 20W50 GARRAFA 5 LTS API SL SUPER RACING OIL    CAJA 4 PIEZAS",394.82,6,12,17,8,12,15,{"$f":"+IFERROR(HYPERLINK(VLOOKUP(C104,FOTOGRAFICO!C:E,3,FALSE),C104),\"\")","v":"BARDAHLG20W50"}]
[null,null,"BARDAHLG25W50","ACEITE","ACEITE BARDAHL 25W50 GARRAFA   5 LTS API SL ALTO KILOMETRAJE  CAJA 4 PIEZAS",394.83,12,13,17,23,26,18,{"$f":"+IFERROR(HYPERLINK(VLOOKUP(C105,FOTOGRAFICO!C:E,3,FALSE),C105),\"\")","v":"BARDAHLG25W50"}]
[null,null,"BARDAHLGARTITAN","ACEITE","ACEITE MEXLUB HD40 GARRAFA     5 LTS API SL TITANIUM          CAJA 4 PIEZAS",436.64,5,5,8,0,8,0,{"$f":"+IFERROR(HYPERLINK(VLOOKUP(C106,FOTOGRAFICO!C:E,3,FALSE),C106),\"\")","v":"BARDAHLGARTITAN"}]
[null,null,"BARLITRO","ACEITE","ACEITE BARDAHL HD40 BOTELL     946 ML API SL                  CAJA 12 PIEZAS",98.07,18,7,0,7,15,16,{"$f":"+IFERROR(HYPERLINK(VLOOKUP(C107,FOTOGRAFICO!C:E,3,FALSE),C107),\"\")","v":"BARLITRO"}]
[null,null,"C-020019Q4","ACEITE","ACEITE MOTUL MOTO 20W50 BOTELL MINERAL 3000  4 TIEMPOS 20W50",226.33,10,3,6,3,3,12,{"$f":"+IFERROR(HYPERLINK(VLOOKUP(C108,FOTOGRAFICO!C:E,3,FALSE),C108),\"\")","v":"C-020019Q4"}]
[null,null,"C-020256Q4","ACEITE","ACEIT MOTUL MOTO 5100 4T 15W50 TECHNOSYNTHESE 5100 4T 15W50   1 LITRO",217.74,11,14,7,6,3,5,{"$f":"+IFERROR(HYPERLINK(VLOOKUP(C109,FOTOGRAFICO!C:E,3,FALSE),C109),\"\")","v":"C-020256Q4"}]
[null,null,"C-020303D3","ACEITE","ACEITE FRAM MOTO 4T 20W50 BOTE LLA MULTIGRADO 4TIEMPOS MBF20W",126.54,11,6,6,3,4,4,{"$f":"+IFERROR(HYPERLINK(VLOOKUP(C110,FOTOGRAFICO!C:E,3,FALSE),C110),\"\")","v":"C-020303D3"}]
[null,null,"C-020344Q4","ACEITE","ACEITE MOTUL MOTO SINTET 10W40 SINTETICO 7100 4 TIEMPOS 10W40",296.58999999999997,3,0,4,13,4,1,{"$f":"+IFERROR(HYPERLINK(VLOOKUP(C111,FOTOGRAFICO!C:E,3,FALSE),C111),\"\")","v":"C-020344Q4"}]
[null,null,"C-020345Q4","ACEITE","ACEITE MOTUL MOTO SINTET 20W50 SINTETICO 7100 4 TIEMPOS 20W50 1 LITRO",392.81,4,2,8,7,4,5,{"$f":"+IFERROR(HYPERLINK(VLOOKUP(C112,FOTOGRAFICO!C:E,3,FALSE),C112),\"\")","v":""}]
[null,null,"C-020365Q4","ACEITE","ACEIT MOTUL MOTO 5000 4T 20W50 TECHNOSYNTHESE 5000 4T 20W50   1 LITRO",209.59,18,2,10,3,3,6,{"$f":"+IFERROR(HYPERLINK(VLOOKUP(C113,FOTOGRAFICO!C:E,3,FALSE),C113),\"\")","v":"C-020365Q4"}]
[null,null,"C-020367Q4","ACEITE","ACEITE MOTUL MOTO SINTET 10W50 SINTETICO 7100 4 TIEMPOS 10W50 1LT 104097",302.52999999999997,4,13,5,10,3,8,{"$f":"+IFERROR(HYPERLINK(VLOOKUP(C114,FOTOGRAFICO!C:E,3,FALSE),C114),\"\")","v":"C-020367Q4"}]
[null,null,"CAS10W40","ACEITE","ACEITE CASTROL GTX 10W40 BOTEL 946 ML API SN GASOLINA Y GAS   CAJA 6 PIEZAS",143.94,18,21,10,0,7,0,{"$f":"+IFERROR(HYPERLINK(VLOOKUP(C115,FOTOGRAFICO!C:E,3,FALSE),C115),\"\")","v":"CAS10W40"}]
[null,null,"CAS20W50","ACEITE","ACEITE CASTROL GTX 20W50 BOTEL 946 ML API SN GASOLINA Y GAS   CAJA 12 PIEZAS",143.94,75,128,95,196,66,24,{"$f":"+IFERROR(HYPERLINK(VLOOKUP(C116,FOTOGRAFICO!C:E,3,FALSE),C116),\"\")","v":"CAS20W50"}]
[null,null,"CAS5W30-BOTELLA","ACEITE","ACEITE EDGE 5W30 C3 BOTELLA    946 ML CASTROL API SN/CF SINTE GASOLINA DIESEL CAJA 6 PIEZAS",323.23,11,49,21,36,13,10,{"$f":"+IFERROR(HYPERLINK(VLOOKUP(C117,FOTOGRAFICO!C:E,3,FALSE),C117),\"\")","v":"CAS5W30-BOTELLA"}]
[null,null,"CAS5W30GARRAFA","ACEITE","ACEITE SINTETI.EDGE 5W30 GARRA 4.73 LTS CASTROL API SN DEXOS  1 GASOLINA CAJA 3 PIEZAS",1533.44,25,39,19,31,9,6,{"$f":"+IFERROR(HYPERLINK(VLOOKUP(C118,FOTOGRAFICO!C:E,3,FALSE),C118),\"\")","v":"CAS5W30GARRAFA"}]
[null,null,"CAS5W30GTXSYUSA","ACEITE","ACEITE CASTROL GTX 5W30 BOTELL FULL SINTETICO API SP SN PLUS  SN DEXOS 1 946 ML CAJA 6 PZA",211.23,14,1,25,0,1,0,{"$f":"+IFERROR(HYPERLINK(VLOOKUP(C119,FOTOGRAFICO!C:E,3,FALSE),C119),\"\")","v":"CAS5W30GTXSYUSA"}]
[null,null,"CAS5W50EDGEUSA","ACEITE","ACEITE CASTROL EDGE 5W50 BOTEL FULL SINTETICO API SP SN PLUS  SN SM 946 ML CAJA 6 PIEZAS",260.69,18,14,16,10,7,8,{"$f":"+IFERROR(HYPERLINK(VLOOKUP(C120,FOTOGRAFICO!C:E,3,FALSE),C120),\"\")","v":"CAS5W50EDGEUSA"}]
[null,null,"CAS80W90","ACEITE","ACEITE CASTROL 80W90 BOTELLA   946 ML API GL-5 TRANS.STD      CAJA 12 PIEZAS",177.65,22,31,24,21,25,10,{"$f":"+IFERROR(HYPERLINK(VLOOKUP(C121,FOTOGRAFICO!C:E,3,FALSE),C121),\"\")","v":"CAS80W90"}]
[null,null,"CAS-ACTEVO-20W50","ACEITE","ACEITE 20W50 MOTOS 4T BOTELLA  946ML CASTROL ACTEVO 4 TIEMPOS JASO MA2 Y MA CAJA 6 PIEZAS",131.1,10,7,6,17,12,21,{"$f":"+IFERROR(HYPERLINK(VLOOKUP(C122,FOTOGRAFICO!C:E,3,FALSE),C122),\"\")","v":"CAS-ACTEVO-20W50"}]
[null,null,"CASALTO","ACEITE","ACEITE CASTROL GTX 25W60 BOTEL 946 ML API SN ALTO KILOMETRAJE GASOLINA Y GAS CAJA 6 PIEZAS",114.9,9,115,80,145,42,35,{"$f":"+IFERROR(HYPERLINK(VLOOKUP(C123,FOTOGRAFICO!C:E,3,FALSE),C123),\"\")","v":"CASALTO"}]
[null,null,"CASALTOGARRAFA","ACEITE","ACEITE CASTROL GTX 25W60 GARRA 4.73 LTS API SN ALTO KILOMETRA GASOLINA Y GAS CAJA 3 PIEZAS",586.69000000000005,26,45,51,121,22,10,{"$f":"+IFERROR(HYPERLINK(VLOOKUP(C124,FOTOGRAFICO!C:E,3,FALSE),C124),\"\")","v":"CASALTOGARRAFA"}]
[null,null,"CASATF","ACEITE","ACEITE ATF TRANSMAX BOTELLA    946 ML CASTROL DEXRON III H    MERCON JASO-1A TRANS.AUT DIR.H",133.99,1,0,0,0,0,0,{"$f":"+IFERROR(HYPERLINK(VLOOKUP(C125,FOTOGRAFICO!C:E,3,FALSE),C125),\"\")","v":"CASATF"}]
[null,null,"CASATFGARR","ACEITE","ACEITE ATF TRANSMAX GARRAFA    3.75 LTS CASTROL DEXRON III H  MERCON JASO-1A TRANS.AUT DIR.H",563.86,5,6,4,1,0,3,{"$f":"+IFERROR(HYPERLINK(VLOOKUP(C126,FOTOGRAFICO!C:E,3,FALSE),C126),\"\")","v":"CASATFGARR"}]
[null,null,"CASDIESEL","ACEITE","ACEITE MOBIL VW ORIG.5W40 BOTE 946 ML VW 502 00/505 00 ACEA   A3/B3 A3/B4 API SL SM SN SINTE",237.55,14,12,11,16,12,8,{"$f":"+IFERROR(HYPERLINK(VLOOKUP(C127,FOTOGRAFICO!C:E,3,FALSE),C127),\"\")","v":"CASDIESEL"}]
[null,null,"CASHD40","ACEITE","ACEITE CASTROL HD40 BOTELLA    946 ML API SL                  CAJA 12 PIEZAS",142.34,24,15,15,15,18,11,{"$f":"+IFERROR(HYPERLINK(VLOOKUP(C128,FOTOGRAFICO!C:E,3,FALSE),C128),\"\")","v":"CASHD40"}]
[null,null,"CAS-HD40-GARRAFA","ACEITE","ACEITE CASTROL HD40 GARRAFA    4.73 LTS API SL                CAJA 3 PIEZAS",654.34,6,15,6,14,11,6,{"$f":"+IFERROR(HYPERLINK(VLOOKUP(C129,FOTOGRAFICO!C:E,3,FALSE),C129),\"\")","v":"CAS-HD40-GARRAFA"}]
[null,null,"CASMAGARR20W50","ACEITE","ACEITE MAGNATEC 20W50 GARRAFA  4.73 LTS CASTROL API SN        SEMI-SINTETICO CAJA 3 PIEZAS",1064.99,0,0,0,0,0,0,{"$f":"+IFERROR(HYPERLINK(VLOOKUP(C130,FOTOGRAFICO!C:E,3,FALSE),C130),\"\")","v":"CASMAGARR20W50"}]
[null,null,"CASMAGNA10W30","ACEITE","ACEITE MAGNATEC 10W30 BOTELLA  946 ML CASTROL API SN          SEMI-SINTETICO CAJA 6 PIEZAS",230.09,22,33,23,34,3,8,{"$f":"+IFERROR(HYPERLINK(VLOOKUP(C131,FOTOGRAFICO!C:E,3,FALSE),C131),\"\")","v":"CASMAGNA10W30"}]
[null,null,"CASMAGNA15W40","ACEITE","ACEITE MAGNATEC 15W40 BOTELLA  946 ML CASTROL API SN          SEMI-SINTETICO CAJA 6 PIEZAS",230.09,11,24,10,11,10,9,{"$f":"+IFERROR(HYPERLINK(VLOOKUP(C132,FOTOGRAFICO!C:E,3,FALSE),C132),\"\")","v":"CASMAGNA15W40"}]
[null,null,"CASMAGNA20W50","ACEITE","ACEITE MAGNATEC 20W50 BOTELLA  946 ML CASTROL API SN          SEMI-SINTETICO CAJA 6 PIEZAS",218.26,0,0,0,0,0,0,{"$f":"+IFERROR(HYPERLINK(VLOOKUP(C133,FOTOGRAFICO!C:E,3,FALSE),C133),\"\")","v":"CASMAGNA20W50"}]
[null,null,"CASMOTO","ACEITE","ACEITE GO MOTOS 2 TIEMPOS BOTE 946 ML CASTROL JASO FB API TC  CAJA 6 PIEZAS",143.31,7,5,6,1,0,5,{"$f":"+IFERROR(HYPERLINK(VLOOKUP(C134,FOTOGRAFICO!C:E,3,FALSE),C134),\"\")","v":"CASMOTO"}]
[null,null,"CASSYNTEC","ACEITE","ACEITE SINTETIC EDGE 5W50 BOTE NEGRA 946 ML CASTROL API SN SM SL CAJA 6 PIEZAS",360.78,1,6,0,0,2,1,{"$f":"+IFERROR(HYPERLINK(VLOOKUP(C135,FOTOGRAFICO!C:E,3,FALSE),C135),\"\")","v":"CASSYNTEC"}]
[null,null,"CASTROLGARRAF","ACEITE","ACEITE CASTROL GTX 20W50 GARRA 4.73 LTS API SN GASOLINA Y GAS CAJA 3 PIEZAS",694.65,79,81,63,122,33,18,{"$f":"+IFERROR(HYPERLINK(VLOOKUP(C136,FOTOGRAFICO!C:E,3,FALSE),C136),\"\")","v":"CASTROLGARRAF"}]
[null,null,"CASULT5W20","ACEITE","ACEITE CASTROL GTX 5W20 BOTELL 946 ML API SN ULTRACLEAN       CAJA 6 PIEZAS",173.36,0,10,0,17,7,5,{"$f":"+IFERROR(HYPERLINK(VLOOKUP(C137,FOTOGRAFICO!C:E,3,FALSE),C137),\"\")","v":"CASULT5W20"}]
[null,null,"CASULT5W30","ACEITE","ACEITE CASTROL GTX 5W30 BOTELL 946 ML API SP 3X PROTECT       ILSAC GF-6 CAJA 6 PIEZAS",172.09,4,29,10,30,20,7,{"$f":"+IFERROR(HYPERLINK(VLOOKUP(C138,FOTOGRAFICO!C:E,3,FALSE),C138),\"\")","v":"CASULT5W30"}]
[null,null,"DIA19025","ACEITE","ACEITE HIDRAULICO DH300 CUBETA 19 LITROS INDUSTRIAL PARA SIST HIDRAULICOS MCA: DIATOR",608.77,0,0,0,0,0,0,{"$f":"+IFERROR(HYPERLINK(VLOOKUP(C139,FOTOGRAFICO!C:E,3,FALSE),C139),\"\")","v":""}]
[null,null,"FRAM5W30XG","ACEITE","ACEITE BOTELLA FRAM XG 5W30    ULTRA 100% SINTETICO API SN    ILSAC GF-6 946 ML",124.57,26,16,19,56,43,19,{"$f":"+IFERROR(HYPERLINK(VLOOKUP(C140,FOTOGRAFICO!C:E,3,FALSE),C140),\"\")","v":"FRAM5W30XG"}]
[null,null,"FRAM5W30XG-GARRA","ACEITE","ACEITE GARRAFA FRAM XG 5W30    ULTRA 100% SINTETICO API SN    ILSAC GF-6 5 LITROS",546.53,11,19,27,37,19,13,{"$f":"+IFERROR(HYPERLINK(VLOOKUP(C141,FOTOGRAFICO!C:E,3,FALSE),C141),\"\")","v":"FRAM5W30XG-GARRA"}]
[null,null,"GARRAFGONHER","ACEITE","ACEITE 20W50 GARRAFA 4 LITROS  GT TURBO 4 LTS GONHER API SL",324.07,1039,73,293,357,800,1046,{"$f":"+IFERROR(HYPERLINK(VLOOKUP(C142,FOTOGRAFICO!C:E,3,FALSE),C142),\"\")","v":"GARRAFGONHER"}]
[null,null,"HELLA20W50","ACEITE","ACEITE HELLA 20W50 GARRAFA     5 LTS API SL HMOSL 1 CAJA 4    PIEZAS",425.51,8,24,20,48,13,14,{"$f":"+IFERROR(HYPERLINK(VLOOKUP(C143,FOTOGRAFICO!C:E,3,FALSE),C143),\"\")","v":"HELLA20W50"}]
[null,null,"HELLA20W50GALON","ACEITE","ACEITE HELLA 20W50 GARRAFA     GALON 3.78 LTS API SL HMOSL 1  CAJA 4 PIEZAS",310.61,13,8,12,8,17,14,{"$f":"+IFERROR(HYPERLINK(VLOOKUP(C144,FOTOGRAFICO!C:E,3,FALSE),C144),\"\")","v":"HELLA20W50GALON"}]
[null,null,"HELLA20W50-LITRO","ACEITE","ACEITE HELLA 20W50 LITRO       API SL HMOSL 1 CAJA 12 PZ",84.34,18,23,18,24,17,21,{"$f":"+IFERROR(HYPERLINK(VLOOKUP(C145,FOTOGRAFICO!C:E,3,FALSE),C145),\"\")","v":"HELLA20W50-LITRO"}]
[null,null,"HELLA5W30","ACEITE","ACEITE HELLA SINT.5W30 GARRAFA 5 LTS API SN ILSAC GF-5 GM     DEXOS 1 CAJA 4 PIEZAS",618.95000000000005,30,168,33,20,14,20,{"$f":"+IFERROR(HYPERLINK(VLOOKUP(C146,FOTOGRAFICO!C:E,3,FALSE),C146),\"\")","v":"HELLA5W30"}]
[null,null,"HELLA5W30-LITRO","ACEITE","ACEITE HELLA SINT.5W30 BOTELLA 946 ML API SN ILSAC GF-5 GM    DEXOS 1 CAJA 12 PIEZAS",134.31,42,86,72,59,41,32,{"$f":"+IFERROR(HYPERLINK(VLOOKUP(C147,FOTOGRAFICO!C:E,3,FALSE),C147),\"\")","v":"HELLA5W30-LITRO"}]
[null,null,"HELLA5W50","ACEITE","ACEITE HELLA SINT.5W50 GARRAFA 5 LTS API SN                   CAJA 4 PIEZAS",801.23,7,23,10,6,13,5,{"$f":"+IFERROR(HYPERLINK(VLOOKUP(C148,FOTOGRAFICO!C:E,3,FALSE),C148),\"\")","v":"HELLA5W50"}]
[null,null,"HELLA5W50-LITRO","ACEITE","ACEITE HELLA SINT.5W50 BOTELLA 946 ML API SN                  CAJA 12 PIEZAS",164.76,16,25,15,10,13,11,{"$f":"+IFERROR(HYPERLINK(VLOOKUP(C149,FOTOGRAFICO!C:E,3,FALSE),C149),\"\")","v":"HELLA5W50-LITRO"}]
[null,null,"LIQ-2309","ACEITE","ACEITE LIQUI MOLY 5W40 GARRAFA 5 LTS API SN LEICHTLAUF HC7    SINTETICO CAJA 4 PIEZAS",1720.76,0,1,3,2,0,2,{"$f":"+IFERROR(HYPERLINK(VLOOKUP(C150,FOTOGRAFICO!C:E,3,FALSE),C150),\"\")","v":"LIQ-2309"}]
[null,null,"LIQ-8541","ACEITE","ACEITE LIQUI MOLY 5W30 BOTELLA 1 LTS API SN LEICHTLAUF HC7    SINT.GAS.DIESEL CAJA 6 PIEZAS",397,0,5,0,4,0,2,{"$f":"+IFERROR(HYPERLINK(VLOOKUP(C151,FOTOGRAFICO!C:E,3,FALSE),C151),\"\")","v":"LIQ-8541"}]
[null,null,"LIQ-8542","ACEITE","ACEITE LIQUI MOLY 5W30 GARRAFA 5 LTS API SN LEICHTLAUF HC7    SINT.GAS.DIESEL CAJA 4 PIEZAS",1720.76,2,0,0,3,0,1,{"$f":"+IFERROR(HYPERLINK(VLOOKUP(C152,FOTOGRAFICO!C:E,3,FALSE),C152),\"\")","v":"LIQ-8542"}]
[null,null,"LIQ-9047","ACEITE","ACEITE LIQUI MOLY 5W30 BOTELLA 1 LTS API SP ILSAC GF-6A       MOLYGEN SINTETICO CAJA 6 PZA",419.33,0,0,0,0,1,0,{"$f":"+IFERROR(HYPERLINK(VLOOKUP(C153,FOTOGRAFICO!C:E,3,FALSE),C153),\"\")","v":"LIQ-9047"}]
[null,null,"LIQ-9505","ACEITE","ACEITE LIQUI MOLY 10W40 GARRAF 5 LTS API SN SUPER LEICHTLAUF  SINTETICO GAS.DIESEL CAJA 4 PZ",1538.39,0,2,2,4,0,2,{"$f":"+IFERROR(HYPERLINK(VLOOKUP(C154,FOTOGRAFICO!C:E,3,FALSE),C154),\"\")","v":"LIQ-9505"}]
[null,null,"LIQ-9952","ACEITE","ACEITE LIQUI MOLY 5W30 GARRAFA 5 LTS API SP ILSAC GF-6A       MOLYGEN SINTETICO CAJA 4 PZA",1817.54,0,0,5,1,3,2,{"$f":"+IFERROR(HYPERLINK(VLOOKUP(C155,FOTOGRAFICO!C:E,3,FALSE),C155),\"\")","v":"LIQ-9952"}]
[null,null,"MATFG3-4","ACEITE","ACEITE DEXRON III-H MERCON GAR 5 LTS MOTORCRAFT ATF TRANS.AUT DIR.HID",458.86,12,6,8,10,7,5,{"$f":"+IFERROR(HYPERLINK(VLOOKUP(C156,FOTOGRAFICO!C:E,3,FALSE),C156),\"\")","v":"MATFG3-4"}]
[null,null,"MATIC-25W50","ACEITE","ACEITE AK 25W50 BOLSA 950 ML   MOTORMATIC API SL ALTO         KILOMETRAJE CAJA 12 PIEZAS",94.06,20,15,32,11,17,32,{"$f":"+IFERROR(HYPERLINK(VLOOKUP(C157,FOTOGRAFICO!C:E,3,FALSE),C157),\"\")","v":"MATIC-25W50"}]
[null,null,"MATIC-25W50-GARR","ACEITE","ACEITE AK 25W50 BOLSA 4 LTS    MOTORMATIC API SL ALTO         KILOMETRAJE CAJA 3 PIEZAS",290,18,9,7,8,8,3,{"$f":"+IFERROR(HYPERLINK(VLOOKUP(C158,FOTOGRAFICO!C:E,3,FALSE),C158),\"\")","v":"MATIC-25W50-GARR"}]
[null,null,"MATIC-25W60","ACEITE","ACEITE SUPER AK 25W60 BOLS 950 ML MOTORMATIC API SL SUPER     ALTO KILOMETRAJE CAJA 12 PIEZA",94.06,7,58,27,25,14,68,{"$f":"+IFERROR(HYPERLINK(VLOOKUP(C159,FOTOGRAFICO!C:E,3,FALSE),C159),\"\")","v":"MATIC-25W60"}]
[null,null,"MATIC-25W60-GARR","ACEITE","ACEITE MOTORMATIC 25W60 GARRAF A 4 LITROS MULTIGRADO 25W60    ALTO KILOMETRAJE",290,38,15,9,5,2,11,{"$f":"+IFERROR(HYPERLINK(VLOOKUP(C160,FOTOGRAFICO!C:E,3,FALSE),C160),\"\")","v":"MATIC-25W60-GARR"}]
[null,null,"MOB10W30","ACEITE","ACEITE MOBIL EXTENG 10W30 BOTE 946 ML API SN PLUS SEMISINTETI SUPER CAJA 12 PIEZAS",170.38,19,37,49,12,20,24,{"$f":"+IFERROR(HYPERLINK(VLOOKUP(C161,FOTOGRAFICO!C:E,3,FALSE),C161),\"\")","v":"MOB10W30"}]
[null,null,"MOB10W30SEMIUSA","ACEITE","ACEITE MOBIL SUPER 10W30 BOTEL SEMISINTETICO API SN SM SL     ILSAC GF-5 946 ML CAJA 6 PZA",131.01,1,0,0,0,5,1,{"$f":"+IFERROR(HYPERLINK(VLOOKUP(C162,FOTOGRAFICO!C:E,3,FALSE),C162),\"\")","v":"MOB10W30SEMIUSA"}]
[null,null,"MOB10W40SEMIUSA","ACEITE","ACEITE MOBIL SUPER 10W40 BOTEL SEMISINTETICO API SN SM SL     ILSAC GF-5 946 ML CAJA 6 PZA",131.01,0,0,0,0,0,0,{"$f":"+IFERROR(HYPERLINK(VLOOKUP(C163,FOTOGRAFICO!C:E,3,FALSE),C163),\"\")","v":""}]
[null,null,"MOB119514","ACEITE","ACEITE MOBIL DELVAC HD40 GARR  5 LTS DIESEL                   CAJA 4 PIEZAS",585.48,0,0,0,0,0,0,{"$f":"+IFERROR(HYPERLINK(VLOOKUP(C164,FOTOGRAFICO!C:E,3,FALSE),C164),\"\")","v":"MOB119514"}]
[null,null,"MOB127273","ACEITE","ACEITE MOBIL SUPER 20W50 BOTEL API SP BOTELL 946 ML",123,11,4,19,1,13,10,{"$f":"+IFERROR(HYPERLINK(VLOOKUP(C165,FOTOGRAFICO!C:E,3,FALSE),C165),\"\")","v":""}]
[null,null,"MOB15W40","ACEITE","ACEITE MOBIL SUPER 15W40 BOTEL 946 ML API SN                  CAJA 12 PIEZAS",150.26,28,20,49,19,10,27,{"$f":"+IFERROR(HYPERLINK(VLOOKUP(C166,FOTOGRAFICO!C:E,3,FALSE),C166),\"\")","v":"MOB15W40"}]
[null,null,"MOB20W50","ACEITE","ACEITE MOBIL SUPER 20W50 BOTEL 946 ML API SN                  CAJA 12 PIEZAS",150.26,48,30,61,51,37,27,{"$f":"+IFERROR(HYPERLINK(VLOOKUP(C167,FOTOGRAFICO!C:E,3,FALSE),C167),\"\")","v":"MOB20W50"}]
[null,null,"MOB40","ACEITE","ACEITE MOBIL SPECIAL HD40 BOT  AZUL 946 ML API SL HEAVY DUTY  CAJA 12 PIEZAS",115.55,70,10,10,15,14,18,{"$f":"+IFERROR(HYPERLINK(VLOOKUP(C168,FOTOGRAFICO!C:E,3,FALSE),C168),\"\")","v":"MOB40"}]
[null,null,"MOB5W30","ACEITE","ACEITE MOBI 5W30 TAP VERD BOTE SUPER 946 ML API SN AHORRA     GASOLINA CAJA 12 PIEZAS",168.41,6,28,8,34,26,19,{"$f":"+IFERROR(HYPERLINK(VLOOKUP(C169,FOTOGRAFICO!C:E,3,FALSE),C169),\"\")","v":"MOB5W30"}]
[null,null,"MOB5W30SEMIUSA","ACEITE","ACEITE MOBIL SUPER 5W30 BOTELL SEMISINTETICO API SP SN PLUS   SN SM 946 ML CAJA 6 PIEZAS",131,5,6,8,5,3,9,{"$f":"+IFERROR(HYPERLINK(VLOOKUP(C170,FOTOGRAFICO!C:E,3,FALSE),C170),\"\")","v":"MOB5W30SEMIUSA"}]
[null,null,"MOB5W30SINT","ACEITE","ACEITE MOBIL SUPER 5W30 BOTELL SINTETICO API SP DEXOS1 GEN 2  946 ML CAJA 12 PZA",256.64999999999998,15,30,17,30,20,3,{"$f":"+IFERROR(HYPERLINK(VLOOKUP(C171,FOTOGRAFICO!C:E,3,FALSE),C171),\"\")","v":"MOB5W30SINT"}]
[null,null,"MOB5W30SYNUSA","ACEITE","ACEITE MOBIL SUPER 5W30 BOTELL FULL SINTETICO API SP SN PLUS  SN SM 946 ML CAJA 6 PIEZAS",213.9,7,0,4,0,0,0,{"$f":"+IFERROR(HYPERLINK(VLOOKUP(C172,FOTOGRAFICO!C:E,3,FALSE),C172),\"\")","v":"MOB5W30SYNUSA"}]
[null,null,"MOB5W50","ACEITE","ACEITE MOBIL 1 SINT.5W50 BOTEL 946 ML API SN                  CAJA 6 PIEZAS",369.35,13,2,12,15,11,7,{"$f":"+IFERROR(HYPERLINK(VLOOKUP(C173,FOTOGRAFICO!C:E,3,FALSE),C173),\"\")","v":"MOB5W50"}]
[null,null,"MOB80W90","ACEITE","ACEITE MOBIL 80W90 BOTELLA     946ML API GL-5 TRANS.STD       CAJA 12 PIEZAS",221.95,31,11,39,26,24,10,{"$f":"+IFERROR(HYPERLINK(VLOOKUP(C174,FOTOGRAFICO!C:E,3,FALSE),C174),\"\")","v":"MOB80W90"}]
[null,null,"MOBALTOKM","ACEITE","ACEITE MOBIL SPECIAL 25W60 BOT 946 ML API SL ALTO KILOMETRAJE CAJA 12 PIEZAS",116.85,47,57,80,67,48,58,{"$f":"+IFERROR(HYPERLINK(VLOOKUP(C175,FOTOGRAFICO!C:E,3,FALSE),C175),\"\")","v":"MOBALTOKM"}]
[null,null,"MOBAUTO","ACEITE","ACEITE MOBIL ATF D/M BOTELLA   946 ML TRAN.AUT DIR.HID.DEXRON III MERCON CAJA 12 PIEZAS",158.97999999999999,13,8,14,6,5,7,{"$f":"+IFERROR(HYPERLINK(VLOOKUP(C176,FOTOGRAFICO!C:E,3,FALSE),C176),\"\")","v":"MOBAUTO"}]
[null,null,"MOBC20W50","ACEITE","ACEITE MOBIL 20W50 CUBETA      MULTIGRADO 19 LT",1638.43,0,0,35,0,0,0,{"$f":"+IFERROR(HYPERLINK(VLOOKUP(C177,FOTOGRAFICO!C:E,3,FALSE),C177),\"\")","v":"MOBC20W50"}]
[null,null,"MOBDELVACLT","ACEITE","ACEITE MOBIL DELVAC HD40 BOTE  946 ML DIESEL                  CAJA 12 PIEZAS",121.32,0,0,0,0,0,0,{"$f":"+IFERROR(HYPERLINK(VLOOKUP(C178,FOTOGRAFICO!C:E,3,FALSE),C178),\"\")","v":"MOBDELVACLT"}]
[null,null,"MOBG10W30SEMUSA","ACEITE","ACEITE MOBIL SUPER 10W30 GARRA SEMISINTETICO API SN SM SL     4.73 LITROS CAJA 3 PIEZAS",581.54999999999995,0,0,0,0,0,0,{"$f":"+IFERROR(HYPERLINK(VLOOKUP(C179,FOTOGRAFICO!C:E,3,FALSE),C179),\"\")","v":""}]
[null,null,"MOBG10W40SEMUSA","ACEITE","ACEITE MOBIL SUPER 10W40 GARRA SEMISINTETICO API SN PLUS SN   SM SL 4.73 LITROS CAJA 3 PZA",581.54999999999995,0,0,0,0,0,0,{"$f":"+IFERROR(HYPERLINK(VLOOKUP(C180,FOTOGRAFICO!C:E,3,FALSE),C180),\"\")","v":""}]
[null,null,"MOBG15W40","ACEITE","ACEITE MOBIL SUPER 15W40 GARRA 5 LTS API SN                   CAJA 4 PIEZAS",584.79999999999995,42,35,46,42,24,11,{"$f":"+IFERROR(HYPERLINK(VLOOKUP(C181,FOTOGRAFICO!C:E,3,FALSE),C181),\"\")","v":"MOBG15W40"}]
[null,null,"MOBG20W50","ACEITE","ACEITE MOBIL SUPER 20W50 GARRA 5 LTS API SN                   CAJA 4 PIEZAS",722.75,45,32,49,16,30,19,{"$f":"+IFERROR(HYPERLINK(VLOOKUP(C182,FOTOGRAFICO!C:E,3,FALSE),C182),\"\")","v":"MOBG20W50"}]
[null,null,"MOBG40","ACEITE","ACEITE MOBIL SPECIAL HD40 GAR  AZUL 5 LTS API SL HEAVY DUTY   CAJA 4 PIEZAS",555.77,20,5,7,8,8,5,{"$f":"+IFERROR(HYPERLINK(VLOOKUP(C183,FOTOGRAFICO!C:E,3,FALSE),C183),\"\")","v":"MOBG40"}]
[null,null,"MOBG5W30SEMIUSA","ACEITE","ACEITE MOBIL SUPER 5W30 GARRAF SEMISINTETICO API SP SN PLUS   SN SM 4.73 LITROS CAJA 3 PZA",581.54999999999995,3,0,2,6,3,3,{"$f":"+IFERROR(HYPERLINK(VLOOKUP(C184,FOTOGRAFICO!C:E,3,FALSE),C184),\"\")","v":"MOBG5W30SEMIUSA"}]
[null,null,"MOBG5W30SINT","ACEITE","ACEITE MOBIL SUPER 5W30 GARRAF SINTETICO API SP DEXOS1 GEN 2  5LITROS CAJA= 4PIEZAS",1185.06,34,22,32,58,15,7,{"$f":"+IFERROR(HYPERLINK(VLOOKUP(C185,FOTOGRAFICO!C:E,3,FALSE),C185),\"\")","v":"MOBG5W30SINT"}]
[null,null,"MOBG5W30SYNUSA","ACEITE","ACEITE MOBIL SUPER 5W30 GARRAF FULL SINTETICO API SP SN PLUS  SN SM 4.73 LITROS CAJA 3 PZA",1002.67,3,2,4,0,0,0,{"$f":"+IFERROR(HYPERLINK(VLOOKUP(C186,FOTOGRAFICO!C:E,3,FALSE),C186),\"\")","v":""}]
[null,null,"MOBGAL","ACEITE","ACEITE MOBIL SPECIAL 25W60 GAR 5 LTS API SL ALTO KILOMETRAJE  CAJA 4 PIEZAS",562.05999999999995,32,32,77,85,23,17,{"$f":"+IFERROR(HYPERLINK(VLOOKUP(C187,FOTOGRAFICO!C:E,3,FALSE),C187),\"\")","v":"MOBGAL"}]
[null,null,"MOG5W30","ACEITE","ACEITE MOBI 5W30 TAP VERD GARR SUPER 5 LTS API SN AHORRA      GASOLINA CAJA 4 PIEZAS",1057.19,7,16,9,0,6,0,{"$f":"+IFERROR(HYPERLINK(VLOOKUP(C188,FOTOGRAFICO!C:E,3,FALSE),C188),\"\")","v":"MOG5W30"}]
[null,null,"MSLCF5W30RTSG4","ACEITE","ACEITE MOTORCRAFT 5W30 GARRAFA 5 LITROS SINTETICO DIESEL      GASOLINA ACEA A5/B5 A1/B1",822.11,11,20,21,13,11,10,{"$f":"+IFERROR(HYPERLINK(VLOOKUP(C189,FOTOGRAFICO!C:E,3,FALSE),C189),\"\")","v":"MSLCF5W30RTSG4"}]
[null,null,"MSNX015W40G4R","ACEITE","ACEITE MOTORCRAFT 15W40 GARRAF A 5LT API SN MINERAL",442.79,4,7,0,17,0,11,{"$f":"+IFERROR(HYPERLINK(VLOOKUP(C190,FOTOGRAFICO!C:E,3,FALSE),C190),\"\")","v":""}]
[null,null,"MSNX020W50G4R","ACEITE","ACEITE MOTORCRAFT 20W50 GARRAF A 5LTS API SN MINERAL",411.42,23,35,36,40,14,14,{"$f":"+IFERROR(HYPERLINK(VLOOKUP(C191,FOTOGRAFICO!C:E,3,FALSE),C191),\"\")","v":"MSNX020W50G4R"}]
[null,null,"MSNX05W40SB","ACEITE","ACEITE SINTET 5W40 API SN BOTE 946 ML GASOLINA MOTORCRAFT     CAJA 12 PIEZAS",110.44,17,15,15,46,51,29,{"$f":"+IFERROR(HYPERLINK(VLOOKUP(C192,FOTOGRAFICO!C:E,3,FALSE),C192),\"\")","v":"MSNX05W40SB"}]
[null,null,"MXO-5W20-5QSP","ACEITE","ACEITE MOTORCRAFT 5W20 GARRAFA 4.73 LTS API SN ILSAC GF-5     SEMI-SINTETICO",462.79,7,35,22,27,27,9,{"$f":"+IFERROR(HYPERLINK(VLOOKUP(C193,FOTOGRAFICO!C:E,3,FALSE),C193),\"\")","v":"MXO-5W20-5QSP"}]
[null,null,"MXO-5W20-QSP","ACEITE","ACEITE MOTORCRAFT 5W20 BOTELLA 946 ML API SN ILSAC GF-5       SEMI-SINTETICO",94.63,26,9,31,28,30,17,{"$f":"+IFERROR(HYPERLINK(VLOOKUP(C194,FOTOGRAFICO!C:E,3,FALSE),C194),\"\")","v":"MXO-5W20-QSP"}]
[null,null,"MXO-5W30-B","ACEITE","ACEITE MOTORCRAFT 5W30 BOTELLA 946 ML API SN ILSAC GF-5       SEMI-SINTETICO",108.67,14,33,26,41,11,27,{"$f":"+IFERROR(HYPERLINK(VLOOKUP(C195,FOTOGRAFICO!C:E,3,FALSE),C195),\"\")","v":"MXO-5W30-B"}]
[null,null,"MXO-5W30-G4","ACEITE","ACEITE MOTORCRAFT 5W30 GARRAFA 5 LTS API SN ILSAC GF-5        SEMI-SINTETICO",510.88,18,17,22,20,14,14,{"$f":"+IFERROR(HYPERLINK(VLOOKUP(C196,FOTOGRAFICO!C:E,3,FALSE),C196),\"\")","v":"MXO-5W30-G4"}]
[null,null,"MXT55Q3M","ACEITE","ACEITE MERCON V ATF GARRAFA    4.76L TRANSMISION AUTOMATICA   DIR. HIDRAULI MARCA MOTORCRAFT",573.05999999999995,28,31,36,37,20,7,{"$f":"+IFERROR(HYPERLINK(VLOOKUP(C197,FOTOGRAFICO!C:E,3,FALSE),C197),\"\")","v":"MXT55Q3M"}]
[null,null,"MXT-5QMC","ACEITE","ACEITE MERCON V ATF BOTELLA    946 ML MOTORCRAFT TRANS.AUT.   DIR.HID",117.71,59,0,55,73,32,19,{"$f":"+IFERROR(HYPERLINK(VLOOKUP(C198,FOTOGRAFICO!C:E,3,FALSE),C198),\"\")","v":"MXT-5QMC"}]
[null,null,"MXT-6QSP","ACEITE","ACEITE MERCON SP ATF BOTELLA   946 ML MOTORCRAFT TRANS.AUT.",212.81,9,7,0,7,0,7,{"$f":"+IFERROR(HYPERLINK(VLOOKUP(C199,FOTOGRAFICO!C:E,3,FALSE),C199),\"\")","v":"MXT-6QSP"}]
[null,null,"NISEML5W3TA7BDD","ACEITE","ACEITE NISSAN 5W30 BOTELLA 946 ML API SN SM SL ILSAC GF-5     SEMI-SINTETICO",217.05,8,11,9,2,5,2,{"$f":"+IFERROR(HYPERLINK(VLOOKUP(C200,FOTOGRAFICO!C:E,3,FALSE),C200),\"\")","v":"NISEML5W3TA7BDD"}]
[null,null,"OMNIGF25W50QXO36","ACEITE","ACEITE 25W50 OMNICRAFT GARRAFA API SL ALTO KILOMETRAJE 5 LTS  FORD",429.24,3,3,2,3,6,6,{"$f":"+IFERROR(HYPERLINK(VLOOKUP(C201,FOTOGRAFICO!C:E,3,FALSE),C201),\"\")","v":"OMNIGF25W50QXO36"}]
[null,null,"OMNIQT25W50QXO35","ACEITE","ACEITE 25W50 OMNICRAFT BOTELLA API SL ALTO KILOMETRAJE 946 ML FORD",92.44,11,9,11,10,9,23,{"$f":"+IFERROR(HYPERLINK(VLOOKUP(C202,FOTOGRAFICO!C:E,3,FALSE),C202),\"\")","v":"OMNIQT25W50QXO35"}]
[null,null,"ORIVWM001OIL","ACEITE","ACEITE MOBIL DELVAC 15W40 GARR 5 LTS API CJ-4 DIESEL          CAJA 4 PIEZAS",705.84,0,0,20,0,0,0,{"$f":"+IFERROR(HYPERLINK(VLOOKUP(C203,FOTOGRAFICO!C:E,3,FALSE),C203),\"\")","v":"ORIVWM001OIL"}]
[null,null,"ORIVWM001SIN","ACEITE","ACEITE MOBIL VW ORIG.5W40 GARR 5 LTS VW 502 00/505 00 ACEA A3 /B3 A3/B4 API SL SM SN SINTETI",1165.3399999999999,19,11,7,23,7,10,{"$f":"+IFERROR(HYPERLINK(VLOOKUP(C204,FOTOGRAFICO!C:E,3,FALSE),C204),\"\")","v":"ORIVWM001SIN"}]
[null,null,"PAQ-TSURU","ACEITE","ACEITE NISSAN ORIG.20W50 PAQUE 4 BOLSAS 950 ML Y 1 FILTRO     ACEITE TSURU API SN",703.25,3,4,1,1,0,3,{"$f":"+IFERROR(HYPERLINK(VLOOKUP(C205,FOTOGRAFICO!C:E,3,FALSE),C205),\"\")","v":"PAQ-TSURU"}]
[null,null,"PEN20W50","ACEITE","ACEITE PENNZOIL 20W50 BOTELLA  946 ML API SN                  CAJA 12 PIEZAS",92.09,19,26,26,32,50,52,{"$f":"+IFERROR(HYPERLINK(VLOOKUP(C206,FOTOGRAFICO!C:E,3,FALSE),C206),\"\")","v":"PEN20W50"}]
[null,null,"PEN5W30","ACEITE","ACEITE PENNZOIL MINER5W30 BOTE 946 ML API SN GM4718M GM6094M  HECHO D GAS NATURAL CAJA 12 PZ",202.2,24,0,0,0,0,0,{"$f":"+IFERROR(HYPERLINK(VLOOKUP(C207,FOTOGRAFICO!C:E,3,FALSE),C207),\"\")","v":"PEN5W30"}]
[null,null,"PEN5W40-GARRAFA","ACEITE","ACEITE PENTOSIN 5W40 GARRAFA   SINTETICO 5 LITROS",1023.29,3,2,3,3,3,4,{"$f":"+IFERROR(HYPERLINK(VLOOKUP(C208,FOTOGRAFICO!C:E,3,FALSE),C208),\"\")","v":"PEN5W40-GARRAFA"}]
[null,null,"PENG20W50","ACEITE","ACEITE PENNZOIL 20W50 GARRAFA  4.73 LTS API SN                CAJA 4 PIEZAS",451.4,28,23,19,36,37,24,{"$f":"+IFERROR(HYPERLINK(VLOOKUP(C209,FOTOGRAFICO!C:E,3,FALSE),C209),\"\")","v":"PENG20W50"}]
[null,null,"PENG20W60","ACEITE","ACEITE PENNZOIL AK 20W60 GARRA GARRAFA 4.73 LTS API SN        CAJA 4 PIEZAS",451.4,0,9,0,0,0,0,{"$f":"+IFERROR(HYPERLINK(VLOOKUP(C210,FOTOGRAFICO!C:E,3,FALSE),C210),\"\")","v":""}]
[null,null,"PO140","ACEITE","ACEITE PRO ONE 140 TRASMISION  946 ML API GL-1 TRASMISION STD",83.43,16,4,9,25,7,12,{"$f":"+IFERROR(HYPERLINK(VLOOKUP(C211,FOTOGRAFICO!C:E,3,FALSE),C211),\"\")","v":"PO140"}]
[null,null,"PO20W50GARRAFA","ACEITE","ACEITE GARRAFA GRIS 25W50 5LTS API SL MARCA PRO ONE 5 LITROS",433.12,9,2,13,60,40,31,{"$f":"+IFERROR(HYPERLINK(VLOOKUP(C212,FOTOGRAFICO!C:E,3,FALSE),C212),\"\")","v":"PO20W50GARRAFA"}]
[null,null,"PO20W50SL5L","ACEITE","ACEITE 20W50 GARRAFA 5 LITROS  MULTIGRADO GRIS MARCA PRO ONE  ESPECIFICACION API SL",373.65,74,5,16,4,25,68,{"$f":"+IFERROR(HYPERLINK(VLOOKUP(C213,FOTOGRAFICO!C:E,3,FALSE),C213),\"\")","v":"PO20W50SL5L"}]
[null,null,"PTR15W40-CUBETA","ACEITE","ACEITE URANIA 3000 15W40 CUBET 19 LTS PETRONAS API CI-4 PLUS/ SL ACEA E7 MOTORES DIESEL",2093.62,0,0,0,0,0,0,{"$f":"+IFERROR(HYPERLINK(VLOOKUP(C214,FOTOGRAFICO!C:E,3,FALSE),C214),\"\")","v":"PTR15W40-CUBETA"}]
[null,null,"PTR15W40DIESEL-G","ACEITE","ACEITE URANIA 3000 15W40 GARRA 5 LT PETRONAS API CI-4 PLUS/SL ACEA E7 MOT.DIESEL CAJA 4 PZA",547.46,4,0,6,0,3,1,{"$f":"+IFERROR(HYPERLINK(VLOOKUP(C215,FOTOGRAFICO!C:E,3,FALSE),C215),\"\")","v":"PTR15W40DIESEL-G"}]
[null,null,"PTR15W40-GARRAFA","ACEITE","ACEITE M5 MAX 15W40 GARRAFA    5 LTS PETRONAS API SN          CAJA 4 PIEZAS",568.17999999999995,6,6,7,3,6,3,{"$f":"+IFERROR(HYPERLINK(VLOOKUP(C216,FOTOGRAFICO!C:E,3,FALSE),C216),\"\")","v":"PTR15W40-GARRAFA"}]
[null,null,"PTR15W40-MULTI","ACEITE","ACEITE M5 MAX 15W40 BOTELLA    946 ML PETRONAS API SN         CAJA 12 PIEZAS",116.42,2,2,4,0,9,0,{"$f":"+IFERROR(HYPERLINK(VLOOKUP(C217,FOTOGRAFICO!C:E,3,FALSE),C217),\"\")","v":"PTR15W40-MULTI"}]
[null,null,"PTR20W50-GARRAFA","ACEITE","ACEITE M5 MAX 20W50 GARRAFA    5 LTS PETRONAS API SN          CAJA 4 PIEZAS",568.17999999999995,6,0,1,0,5,0,{"$f":"+IFERROR(HYPERLINK(VLOOKUP(C218,FOTOGRAFICO!C:E,3,FALSE),C218),\"\")","v":"PTR20W50-GARRAFA"}]
[null,null,"PTR20W50-MULTI","ACEITE","ACEITE M5 MAX 20W50 BOTELLA    946 ML PETRONAS API SN         CAJA 12 PIEZAS",126.4,5,0,0,11,15,5,{"$f":"+IFERROR(HYPERLINK(VLOOKUP(C219,FOTOGRAFICO!C:E,3,FALSE),C219),\"\")","v":"PTR20W50-MULTI"}]
[null,null,"PTR25W60-CUBETA","ACEITE","ACEITE URANIA 800 25W60 CUBETA 19 LTS PETRONAS API CF-4       MOTORES DIESEL",2041.89,0,1,0,0,1,0,{"$f":"+IFERROR(HYPERLINK(VLOOKUP(C220,FOTOGRAFICO!C:E,3,FALSE),C220),\"\")","v":"PTR25W60-CUBETA"}]
[null,null,"PTR25W60-GARRAFA","ACEITE","ACEITE M5 PLUS 25W60 GARRAFA 5 LTS PETRONAS API SL ALTO KM    CAJA 4 PIEZAS",513.70000000000005,6,0,8,8,3,0,{"$f":"+IFERROR(HYPERLINK(VLOOKUP(C221,FOTOGRAFICO!C:E,3,FALSE),C221),\"\")","v":"PTR25W60-GARRAFA"}]
[null,null,"PTR25W60-MULTI","ACEITE","ACEITE M5 PLUS 25W60 BOTELLA   946 ML PETRONAS API SL ALTO KM CAJA 12 PIEZAS",129.91999999999999,0,13,21,3,13,5,{"$f":"+IFERROR(HYPERLINK(VLOOKUP(C222,FOTOGRAFICO!C:E,3,FALSE),C222),\"\")","v":"PTR25W60-MULTI"}]
[null,null,"PTR5W30-GARRAFA","ACEITE","ACEITE M5 MAX 5W30 GARRAFA 5   LTS PETRONAS API SN ILSAC GF-5 CAJA 4 PIEZAS",620.32000000000005,2,0,0,0,0,4,{"$f":"+IFERROR(HYPERLINK(VLOOKUP(C223,FOTOGRAFICO!C:E,3,FALSE),C223),\"\")","v":"PTR5W30-GARRAFA"}]
[null,null,"PTR5W30-MULTI","ACEITE","ACEITE M5 MAX 5W30 BOTELLA 946 ML PETRONAS API SN ILSAC GF-5  CAJA 12 PIEZAS",135.83000000000001,12,2,0,11,17,5,{"$f":"+IFERROR(HYPERLINK(VLOOKUP(C224,FOTOGRAFICO!C:E,3,FALSE),C224),\"\")","v":"PTR5W30-MULTI"}]
[null,null,"PTR5W30-SYNTETIC","ACEITE","ACEITE SYNTIUM SINT.5W30 BOTEL 946 ML PETRONAS 3000 XS API SN ILSAC GF-5 DEXOS 1 CAJA 6 PZA",237.52,5,6,17,0,10,3,{"$f":"+IFERROR(HYPERLINK(VLOOKUP(C225,FOTOGRAFICO!C:E,3,FALSE),C225),\"\")","v":"PTR5W30-SYNTETIC"}]
[null,null,"PTR5W30SYNT-GARR","ACEITE","ACEITE SYNTIUM SINT.5W30 GARRA 5 LTS PETRONAS 3000 XS API SN  ILSAC GF-5 GM DEXOS 1",1086.56,2,2,3,10,0,3,{"$f":"+IFERROR(HYPERLINK(VLOOKUP(C226,FOTOGRAFICO!C:E,3,FALSE),C226),\"\")","v":"PTR5W30SYNT-GARR"}]
[null,null,"PTR5W40SYNT-GARR","ACEITE","ACEITE SYNTIUM SINT.5W40 GARRA 5 LTS PETRONAS 5000 E API SN   VW 502 00/505 00/505 01",1386.23,3,9,3,0,0,4,{"$f":"+IFERROR(HYPERLINK(VLOOKUP(C227,FOTOGRAFICO!C:E,3,FALSE),C227),\"\")","v":"PTR5W40SYNT-GARR"}]
[null,null,"PTR5W40-SYNTTETI","ACEITE","ACEITE SYNTIUM SINT.5W40 BOTEL 946 ML PETRONAS 5000 E API SN  VW 502 00/505 00/505 01 6XCAJA",272.8,10,16,4,0,3,0,{"$f":"+IFERROR(HYPERLINK(VLOOKUP(C228,FOTOGRAFICO!C:E,3,FALSE),C228),\"\")","v":"PTR5W40-SYNTTETI"}]
[null,null,"PTR-ATF","ACEITE","ACEITE PETRONAS ATF D3 BOTELLA 946 ML DEXRON III MERCON TRANS AUT. DIR. HID. CAJA 12 PIEZAS",112.86,14,40,8,11,8,16,{"$f":"+IFERROR(HYPERLINK(VLOOKUP(C229,FOTOGRAFICO!C:E,3,FALSE),C229),\"\")","v":"PTR-ATF"}]
[null,null,"PTR-HD40","ACEITE","ACEITE PETRONAS M5 HD40 BOTELL 946 ML API SL SAE 40           CAJA 12 PIEZAS",104.68,0,0,10,13,4,18,{"$f":"+IFERROR(HYPERLINK(VLOOKUP(C230,FOTOGRAFICO!C:E,3,FALSE),C230),\"\")","v":"PTR-HD40"}]
[null,null,"PTRHD40-CUBETA","ACEITE","ACEITE URANIA 500 HD40 CUBETA  19 LTS PETRONAS CF/CF-2        MOTORES DIESEL SAE40",1417.5,0,0,0,3,0,0,{"$f":"+IFERROR(HYPERLINK(VLOOKUP(C231,FOTOGRAFICO!C:E,3,FALSE),C231),\"\")","v":"PTRHD40-CUBETA"}]
[null,null,"PTR-HD40-GARRAFA","ACEITE","ACEITE PETRONAS M5 HD40 GARRAF 5 LTS API SL SAE 40            CAJA 4 PIEZAS",565.79999999999995,2,1,0,0,0,0,{"$f":"+IFERROR(HYPERLINK(VLOOKUP(C232,FOTOGRAFICO!C:E,3,FALSE),C232),\"\")","v":"PTR-HD40-GARRAFA"}]
[null,null,"PTR-HD50","ACEITE","ACEITE PETRONAS M5 HD50 BOTELL 946 ML API SL SAE 50           CAJA 12 PIEZAS",104.68,4,50,4,13,0,7,{"$f":"+IFERROR(HYPERLINK(VLOOKUP(C233,FOTOGRAFICO!C:E,3,FALSE),C233),\"\")","v":"PTR-HD50"}]
[null,null,"PTRHD50-CUBETA","ACEITE","ACEITE URANIA 500 HD50 CUBETA  19 LTS PETRONAS CF/CF-2        MOTORES DIESEL SAE40",1059.54,0,0,0,0,0,0,{"$f":"+IFERROR(HYPERLINK(VLOOKUP(C234,FOTOGRAFICO!C:E,3,FALSE),C234),\"\")","v":"PTRHD50-CUBETA"}]
[null,null,"PTR-HD50-GARRAFA","ACEITE","ACEITE PETRONAS M5 HD50 GARRAF 5 LTS API SL SAE 50            CAJA 4 PIEZAS",565.80999999999995,5,16,1,0,8,2,{"$f":"+IFERROR(HYPERLINK(VLOOKUP(C235,FOTOGRAFICO!C:E,3,FALSE),C235),\"\")","v":"PTR-HD50-GARRAFA"}]
[null,null,"PTR-MOTO-4T","ACEITE","ACEITE MOTOS 4 TIEM 20W50 BOTE 946 ML PETRONAS SPRINTA F300   API SL JASO MA2 CAJA 12 PIEZAS",125.92,14,6,3,10,16,10,{"$f":"+IFERROR(HYPERLINK(VLOOKUP(C236,FOTOGRAFICO!C:E,3,FALSE),C236),\"\")","v":"PTR-MOTO-4T"}]
[null,null,"QUA10W30","ACEITE","ACEITE MAXIMA POTEN 10W30 BOTE 946 ML QUAKER API SN ILSAC     GF-5 ALTO KILOM CAJA 16 PIEZAS",138.56,19,26,15,22,3,18,{"$f":"+IFERROR(HYPERLINK(VLOOKUP(C237,FOTOGRAFICO!C:E,3,FALSE),C237),\"\")","v":"QUA10W30"}]
[null,null,"QUA140","ACEITE","ACEITE QUAKER 140 BOTELLA 946  ML API GL-1 TRANS.STD          CAJA 15 PIEZAS",92.54,28,18,11,20,0,19,{"$f":"+IFERROR(HYPERLINK(VLOOKUP(C238,FOTOGRAFICO!C:E,3,FALSE),C238),\"\")","v":"QUA140"}]
[null,null,"QUA20W50","ACEITE","ACEITE QUAKER 20W50 BOTELLA    946 ML API SN RACING OIL       CAJA 16 PIEZAS",111.04,65,41,29,62,21,11,{"$f":"+IFERROR(HYPERLINK(VLOOKUP(C239,FOTOGRAFICO!C:E,3,FALSE),C239),\"\")","v":"QUA20W50"}]
[null,null,"QUA250","ACEITE","ACEITE QUAKER 250 BOTELLA 946  ML API GL-1 TRANS.STD          CAJA 15 PIEZAS",138.07,11,3,14,7,5,23,{"$f":"+IFERROR(HYPERLINK(VLOOKUP(C240,FOTOGRAFICO!C:E,3,FALSE),C240),\"\")","v":"QUA250"}]
[null,null,"QUA2TIEMPOS","ACEITE","ACEITE QUAKER MOTOR 2 TIEMPOS  BOTELLA 950 ML TC-W3           CAJA 16 PIEZAS",84.77,0,0,0,0,2,0,{"$f":"+IFERROR(HYPERLINK(VLOOKUP(C241,FOTOGRAFICO!C:E,3,FALSE),C241),\"\")","v":"QUA2TIEMPOS"}]
[null,null,"QUA40","ACEITE","ACEITE QUAKER HD40 BOTELLA     946 ML API SL HEAVY DUTY       CAJA 16 PIEZAS",111.17,19,37,24,34,38,13,{"$f":"+IFERROR(HYPERLINK(VLOOKUP(C242,FOTOGRAFICO!C:E,3,FALSE),C242),\"\")","v":"QUA40"}]
[null,null,"QUA4TIEMPOS","ACEITE","ACEITE QUAKER 20W50 MOTOS BOTE 946 ML API SN JASO MA2 4T      CAJA 16 PIEZAS",164.43,10,0,7,0,11,0,{"$f":"+IFERROR(HYPERLINK(VLOOKUP(C243,FOTOGRAFICO!C:E,3,FALSE),C243),\"\")","v":"QUA4TIEMPOS"}]
[null,null,"QUA50","ACEITE","ACEITE QUAKER HD50 BOTELLA     946 ML API SL HEAVY DUTY       CAJA 16 PIEZAS",111.17,16,27,13,28,17,14,{"$f":"+IFERROR(HYPERLINK(VLOOKUP(C244,FOTOGRAFICO!C:E,3,FALSE),C244),\"\")","v":"QUA50"}]
[null,null,"QUA5W30","ACEITE","ACEITE QUAKER 5W30 BOTELLA     SINTETICO 1L API SN PLUS",318.70999999999998,16,34,10,32,1,11,{"$f":"+IFERROR(HYPERLINK(VLOOKUP(C245,FOTOGRAFICO!C:E,3,FALSE),C245),\"\")","v":"QUA5W30"}]
[null,null,"QUA60","ACEITE","ACEITE QUAKER HD60 BOTELLA     946 ML API SL HEAVY DUTY       CAJA 16 PIEZAS",89.05,43,61,14,38,22,13,{"$f":"+IFERROR(HYPERLINK(VLOOKUP(C246,FOTOGRAFICO!C:E,3,FALSE),C246),\"\")","v":"QUA60"}]
[null,null,"QUA80W90","ACEITE","ACEITE QUAKER 80W90 BOTELLA    946 ML API GL-5 TRANS.STD      CAJA 15 PIEZAS",109.64,26,33,37,39,37,34,{"$f":"+IFERROR(HYPERLINK(VLOOKUP(C247,FOTOGRAFICO!C:E,3,FALSE),C247),\"\")","v":"QUA80W90"}]
[null,null,"QUA90","ACEITE","ACEITE QUAKER 90 BOTELLA 946   ML API GL-1 TRANS.STD          CAJA 15 PIEZAS",92.54,32,22,16,31,12,23,{"$f":"+IFERROR(HYPERLINK(VLOOKUP(C248,FOTOGRAFICO!C:E,3,FALSE),C248),\"\")","v":"QUA90"}]
[null,null,"QUAAUTAK","ACEITE","ACEITE QUAKER ATF ALTO KM BOTE 946 ML DEXRON II MERCON TRANS. AUT. DIR.HID. CAJA 15 PIEZAS",92.53,14,14,24,16,7,8,{"$f":"+IFERROR(HYPERLINK(VLOOKUP(C249,FOTOGRAFICO!C:E,3,FALSE),C249),\"\")","v":"QUAAUTAK"}]
[null,null,"QUAAUTO","ACEITE","ACEITE QUAKER ATF III BOTELLA  946 ML DEXRON 3 MERCON JASO 1A TRANS.AUT.DIR.HID. CAJA 15 PZA",92.53,30,10,41,49,18,19,{"$f":"+IFERROR(HYPERLINK(VLOOKUP(C250,FOTOGRAFICO!C:E,3,FALSE),C250),\"\")","v":"QUAAUTO"}]
[null,null,"QUACVTBOTE","ACEITE","ACEITE QUAKER CVT BOTELLA 946  ML TRANSMISION AUTOMATICA CAJA 16 PZA",192.74,25,23,25,31,27,31,{"$f":"+IFERROR(HYPERLINK(VLOOKUP(C251,FOTOGRAFICO!C:E,3,FALSE),C251),\"\")","v":"QUACVTBOTE"}]
[null,null,"QUAG20W50","ACEITE","ACEITE QUAKER 20W50 GARRAFA    5 LTS API SN RACING OIL        CAJA 4 PIEZAS",547.38,53,20,19,42,19,8,{"$f":"+IFERROR(HYPERLINK(VLOOKUP(C252,FOTOGRAFICO!C:E,3,FALSE),C252),\"\")","v":"QUAG20W50"}]
[null,null,"QUAG40","ACEITE","ACEITE QUAKER HD40 GARRAFA     5 LTS API SL HEAVY DUTY        CAJA 4 PIEZAS",551.54999999999995,20,12,7,9,2,4,{"$f":"+IFERROR(HYPERLINK(VLOOKUP(C253,FOTOGRAFICO!C:E,3,FALSE),C253),\"\")","v":"QUAG40"}]
[null,null,"QUAG50","ACEITE","ACEITE QUAKER HD50 GARRAFA     5 LTS API SL HEAVY DUTY        CAJA 4 PIEZAS",551.54999999999995,6,16,4,2,5,5,{"$f":"+IFERROR(HYPERLINK(VLOOKUP(C254,FOTOGRAFICO!C:E,3,FALSE),C254),\"\")","v":"QUAG50"}]
[null,null,"QUAG5W30SYNT","ACEITE","ACEITE QUAKER SINT 5W30 GARRAF 5 LITROS SINTETICO API SN PLUS MARCA QUAKER STATE",988.37,17,0,12,0,4,0,{"$f":"+IFERROR(HYPERLINK(VLOOKUP(C255,FOTOGRAFICO!C:E,3,FALSE),C255),\"\")","v":"QUAG5W30SYNT"}]
[null,null,"QUAG60","ACEITE","ACEITE QUAKER HD60 GARRAFA     5 LTS API SL HEAVY DUTY        CAJA 4 PIEZAS",581.39,6,14,7,12,3,1,{"$f":"+IFERROR(HYPERLINK(VLOOKUP(C256,FOTOGRAFICO!C:E,3,FALSE),C256),\"\")","v":"QUAG60"}]
[null,null,"QUAGARRAFAZUL","ACEITE","ACEITE QUAKER 20W60 GARR AZUL  5 LTS API SL/CF CAMIONETA ALTO KM GASOLINA DIESEL CAJA 4 PZA",711.59,5,8,2,9,2,4,{"$f":"+IFERROR(HYPERLINK(VLOOKUP(C257,FOTOGRAFICO!C:E,3,FALSE),C257),\"\")","v":"QUAGARRAFAZUL"}]
[null,null,"QUAGROJO","ACEITE","ACEITE QUAKER 25W50 GARRA ROJA 5 LTS API SN ALTO KILOMETRAJE  CAJA 4 PIEZAS",534.88,102,85,70,83,31,25,{"$f":"+IFERROR(HYPERLINK(VLOOKUP(C258,FOTOGRAFICO!C:E,3,FALSE),C258),\"\")","v":"QUAGROJO"}]
[null,null,"QUALITROAZUL","ACEITE","ACEITE QUAKER 20W60 BOTE AZUL  946 ML API SL/CF CAMIONET ALTO KM GASOLINA DIESEL CAJA 16 PZA",107.55,9,9,15,22,15,7,{"$f":"+IFERROR(HYPERLINK(VLOOKUP(C259,FOTOGRAFICO!C:E,3,FALSE),C259),\"\")","v":"QUALITROAZUL"}]
[null,null,"QUAMP15W40BOTE","ACEITE","ACEITE MAXIMA POTEN 15W40 BOTE 946 ML QUAKER API SN           ALTO KILOMETRAJE CAJA 16 PIEZA",116.68,16,18,7,0,20,0,{"$f":"+IFERROR(HYPERLINK(VLOOKUP(C260,FOTOGRAFICO!C:E,3,FALSE),C260),\"\")","v":"QUAMP15W40BOTE"}]
[null,null,"QUAROJO","ACEITE","ACEITE QUAKER 25W50 BOTEL ROJA 946 ML API SN ALTO KILOMETRAJE CAJA 16 PIEZAS",107.55,158,224,106,206,107,47,{"$f":"+IFERROR(HYPERLINK(VLOOKUP(C261,FOTOGRAFICO!C:E,3,FALSE),C261),\"\")","v":"QUAROJO"}]
[null,null,"QUASINTEC","ACEITE","ACEITE QUAKER SINT.5W50 BOTELL 946 ML API SN                  CAJA 5 PIEZAS",337.84,9,22,0,2,1,10,{"$f":"+IFERROR(HYPERLINK(VLOOKUP(C262,FOTOGRAFICO!C:E,3,FALSE),C262),\"\")","v":"QUASINTEC"}]
[null,null,"QUASINTETIC0W20","ACEITE","ACEITE QUAKER SINT 0W20 BOTELL 946 ML API SN PLUS ILSAC GF-5  INYECCION DIRECTA TURBOALIMENT",197.67,0,0,0,0,0,0,{"$f":"+IFERROR(HYPERLINK(VLOOKUP(C263,FOTOGRAFICO!C:E,3,FALSE),C263),\"\")","v":"QUASINTETIC0W20"}]
[null,null,"REPMATICATF","ACEITE","ACEITE REPSOL ATF LITRO        TRANSM. AUTO SINTETICO         MITSUBISHI SUSUKI TOYOTA NISSA",92.65,0,0,0,0,0,0,{"$f":"+IFERROR(HYPERLINK(VLOOKUP(C264,FOTOGRAFICO!C:E,3,FALSE),C264),\"\")","v":""}]
[null,null,"REPMATICIII","ACEITE","ACEITE REPSOL ATF DEXRON III   DEXRON II LITRO TRANS. AUTOMAT SINTETICO",89.88,0,0,0,0,0,0,{"$f":"+IFERROR(HYPERLINK(VLOOKUP(C265,FOTOGRAFICO!C:E,3,FALSE),C265),\"\")","v":"REPMATICIII"}]
[null,null,"RMM0100IFB","ACEITE","ACEITE REPSOL ELITE NEO 5W30   SINTETICO GARRAFA 4 LITROS     API SN-RC ILSAC GF-5",756.35,11,0,0,0,0,0,{"$f":"+IFERROR(HYPERLINK(VLOOKUP(C266,FOTOGRAFICO!C:E,3,FALSE),C266),\"\")","v":""}]
[null,null,"RMM1124UFB","ACEITE","ACEITE REPSOL DIESEL ALTO KM   TXM 25W50 GARRAFA 5 LITROS     API CG-4/CF-4/CF",436.65,9,3,7,7,12,0,{"$f":"+IFERROR(HYPERLINK(VLOOKUP(C267,FOTOGRAFICO!C:E,3,FALSE),C267),\"\")","v":"RMM1124UFB"}]
[null,null,"RMM1580QFB","ACEITE","ACEITE REPSOL DIESEL 15W40     TURBO THPD TECH GARRAFA 5      LITROS CI-4 PLUS CI-4 CH-4/SL",591.49,7,10,7,0,13,7,{"$f":"+IFERROR(HYPERLINK(VLOOKUP(C268,FOTOGRAFICO!C:E,3,FALSE),C268),\"\")","v":"RMM1580QFB"}]
[null,null,"RMM2627THA","ACEITE","ACEITE REPSOL MOTO 4T 20W50 SL TOWN PLUS BOTELLA 1 LITRO      API SL JASO MA2",123.87,17,17,39,26,28,10,{"$f":"+IFERROR(HYPERLINK(VLOOKUP(C269,FOTOGRAFICO!C:E,3,FALSE),C269),\"\")","v":"RMM2627THA"}]
[null,null,"ROS140","ACEITE","ACEITE ROSHFRANS 140 BOLSA 950 ML API GL-1 TRANS.STD          CAJA 16 PIEZAS",76.5,49,27,53,38,35,28,{"$f":"+IFERROR(HYPERLINK(VLOOKUP(C270,FOTOGRAFICO!C:E,3,FALSE),C270),\"\")","v":"ROS140"}]
[null,null,"ROS20W50","ACEITE","ACEITE HI-ENERGY 20W50 BOLSA   950 ML ROSHFRANS API SL        CAJA 16 PIEZAS",79.92,411,234,263,533,308,231,{"$f":"+IFERROR(HYPERLINK(VLOOKUP(C271,FOTOGRAFICO!C:E,3,FALSE),C271),\"\")","v":"ROS20W50"}]
[null,null,"ROS20W50GALON","ACEITE","ACEITE HI-ENERGY 20W50 BOLSA 4 LTS ROSHFRANS API SL           CAJA 4 PIEZAS",310.22000000000003,66,51,121,160,82,59,{"$f":"+IFERROR(HYPERLINK(VLOOKUP(C272,FOTOGRAFICO!C:E,3,FALSE),C272),\"\")","v":"ROS20W50GALON"}]
[null,null,"ROS25W50","ACEITE","ACEITE HI-ENERGY AK 25W50 BOTE 950 ML ROSHFRANS API SL ALTO   KILOMETRAJE CAJA 16 PIEZAS",87.16,201,187,185,264,133,62,{"$f":"+IFERROR(HYPERLINK(VLOOKUP(C273,FOTOGRAFICO!C:E,3,FALSE),C273),\"\")","v":"ROS25W50"}]
[null,null,"ROS40GALON","ACEITE","ACEITE SUPER HD40 BOLSA 4 LTS  ROSHFRANS API SL               CAJA 4 PIEZAS",314.89,27,33,17,29,27,15,{"$f":"+IFERROR(HYPERLINK(VLOOKUP(C274,FOTOGRAFICO!C:E,3,FALSE),C274),\"\")","v":"ROS40GALON"}]
[null,null,"ROS50GALON","ACEITE","ACEITE SUPER HD50 BOLSA 4 LTS  ROSHFRANS API SL               CAJA 4 PIEZAS",372.03,12,12,10,13,6,9,{"$f":"+IFERROR(HYPERLINK(VLOOKUP(C275,FOTOGRAFICO!C:E,3,FALSE),C275),\"\")","v":"ROS50GALON"}]
[null,null,"ROS60GALON","ACEITE","ACEITE SUPER HD60 BOLSA 4 LTS  ROSHFRANS API SL               CAJA 4 PIEZAS",318.93,28,40,8,38,18,40,{"$f":"+IFERROR(HYPERLINK(VLOOKUP(C276,FOTOGRAFICO!C:E,3,FALSE),C276),\"\")","v":"ROS60GALON"}]
[null,null,"ROS80W90","ACEITE","ACEITE ROSHFRANS 80W90 BOTELLA 950 ML API GL-5 TRANS.STD      CAJA 16 PIEZAS",87.58,112,44,118,328,175,38,{"$f":"+IFERROR(HYPERLINK(VLOOKUP(C277,FOTOGRAFICO!C:E,3,FALSE),C277),\"\")","v":"ROS80W90"}]
[null,null,"ROS90","ACEITE","ACEITE ROSHFRANS 90 BOLSA 950  ML API GL-1 TRANS.STD          CAJA 16 PIEZAS",75.900000000000006,53,25,46,127,36,54,{"$f":"+IFERROR(HYPERLINK(VLOOKUP(C278,FOTOGRAFICO!C:E,3,FALSE),C278),\"\")","v":"ROS90"}]
[null,null,"ROSATFIII","ACEITE","ACEITE ATF DEX-III-MERC BOLSA  950 ML ROSHFRANS TRANS.AUT.    DIR.HID.CAJA 16 PIEZAS",70.37,247,194,246,450,188,171,{"$f":"+IFERROR(HYPERLINK(VLOOKUP(C279,FOTOGRAFICO!C:E,3,FALSE),C279),\"\")","v":"ROSATFIII"}]
[null,null,"ROSBOTE250","ACEITE","ACEITE ROSHFRANS 250 BOTELLA   950 ML API GL-1 TRANS.STD      CAJA 16 PIEZAS",80.930000000000007,108,62,56,66,33,27,{"$f":"+IFERROR(HYPERLINK(VLOOKUP(C280,FOTOGRAFICO!C:E,3,FALSE),C280),\"\")","v":"ROSBOTE250"}]
[null,null,"ROSBOTE5W40","ACEITE","ACEITE RUN-PWR SINT.5W40 BOTEL 950 ML ROSHFRANS API SN        CAJA 15 PIEZAS",193.26,28,12,26,20,9,1,{"$f":"+IFERROR(HYPERLINK(VLOOKUP(C281,FOTOGRAFICO!C:E,3,FALSE),C281),\"\")","v":"ROSBOTE5W40"}]
[null,null,"ROSBOTERUN10W40","ACEITE","ACEITE RUN PWR 10W40 BOTELLA   API SP 950 ML MARCA ROSHFRANS",107.99,0,6,32,11,8,1,{"$f":"+IFERROR(HYPERLINK(VLOOKUP(C282,FOTOGRAFICO!C:E,3,FALSE),C282),\"\")","v":"ROSBOTERUN10W40"}]
[null,null,"ROSBOTERUN15W40","ACEITE","ACEITE RUN-PWR 15W40 BOTELLA   950 ML ROSHFRANS API SN        CAJA 15 PIEZAS",120.23,112,138,187,465,143,90,{"$f":"+IFERROR(HYPERLINK(VLOOKUP(C283,FOTOGRAFICO!C:E,3,FALSE),C283),\"\")","v":"ROSBOTERUN15W40"}]
[null,null,"ROSBOTERUN20W50","ACEITE","ACEITE RUN-PWR 20W50 BOTELLA   950 ML ROSHFRANS API SN        CAJA 15 PIEZAS",129.35,32,0,28,18,9,13,{"$f":"+IFERROR(HYPERLINK(VLOOKUP(C284,FOTOGRAFICO!C:E,3,FALSE),C284),\"\")","v":"ROSBOTERUN20W50"}]
[null,null,"ROSBOTERUN5W30","ACEITE","ACEITE RUN-PWR 5W30 BOTELLA    950 ML ROSHFRANS API SP        ILSAC GF-6A MINERAL",87.87,181,0,91,149,84,0,{"$f":"+IFERROR(HYPERLINK(VLOOKUP(C285,FOTOGRAFICO!C:E,3,FALSE),C285),\"\")","v":"ROSBOTERUN5W30"}]
[null,null,"ROSGARRATFIII","ACEITE","ACEITE ATF DEX-III-MERC GARRAF 5 LTS ROSHFRANS TRANS.AUT.     DIR.HID.CAJA 4 PIEZAS",386.31,12,15,25,51,12,16,{"$f":"+IFERROR(HYPERLINK(VLOOKUP(C286,FOTOGRAFICO!C:E,3,FALSE),C286),\"\")","v":"ROSGARRATFIII"}]
[null,null,"ROSGARRRUN15W40","ACEITE","ACEITE RUN-PWR 15W40 GARRAFA   5 LTS ROSHFRANS API SN         CAJA 4 PIEZAS",657.55,10,6,13,5,5,4,{"$f":"+IFERROR(HYPERLINK(VLOOKUP(C287,FOTOGRAFICO!C:E,3,FALSE),C287),\"\")","v":"ROSGARRRUN15W40"}]
[null,null,"ROSGARRUN20W50","ACEITE","ACEITE RUN-PWR 20W50 GARRAFA   5 LTS ROSHFRANS API SN         CAJA 4 PIEZAS",697.03,16,15,9,6,6,5,{"$f":"+IFERROR(HYPERLINK(VLOOKUP(C288,FOTOGRAFICO!C:E,3,FALSE),C288),\"\")","v":"ROSGARRUN20W50"}]
[null,null,"ROSHD40","ACEITE","ACEITE SUPER HD40 BOLSA 950 ML ROSHFRANS API SL               CAJA 16 PIEZAS",85.42,118,109,95,113,69,93,{"$f":"+IFERROR(HYPERLINK(VLOOKUP(C289,FOTOGRAFICO!C:E,3,FALSE),C289),\"\")","v":"ROSHD40"}]
[null,null,"ROSHD50","ACEITE","ACEITE SUPER HD50 BOLSA 950 ML ROSHFRANS API SL               CAJA 16 PIEZAS",81.45,62,88,44,71,47,50,{"$f":"+IFERROR(HYPERLINK(VLOOKUP(C290,FOTOGRAFICO!C:E,3,FALSE),C290),\"\")","v":"ROSHD50"}]
[null,null,"ROSHD60","ACEITE","ACEITE SUPER HD60 BOLSA 950 ML ROSHFRANS API SL               CAJA 16 PIEZAS",81.61,179,222,194,257,62,364,{"$f":"+IFERROR(HYPERLINK(VLOOKUP(C291,FOTOGRAFICO!C:E,3,FALSE),C291),\"\")","v":"ROSHD60"}]
[null,null,"ROSSAE50","ACEITE","ACEITE VOLTRO RAS 3 HD50 BOLSA 950 ML ROSHFRANS API CF DIESEL CAJA 16 PIEZAS",69.260000000000005,143,38,261,201,104,54,{"$f":"+IFERROR(HYPERLINK(VLOOKUP(C292,FOTOGRAFICO!C:E,3,FALSE),C292),\"\")","v":"ROSSAE50"}]
[null,null,"RP026A51","ACEITE","ACEITE REPSOL MATIC VI ATF     SINTETICO BOTELLA 1 LITRO      DEXRON VI TRANSMISION AUTOMATI",0,0,0,0,0,0,0,{"$f":"+IFERROR(HYPERLINK(VLOOKUP(C293,FOTOGRAFICO!C:E,3,FALSE),C293),\"\")","v":""}]
[null,null,"RP026C51","ACEITE","ACEITE REPSOL CVT BOTELLA 1 LT TRANSMISION AUTOMATICA         CAJA 12 PIEZAS",170.03,0,0,0,0,0,0,{"$f":"+IFERROR(HYPERLINK(VLOOKUP(C294,FOTOGRAFICO!C:E,3,FALSE),C294),\"\")","v":"RP026C51"}]
[null,null,"RP137D51","ACEITE","ACEITE REPSOL ELITE NEO 0W20   SINTETICO BOTELLA 1 LITRO      API SN-RC ILSAC GF-5",0,0,0,0,0,0,0,{"$f":"+IFERROR(HYPERLINK(VLOOKUP(C295,FOTOGRAFICO!C:E,3,FALSE),C295),\"\")","v":""}]
[null,null,"RP137E51","ACEITE","ACEITE REPSOL ELITE NEO 5W20   SINTETICO BOTELLA 1 LITRO      API SN-RC ILSAC GF-5",185.81,13,10,13,8,12,13,{"$f":"+IFERROR(HYPERLINK(VLOOKUP(C296,FOTOGRAFICO!C:E,3,FALSE),C296),\"\")","v":"RP137E51"}]
[null,null,"RP137L51","ACEITE","ACEITE REPSOL ELITE NEO 5W30   SINTETICO BOTELLA 1 LITRO      API SN-RC ILSAC GF-5",185.81,115,9,28,15,1,8,{"$f":"+IFERROR(HYPERLINK(VLOOKUP(C297,FOTOGRAFICO!C:E,3,FALSE),C297),\"\")","v":"RP137L51"}]
[null,null,"RP160P51","ACEITE","ACEITE REPSOL MOTO 4T 10W50 SN RACING BOTELLA 1 LITRO API SN  JASO T 903:2011 MA2 SINTETICO",235.36,9,1,11,13,4,0,{"$f":"+IFERROR(HYPERLINK(VLOOKUP(C298,FOTOGRAFICO!C:E,3,FALSE),C298),\"\")","v":"RP160P51"}]
[null,null,"RP162N51","ACEITE","ACEITE REPSOL OFFROAD 4T 10W40 RACING BOTELLA 1 LITRO API SN  JASO T 903:2016 MA2 SINTETICO",229.16,9,2,0,0,13,10,{"$f":"+IFERROR(HYPERLINK(VLOOKUP(C299,FOTOGRAFICO!C:E,3,FALSE),C299),\"\")","v":"RP162N51"}]
[null,null,"RP715W98","ACEITE","ACEITE REPSOL MOTO CHAIN 400ML EN AEROSOL TRANSMISIONES       SECUNDARIAS Y CADENAS",106.33,13,5,8,14,12,0,{"$f":"+IFERROR(HYPERLINK(VLOOKUP(C300,FOTOGRAFICO!C:E,3,FALSE),C300),\"\")","v":"RP715W98"}]
[null,null,"RPP9000BHC","ACEITE","ACEITE REPSOL FORK OIL 10W     HORQUILLAS Y AMORTIGUADORES    DE MOTOS HIDRAULICO BOTELLA",145.55000000000001,10,6,9,8,2,2,{"$f":"+IFERROR(HYPERLINK(VLOOKUP(C301,FOTOGRAFICO!C:E,3,FALSE),C301),\"\")","v":"RPP9000BHC"}]
[null,null,"RX201Q51","ACEITE","ACEITE REPSOL MOTO 4T 20W50 SL TOWN PLUS BOTELLA 1 LITRO      API SL JASO MA2",0,0,0,0,0,0,0,{"$f":"+IFERROR(HYPERLINK(VLOOKUP(C302,FOTOGRAFICO!C:E,3,FALSE),C302),\"\")","v":""}]
[null,null,"SHELLG5W30","ACEITE","ACEITE SHELL HELIX 5W30 GARRAF A 4 LITROS SN SINTETICO        CAJA 4LTS MARCA SHELL",1247.5,0,0,0,0,3,1,{"$f":"+IFERROR(HYPERLINK(VLOOKUP(C303,FOTOGRAFICO!C:E,3,FALSE),C303),\"\")","v":"SHELLG5W30"}]
[null,null,"SLX-0ASAE40-G4","ACEITE","ACEITE MOTORCRAFT SAE 40 GARRA 4 LTS",437.83,1,4,4,0,0,0,{"$f":"+IFERROR(HYPERLINK(VLOOKUP(C304,FOTOGRAFICO!C:E,3,FALSE),C304),\"\")","v":"SLX-0ASAE40-G4"}]
[null,null,"SMX-020W50-B","ACEITE","ACEITE MOTORCRAFT 20W50 BOTELL 946 ML",97.34,3,24,35,33,19,25,{"$f":"+IFERROR(HYPERLINK(VLOOKUP(C305,FOTOGRAFICO!C:E,3,FALSE),C305),\"\")","v":"SMX-020W50-B"}]
[null,null,"VAL05W30","ACEITE","ACEITE VALVOLINE 5W30 BOTELLA  946 ML API SN PLUS             SEMI-SINTETICO",158.31,6,5,5,7,6,6,{"$f":"+IFERROR(HYPERLINK(VLOOKUP(C306,FOTOGRAFICO!C:E,3,FALSE),C306),\"\")","v":""}]
[null,null,"VAL05W30-GARRAFA","ACEITE","ACEITE VALVOLINE 5W30 GARRAFA  4.73 LTS API SN PLUS           SEMI-SINTETICO",744.32,2,3,1,3,3,3,{"$f":"+IFERROR(HYPERLINK(VLOOKUP(C307,FOTOGRAFICO!C:E,3,FALSE),C307),\"\")","v":"VAL05W30-GARRAFA"}]
[null,null,"VAL15W40","ACEITE","ACEITE VALVOLINE 15W40 BOTELLA 946 ML API SN",158.31,6,2,6,0,6,6,{"$f":"+IFERROR(HYPERLINK(VLOOKUP(C308,FOTOGRAFICO!C:E,3,FALSE),C308),\"\")","v":"VAL15W40"}]
[null,null,"VAL15W40-GARRAFA","ACEITE","ACEITE VALVOLINE 15W40 GARRAFA 4.73 LTS API SN",676.65,3,9,2,0,3,3,{"$f":"+IFERROR(HYPERLINK(VLOOKUP(C309,FOTOGRAFICO!C:E,3,FALSE),C309),\"\")","v":"VAL15W40-GARRAFA"}]
[null,null,"VAL20W50","ACEITE","ACEITE VALVOLINE 20W50 BOTELLA 946 ML API SN PLUS",158.31,6,1,6,3,6,6,{"$f":"+IFERROR(HYPERLINK(VLOOKUP(C310,FOTOGRAFICO!C:E,3,FALSE),C310),\"\")","v":""}]
[null,null,"VAL20W50-GARRAFA","ACEITE","ACEITE VALVOLINE 20W50 GARRAFA 4.73 LTS API SN PLUS",744.32,3,0,3,2,3,3,{"$f":"+IFERROR(HYPERLINK(VLOOKUP(C311,FOTOGRAFICO!C:E,3,FALSE),C311),\"\")","v":"VAL20W50-GARRAFA"}]
[null,null,"VAL20W50MOTO","ACEITE","ACEITE 20W50 MOTOS 4T BOTELLA  946 ML VALVOLINE API SL JASO   MA2",144.16999999999999,6,8,5,6,6,6,{"$f":"+IFERROR(HYPERLINK(VLOOKUP(C312,FOTOGRAFICO!C:E,3,FALSE),C312),\"\")","v":"VAL20W50MOTO"}]
[null,null,"VAL25W50","ACEITE","ACEITE VR1 AK 25W50 BOTELLLA   946 ML VALVOLINE API SL ALTO   KILOMETRAJE",125.5,12,1,12,17,12,12,{"$f":"+IFERROR(HYPERLINK(VLOOKUP(C313,FOTOGRAFICO!C:E,3,FALSE),C313),\"\")","v":""}]
[null,null,"VAL25W50-GARRAFA","ACEITE","ACEITE VR1 AK 25W50 GARRAFA 5  LTS VALVOLINE API SL ALTO      KILOMETRAJE",602.85,4,0,0,3,3,4,{"$f":"+IFERROR(HYPERLINK(VLOOKUP(C314,FOTOGRAFICO!C:E,3,FALSE),C314),\"\")","v":"VAL25W50-GARRAFA"}]
[null,null,"VAL-80W90","ACEITE","ACEITE GEAR OIL 80W90 BOTELLA  946 ML VALVOLINE API GL-5      TRANSMISION ESTANDAR",160.44,12,9,8,12,9,12,{"$f":"+IFERROR(HYPERLINK(VLOOKUP(C315,FOTOGRAFICO!C:E,3,FALSE),C315),\"\")","v":"VAL-80W90"}]
[null,null,"VAL-ATFIII-LITRO","ACEITE","ACEITE VALVOLINE ATF III BOTEL LA 946 ML DEX III",131.06,12,8,12,14,9,12,{"$f":"+IFERROR(HYPERLINK(VLOOKUP(C316,FOTOGRAFICO!C:E,3,FALSE),C316),\"\")","v":"VAL-ATFIII-LITRO"}]
[null,null,"VAL-AUTOMATIC","ACEITE","ACEITE VALVOLINE CVT BOTELLA   946 ML SINTETICO TRANSMISION   AUTOMATICA",312.04000000000002,6,7,5,14,6,6,{"$f":"+IFERROR(HYPERLINK(VLOOKUP(C317,FOTOGRAFICO!C:E,3,FALSE),C317),\"\")","v":"VAL-AUTOMATIC"}]
[null,null,"VAL-SINTE-GARRAF","ACEITE","ACEITE SINTETICO 5W30 GARRAFA  4.73 LTS VALVOLINE API SN",1000,3,0,1,5,3,3,{"$f":"+IFERROR(HYPERLINK(VLOOKUP(C318,FOTOGRAFICO!C:E,3,FALSE),C318),\"\")","v":"VAL-SINTE-GARRAF"}]
[null,null,"VAL-SINTE-LITRO","ACEITE","ACEITE SINTETICO 5W30 BOTELLA  946 ML VALVOLINE API SN",233.67,6,1,4,0,6,5,{"$f":"+IFERROR(HYPERLINK(VLOOKUP(C319,FOTOGRAFICO!C:E,3,FALSE),C319),\"\")","v":"VAL-SINTE-LITRO"}]
[null,null,"VISCUS","ACEITE","ACEITE CRB VISCUS 25W60 BOTELL 946 ML CASTROL API CF-4        DIESEL CAJA 12 PIEZAS",153.25,0,0,0,0,0,0,{"$f":"+IFERROR(HYPERLINK(VLOOKUP(C320,FOTOGRAFICO!C:E,3,FALSE),C320),\"\")","v":"VISCUS"}]
[null,null,"VISGARRAFA","ACEITE","ACEITE CRB VISCUS 25W60 GARRAF 3.78 LTS CASTROL API CF-4      DIESEL CAJA 3 PIEZAS",424.87,9,20,10,13,9,4,{"$f":"+IFERROR(HYPERLINK(VLOOKUP(C321,FOTOGRAFICO!C:E,3,FALSE),C321),\"\")","v":"VISGARRAFA"}]
[null,null,"VW502.00 505.00","ACEITE","ACEITE ORIGINAL VW 5W40 GARRAF 5 LTS SINTETICO GARRAFA NEGRA  SAE 5W-40 VW AUDI SEAT",1165.3399999999999,4,0,1,0,2,3,{"$f":"+IFERROR(HYPERLINK(VLOOKUP(C322,FOTOGRAFICO!C:E,3,FALSE),C322),\"\")","v":"VW502.00 505.00"}]
[null,null,"XTRPRO10W30","ACEITE","ACEITE XTR-PRO 10W30 BOTELLA   946 ML QUAKER API SN ILSAC     GF-5 CAJA 16 PIEZAS",132.24,35,68,0,0,22,0,{"$f":"+IFERROR(HYPERLINK(VLOOKUP(C323,FOTOGRAFICO!C:E,3,FALSE),C323),\"\")","v":"XTRPRO10W30"}]
[null,null,"XTRPRO15W40","ACEITE","ACEITE XTR-PRO 15W40 BOTELLA   946 ML QUAKER API SN           CAJA 16 PIEZAS",169.4,40,41,0,45,16,19,{"$f":"+IFERROR(HYPERLINK(VLOOKUP(C324,FOTOGRAFICO!C:E,3,FALSE),C324),\"\")","v":"XTRPRO15W40"}]
[null,null,"XTRPRO20W50","ACEITE","ACEITE XTR-PRO 20W50 BOTELLA   946 ML QUAKER API SN           CAJA 16 PIEZAS",132.24,0,4,46,0,15,0,{"$f":"+IFERROR(HYPERLINK(VLOOKUP(C325,FOTOGRAFICO!C:E,3,FALSE),C325),\"\")","v":"XTRPRO20W50"}]
[null,null,"XTRPRO20W50BOTEL","ACEITE","ACEITE XTR-PRO 20W50 BOTELLA   946 ML QUAKER API SN           CAJA 16 PIEZAS",120.93,7,16,7,24,19,28,{"$f":"+IFERROR(HYPERLINK(VLOOKUP(C326,FOTOGRAFICO!C:E,3,FALSE),C326),\"\")","v":""}]
[null,null,"XTRPRO20W50GARRA","ACEITE","ACEITE XTR-PRO 20W50 GARRAFA   5 LTS QUAKER API SN            CAJA 4 PIEZAS",645.49,5,16,0,20,7,3,{"$f":"+IFERROR(HYPERLINK(VLOOKUP(C327,FOTOGRAFICO!C:E,3,FALSE),C327),\"\")","v":"XTRPRO20W50GARRA"}]
[null,null,"XY-80W90-QL","ACEITE","ACEITE MOTORCRAFT 80W90 BOTELL 946 ML API GL-5 TRANS.STD",154.59,0,4,15,0,0,0,{"$f":"+IFERROR(HYPERLINK(VLOOKUP(C328,FOTOGRAFICO!C:E,3,FALSE),C328),\"\")","v":"XY-80W90-QL"}]
[null,null,"MOBVATF","ACEITE","ACEITE MOBIL MULTI VEHICLE ATF TRANSMISION ATM FORD MERCON    MERCON V MARCA MOBIL PIDE RAUL",272.13,0,0,0,0,0,0,{"$f":"+IFERROR(HYPERLINK(VLOOKUP(C329,FOTOGRAFICO!C:E,3,FALSE),C329),\"\")","v":""}]
[null,null,"PRTDIE20W50CUB","ACEITE","ACEITE URANIA 1000 20W50 CUBET 19 LTS PETRONAS API CH-4       MINERAL MOTORES DIESEL",1720.58,0,0,0,1,0,0,{"$f":"+IFERROR(HYPERLINK(VLOOKUP(C330,FOTOGRAFICO!C:E,3,FALSE),C330),\"\")","v":""}]
[null,null,"ROSCUBETA80W90","ACEITE","ACEITE GEAR OIL 80W90 CUBETA   19 LITROS API GL-5 MCA: ROSHFR ANS PEDIDO RAUL FABILA",1126.1099999999999,0,0,0,0,0,0,{"$f":"+IFERROR(HYPERLINK(VLOOKUP(C331,FOTOGRAFICO!C:E,3,FALSE),C331),\"\")","v":""}]
[null,null,"122664","ACEITE","ACEITE CUBETA MOBIL RARUS [427 ISO 100",1956.31,0,0,0,0,0,0,{"$f":"+IFERROR(HYPERLINK(VLOOKUP(C332,FOTOGRAFICO!C:E,3,FALSE),C332),\"\")","v":""}]
[null,null,"1405116","ACEITE","ACEITE DIRECCION FHID CHF11S   1 LITRO PENTOSIL SINTETICO     PIDE JORGE",375.57,0,0,0,0,0,0,{"$f":"+IFERROR(HYPERLINK(VLOOKUP(C333,FOTOGRAFICO!C:E,3,FALSE),C333),\"\")","v":""}]
[null,null,"BAR70465","ACEITE","ACEITE MEXLUB 20W50 SL CUBETA  19L",1335.55,0,0,0,0,0,0,{"$f":"+IFERROR(HYPERLINK(VLOOKUP(C334,FOTOGRAFICO!C:E,3,FALSE),C334),\"\")","v":""}]
[null,null,"CASMOTO4T","ACEITE","ACEITE ACTEVO 4 TIEMPOS BOTELL 20W50 946 ML CASTROL JASO MA-2 CAJA 6 PIEZAS PIDE ANGEL EDUAR",128.04,0,0,0,0,0,0,{"$f":"+IFERROR(HYPERLINK(VLOOKUP(C335,FOTOGRAFICO!C:E,3,FALSE),C335),\"\")","v":""}]
[null,null,"LIQ-1500","ACEITE","ACEITE LIQUI MOLY 20W50 MOTOS  4T",419.67,0,2,0,0,0,0,{"$f":"+IFERROR(HYPERLINK(VLOOKUP(C336,FOTOGRAFICO!C:E,3,FALSE),C336),\"\")","v":"LIQ-1500"}]
[null,null,"LIQ-2308","ACEITE","ACEITE LIQUI MOLY 5W40 BOTELLA SINTETICO P/MOTOR              SOBRE PEDIDO",249.18,0,0,0,0,0,0,{"$f":"+IFERROR(HYPERLINK(VLOOKUP(C337,FOTOGRAFICO!C:E,3,FALSE),C337),\"\")","v":"LIQ-2308"}]
[null,null,"LIQ-2338","ACEITE","ACEITE LIQUI PERFORMAN BOTELLA SEMI SINTETICO P/MOTOR 10W40   SOBRE PEDIDO",205.63,0,0,0,0,0,0,{"$f":"+IFERROR(HYPERLINK(VLOOKUP(C338,FOTOGRAFICO!C:E,3,FALSE),C338),\"\")","v":"LIQ-2338"}]
[null,null,"LIQ-2536","ACEITE","ACEITE LIQUI MOLY 10W40 GARRAF 5 LTS API SL SEMI-SINTETICO    PERFORMA.GAS.DIESEL CAJA 4 PZA",839.48,0,0,0,0,0,0,{"$f":"+IFERROR(HYPERLINK(VLOOKUP(C339,FOTOGRAFICO!C:E,3,FALSE),C339),\"\")","v":"LIQ-2536"}]
[null,null,"LIQ-9503","ACEITE","ACEITE LIQUI MOLY 10W40 BOTELL SINTETICO P/MOTOR              SOBRE PEDIDO",212.89,0,0,0,0,0,0,{"$f":"+IFERROR(HYPERLINK(VLOOKUP(C340,FOTOGRAFICO!C:E,3,FALSE),C340),\"\")","v":"LIQ-9503"}]
[null,null,"LIQ-9975","ACEITE","ACEITE LIQUI MOLY 10W30 BOTELL 1 LTS API SP ILSAC GF-6A       MOLYGEN SINTETICO CAJA 6 PZA",365.98,0,0,0,2,0,2,{"$f":"+IFERROR(HYPERLINK(VLOOKUP(C341,FOTOGRAFICO!C:E,3,FALSE),C341),\"\")","v":"LIQ-9975"}]
[null,null,"LIQ-9978","ACEITE","ACEITE LIQUI SINTE 10W30 GARRA P/MOTOR 5LTS MOLY GEN          SINTETICO  SOBRE PEDIDO",1014.87,0,0,0,0,0,0,{"$f":"+IFERROR(HYPERLINK(VLOOKUP(C342,FOTOGRAFICO!C:E,3,FALSE),C342),\"\")","v":"LIQ-9978"}]
[null,null,"MOG5W30MOG5W30","ACEITE","ACEITE MOBI 5W30 TAP VERD GARR SUPER 5 LTS API SN AHORRA      GASOLINA CAJA 4 PIEZAS",1020.4,0,0,0,15,6,2,{"$f":"+IFERROR(HYPERLINK(VLOOKUP(C343,FOTOGRAFICO!C:E,3,FALSE),C343),\"\")","v":"MOG5W30MOG5W30"}]
[null,null,"PTR15W40CJCUBETA","ACEITE","ACEITE PETRONAS LS 15W40 CJ-4  URANIA 3000 CUBETA 19 LITROS   SOBRE PEDIDO",2187.1999999999998,0,0,0,0,0,0,{"$f":"+IFERROR(HYPERLINK(VLOOKUP(C344,FOTOGRAFICO!C:E,3,FALSE),C344),\"\")","v":""}]
[null,null,"PTR5W40-SYNTETIC","ACEITE","ACEITE SYNTIUM SINT.5W40 BOTEL 946 ML PETRONAS 5000 E API SN  VW 502 00/505 00/505 01 6XCAJA",272.8,0,6,0,6,0,0,{"$f":"+IFERROR(HYPERLINK(VLOOKUP(C345,FOTOGRAFICO!C:E,3,FALSE),C345),\"\")","v":"PTR5W40-SYNTETIC"}]
[null,null,"QUACUBETAROJO","ACEITE","ACEITE QUAKER 25W50 ROJO CUBET A 19LTS                        SOBRE PEDIDO",1305.48,0,0,0,0,0,0,{"$f":"+IFERROR(HYPERLINK(VLOOKUP(C346,FOTOGRAFICO!C:E,3,FALSE),C346),\"\")","v":""}]
[null,null,"VAL20W50-CUBETA","ACEITE","ACEITE VALVOLINE 20W50 CUBETA  19L ALL FLEET PLUS CI-4 CH-4/  SJ GAS Y DIESEL PEDIDO RAUL",1200.9000000000001,0,0,0,0,0,0,{"$f":"+IFERROR(HYPERLINK(VLOOKUP(C347,FOTOGRAFICO!C:E,3,FALSE),C347),\"\")","v":"VAL20W50-CUBETA"}]
[null,null,"VAL25W60-CUBETA","ACEITE","ACEITE VALVOLINE 25W60 CUBETA  19L SALL FLEET PLUS CF4/SF GAS Y DIESEL PEDIDO RAUL MEDRANO",1200.9000000000001,0,0,0,0,0,0,{"$f":"+IFERROR(HYPERLINK(VLOOKUP(C348,FOTOGRAFICO!C:E,3,FALSE),C348),\"\")","v":""}]
[null,null,"BAR70615","ACEITE","ACEITE MEXLUB DIESEL 15W40 CH4 TOP DIESEL 40 CUBETA 19 LITROS MARCA MEXLUB PIDE OSCAR",1088.05,0,0,0,1,0,0,{"$f":"+IFERROR(HYPERLINK(VLOOKUP(C349,FOTOGRAFICO!C:E,3,FALSE),C349),\"\")","v":""}]
[null,null,"BAR70665","ACEITE","ACEITE DIESEL 15W40 CUBETA CI4 19 LITROS MARCA MEXLUB SOBRE   PEDIDO",1807.73,0,0,0,0,0,0,{"$f":"+IFERROR(HYPERLINK(VLOOKUP(C350,FOTOGRAFICO!C:E,3,FALSE),C350),\"\")","v":""}]
[null,null,"C020146Q4","ACEITE","ACEITE MOTUL MOTO 2 TIEMPOS    SCOOTER EXPERT TECHNOSYNTHESE  BOTELLA 1 LITRO MARCA MOTUL",194.47,0,0,0,12,12,0,{"$f":"+IFERROR(HYPERLINK(VLOOKUP(C351,FOTOGRAFICO!C:E,3,FALSE),C351),\"\")","v":""}]
[null,null,"C020343Q4","ACEITE","ACEITE 10W40 MOTUL MOTO 4      TIEMPOS TECHNOSYNTHESE 5100    1 LITRO MARCA MOTUL",209.17,0,0,0,9,11,0,{"$f":"+IFERROR(HYPERLINK(VLOOKUP(C352,FOTOGRAFICO!C:E,3,FALSE),C352),\"\")","v":""}]
[null,null,"C020349Q4","ACEITE","ACEITE 15W50 MOTUL MOTO 4      TIEMPOS 300V RACING BOTELLA    1 LITRO MARCA MOTUL",444.4,0,0,0,12,12,0,{"$f":"+IFERROR(HYPERLINK(VLOOKUP(C353,FOTOGRAFICO!C:E,3,FALSE),C353),\"\")","v":""}]
[null,null,"C020364Q4","ACEITE","ACEITE 10W40 MOTUL MOTO 4      TIEMPOS TECHNOSYNTHESE 5000    1 LITRO 104054 MARCA MOTUL",179.39,0,0,0,12,8,0,{"$f":"+IFERROR(HYPERLINK(VLOOKUP(C354,FOTOGRAFICO!C:E,3,FALSE),C354),\"\")","v":""}]
[null,null,"C020366Q4","ACEITE","ACEITE 10W30 MOTUL MOTO 4      TIEMPOS SINTETICO 7100 BOTELLA 1 LITRO 104089 MARCA MOTUL",254.24,0,0,0,0,0,0,{"$f":"+IFERROR(HYPERLINK(VLOOKUP(C355,FOTOGRAFICO!C:E,3,FALSE),C355),\"\")","v":""}]
[null,null,"C020370B9","ACEITE","ACEITE 20W50 HELLA MOTO 4      TIEMPOS MULTIGRADO SLJ HMMO    BOTELLA 946 ML MARCA HELLA",105.38,0,0,0,8,10,0,{"$f":"+IFERROR(HYPERLINK(VLOOKUP(C356,FOTOGRAFICO!C:E,3,FALSE),C356),\"\")","v":""}]
[null,null,"C020371Q4","ACEITE","ACEITE 15W50 MOTUL MOTO 4      TIEMPOS TECHNOSYNTHESE 5100    4 LITROS MARCA MOTUL",773.42,0,0,0,7,9,0,{"$f":"+IFERROR(HYPERLINK(VLOOKUP(C357,FOTOGRAFICO!C:E,3,FALSE),C357),\"\")","v":""}]
[null,null,"C020389Q4","ACEITE","ACEITE MOTUL MOTO 2 TIEMPOS    SINTETICO KART GRAND PRIX 1    LITRO 105884 MARCA MOTUL",436.78,0,0,0,12,12,0,{"$f":"+IFERROR(HYPERLINK(VLOOKUP(C358,FOTOGRAFICO!C:E,3,FALSE),C358),\"\")","v":""}]
[null,null,"05114213AD","ACEITE","ACEITE MOPAR 15W40 BOTELLA 946 ML ORIGINAL API SN             CAJA 16 PZA",142.97,0,0,0,0,1,15,{"$f":"+IFERROR(HYPERLINK(VLOOKUP(C359,FOTOGRAFICO!C:E,3,FALSE),C359),\"\")","v":""}]
[null,null,"05114214AD","ACEITE","ACEITE MOPAR 15W40 GARRAFA 5 L LITROS API SN ORIGINAL         CAJA 4 PZA",559.76,0,0,0,0,4,5,{"$f":"+IFERROR(HYPERLINK(VLOOKUP(C360,FOTOGRAFICO!C:E,3,FALSE),C360),\"\")","v":""}]
[null,null,"1521","ACEITE","ACEITE 10W40 MOTOCICLETAS 4    TIEMPOS API SN PLUS JASO MA2   MARCA LIQUI MOLY",445.39,0,0,0,0,2,0,{"$f":"+IFERROR(HYPERLINK(VLOOKUP(C361,FOTOGRAFICO!C:E,3,FALSE),C361),\"\")","v":"1521"}]
[null,null,"15W40-5Q3SD","ACEITE","ACEITE GARRAFA 15W50 MOTORCRAF",330.89,0,0,0,0,0,0,{"$f":"+IFERROR(HYPERLINK(VLOOKUP(C362,FOTOGRAFICO!C:E,3,FALSE),C362),\"\")","v":""}]
[null,null,"15W40-QSDF","ACEITE","ACEITE LITRO 15W40 MOTORCRAFT",74.84,0,0,0,0,0,0,{"$f":"+IFERROR(HYPERLINK(VLOOKUP(C363,FOTOGRAFICO!C:E,3,FALSE),C363),\"\")","v":""}]
[null,null,"BAR026A51","ACEITE","ACEITE TRANSMISION AUTOMATICA  SINTETICO REPSOL MATIC VI ATF  NISSAN MATIC FLUID C D J K S",0,0,0,0,0,0,0,{"$f":"+IFERROR(HYPERLINK(VLOOKUP(C364,FOTOGRAFICO!C:E,3,FALSE),C364),\"\")","v":""}]
[null,null,"BAR12601","ACEITE","ACEITE MOTOS 2T JASO FB 946 ML BARDAHL PIDE AXEL              CAJA 12 PZA",100.12,0,0,0,0,6,0,{"$f":"+IFERROR(HYPERLINK(VLOOKUP(C365,FOTOGRAFICO!C:E,3,FALSE),C365),\"\")","v":"BAR12601"}]
[null,null,"ECOM116P","ACEITE","LUBRICANTE CADENA MOTOCICLETA  240 ML ECOM",64.75,0,0,0,0,25,7,{"$f":"+IFERROR(HYPERLINK(VLOOKUP(C366,FOTOGRAFICO!C:E,3,FALSE),C366),\"\")","v":"ECOM116P"}]
[null,null,"ECOMOTO115G","ACEITE","LUBRICANTE CADENA MOTOCICLETA  ECOM 480 ML CAJA DE 15 PZ",101.07,0,0,0,0,21,0,{"$f":"+IFERROR(HYPERLINK(VLOOKUP(C367,FOTOGRAFICO!C:E,3,FALSE),C367),\"\")","v":"ECOMOTO115G"}]
[null,null,"LIQ-1696","ACEITE","ACEITE MOTOS 4 TIEMPOS 20W50   RACING STREET API SN PLUS JASO MA2 LIQUI MOLY GARRAFA",1633,0,0,0,0,2,0,{"$f":"+IFERROR(HYPERLINK(VLOOKUP(C368,FOTOGRAFICO!C:E,3,FALSE),C368),\"\")","v":"LIQ-1696"}]
[null,null,"ACTUADOR","ACTUADOR","ACTUADOR DE PUERTA 1 PZAS",30.41,57,88,84,45,70,29,{"$f":"+IFERROR(HYPERLINK(VLOOKUP(C369,FOTOGRAFICO!C:E,3,FALSE),C369),\"\")","v":"ACTUADOR"}]
[null,null,"ADAP1","ADAPTADOR","ADAPTADOR VOLANTE ATOS 99-2008",200.88,0,1,2,2,2,1,{"$f":"+IFERROR(HYPERLINK(VLOOKUP(C370,FOTOGRAFICO!C:E,3,FALSE),C370),\"\")","v":"ADAP1"}]
[null,null,"ADAP19","ADAPTADOR","ADAPTADOR VOLANTE CHEVROLET PI CK UP CAVALIER CELEBRITY CUTLA MALIBU CENTURY S10 EXPRESS VAN",200.88,1,0,0,0,0,0,{"$f":"+IFERROR(HYPERLINK(VLOOKUP(C371,FOTOGRAFICO!C:E,3,FALSE),C371),\"\")","v":""}]
[null,null,"ADAP2","ADAPTADOR","ADAPTADOR VOLANTE VW SEDAN 1.6 VW SEDAN COMBI CARIBE ATLANTIC GOLF JETTA 87-98",218.35,7,23,2,2,0,1,{"$f":"+IFERROR(HYPERLINK(VLOOKUP(C372,FOTOGRAFICO!C:E,3,FALSE),C372),\"\")","v":"ADAP2"}]
[null,null,"ADAP21","ADAPTADOR","ADAPTADOR VOLANTE PLATINA CLIO TODOS MODELOS",200.88,2,0,0,0,0,0,{"$f":"+IFERROR(HYPERLINK(VLOOKUP(C373,FOTOGRAFICO!C:E,3,FALSE),C373),\"\")","v":""}]
[null,null,"ADAP25","ADAPTADOR","ADAPTADOR VOLANTE FIESTA IKON  KA TODOS MODELOS",200.88,0,0,0,2,1,0,{"$f":"+IFERROR(HYPERLINK(VLOOKUP(C374,FOTOGRAFICO!C:E,3,FALSE),C374),\"\")","v":"ADAP25"}]
[null,null,"ADAP3","ADAPTADOR","ADAPTADOR VOLANTE TSURU III 92 PICK HIKARI",218.35,1,10,3,4,2,2,{"$f":"+IFERROR(HYPERLINK(VLOOKUP(C375,FOTOGRAFICO!C:E,3,FALSE),C375),\"\")","v":"ADAP3"}]
[null,null,"ADAP4","ADAPTADOR","ADAPTADOR VOLANTE CHEVY DART K SPIRIT SHADOW PHANTOM PICK UP  MATIZ",218.35,8,0,1,2,3,3,{"$f":"+IFERROR(HYPERLINK(VLOOKUP(C376,FOTOGRAFICO!C:E,3,FALSE),C376),\"\")","v":"ADAP4"}]
[null,null,"ADAP5","ADAPTADOR","ADAPTADOR VOLANTE CHEVY C2     CORSA TORNADO ASTRA",206.07,1,8,0,0,0,0,{"$f":"+IFERROR(HYPERLINK(VLOOKUP(C377,FOTOGRAFICO!C:E,3,FALSE),C377),\"\")","v":"ADAP5"}]
[null,null,"ADAP6","ADAPTADOR","ADAPTADOR JETTA A2 A3;POINTER  TODOS; GOLF A2 A3 00-03",218.34,1,6,4,2,1,2,{"$f":"+IFERROR(HYPERLINK(VLOOKUP(C378,FOTOGRAFICO!C:E,3,FALSE),C378),\"\")","v":"ADAP6"}]
[null,null,"ADAP9","ADAPTADOR","ADAPTADOR VOLANTE URVAN        TODAS 02-16 NV350              NISSAN TIIDA",218.35,4,1,2,3,3,3,{"$f":"+IFERROR(HYPERLINK(VLOOKUP(C379,FOTOGRAFICO!C:E,3,FALSE),C379),\"\")","v":"ADAP9"}]
[null,null,"SPE212CB","ADAPTADOR","ADAPTADOR CABLE TIPO C         C/SOPORTE CELULAR KIT SPARCO   NEGRO",519.83000000000004,0,0,0,0,0,5,{"$f":"+IFERROR(HYPERLINK(VLOOKUP(C380,FOTOGRAFICO!C:E,3,FALSE),C380),\"\")","v":""}]
[null,null,"410023","ADAPTADOR","ADAPTADOR VOLANTE FORD FIESTA  KA TODOS PEDIDO RAUL",139.37,0,0,0,0,0,0,{"$f":"+IFERROR(HYPERLINK(VLOOKUP(C381,FOTOGRAFICO!C:E,3,FALSE),C381),\"\")","v":""}]
[null,null,"TAER","ADHESIVO","ADHESIVO P/ESPEJO ECONOMICO",24.09,14,0,21,12,0,4,{"$f":"+IFERROR(HYPERLINK(VLOOKUP(C382,FOTOGRAFICO!C:E,3,FALSE),C382),\"\")","v":"TAER"}]
[null,null,"TF12A","ADHESIVO","ADHESIVO P/ESPEJO RETROVISOR.  MARCA QUIMICA TF",39.26,21,9,26,12,3,3,{"$f":"+IFERROR(HYPERLINK(VLOOKUP(C383,FOTOGRAFICO!C:E,3,FALSE),C383),\"\")","v":"TF12A"}]
[null,null,"13288","ADITIVO","ADITIVO LUCAS SELLA FUGAS DIR  HIDRAULICA 355ML CHICO         MARCA LUCAS",259.48,2,1,3,0,0,0,{"$f":"+IFERROR(HYPERLINK(VLOOKUP(C384,FOTOGRAFICO!C:E,3,FALSE),C384),\"\")","v":"13288"}]
[null,null,"13289","ADITIVO","ADITIVO LUCAS P/ACEITE ATF     TRANSMISION AUTOMATICA 700 ML  MARCA LUCAS OIL 10009",307.93,5,8,13,7,2,4,{"$f":"+IFERROR(HYPERLINK(VLOOKUP(C385,FOTOGRAFICO!C:E,3,FALSE),C385),\"\")","v":"13289"}]
[null,null,"BAR12074","ADITIVO","ADITIVO BARDHAL GASOLINA VERDE SINTETICO LIMPIEZA INYECTORES  CAJA= 30 PZAS TOP OIL",57.81,26,33,22,40,76,14,{"$f":"+IFERROR(HYPERLINK(VLOOKUP(C386,FOTOGRAFICO!C:E,3,FALSE),C386),\"\")","v":"BAR12074"}]
[null,null,"BAR12320","ADITIVO","ADITIVO BARDHAL P/MOTOS        2 TIEMPOS 250ML.CAJA=30 PZAS.",30.03,42,23,36,30,42,27,{"$f":"+IFERROR(HYPERLINK(VLOOKUP(C387,FOTOGRAFICO!C:E,3,FALSE),C387),\"\")","v":"BAR12320"}]
[null,null,"BAR14011","ADITIVO","ADITIVO RADIADOR 350 ML        EVITA LA CORROSION RADIADOR",38.19,27,14,31,40,28,27,{"$f":"+IFERROR(HYPERLINK(VLOOKUP(C388,FOTOGRAFICO!C:E,3,FALSE),C388),\"\")","v":"BAR14011"}]
[null,null,"BAR1ADI","ADITIVO","ADITIVO BARDAHL # 1 450 MLTS   NOTA:RECOMENDADO P/AUTOS NVOS  CAJA 24 PZAS",71.22,123,82,72,50,64,48,{"$f":"+IFERROR(HYPERLINK(VLOOKUP(C389,FOTOGRAFICO!C:E,3,FALSE),C389),\"\")","v":"BAR1ADI"}]
[null,null,"BAR2ADI","ADITIVO","ADITIVO BARDAHL # 2 450 MLTS   NOTA:RECOMENDADO P/AUTOS VIEJS CAJA 24 PZS",71.22,263,86,138,114,75,65,{"$f":"+IFERROR(HYPERLINK(VLOOKUP(C390,FOTOGRAFICO!C:E,3,FALSE),C390),\"\")","v":"BAR2ADI"}]
[null,null,"BARD200","ADITIVO","ADITIVO BARDAHL P/MOTOR BITAL  EVITA HUMO 500 ML CAJA=24 PZAS",82.58,49,51,18,26,13,4,{"$f":"+IFERROR(HYPERLINK(VLOOKUP(C391,FOTOGRAFICO!C:E,3,FALSE),C391),\"\")","v":"BARD200"}]
[null,null,"BARPE120","ADITIVO","ADITIVO PRESION EXTREMA NOTA:  P/DIFERENCIALES Y TRANSMICIONS STD CONT. 120ml",38.19,53,20,55,11,37,34,{"$f":"+IFERROR(HYPERLINK(VLOOKUP(C392,FOTOGRAFICO!C:E,3,FALSE),C392),\"\")","v":"BARPE120"}]
[null,null,"BARTOP","ADITIVO","ADITIVO BARDAHL GASOLINA       TOP OIL CAJA= 30 PZAS.",28.9,34,53,30,15,119,30,{"$f":"+IFERROR(HYPERLINK(VLOOKUP(C393,FOTOGRAFICO!C:E,3,FALSE),C393),\"\")","v":"BARTOP"}]
[null,null,"GOADITIVO","ADITIVO","ADITIVO GASOLINA SUPER GAS     GONHER 250 ML",28.87,147,41,1,292,3,199,{"$f":"+IFERROR(HYPERLINK(VLOOKUP(C394,FOTOGRAFICO!C:E,3,FALSE),C394),\"\")","v":""}]
[null,null,"GOINYECTO","ADITIVO","ADITIVO INYECTORES GONHER 250  ML",32.799999999999997,70,20,19,106,16,24,{"$f":"+IFERROR(HYPERLINK(VLOOKUP(C395,FOTOGRAFICO!C:E,3,FALSE),C395),\"\")","v":""}]
[null,null,"GO-OCTANO","ADITIVO","ADITIVO GASOLINA OCTANAJE      SUPER OCTANO GONHER 250 ML",34.119999999999997,28,43,1,79,29,176,{"$f":"+IFERROR(HYPERLINK(VLOOKUP(C396,FOTOGRAFICO!C:E,3,FALSE),C396),\"\")","v":""}]
[null,null,"LIQ-1869","ADITIVO","ADITIVO LIQUI MOLY MoS2 OIL AD P/MOTOR ANTIFRICCIONANTE       OIL ADDITIV",294.02999999999997,2,3,2,0,0,0,{"$f":"+IFERROR(HYPERLINK(VLOOKUP(C397,FOTOGRAFICO!C:E,3,FALSE),C397),\"\")","v":"LIQ-1869"}]
[null,null,"LIQ-2122","ADITIVO","ADITIVO LIQUI MOLY CORTA HUMO",243.16,1,17,0,6,3,4,{"$f":"+IFERROR(HYPERLINK(VLOOKUP(C398,FOTOGRAFICO!C:E,3,FALSE),C398),\"\")","v":"LIQ-2122"}]
[null,null,"LIQ-2124","ADITIVO","ADITIVO LIQUI MOLY GASOLINA    LIMPIA SISTEMA DE INYECTORES",223.31,4,11,10,8,2,2,{"$f":"+IFERROR(HYPERLINK(VLOOKUP(C399,FOTOGRAFICO!C:E,3,FALSE),C399),\"\")","v":"LIQ-2124"}]
[null,null,"LIQ-2501","ADITIVO","ADITIVO LIQUI MOLY RESTAURADOR PARA MOTOR CON DESGASTE",321.32,0,4,0,4,0,1,{"$f":"+IFERROR(HYPERLINK(VLOOKUP(C400,FOTOGRAFICO!C:E,3,FALSE),C400),\"\")","v":"LIQ-2501"}]
[null,null,"LIQ-2502","ADITIVO","ADITIVO LIQUI MOLY RESTAURADOR PARA MOTOR CON DESGASTE",258.05,0,4,3,0,0,0,{"$f":"+IFERROR(HYPERLINK(VLOOKUP(C401,FOTOGRAFICO!C:E,3,FALSE),C401),\"\")","v":"LIQ-2502"}]
[null,null,"LIQ-5135","ADITIVO","ADITIVO LIQUI MOLY TRANSMISION AUTOMATICA",775.4,2,0,0,0,0,0,{"$f":"+IFERROR(HYPERLINK(VLOOKUP(C402,FOTOGRAFICO!C:E,3,FALSE),C402),\"\")","v":"LIQ-5135"}]
[null,null,"LIQ-8354","ADITIVO","ADITIVO LIQUI MOLY CONTRA RUID DE PUNTERIAS O BUZOS HIDRAULIC",313.88,3,0,7,5,4,7,{"$f":"+IFERROR(HYPERLINK(VLOOKUP(C403,FOTOGRAFICO!C:E,3,FALSE),C403),\"\")","v":"LIQ-8354"}]
[null,null,"LIQ-8931","ADITIVO","ADITIVO LIQUI MOLY CATALIZADOR LIMPIA CATALIZADOR",244.4,1,5,3,0,2,0,{"$f":"+IFERROR(HYPERLINK(VLOOKUP(C404,FOTOGRAFICO!C:E,3,FALSE),C404),\"\")","v":"LIQ-8931"}]
[null,null,"LUCAS","ADITIVO","ADITIVO LUCAS PARA MOTOR 1LT   PARA MAQUINAS FLOJAS",282.05,18,63,24,24,9,12,{"$f":"+IFERROR(HYPERLINK(VLOOKUP(C405,FOTOGRAFICO!C:E,3,FALSE),C405),\"\")","v":"LUCAS"}]
[null,null,"LUCAS13287","ADITIVO","ADITIVO LIMPIA INYECTORE P/GAS NOTA: VA EN TANQUE DE GAS CON  TANQUE LLENO 155 ML LUCAS",104.63,27,28,9,11,10,8,{"$f":"+IFERROR(HYPERLINK(VLOOKUP(C406,FOTOGRAFICO!C:E,3,FALSE),C406),\"\")","v":"LUCAS13287"}]
[null,null,"MOTO2TFB","ADITIVO","ADITIVO GONHER P/MOTOS 2       TIEMPOS 250 ML 20:1 JASO FB    GO MOTO",28.74,50,24,16,44,7,20,{"$f":"+IFERROR(HYPERLINK(VLOOKUP(C407,FOTOGRAFICO!C:E,3,FALSE),C407),\"\")","v":"MOTO2TFB"}]
[null,null,"RESR10","ADITIVO","ADITIVO RESTORE P GASOLINA     LIMPIADOR DE INYECTORES Y PROP ULSOR DE OCTANAJE",207.8,3,0,2,0,2,0,{"$f":"+IFERROR(HYPERLINK(VLOOKUP(C408,FOTOGRAFICO!C:E,3,FALSE),C408),\"\")","v":"RESR10"}]
[null,null,"ROS392","ADITIVO","ADITIVO PARA ACEITE LUBRICANTE DE MOTOR MC2 BOTE 440 ML",44.98,86,203,107,59,66,62,{"$f":"+IFERROR(HYPERLINK(VLOOKUP(C409,FOTOGRAFICO!C:E,3,FALSE),C409),\"\")","v":"ROS392"}]
[null,null,"LIQ-1040","ADITIVO","ADITIVO LIQUI MOLY TRANS STD   CAJAS Y DIFERENCIAL",249.36,0,2,0,0,0,0,{"$f":"+IFERROR(HYPERLINK(VLOOKUP(C410,FOTOGRAFICO!C:E,3,FALSE),C410),\"\")","v":"LIQ-1040"}]
[null,null,"LIQ-1042","ADITIVO","ADITIVO LIQUI MOLY REGENERADOR DE RETENES Y PERDID D ACEITE D CAJAS Y DIFERENCIALES",254.33,0,2,0,0,0,0,{"$f":"+IFERROR(HYPERLINK(VLOOKUP(C411,FOTOGRAFICO!C:E,3,FALSE),C411),\"\")","v":"LIQ-1042"}]
[null,null,"LIQ-3720","ADITIVO","ADITIVO LIQUI MOLY COMBUSTION  MEJORA Y AUMENTA POTENCIA      SOBRE PEDIDO",307.24,0,0,0,0,0,0,{"$f":"+IFERROR(HYPERLINK(VLOOKUP(C412,FOTOGRAFICO!C:E,3,FALSE),C412),\"\")","v":"LIQ-3720"}]
[null,null,"LIQ-8355","ADITIVO","ADITIVO LIQUI MOLY OCTANAJE    ELEVA 4 PUNTOS DE OCTANAJE",193.54,0,0,0,0,0,0,{"$f":"+IFERROR(HYPERLINK(VLOOKUP(C413,FOTOGRAFICO!C:E,3,FALSE),C413),\"\")","v":"LIQ-8355"}]
[null,null,"BARTRAAUT","ADITIVO","ADITIVO BARDAHL P/ TRANSMISION AUTOMATICA 450ML               CAJA 24 PZAS",48.37,0,0,0,0,0,0,{"$f":"+IFERROR(HYPERLINK(VLOOKUP(C414,FOTOGRAFICO!C:E,3,FALSE),C414),\"\")","v":""}]
[null,null,"N000629","ADORNO","ADORNO DE ANTENA BOLA DE       BILLAR VW",185.66,0,0,0,0,1,24,{"$f":"+IFERROR(HYPERLINK(VLOOKUP(C415,FOTOGRAFICO!C:E,3,FALSE),C415),\"\")","v":"N000629"}]
[null,null,"N000984","ADORNO","ADORNO DE ANTENA BAILARINA",252.5,0,9,0,0,0,3,{"$f":"+IFERROR(HYPERLINK(VLOOKUP(C416,FOTOGRAFICO!C:E,3,FALSE),C416),\"\")","v":""}]
[null,null,"ECO115","AFLOJATODO","AFLOJATODO CON SILICON         MARCA ECO 400GRS",96.86,30,9,22,24,6,6,{"$f":"+IFERROR(HYPERLINK(VLOOKUP(C417,FOTOGRAFICO!C:E,3,FALSE),C417),\"\")","v":""}]
[null,null,"GON-1021400","AFLOJATODO","AFLOJATODO GRANDE MARCA GONHER EN AEROSOL CONTENIDO 550ML",51.16,479,182,949,328,245,685,{"$f":"+IFERROR(HYPERLINK(VLOOKUP(C418,FOTOGRAFICO!C:E,3,FALSE),C418),\"\")","v":""}]
[null,null,"INJ12051","AFLOJATODO","AFLOJATODO AEROSOL CHICO MCA:  INJETECH GRADO WD40 5.5 ONZAS",40.44,20,31,82,43,12,11,{"$f":"+IFERROR(HYPERLINK(VLOOKUP(C419,FOTOGRAFICO!C:E,3,FALSE),C419),\"\")","v":""}]
[null,null,"INJ12052","AFLOJATODO","AFLOJATODO AEROSOL GRANDE MCA: INJETECH GRADO WD40 11 ONZAS",62.49,47,20,30,59,31,10,{"$f":"+IFERROR(HYPERLINK(VLOOKUP(C420,FOTOGRAFICO!C:E,3,FALSE),C420),\"\")","v":""}]
[null,null,"PO44","AFLOJATODO","AFLOJATOD MULTIUSOS GRADO WD40 DIELECTRICO 300 ML MARCA PRO   ONE PO44 = INJ12052",57.09,83,142,124,86,17,131,{"$f":"+IFERROR(HYPERLINK(VLOOKUP(C421,FOTOGRAFICO!C:E,3,FALSE),C421),\"\")","v":"PO44"}]
[null,null,"TF41C","AFLOJATODO","AFLOJATODO EN AEROSOL QUIM TF  MARCA QUIMICA TF 300 GRS",79.97,5,0,0,0,0,0,{"$f":"+IFERROR(HYPERLINK(VLOOKUP(C422,FOTOGRAFICO!C:E,3,FALSE),C422),\"\")","v":"TF41C"}]
[null,null,"WD40","AFLOJATODO","AFLOJATODO WB-50 BARDAHL       CONT. 215g",68.819999999999993,54,87,63,76,64,94,{"$f":"+IFERROR(HYPERLINK(VLOOKUP(C423,FOTOGRAFICO!C:E,3,FALSE),C423),\"\")","v":""}]
[null,null,"WD50","AFLOJATODO","AFLOJATODO WB-50 BARDAHL       150G",45.76,0,0,0,0,0,0,{"$f":"+IFERROR(HYPERLINK(VLOOKUP(C424,FOTOGRAFICO!C:E,3,FALSE),C424),\"\")","v":""}]
[null,null,"SAN3","AGARRADERA","AGARRADERA TOLDO VW SEDAN 72-  2004 Y UNIVERSAL               MARCA SANCHES MEXICO",10.1,31,0,0,0,9,0,{"$f":"+IFERROR(HYPERLINK(VLOOKUP(C425,FOTOGRAFICO!C:E,3,FALSE),C425),\"\")","v":""}]
[null,null,"AKR3218060","AGUA","AGUA PARA BATERIAS 500ML       CAJA = 24 PZAS",9.2899999999999991,52,76,59,41,67,25,{"$f":"+IFERROR(HYPERLINK(VLOOKUP(C426,FOTOGRAFICO!C:E,3,FALSE),C426),\"\")","v":"AKR3218060"}]
[null,null,"BOTANA-32","AGUA","BOTELLA AGUA SKARCH 1 LITRO",8.6199999999999992,0,0,37,21,20,24,{"$f":"+IFERROR(HYPERLINK(VLOOKUP(C427,FOTOGRAFICO!C:E,3,FALSE),C427),\"\")","v":""}]
[null,null,"BOTANA-33","AGUA","BOTELLA AGUA SKARCH 600 ML",5.69,6,4,35,14,25,23,{"$f":"+IFERROR(HYPERLINK(VLOOKUP(C428,FOTOGRAFICO!C:E,3,FALSE),C428),\"\")","v":""}]
[null,null,"BOTANA-41","AGUA","BOTELLA AGUA SKARCH 1.5 LITROS",15.95,24,10,76,36,28,11,{"$f":"+IFERROR(HYPERLINK(VLOOKUP(C429,FOTOGRAFICO!C:E,3,FALSE),C429),\"\")","v":""}]
[null,null,"BOTANA-54","AGUA","BOTELLA AGUA JAMAICA 1.5 LITRO SKARCH",12.83,7,7,0,8,15,14,{"$f":"+IFERROR(HYPERLINK(VLOOKUP(C430,FOTOGRAFICO!C:E,3,FALSE),C430),\"\")","v":""}]
[null,null,"BOTANA-55","AGUA","BOTELLA AGUA MANZANA 1.5 LITRO SKARCH",14.1,7,0,30,12,1,12,{"$f":"+IFERROR(HYPERLINK(VLOOKUP(C431,FOTOGRAFICO!C:E,3,FALSE),C431),\"\")","v":""}]
[null,null,"BOTANA-56","AGUA","BOTELLA AGUA NARANJA 1.5 LITRO MARCA SKARCH",12.83,12,2,0,11,19,12,{"$f":"+IFERROR(HYPERLINK(VLOOKUP(C432,FOTOGRAFICO!C:E,3,FALSE),C432),\"\")","v":""}]
[null,null,"G78A","AHORCADOR","AHORCADOR CHIC ACEL VW SEDAN   COMBI 1600",10.88,247,57,76,26,41,20,{"$f":"+IFERROR(HYPERLINK(VLOOKUP(C433,FOTOGRAFICO!C:E,3,FALSE),C433),\"\")","v":""}]
[null,null,"T34","AHORCADOR","AHORCADOR CHIC ACEL COMBI 1800",9.6999999999999993,9,0,42,41,54,67,{"$f":"+IFERROR(HYPERLINK(VLOOKUP(C434,FOTOGRAFICO!C:E,3,FALSE),C434),\"\")","v":""}]
[null,null,"C042378Q0","AHORCADOR","AHORCADOR CABLE DE ACELERADOR  UNIVERSAL M5 38139 MARCA QUMO",1.52,0,0,0,0,20,0,{"$f":"+IFERROR(HYPERLINK(VLOOKUP(C435,FOTOGRAFICO!C:E,3,FALSE),C435),\"\")","v":""}]
[null,null,"C042379Q0","AHORCADOR","AHORCADOR CABLE EMBRAGUE       UNIVERSAL M5 43269 MARCA QUMO",0,0,0,0,0,0,0,{"$f":"+IFERROR(HYPERLINK(VLOOKUP(C436,FOTOGRAFICO!C:E,3,FALSE),C436),\"\")","v":""}]
[null,null,"01-0089","AJUSTADOR","AJUSTADOR BALATA TRA HIACE     06/09 DERECHO                  SOBRE PEDIDO DANIEL CASTILLO",48.32,0,0,0,0,0,0,{"$f":"+IFERROR(HYPERLINK(VLOOKUP(C437,FOTOGRAFICO!C:E,3,FALSE),C437),\"\")","v":"01-0089"}]
[null,null,"01-0090","AJUSTADOR","AJUSTADOR BALATA TRA HIACE     06/09 IZQUIERDO                SOBRE PEDIDO DANIEL CASTILLO",48.32,0,0,0,0,0,0,{"$f":"+IFERROR(HYPERLINK(VLOOKUP(C438,FOTOGRAFICO!C:E,3,FALSE),C438),\"\")","v":"01-0090"}]
[null,null,"44200-50C10","AJUSTADOR","AJUSTADOR BALATA TSURU III     92-12 TRASERO DERECHO FP",43.88,3,8,2,9,3,4,{"$f":"+IFERROR(HYPERLINK(VLOOKUP(C439,FOTOGRAFICO!C:E,3,FALSE),C439),\"\")","v":"44200-50C10"}]
[null,null,"44201-50C10","AJUSTADOR","AJUSTADOR BALATA TSURU III     92-12 TRASERO IZQUIERDO FP",41.14,14,0,6,2,1,3,{"$f":"+IFERROR(HYPERLINK(VLOOKUP(C440,FOTOGRAFICO!C:E,3,FALSE),C440),\"\")","v":"44201-50C10"}]
[null,null,"A0011","AJUSTADOR","AJUSTADOR BALATAS CHEVY DERECH O TRASERO POP MONZA SWIMNG JOY C2 GM AVEO 07-17",54.11,2,5,7,9,5,3,{"$f":"+IFERROR(HYPERLINK(VLOOKUP(C441,FOTOGRAFICO!C:E,3,FALSE),C441),\"\")","v":"A0011"}]
[null,null,"A0012","AJUSTADOR","AJUSTADOR BALATAS CHEVY IZQUIE RDO TRASERO POP MONZA SWIMNG   JOY C2 GM AVEO 07-17",54.11,6,1,4,8,6,3,{"$f":"+IFERROR(HYPERLINK(VLOOKUP(C442,FOTOGRAFICO!C:E,3,FALSE),C442),\"\")","v":"A0012"}]
[null,null,"A0137","AJUSTADOR","AJUSTADOR BALATAS FIESTA DER   ECO SPORT TODOS",47.28,0,0,0,0,3,0,{"$f":"+IFERROR(HYPERLINK(VLOOKUP(C443,FOTOGRAFICO!C:E,3,FALSE),C443),\"\")","v":"A0137"}]
[null,null,"A0138","AJUSTADOR","AJUSTADOR BALATAS FIESTA IZQ   ECO SPORT TODOS",43.53,0,0,0,0,15,0,{"$f":"+IFERROR(HYPERLINK(VLOOKUP(C444,FOTOGRAFICO!C:E,3,FALSE),C444),\"\")","v":"A0138"}]
[null,null,"A1170","AJUSTADOR","AJUSTADOR BALATA COMBI         TORNILLO DE REGLAJE            1600/1800",32.93,26,0,0,0,4,2,{"$f":"+IFERROR(HYPERLINK(VLOOKUP(C445,FOTOGRAFICO!C:E,3,FALSE),C445),\"\")","v":"A1170"}]
[null,null,"A1180","AJUSTADOR","AJUSTADOR BALATAS VW SEDAN     1600 68-",32.93,63,0,0,0,0,0,{"$f":"+IFERROR(HYPERLINK(VLOOKUP(C446,FOTOGRAFICO!C:E,3,FALSE),C446),\"\")","v":""}]
[null,null,"EGP44200-01A00","AJUSTADOR","AJUSTADOR BALATA TSURU DERECHO TSURU I II 84-91 FP",46.62,1,0,0,0,1,0,{"$f":"+IFERROR(HYPERLINK(VLOOKUP(C447,FOTOGRAFICO!C:E,3,FALSE),C447),\"\")","v":""}]
[null,null,"EGP44200-08G11","AJUSTADOR","AJUSTADOR URVAN FRENO TRAS -B- ANCLA DERECHA LETRA -B-        PICK UP 01-11 FP D22",100.1,3,0,0,0,2,0,{"$f":"+IFERROR(HYPERLINK(VLOOKUP(C448,FOTOGRAFICO!C:E,3,FALSE),C448),\"\")","v":""}]
[null,null,"EGP44201-01A00","AJUSTADOR","AJUSTADOR BALATA TSURU IZQUIER TSURU I II 84-91 FP",46.62,3,0,0,0,0,0,{"$f":"+IFERROR(HYPERLINK(VLOOKUP(C449,FOTOGRAFICO!C:E,3,FALSE),C449),\"\")","v":""}]
[null,null,"EGP44201-08G11","AJUSTADOR","AJUSTADOR URVAN FRENO TRAS -A- IZQUIERDA LETRA -A-            PICK UP 01-11 FP D22",67.19,12,0,0,0,2,0,{"$f":"+IFERROR(HYPERLINK(VLOOKUP(C450,FOTOGRAFICO!C:E,3,FALSE),C450),\"\")","v":""}]
[null,null,"MEX01-0027","AJUSTADOR","AJUSTADOR FRENO TRASERO DERECH URVAN 01-15 PICK UP SIN ANCLA  HECHO EN MEXICO",51.75,35,4,32,26,4,7,{"$f":"+IFERROR(HYPERLINK(VLOOKUP(C451,FOTOGRAFICO!C:E,3,FALSE),C451),\"\")","v":""}]
[null,null,"MEX01-0028","AJUSTADOR","AJUSTADOR FRENO TRASERO IZQUIE URVAN 01-15 PICK UP SIN ANCLA  HECHO EN MEXICO",47.63,24,0,25,21,2,14,{"$f":"+IFERROR(HYPERLINK(VLOOKUP(C452,FOTOGRAFICO!C:E,3,FALSE),C452),\"\")","v":""}]
[null,null,"RB-TY613L","AJUSTADOR","AJUSTADOR BALATA TRA IZQ HIACE 06-19 MARCA FP IMPORTADO       = HOKT613L = RB-TY613L",172.78,12,0,0,7,0,0,{"$f":"+IFERROR(HYPERLINK(VLOOKUP(C453,FOTOGRAFICO!C:E,3,FALSE),C453),\"\")","v":""}]
[null,null,"RB-TY613R","AJUSTADOR","AJUSTADOR BALATA TRA DER HIACE 06-19 MARCA FP IMPORTADO       = HOKT613R KIT RESORTES SEGURO",172.78,9,0,1,0,0,4,{"$f":"+IFERROR(HYPERLINK(VLOOKUP(C454,FOTOGRAFICO!C:E,3,FALSE),C454),\"\")","v":""}]
[null,null,"MOTO1","ALARMA","ALARMA MOTOCICLETA AUDIOBAHN   JGO 2 CONTROLES 4 BOTONES      C/SIRENA MOTO-1",574.65,0,4,0,0,1,2,{"$f":"+IFERROR(HYPERLINK(VLOOKUP(C455,FOTOGRAFICO!C:E,3,FALSE),C455),\"\")","v":"MOTO1"}]
[null,null,"MS118","ALARMA","ALARMA AUTOMOVIL AUDIOBAHN     JGO 2 LLAVES TIPO NAVAJA       4 BOTONES C/SIRENA MAX MS118",599.16999999999996,0,0,2,3,0,2,{"$f":"+IFERROR(HYPERLINK(VLOOKUP(C456,FOTOGRAFICO!C:E,3,FALSE),C456),\"\")","v":""}]
[null,null,"RSGRL12035","ALARMA","ALARMA ANTIROBO C/ENCENDIDO Y  CORTA CORRIETE 10 METROS       C/LLAVE C/SENSOR MOVIMIENTO",353.19,2,2,2,0,2,1,{"$f":"+IFERROR(HYPERLINK(VLOOKUP(C457,FOTOGRAFICO!C:E,3,FALSE),C457),\"\")","v":""}]
[null,null,"RSGRL12037","ALARMA","ALARMA ANTIROBO C/ENCENDIDO Y  CORTA CORRIETE 10 METROS       C/LLAVE C/SENSOR PRESENCIA Y",412.47,2,2,2,0,1,2,{"$f":"+IFERROR(HYPERLINK(VLOOKUP(C458,FOTOGRAFICO!C:E,3,FALSE),C458),\"\")","v":""}]
[null,null,"SI59B","ALARMA","ALARMA REVERSA BEEP BEEP SIN   LUZ IMPORTADA",43.41,0,3,0,1,0,2,{"$f":"+IFERROR(HYPERLINK(VLOOKUP(C459,FOTOGRAFICO!C:E,3,FALSE),C459),\"\")","v":""}]
[null,null,"SR-2400","ALARMA","ALARMA SPIDER",533.21,1,0,0,1,0,1,{"$f":"+IFERROR(HYPERLINK(VLOOKUP(C460,FOTOGRAFICO!C:E,3,FALSE),C460),\"\")","v":""}]
[null,null,"SR3050BT","ALARMA","ALARMA DE 2 VIAS SPIDER        1 CONTROL 4 BOTONES BLUETOOTH  C/SIRENA SR-3050BT",723.74,1,0,0,0,3,1,{"$f":"+IFERROR(HYPERLINK(VLOOKUP(C461,FOTOGRAFICO!C:E,3,FALSE),C461),\"\")","v":"SR3050BT"}]
[null,null,"SR3150","ALARMA","ALARMA AUTOMOVIL SPIDER        JGO 2 CONTROLES 4 BOTONES      C/SIRENA SR-3150",546.99,0,0,0,1,1,1,{"$f":"+IFERROR(HYPERLINK(VLOOKUP(C462,FOTOGRAFICO!C:E,3,FALSE),C462),\"\")","v":""}]
[null,null,"SR3300","ALARMA","ALARMA SPIDER SR3300",533.21,0,0,0,0,0,0,{"$f":"+IFERROR(HYPERLINK(VLOOKUP(C463,FOTOGRAFICO!C:E,3,FALSE),C463),\"\")","v":""}]
[null,null,"SRMOTO100","ALARMA","ALARMA P/MOTO PROTECCION AGUA  SPIDER JGO 2 CONTROLES 4       BOTONES C/SIRENA SR-MOTO100",761.82,2,0,0,0,0,8,{"$f":"+IFERROR(HYPERLINK(VLOOKUP(C464,FOTOGRAFICO!C:E,3,FALSE),C464),\"\")","v":""}]
[null,null,"US220","ALARMA","ALARMA AUTOMOVIL AUDIOBAHN     JGO 2 CONTROLES 4 BOTONES      C/SIRENA ULTRA US-220",461.59,0,0,5,4,2,2,{"$f":"+IFERROR(HYPERLINK(VLOOKUP(C465,FOTOGRAFICO!C:E,3,FALSE),C465),\"\")","v":"US220"}]
[null,null,"US60","ALARMA","ALARMA AUTOMOVIL AUDIOBAHN     JGO 2 CONTROLES 4 BOTONES      C/SIRENA ULTRA US-60",461.54,0,2,2,1,0,2,{"$f":"+IFERROR(HYPERLINK(VLOOKUP(C466,FOTOGRAFICO!C:E,3,FALSE),C466),\"\")","v":""}]
[null,null,"ALARMABTR","ALARMA","ALARMA BUSTER",563.4,0,0,0,0,0,0,{"$f":"+IFERROR(HYPERLINK(VLOOKUP(C467,FOTOGRAFICO!C:E,3,FALSE),C467),\"\")","v":""}]
[null,null,"008-3105-00","ALERON","ALERON DEFENSA TRASERA COMBI   88-98 DERECHO",360.13,0,0,0,0,0,0,{"$f":"+IFERROR(HYPERLINK(VLOOKUP(C468,FOTOGRAFICO!C:E,3,FALSE),C468),\"\")","v":"008-3105-00"}]
[null,null,"008-3105-01","ALERON","ALERON DEFENSA TRASERA COMBI   88-99 IZQUIERDO",360.13,0,0,0,0,0,0,{"$f":"+IFERROR(HYPERLINK(VLOOKUP(C469,FOTOGRAFICO!C:E,3,FALSE),C469),\"\")","v":"008-3105-01"}]
[null,null,"ES5255","ALERON","ALERON PARA LIMPIADORES        JGO 2PZAS VARIOS COLORES",27.06,13,11,4,12,11,6,{"$f":"+IFERROR(HYPERLINK(VLOOKUP(C470,FOTOGRAFICO!C:E,3,FALSE),C470),\"\")","v":"ES5255"}]
[null,null,"008-3104-00","ALERON","ALERON DER DEF DEL CRIBE 77-80 MARCA TYG PIDE JORGE",71.48,0,0,0,0,0,0,{"$f":"+IFERROR(HYPERLINK(VLOOKUP(C471,FOTOGRAFICO!C:E,3,FALSE),C471),\"\")","v":""}]
[null,null,"008-3104-01","ALERON","ALERON IZQ DEF DEL CARIBE 77-  80 MARCA TYG PIDE JORGE",71.48,0,0,0,0,0,0,{"$f":"+IFERROR(HYPERLINK(VLOOKUP(C472,FOTOGRAFICO!C:E,3,FALSE),C472),\"\")","v":""}]
[null,null,"008-3104-02","ALERON","ALERON IZQ DEF DEL CARIBE      81-87 MARCA TYG PIDE JORGE",71.48,0,0,0,0,0,0,{"$f":"+IFERROR(HYPERLINK(VLOOKUP(C473,FOTOGRAFICO!C:E,3,FALSE),C473),\"\")","v":""}]
[null,null,"008-3104-03","ALERON","ALERON DER DEF DEL CARIBE 81-  87 MARCA TYG PIDE JORGE",71.48,0,0,0,0,0,0,{"$f":"+IFERROR(HYPERLINK(VLOOKUP(C474,FOTOGRAFICO!C:E,3,FALSE),C474),\"\")","v":""}]
[null,null,"ALFOMBRA","ALFOMBRA","ALFOMBRA VW SEDAN 72- TODOS    CUBRE TODO EL PISO",331.4,10,0,0,3,1,3,{"$f":"+IFERROR(HYPERLINK(VLOOKUP(C475,FOTOGRAFICO!C:E,3,FALSE),C475),\"\")","v":"ALFOMBRA"}]
[null,null,"REGALIA-005","ALINEADOR","ALINEADOR LASER POLEAS BANDAS  MARCA GATES 91075",404.65,0,0,0,0,76,0,{"$f":"+IFERROR(HYPERLINK(VLOOKUP(C476,FOTOGRAFICO!C:E,3,FALSE),C476),\"\")","v":""}]
[null,null,"PYG0011","ALLMOROL","ALLMOROL",56.16,0,3,3,7,4,0,{"$f":"+IFERROR(HYPERLINK(VLOOKUP(C477,FOTOGRAFICO!C:E,3,FALSE),C477),\"\")","v":"PYG0011"}]
[null,null,"207-0614-00","ALMA","ALMA FACIA DEL CHEVY 94-13     TODOS SWING MONZA POP JOY",212.84,1,2,1,1,2,1,{"$f":"+IFERROR(HYPERLINK(VLOOKUP(C478,FOTOGRAFICO!C:E,3,FALSE),C478),\"\")","v":"207-0614-00"}]
[null,null,"207-1209-00","ALMA","ALMA FACIA DEL ESCAPE 01-12    MARCA TYG PIDE JAVIER",606.97,0,0,0,0,0,0,{"$f":"+IFERROR(HYPERLINK(VLOOKUP(C479,FOTOGRAFICO!C:E,3,FALSE),C479),\"\")","v":""}]
[null,null,"207-2316-09","ALMA","ALMA FACIA DEL SENTRA 13-16    MARCA RADEC IMPORTADO          207-2316-09",1487.49,0,0,0,0,0,0,{"$f":"+IFERROR(HYPERLINK(VLOOKUP(C480,FOTOGRAFICO!C:E,3,FALSE),C480),\"\")","v":""}]
[null,null,"207-2506-01","ALMA","ALMA FACIA DEL MATIZ 06-15     MARCA TYG PIDE DANIEL CASTILLO",618.29999999999995,0,0,0,0,0,0,{"$f":"+IFERROR(HYPERLINK(VLOOKUP(C481,FOTOGRAFICO!C:E,3,FALSE),C481),\"\")","v":""}]
[null,null,"GM214C1901","ALMA","ALMA FACIA DELANTERA CHEVY     94-11 TODOS SWING MONZA POP JO Y (REFUERZO DE FACIA)",209.36,2,0,0,7,0,2,{"$f":"+IFERROR(HYPERLINK(VLOOKUP(C482,FOTOGRAFICO!C:E,3,FALSE),C482),\"\")","v":""}]
[null,null,"NIS34948","ALMA","ALMA FACIA DELANT TIIDA 07/14                                 SOBRE PEDIDO  FAVOR DE COTIZAR",1140.3,0,0,0,2,2,0,{"$f":"+IFERROR(HYPERLINK(VLOOKUP(C483,FOTOGRAFICO!C:E,3,FALSE),C483),\"\")","v":""}]
[null,null,"NIS62030-65Y30","ALMA","ALMA FACIA DEL TSURU III 92-",637.73,3,2,0,4,1,0,{"$f":"+IFERROR(HYPERLINK(VLOOKUP(C484,FOTOGRAFICO!C:E,3,FALSE),C484),\"\")","v":""}]
[null,null,"NIS85030-65Y30","ALMA","ALMA FACIA TRAS TSURU III 92-",971.16,1,2,1,0,1,0,{"$f":"+IFERROR(HYPERLINK(VLOOKUP(C485,FOTOGRAFICO!C:E,3,FALSE),C485),\"\")","v":""}]
[null,null,"207-0617-00","ALMA","ALMA FACIA DEL CORSA 03-11     TORNADO 04-11 MARCA TYG PIDE   TORRES",1643.69,0,0,0,0,0,0,{"$f":"+IFERROR(HYPERLINK(VLOOKUP(C486,FOTOGRAFICO!C:E,3,FALSE),C486),\"\")","v":""}]
[null,null,"207-0901-00","ALMA","ALMA FACIA DEL ATOS 05-12      MARCA TYG SOLICITA ALEJANDRO",1052.0899999999999,0,0,0,0,0,0,{"$f":"+IFERROR(HYPERLINK(VLOOKUP(C487,FOTOGRAFICO!C:E,3,FALSE),C487),\"\")","v":""}]
[null,null,"207-3005-04","ALMA","ALMA FACIA DEL HIACE 14-19     CHASIS LARGO MARCA TYG PIDE    CARLOS",606.97,0,0,0,0,0,0,{"$f":"+IFERROR(HYPERLINK(VLOOKUP(C488,FOTOGRAFICO!C:E,3,FALSE),C488),\"\")","v":""}]
[null,null,"207-0633-01","ALMA","ALMA FACIA OPTRA 06-11",608.32000000000005,0,0,0,0,0,0,{"$f":"+IFERROR(HYPERLINK(VLOOKUP(C489,FOTOGRAFICO!C:E,3,FALSE),C489),\"\")","v":""}]
[null,null,"207-1217-02","ALMA","ALMA FACIA DEL FIESTA 03-07",775.58,0,0,0,0,0,0,{"$f":"+IFERROR(HYPERLINK(VLOOKUP(C490,FOTOGRAFICO!C:E,3,FALSE),C490),\"\")","v":""}]
[null,null,"207-3110-00","ALMA","ALMA FACIA DEL GOL 08-20 MARCA HUSHAN PEDIDO MOISES",603.73,0,0,0,0,0,0,{"$f":"+IFERROR(HYPERLINK(VLOOKUP(C491,FOTOGRAFICO!C:E,3,FALSE),C491),\"\")","v":""}]
[null,null,"214-2318-00","ALMA","ALMA ANTI IMPACTO TIIDA 07-18  MARCA TYG PEDIDO JORGE",890.23,0,0,0,0,0,0,{"$f":"+IFERROR(HYPERLINK(VLOOKUP(C492,FOTOGRAFICO!C:E,3,FALSE),C492),\"\")","v":""}]
[null,null,"214-2318-01","ALMA","ALMA ANTIMPACTO TRAS TIIDA     07-18 MARCA TYG PEDIDO JORGE",1534.43,0,0,0,0,0,0,{"$f":"+IFERROR(HYPERLINK(VLOOKUP(C493,FOTOGRAFICO!C:E,3,FALSE),C493),\"\")","v":"214-2318-01"}]
[null,null,"214-3115-00","ALMA","ALMA DER ANTI IMP DEL POINTER  00-06 MARCA TYG PIDE JORGE",498.53,0,0,0,0,0,0,{"$f":"+IFERROR(HYPERLINK(VLOOKUP(C494,FOTOGRAFICO!C:E,3,FALSE),C494),\"\")","v":""}]
[null,null,"207-3111-13","ALMA","ALMA FACIA DEL GOLF 18-20      MARCA TYG PEDIDO LUIS",1877.58,0,0,0,0,0,0,{"$f":"+IFERROR(HYPERLINK(VLOOKUP(C495,FOTOGRAFICO!C:E,3,FALSE),C495),\"\")","v":""}]
[null,null,"214-2330-00","ALMA","ALMA DEL VERSA 12-14 MARCA     TYG",662.81,0,0,0,0,0,0,{"$f":"+IFERROR(HYPERLINK(VLOOKUP(C496,FOTOGRAFICO!C:E,3,FALSE),C496),\"\")","v":""}]
[null,null,"MACEU","ALMOHADILL","ALMOHADILLA CINTURON SEGURIDAD EURO SET 2 PIEZAS IMPORTADO",114.28,0,0,0,6,1,0,{"$f":"+IFERROR(HYPERLINK(VLOOKUP(C497,FOTOGRAFICO!C:E,3,FALSE),C497),\"\")","v":"MACEU"}]
[null,null,"NACM","ALMOHADILL","ALMOHADILLA CINTURON SEGURIDAD MOMO SET 2 PIEZAS IMPORTADO",111.41,1,1,0,3,3,2,{"$f":"+IFERROR(HYPERLINK(VLOOKUP(C498,FOTOGRAFICO!C:E,3,FALSE),C498),\"\")","v":"NACM"}]
[null,null,"NACS","ALMOHADILL","ALMOHADILLA CINTURON SEGURIDAD SPARCO SET 2 PIEZAS IMPORTADO",111.41,3,2,0,1,3,1,{"$f":"+IFERROR(HYPERLINK(VLOOKUP(C499,FOTOGRAFICO!C:E,3,FALSE),C499),\"\")","v":"NACS"}]
[null,null,"NATE","ALMOHADILL","ALMOHADILLA CINTURON SEGURIDAD TIPO EURO JGO 2 PIEZAS",114.28,1,6,0,1,0,3,{"$f":"+IFERROR(HYPERLINK(VLOOKUP(C500,FOTOGRAFICO!C:E,3,FALSE),C500),\"\")","v":""}]
[null,null,"BSH9120080061","ALTERNADOR","ALTERNADOR VW SEDAN FUELL INY  MCA:VOLTMAX 94-04 1600FI",1781.38,10,0,2,6,5,3,{"$f":"+IFERROR(HYPERLINK(VLOOKUP(C501,FOTOGRAFICO!C:E,3,FALSE),C501),\"\")","v":"BSH9120080061"}]
[null,null,"NIS23100-F4211","ALTERNADOR","ALTERNADOR NISSAN TSURU III 93 -15 1.6 70A 4 CANALES TIPO     HITACHI MCA:VOLTMAX",1959.65,0,0,3,0,0,3,{"$f":"+IFERROR(HYPERLINK(VLOOKUP(C502,FOTOGRAFICO!C:E,3,FALSE),C502),\"\")","v":""}]
[null,null,"NIS23100-VH300","ALTERNADOR","ALTERNADOR URVAN 02-07 2.4     90A MCA:VOLTMAX TIPO HITACHI   KA24DE",1657.15,7,0,11,4,0,4,{"$f":"+IFERROR(HYPERLINK(VLOOKUP(C503,FOTOGRAFICO!C:E,3,FALSE),C503),\"\")","v":""}]
[null,null,"BRU037903025T","ALTERNADOR","ALTERNADOR ARRANQUE GOL 09-20  1.6 CROSSFOX 06-17 1.6 LUPO 05 -09 1.6 POLO 03-07 1.6 SAVEIRO",2880.77,0,1,2,0,0,0,{"$f":"+IFERROR(HYPERLINK(VLOOKUP(C504,FOTOGRAFICO!C:E,3,FALSE),C504),\"\")","v":""}]
[null,null,"TP39256","ALTERNADOR","ALTERNADOR ATOS 1.0 1.1 01-12  60 AMPERES 12V 4 RANURAS MARCA TOTAL PARTS IMPORTADO",2929.52,0,0,0,0,1,0,{"$f":"+IFERROR(HYPERLINK(VLOOKUP(C505,FOTOGRAFICO!C:E,3,FALSE),C505),\"\")","v":"TP39256"}]
[null,null,"TP40181","ALTERNADOR","ALTERNADOR ECOSPORT 2.0 04-09  12 VOLTS POLEA 6 RANURAS 115AM TRANSMISION AUTOMA TOTAL PARTS",3215.24,0,0,0,0,0,0,{"$f":"+IFERROR(HYPERLINK(VLOOKUP(C506,FOTOGRAFICO!C:E,3,FALSE),C506),\"\")","v":"TP40181"}]
[null,null,"002153E2","ALTERNADOR","ALTERNADOR POINTER 98-03 TODOS MODELOS AUSTERO SIN AIRE 12V   70A MARCA BOSCH",3884.65,0,0,0,0,0,0,{"$f":"+IFERROR(HYPERLINK(VLOOKUP(C507,FOTOGRAFICO!C:E,3,FALSE),C507),\"\")","v":""}]
[null,null,"TOT40278","ALTERNADOR","ALTERNADOR TOYOTA HIACE 06-12  12V 130A MARCA NIPPONDENSO     PEDIDO ALEJANDRO",3665.19,0,0,0,0,0,0,{"$f":"+IFERROR(HYPERLINK(VLOOKUP(C508,FOTOGRAFICO!C:E,3,FALSE),C508),\"\")","v":""}]
[null,null,"TP48535C","ALTERNADOR","ALTERNADOR RAM 700 1.4 1.6 14- 20 MARCA TOTAL PARTS IMPORTADO 48535C 110A 12V 6 RANURAS",4145.37,0,0,0,0,0,0,{"$f":"+IFERROR(HYPERLINK(VLOOKUP(C509,FOTOGRAFICO!C:E,3,FALSE),C509),\"\")","v":""}]
[null,null,"BOG832539","AMMORTIGUA","AMORTIGUADOR TRAS LAGUNA 03-06 2.0 2.9 MARCA BOGE",0,0,0,0,0,0,0,{"$f":"+IFERROR(HYPERLINK(VLOOKUP(C510,FOTOGRAFICO!C:E,3,FALSE),C510),\"\")","v":""}]
[null,null,"004-0703-02","AMORTIGUAD","AMORTIGUADOR 5A PTA VOYAGER    CARAVAN TOWN COUNTRY 96-00     SOBRE PEDIDO X ULISES",535.48,0,0,0,0,0,0,{"$f":"+IFERROR(HYPERLINK(VLOOKUP(C511,FOTOGRAFICO!C:E,3,FALSE),C511),\"\")","v":"004-0703-02"}]
[null,null,"004-0718-00","AMORTIGUAD","AMORTIGUADOR 5A PUERTA VOYAGER 01-07 MARCA HUSHAN PEDIDO      TELLITUD",546.27,0,0,0,0,0,0,{"$f":"+IFERROR(HYPERLINK(VLOOKUP(C512,FOTOGRAFICO!C:E,3,FALSE),C512),\"\")","v":""}]
[null,null,"004-1232-00","AMORTIGUAD","AMORTIGUADOR COFRE F-350 99-07 F-450 99-07 EXCURSION 00-05    SUPER DUTY 99-07 ROBERTO MUNOZ",380.37,0,0,0,0,0,0,{"$f":"+IFERROR(HYPERLINK(VLOOKUP(C513,FOTOGRAFICO!C:E,3,FALSE),C513),\"\")","v":""}]
[null,null,"004-1607-01","AMORTIGUAD","AMORTIGUADOR COFRE LIBERTY     02-07 MARCA HUSHAN",354.74,0,0,0,0,0,0,{"$f":"+IFERROR(HYPERLINK(VLOOKUP(C514,FOTOGRAFICO!C:E,3,FALSE),C514),\"\")","v":""}]
[null,null,"004-1608-00","AMORTIGUAD","AMORTIGUADOR 5A PUERTA PATRIOT 07-07 MARCA HUSHAN PEDIDO JOSE ROBERTO",464,0,0,0,0,0,0,{"$f":"+IFERROR(HYPERLINK(VLOOKUP(C515,FOTOGRAFICO!C:E,3,FALSE),C515),\"\")","v":""}]
[null,null,"004-2316-00","AMORTIGUAD","AMORTIGUADOR CAJUELA SENTRA 07 -12 MARCA HUSHAN PIDE LONDAIZ",509.86,0,0,0,0,0,0,{"$f":"+IFERROR(HYPERLINK(VLOOKUP(C516,FOTOGRAFICO!C:E,3,FALSE),C516),\"\")","v":""}]
[null,null,"004-2324-00","AMORTIGUAD","AMORTIGUAD 5TA PUERTA X-TRAIL  07-13 MARCA HUSHAN PIDE        TELLITUD",542.23,0,0,0,0,0,0,{"$f":"+IFERROR(HYPERLINK(VLOOKUP(C517,FOTOGRAFICO!C:E,3,FALSE),C517),\"\")","v":""}]
[null,null,"004-3005-00","AMORTIGUAD","AMORTIGUADOR 5TA PUERTA HIACE  04-14 TECHO ALTO HUSHAN        PEDIDO ROBERTO",926.65,0,0,0,0,0,0,{"$f":"+IFERROR(HYPERLINK(VLOOKUP(C518,FOTOGRAFICO!C:E,3,FALSE),C518),\"\")","v":""}]
[null,null,"004-3103-00","AMORTIGUAD","AMORTIGUADOR COFRE BORA 05-10  MARCA HUSHAN PEDIDO VICTOR     TELLITUD",407.88,0,0,0,0,0,0,{"$f":"+IFERROR(HYPERLINK(VLOOKUP(C519,FOTOGRAFICO!C:E,3,FALSE),C519),\"\")","v":""}]
[null,null,"004-3103-01","AMORTIGUAD","AMORTIGUADOR CAJUELA BORA 05-  10 IZQ DER MARCA RADEC PIDE    JAVIER ALEJANDRO",318.32,0,0,0,0,0,0,{"$f":"+IFERROR(HYPERLINK(VLOOKUP(C520,FOTOGRAFICO!C:E,3,FALSE),C520),\"\")","v":""}]
[null,null,"10228991SFT","AMORTIGUAD","AMORTIGUADOR TRAS MG ZS EZS    1.5 21-24 GAS MARCA SAFETY     4809002",451.17,0,2,2,0,2,0,{"$f":"+IFERROR(HYPERLINK(VLOOKUP(C521,FOTOGRAFICO!C:E,3,FALSE),C521),\"\")","v":""}]
[null,null,"10242085SFT","AMORTIGUAD","AMORTIGUADOR DEL IZQ MG ZS EZS 1.5 21-24 GAS MARCA SAFETY     4809001",1095.7,0,2,2,0,2,0,{"$f":"+IFERROR(HYPERLINK(VLOOKUP(C522,FOTOGRAFICO!C:E,3,FALSE),C522),\"\")","v":""}]
[null,null,"10242405SFT","AMORTIGUAD","AMORTIGUADOR DEL DER MG ZS EZS 1.5 21-24 GAS MARCA SAFETY     4809000",1095.7,0,2,2,0,0,0,{"$f":"+IFERROR(HYPERLINK(VLOOKUP(C523,FOTOGRAFICO!C:E,3,FALSE),C523),\"\")","v":""}]
[null,null,"10366741SFT","AMORTIGUAD","AMORTIGUADOR DEL IZQ MG MG5    1.5 21-24 GAS MARCA SAFETY     4809007",0,0,0,0,0,0,0,{"$f":"+IFERROR(HYPERLINK(VLOOKUP(C524,FOTOGRAFICO!C:E,3,FALSE),C524),\"\")","v":""}]
[null,null,"10366742SFT","AMORTIGUAD","AMORTIGUADOR DEL DER MG MG5    1.5 21-24 GAS MARCA SAFETY     4809006",0,0,0,0,0,0,0,{"$f":"+IFERROR(HYPERLINK(VLOOKUP(C525,FOTOGRAFICO!C:E,3,FALSE),C525),\"\")","v":""}]
[null,null,"191827550BKB","AMORTIGUAD","AMORTIGUADOR 5A PUERTA GOLF A2 87-92 TAPA TRASERA KABUTO      IMPORTADO",74.260000000000005,1,1,0,1,1,1,{"$f":"+IFERROR(HYPERLINK(VLOOKUP(C526,FOTOGRAFICO!C:E,3,FALSE),C526),\"\")","v":""}]
[null,null,"19315697","AMORTIGUAD","AMORTIGUADOR DEL IZQ SONIC 11- 18 GAS ACDELCO ORIGINAL",1228.99,2,2,2,5,5,2,{"$f":"+IFERROR(HYPERLINK(VLOOKUP(C527,FOTOGRAFICO!C:E,3,FALSE),C527),\"\")","v":"19315697"}]
[null,null,"19315698","AMORTIGUAD","AMORTIGUADOR DEL DER SONIC 11- 18 GAS ACDELCO",1229.1300000000001,3,2,2,4,4,2,{"$f":"+IFERROR(HYPERLINK(VLOOKUP(C528,FOTOGRAFICO!C:E,3,FALSE),C528),\"\")","v":"19315698"}]
[null,null,"19315699","AMORTIGUAD","AMORTIGUADOR TRAS SONIC 11-18  GAS ACDELCO",772.74,4,2,6,6,2,2,{"$f":"+IFERROR(HYPERLINK(VLOOKUP(C529,FOTOGRAFICO!C:E,3,FALSE),C529),\"\")","v":"19315699"}]
[null,null,"19315700","AMORTIGUAD","AMORTIGUADOR DEL IZQ SPARK 11- 17 BEAT 18-21 GAS MCA AC DELCO = 3330080SFT = SANC0802",1391.59,2,4,3,4,2,4,{"$f":"+IFERROR(HYPERLINK(VLOOKUP(C530,FOTOGRAFICO!C:E,3,FALSE),C530),\"\")","v":"19315700"}]
[null,null,"19315701","AMORTIGUAD","AMORTIGUADOR DEL DER SPARK 11- 17 BEAT 18-21 GAS MCA AC DELCO = 3330079SFT = SANC0801",1391.59,2,4,3,4,2,4,{"$f":"+IFERROR(HYPERLINK(VLOOKUP(C531,FOTOGRAFICO!C:E,3,FALSE),C531),\"\")","v":"19315701"}]
[null,null,"19315702","AMORTIGUAD","AMORTIGUADOR TRAS SPARK 11-17  BEAT 18-21 GAS MCA: AC DELCO   = 348036SFT = SANC0850",1214.06,4,4,4,3,4,6,{"$f":"+IFERROR(HYPERLINK(VLOOKUP(C532,FOTOGRAFICO!C:E,3,FALSE),C532),\"\")","v":"19315702"}]
[null,null,"19315702-KB","AMORTIGUAD","AMORTIGUADOR TRAS SPARK 11-17  BEAT 18-21 GAS MARCA KABUTO    = 348036SFT = SANC0850",233.41,1,1,1,4,0,0,{"$f":"+IFERROR(HYPERLINK(VLOOKUP(C533,FOTOGRAFICO!C:E,3,FALSE),C533),\"\")","v":"19315702-KB"}]
[null,null,"19315706SFT","AMORTIGUAD","AMORTIGUADOR DEL IZQ TRAX      13-20 ENCORE 13-20 GAS MARCA   SAFETY 950 161",0,0,0,0,0,0,0,{"$f":"+IFERROR(HYPERLINK(VLOOKUP(C534,FOTOGRAFICO!C:E,3,FALSE),C534),\"\")","v":""}]
[null,null,"19315707SFT","AMORTIGUAD","AMORTIGUADOR DEL DER TRAX      13-20 ENCORE 13-20 GAS MARCA   SAFETY 950 160",780.29,0,2,2,0,2,0,{"$f":"+IFERROR(HYPERLINK(VLOOKUP(C535,FOTOGRAFICO!C:E,3,FALSE),C535),\"\")","v":""}]
[null,null,"19315709","AMORTIGUAD","AMORTIGUADOR DEL DER AVEO 08-  18 PONTIAC G3 06-09 ACDELCO DE GAS = BOGMP8536 = KYB333417",1333.97,2,2,3,1,1,2,{"$f":"+IFERROR(HYPERLINK(VLOOKUP(C536,FOTOGRAFICO!C:E,3,FALSE),C536),\"\")","v":"19315709"}]
[null,null,"19315709-KB","AMORTIGUAD","AMORTIGUADOR DEL DER AVEO 08-  18 PONTIAC G3 06-09 KABUTO DE  GAS = BOGMP8536 = KYB333417",392.56,1,1,0,1,2,0,{"$f":"+IFERROR(HYPERLINK(VLOOKUP(C537,FOTOGRAFICO!C:E,3,FALSE),C537),\"\")","v":"19315709-KB"}]
[null,null,"19315710","AMORTIGUAD","AMORTIGUADOR DEL IZQ AVEO 08-  18 PONTIAC G3 06-09 ACDELCO DE GAS = BOGMP8537 = KYB333418",1313.86,2,2,3,1,1,2,{"$f":"+IFERROR(HYPERLINK(VLOOKUP(C538,FOTOGRAFICO!C:E,3,FALSE),C538),\"\")","v":"19315710"}]
[null,null,"19315710-KB","AMORTIGUAD","AMORTIGUADOR DEL IZQ AVEO 08-  18 PONTIAC G3 06-09 KABUTO DE  GAS = BOGMP8537 = KYB333418",424.39,2,2,1,1,4,1,{"$f":"+IFERROR(HYPERLINK(VLOOKUP(C539,FOTOGRAFICO!C:E,3,FALSE),C539),\"\")","v":"19315710-KB"}]
[null,null,"1H0-413-031CSFT","AMORTIGUAD","AMORTIGUADOR DEL GOLF JETTA A2 A3 87-99 DERBY 95-09 CABRIO 98 -00 CORDOBA 01-02 GAS SAFETY",602.02,0,2,2,0,2,0,{"$f":"+IFERROR(HYPERLINK(VLOOKUP(C540,FOTOGRAFICO!C:E,3,FALSE),C540),\"\")","v":""}]
[null,null,"1HM-513-031ESFT","AMORTIGUAD","AMORTIGUADOR TRAS GOLF JETTA   A2 A3 87-99 CABRIO 98-00 GAS   MARCA SAFETY = BOG832237",451.17,0,2,2,0,2,0,{"$f":"+IFERROR(HYPERLINK(VLOOKUP(C541,FOTOGRAFICO!C:E,3,FALSE),C541),\"\")","v":""}]
[null,null,"1J0413031-KB","AMORTIGUAD","AMORTIGUADOR DEL GOLF JETTA A4 99-12 CLASICO 11-13 BEETLE     99-10 TOLEDO 01-08 GAS KABUTO",435,2,16,3,1,3,3,{"$f":"+IFERROR(HYPERLINK(VLOOKUP(C542,FOTOGRAFICO!C:E,3,FALSE),C542),\"\")","v":""}]
[null,null,"1K0-513-029FSFT","AMORTIGUAD","AMORTIGUADOR TRAS GOLF A5 12-  13 JETTA 10-18 PASSAT 06-18    BORA 06-11 SUSP/IND GAS SAFETY",382.6,0,2,2,0,2,0,{"$f":"+IFERROR(HYPERLINK(VLOOKUP(C543,FOTOGRAFICO!C:E,3,FALSE),C543),\"\")","v":""}]
[null,null,"1K0513029-KB","AMORTIGUAD","AMORTIGUADOR TRAS GOLF A5 12-  13 JETTA 10-18 PASSAT 06-18    BORA 06-11 SUSP/IND GAS KABUTO",307.68,2,4,0,0,2,2,{"$f":"+IFERROR(HYPERLINK(VLOOKUP(C544,FOTOGRAFICO!C:E,3,FALSE),C544),\"\")","v":"1K0513029-KB"}]
[null,null,"1T0413031GJ-KB","AMORTIGUAD","AMORTIGUADOR DEL GOLF A5 12-13 NEW JETTA 10-15 PASSAT 06-18   BORA 06-11 B/55MM GAS KABUTO",519.87,2,4,4,4,4,3,{"$f":"+IFERROR(HYPERLINK(VLOOKUP(C545,FOTOGRAFICO!C:E,3,FALSE),C545),\"\")","v":""}]
[null,null,"1T0-413-031GSFT","AMORTIGUAD","AMORTIGUADOR DEL BORA 06-11    TDI JETTA A5 TDI 11-18 LEON 08 -12 ALTEA 05-15 GAS SAFETY",637.66999999999996,0,2,2,0,2,0,{"$f":"+IFERROR(HYPERLINK(VLOOKUP(C546,FOTOGRAFICO!C:E,3,FALSE),C546),\"\")","v":""}]
[null,null,"24319926SFT","AMORTIGUAD","AMORTIGUADOR TRAS AVEO 1.5 24- 24 GAS MARCA SAFETY 2709211",410.03,2,2,2,2,2,2,{"$f":"+IFERROR(HYPERLINK(VLOOKUP(C547,FOTOGRAFICO!C:E,3,FALSE),C547),\"\")","v":""}]
[null,null,"24352600SFT","AMORTIGUAD","AMORTIGUADOR DEL IZQ AVEO 1.5  24-24 GAS MARCA SAFETY 2709210",684.3,2,2,2,2,2,2,{"$f":"+IFERROR(HYPERLINK(VLOOKUP(C548,FOTOGRAFICO!C:E,3,FALSE),C548),\"\")","v":""}]
[null,null,"24352602SFT","AMORTIGUAD","AMORTIGUADOR DEL DER AVEO 1.5  24-24 GAS MARCA SAFETY 2709209",684.3,2,2,2,2,2,2,{"$f":"+IFERROR(HYPERLINK(VLOOKUP(C549,FOTOGRAFICO!C:E,3,FALSE),C549),\"\")","v":""}]
[null,null,"26698964SFT","AMORTIGUAD","AMORTIGUADOR DEL IZQ AVEO II   18-20 GAS MARCA SAFETY",656.87,2,5,14,0,2,1,{"$f":"+IFERROR(HYPERLINK(VLOOKUP(C550,FOTOGRAFICO!C:E,3,FALSE),C550),\"\")","v":"26698964SFT"}]
[null,null,"26698965SFT","AMORTIGUAD","AMORTIGUADOR DEL DER AVEO II   18-20 GAS MARCA SAFETY",656.87,2,6,14,0,2,1,{"$f":"+IFERROR(HYPERLINK(VLOOKUP(C551,FOTOGRAFICO!C:E,3,FALSE),C551),\"\")","v":"26698965SFT"}]
[null,null,"3054250212","AMORTIGUAD","AMORTIGUADOR DIREC POINTER 98- 10 MARCA BRUCK GERMANY         = BRASD22022",545.35,0,1,6,7,1,3,{"$f":"+IFERROR(HYPERLINK(VLOOKUP(C552,FOTOGRAFICO!C:E,3,FALSE),C552),\"\")","v":"3054250212"}]
[null,null,"32291-KB","AMORTIGUAD","AMORTIGUADOR TRAS CHEVY 94-12  CORSA SEDAN 02-08 HIDRAULICO   KABUTO = MON250147 = 832291SFT",233.41,2,1,3,1,1,2,{"$f":"+IFERROR(HYPERLINK(VLOOKUP(C553,FOTOGRAFICO!C:E,3,FALSE),C553),\"\")","v":"32291-KB"}]
[null,null,"3320010SFT","AMORTIGUAD","AMORTIGUADOR DEL ATTITUDE 15-  23 MIRAGE 15-23 GAS MARCA      SAFETY IMPORTADO MP8711",547.16,14,0,0,1,1,6,{"$f":"+IFERROR(HYPERLINK(VLOOKUP(C554,FOTOGRAFICO!C:E,3,FALSE),C554),\"\")","v":"3320010SFT"}]
[null,null,"332502SFT","AMORTIGUAD","AMORTIGUADOR DEL DER I10 11-14 GAS SAFETY IMPORTADO           = KYB332502",629.44000000000005,1,2,8,0,5,2,{"$f":"+IFERROR(HYPERLINK(VLOOKUP(C555,FOTOGRAFICO!C:E,3,FALSE),C555),\"\")","v":"332502SFT"}]
[null,null,"332503SFT","AMORTIGUAD","AMORTIGUADOR DEL IZQ I10 11-14 GAS SAFETY IMPORTADO           = KYB332503",603.39,1,0,4,0,5,0,{"$f":"+IFERROR(HYPERLINK(VLOOKUP(C556,FOTOGRAFICO!C:E,3,FALSE),C556),\"\")","v":"332503SFT"}]
[null,null,"3330039SFT","AMORTIGUAD","AMORTIGUADOR DEL DER SONIC 12- 17 GAS MARCA SAFETY MP8696",656.87,0,2,2,0,0,0,{"$f":"+IFERROR(HYPERLINK(VLOOKUP(C557,FOTOGRAFICO!C:E,3,FALSE),C557),\"\")","v":""}]
[null,null,"3330040SFT","AMORTIGUAD","AMORTIGUADOR DEL IZQ SONIC 12- 17 GAS MARCA SAFETY MP8697",656.87,0,2,2,0,2,0,{"$f":"+IFERROR(HYPERLINK(VLOOKUP(C558,FOTOGRAFICO!C:E,3,FALSE),C558),\"\")","v":""}]
[null,null,"3330063SFT","AMORTIGUAD","AMORTIGUADOR DEL DER HONDA FIT 15-19 CITY 14-20 GAS MARCA     SAFETY 7000670",821.43,0,2,2,0,0,0,{"$f":"+IFERROR(HYPERLINK(VLOOKUP(C559,FOTOGRAFICO!C:E,3,FALSE),C559),\"\")","v":""}]
[null,null,"3330064SFT","AMORTIGUAD","AMORTIGUADOR DEL IZQ HONDA FIT 15-19 CITY 14-20 GAS MARCA     SAFETY 7000669",821.43,0,2,2,0,2,0,{"$f":"+IFERROR(HYPERLINK(VLOOKUP(C560,FOTOGRAFICO!C:E,3,FALSE),C560),\"\")","v":""}]
[null,null,"3330079SFT","AMORTIGUAD","AMORTIGUADOR DEL DER SPARK 11- 17 BEAT 18-21 GAS SAFETY       = BOGMP8674 = SANC0801",464.88,8,12,9,18,3,12,{"$f":"+IFERROR(HYPERLINK(VLOOKUP(C561,FOTOGRAFICO!C:E,3,FALSE),C561),\"\")","v":"3330079SFT"}]
[null,null,"3330080SFT","AMORTIGUAD","AMORTIGUADOR DEL IZQ SPARK 11- 17 BEAT 18-21 GAS SAFETY       = BOGMP8673 = SANC0802",464.88,4,2,23,29,22,12,{"$f":"+IFERROR(HYPERLINK(VLOOKUP(C562,FOTOGRAFICO!C:E,3,FALSE),C562),\"\")","v":"3330080SFT"}]
[null,null,"333516SFT","AMORTIGUAD","AMORTIGUADOR DEL DER ATTITUDE  06-11 HY ACCENT 06-10 GAS      MP8528 MARCA SAFETY",739.15,5,2,5,5,1,5,{"$f":"+IFERROR(HYPERLINK(VLOOKUP(C563,FOTOGRAFICO!C:E,3,FALSE),C563),\"\")","v":""}]
[null,null,"333517SFT","AMORTIGUAD","AMORTIGUADOR DEL IZQ ATTITUDE  06-11 HY ACCENT 06-10 GAS      MP8529 MARCA SAFETY",739.15,0,3,5,8,1,4,{"$f":"+IFERROR(HYPERLINK(VLOOKUP(C564,FOTOGRAFICO!C:E,3,FALSE),C564),\"\")","v":"333517SFT"}]
[null,null,"333755SFT","AMORTIGUAD","AMORTIGUADOR DEL DER CORSA 03- 08 MERIVA 04-08 GAS SAFETY     MP8334",752.87,0,2,2,0,0,0,{"$f":"+IFERROR(HYPERLINK(VLOOKUP(C565,FOTOGRAFICO!C:E,3,FALSE),C565),\"\")","v":""}]
[null,null,"333756SFT","AMORTIGUAD","AMORTIGUADOR DEL IZQ CORSA 03- 08 MERIVA 04-08 GAS SAFETY     MP8335",752.87,0,2,2,0,2,0,{"$f":"+IFERROR(HYPERLINK(VLOOKUP(C566,FOTOGRAFICO!C:E,3,FALSE),C566),\"\")","v":""}]
[null,null,"334700SFT","AMORTIGUAD","AMORTIGUADOR DEL DER MAZDA 3   04-13 FOCUS EUROPA 07-11 GAS   MARCA SAFETY 7000101",876.29,0,2,2,0,0,0,{"$f":"+IFERROR(HYPERLINK(VLOOKUP(C567,FOTOGRAFICO!C:E,3,FALSE),C567),\"\")","v":""}]
[null,null,"334701SFT","AMORTIGUAD","AMORTIGUADOR DEL IZQ MAZDA 3   04-13 FOCUS EUROPA 07-11 GAS   MARCA SAFETY 7000102",876.29,0,2,2,0,2,0,{"$f":"+IFERROR(HYPERLINK(VLOOKUP(C568,FOTOGRAFICO!C:E,3,FALSE),C568),\"\")","v":""}]
[null,null,"3348041SFT","AMORTIGUAD","AMORTIGUADOR DEL DER FIGO 16-  21 GAS MARCA SAFETY MP8686",0,0,0,0,0,0,0,{"$f":"+IFERROR(HYPERLINK(VLOOKUP(C569,FOTOGRAFICO!C:E,3,FALSE),C569),\"\")","v":""}]
[null,null,"3348042SFT","AMORTIGUAD","AMORTIGUADOR DEL IZQ FIGO 16-  21 GAS MARCA SAFETY MP8687",0,0,0,0,0,0,0,{"$f":"+IFERROR(HYPERLINK(VLOOKUP(C570,FOTOGRAFICO!C:E,3,FALSE),C570),\"\")","v":""}]
[null,null,"3348070SFT","AMORTIGUAD","AMORTIGUADOR DEL DER FIAT UNO  13-17 PALIO 13-20 VISION 15-18 GAS MARCA SAFETY 7000715",1095.7,0,2,2,0,0,0,{"$f":"+IFERROR(HYPERLINK(VLOOKUP(C571,FOTOGRAFICO!C:E,3,FALSE),C571),\"\")","v":""}]
[null,null,"3348071SFT","AMORTIGUAD","AMORTIGUADOR DEL IZQ FIAT UNO  13-17 PALIO 13-20 VISION 15-18 GAS MARCA SAFETY 7000714",1095.7,0,2,2,0,2,0,{"$f":"+IFERROR(HYPERLINK(VLOOKUP(C572,FOTOGRAFICO!C:E,3,FALSE),C572),\"\")","v":""}]
[null,null,"3357502SFT","AMORTIGUAD","AMORTIGUADOR DEL DER ESCAPE 14 -19 MARINER 14-19 GAS MARCA    SAFETY 7000707",972.28,0,2,2,0,0,0,{"$f":"+IFERROR(HYPERLINK(VLOOKUP(C573,FOTOGRAFICO!C:E,3,FALSE),C573),\"\")","v":""}]
[null,null,"3357503SFT","AMORTIGUAD","AMORTIGUADOR DEL IZQ ESCAPE 14 -19 MARINER 14-19 GAS MARCA    SAFETY 7000708",0,0,0,0,0,0,0,{"$f":"+IFERROR(HYPERLINK(VLOOKUP(C574,FOTOGRAFICO!C:E,3,FALSE),C574),\"\")","v":""}]
[null,null,"335844SFT","AMORTIGUAD","AMORTIGUADOR DEL DER CAPTIVA   08-14 EQUINOX 07-08 TORRENT    07-08 GAS MARCA SAFETY 7000361",890,0,2,2,0,0,0,{"$f":"+IFERROR(HYPERLINK(VLOOKUP(C575,FOTOGRAFICO!C:E,3,FALSE),C575),\"\")","v":""}]
[null,null,"335845SFT","AMORTIGUAD","AMORTIGUADOR DEL IZQ CAPTIVA   08-14 EQUINOX 07-08 TORRENT    07-08 GAS MARCA SAFETY 7000362",890,0,2,2,0,2,0,{"$f":"+IFERROR(HYPERLINK(VLOOKUP(C576,FOTOGRAFICO!C:E,3,FALSE),C576),\"\")","v":""}]
[null,null,"338106SFT","AMORTIGUAD","AMORTIGUADOR DEL DER ATTITUDE  12-14 KIA RIO 12-17 GAS        7000520 5909008 MARCA SAFETY",986,0,0,6,0,0,2,{"$f":"+IFERROR(HYPERLINK(VLOOKUP(C577,FOTOGRAFICO!C:E,3,FALSE),C577),\"\")","v":""}]
[null,null,"338107SFT","AMORTIGUAD","AMORTIGUADOR DEL IZQ ATTITUDE  12-14 KIA RIO 12-17 GAS        7000521 5909007 MARCA SAFETY",986,0,0,6,0,0,2,{"$f":"+IFERROR(HYPERLINK(VLOOKUP(C578,FOTOGRAFICO!C:E,3,FALSE),C578),\"\")","v":""}]
[null,null,"338737SFT","AMORTIGUAD","AMORTIGUADOR DEL DUSTER 13-20  CAPTUR 18-21 OROCH 18-20 GAS   MARCA SAFETY 7000543",821.43,0,2,2,0,2,0,{"$f":"+IFERROR(HYPERLINK(VLOOKUP(C579,FOTOGRAFICO!C:E,3,FALSE),C579),\"\")","v":""}]
[null,null,"339249SFT","AMORTIGUAD","AMORTIGUADOR DEL DER JOURNEY   09-20 GAS MARCA SAFETY 950 080",876.29,0,2,2,0,0,0,{"$f":"+IFERROR(HYPERLINK(VLOOKUP(C580,FOTOGRAFICO!C:E,3,FALSE),C580),\"\")","v":""}]
[null,null,"339250SFT","AMORTIGUAD","AMORTIGUADOR DEL IZQ JOURNEY   09-20 GAS MARCA SAFETY 950 081",876.29,0,2,2,0,2,0,{"$f":"+IFERROR(HYPERLINK(VLOOKUP(C581,FOTOGRAFICO!C:E,3,FALSE),C581),\"\")","v":""}]
[null,null,"339381SFT","AMORTIGUAD","AMORTIGUADOR DEL DER CRUZE 12- 16 VOLT 13-15 VERANO 13-16     MARCA SAFETY 7000448",862.57,0,2,2,0,0,0,{"$f":"+IFERROR(HYPERLINK(VLOOKUP(C582,FOTOGRAFICO!C:E,3,FALSE),C582),\"\")","v":""}]
[null,null,"339382SFT","AMORTIGUAD","AMORTIGUADOR DEL IZQ CRUZE 12- 16 VOLT 13-15 VERANO 13-16     MARCA SAFETY 7000447",862.57,0,2,2,0,2,0,{"$f":"+IFERROR(HYPERLINK(VLOOKUP(C583,FOTOGRAFICO!C:E,3,FALSE),C583),\"\")","v":""}]
[null,null,"341479SFT","AMORTIGUAD","AMORTIGUADOR TRAS AVENGER 08-  14 CIRRUS 07-10 GAS MARCA      SAFETY 832618",0,0,0,0,0,0,0,{"$f":"+IFERROR(HYPERLINK(VLOOKUP(C584,FOTOGRAFICO!C:E,3,FALSE),C584),\"\")","v":""}]
[null,null,"341650SFT","AMORTIGUAD","AMORTIGUADOR DEL STRATUS 95-06 CIRRUS 95-06 GAS MARCA SAFETY  MP8294",600.65,0,2,2,0,2,0,{"$f":"+IFERROR(HYPERLINK(VLOOKUP(C585,FOTOGRAFICO!C:E,3,FALSE),C585),\"\")","v":""}]
[null,null,"341651SFT","AMORTIGUAD","AMORTIGUADOR TRAS STRATUS 95-  06 CIRRUS 95-06 GAS MARCA      SAFETY 7000075",519.74,0,2,2,0,2,0,{"$f":"+IFERROR(HYPERLINK(VLOOKUP(C586,FOTOGRAFICO!C:E,3,FALSE),C586),\"\")","v":""}]
[null,null,"343459SFT","AMORTIGUAD","AMORTIGUADOR TRAS SONIC 12-17  GAS MARCA SAFETY 832727",423.74,0,2,2,0,2,0,{"$f":"+IFERROR(HYPERLINK(VLOOKUP(C587,FOTOGRAFICO!C:E,3,FALSE),C587),\"\")","v":""}]
[null,null,"343470SFT","AMORTIGUAD","AMORTIGUADOR TRAS ECOSPORT 03- 12 GAS MARCA SAFETY 832387",451.17,0,2,2,0,2,0,{"$f":"+IFERROR(HYPERLINK(VLOOKUP(C588,FOTOGRAFICO!C:E,3,FALSE),C588),\"\")","v":""}]
[null,null,"3438002SFT","AMORTIGUAD","AMORTIGUADOR TRAS FIGO 16-21   GAS MARCA SAFETY 872720",574.59,0,2,2,0,2,0,{"$f":"+IFERROR(HYPERLINK(VLOOKUP(C589,FOTOGRAFICO!C:E,3,FALSE),C589),\"\")","v":""}]
[null,null,"344204SFT","AMORTIGUAD","AMORTIGUADOR TRAS HIACE 06-19  GAS MARCA SAFETY 930 206",382.6,0,0,2,0,0,0,{"$f":"+IFERROR(HYPERLINK(VLOOKUP(C590,FOTOGRAFICO!C:E,3,FALSE),C590),\"\")","v":""}]
[null,null,"344493SFT","AMORTIGUAD","AMORTIGUADOR DEL HIACE 06-19   GAS MARCA SAFETY 930 157",377.12,0,0,2,0,2,0,{"$f":"+IFERROR(HYPERLINK(VLOOKUP(C591,FOTOGRAFICO!C:E,3,FALSE),C591),\"\")","v":""}]
[null,null,"348018SFT","AMORTIGUAD","AMORTIGUADOR TRAS FIESTA 11-19 MAZDA 2 12-15 GAS MARCA SAFETY 832720",445.68,0,2,2,0,2,0,{"$f":"+IFERROR(HYPERLINK(VLOOKUP(C592,FOTOGRAFICO!C:E,3,FALSE),C592),\"\")","v":""}]
[null,null,"348032SFT","AMORTIGUAD","AMORTIGUADOR TRAS CRUZE 12-16  VOLT 11-15 GAS SAFETY 832694",423.74,0,2,2,0,2,0,{"$f":"+IFERROR(HYPERLINK(VLOOKUP(C593,FOTOGRAFICO!C:E,3,FALSE),C593),\"\")","v":""}]
[null,null,"348036SFT","AMORTIGUAD","AMORTIGUADOR TRAS SPARK 11-17  BEAT 18-21 GAS SAFETY          IMPORTA = BOG832691 = SANC0850",300.32,7,22,9,23,29,14,{"$f":"+IFERROR(HYPERLINK(VLOOKUP(C594,FOTOGRAFICO!C:E,3,FALSE),C594),\"\")","v":"348036SFT"}]
[null,null,"349087SFT","AMORTIGUAD","AMORTIGUADOR TRAS I10 11-14    GAS SAFETY IMPORTADO           = KYB349087",404.54,10,6,0,0,7,0,{"$f":"+IFERROR(HYPERLINK(VLOOKUP(C595,FOTOGRAFICO!C:E,3,FALSE),C595),\"\")","v":"349087SFT"}]
[null,null,"349098SFT","AMORTIGUAD","AMORTIGUADOR TRAS IZQ DER      ATTITUDE 12-14 KIA RIO 12-17   GAS 349098 MARCA SAFETY",396.31,0,22,10,0,13,2,{"$f":"+IFERROR(HYPERLINK(VLOOKUP(C596,FOTOGRAFICO!C:E,3,FALSE),C596),\"\")","v":"349098SFT"}]
[null,null,"377412503AE-KB","AMORTIGUAD","AMORTIGUADOR DEL POINTER 98-09 POINTER PICKUP 98-10 CARTUCHO  GAS KABUTO",265.24,4,4,6,2,3,2,{"$f":"+IFERROR(HYPERLINK(VLOOKUP(C597,FOTOGRAFICO!C:E,3,FALSE),C597),\"\")","v":""}]
[null,null,"377-412-503SFT","AMORTIGUAD","AMORTIGUADOR DEL POINTER 98-09 HIDRAULICO MARCA SAFETY        7000137",0,0,0,0,0,0,0,{"$f":"+IFERROR(HYPERLINK(VLOOKUP(C598,FOTOGRAFICO!C:E,3,FALSE),C598),\"\")","v":""}]
[null,null,"377827550C","AMORTIGUAD","AMORTIGUADOR 5A PUERTA POINTER 98-09 TAPA TRASERA MARCA BRUCK = 377-827-550C = BRA16717",175.13,5,11,8,10,4,2,{"$f":"+IFERROR(HYPERLINK(VLOOKUP(C599,FOTOGRAFICO!C:E,3,FALSE),C599),\"\")","v":"377827550C"}]
[null,null,"377-827-550C","AMORTIGUAD","AMORTIGUADOR 5A PUERTA POINTER 98-09 TAPA TRASERA MARC SAFETY = 377827550C = BRA16717",108.33,33,42,5,22,3,13,{"$f":"+IFERROR(HYPERLINK(VLOOKUP(C600,FOTOGRAFICO!C:E,3,FALSE),C600),\"\")","v":"377-827-550C"}]
[null,null,"377827550CKB","AMORTIGUAD","AMORTIGUADOR 5A PUERTA POINTER 98-09 TAPA TRASERA MARC KABUTO = 377827550C = BRA16717",0,0,0,0,0,0,0,{"$f":"+IFERROR(HYPERLINK(VLOOKUP(C601,FOTOGRAFICO!C:E,3,FALSE),C601),\"\")","v":""}]
[null,null,"5430200QAA-KB","AMORTIGUAD","AMORTIGUADOR DEL PLATINA 02-10 CLIO 02-09 GAS KABUTO          = KYB333708 = MIZSANN0300",477.43,1,4,3,0,1,6,{"$f":"+IFERROR(HYPERLINK(VLOOKUP(C602,FOTOGRAFICO!C:E,3,FALSE),C602),\"\")","v":"5430200QAA-KB"}]
[null,null,"54302-5RB0BSFT","AMORTIGUAD","AMORTIGUADOR DEL DER VERSA 20- 23 KICKS 17-23 GAS MARCA       SAFETY 7000723",560.88,0,1,2,0,2,0,{"$f":"+IFERROR(HYPERLINK(VLOOKUP(C603,FOTOGRAFICO!C:E,3,FALSE),C603),\"\")","v":""}]
[null,null,"543029585RSFT","AMORTIGUAD","AMORTIGUADOR DEL RENAULT KWID  19-24 GAS MARCA SAFETY         7001233",602.02,0,2,2,0,2,0,{"$f":"+IFERROR(HYPERLINK(VLOOKUP(C604,FOTOGRAFICO!C:E,3,FALSE),C604),\"\")","v":""}]
[null,null,"54302F4200-KB","AMORTIGUAD","AMORTIGUADOR DEL DER TSURU III 92-17 TSUBAME 93-04 HIDRAULICO KABUTO = MIZ107T6001",339.51,0,8,1,2,1,0,{"$f":"+IFERROR(HYPERLINK(VLOOKUP(C605,FOTOGRAFICO!C:E,3,FALSE),C605),\"\")","v":""}]
[null,null,"54302-F4200SFT","AMORTIGUAD","AMORTIGUADOR DEL DER TSURU III 92-17 TSUBAME 93-04 HIDRAULICO SAFETY IMPORTADO = BOGMP104",410.01,5,2,11,4,2,7,{"$f":"+IFERROR(HYPERLINK(VLOOKUP(C606,FOTOGRAFICO!C:E,3,FALSE),C606),\"\")","v":"54302-F4200SFT"}]
[null,null,"54303-00Q0ASFT","AMORTIGUAD","AMORTIGUADOR DEL APRIO 07-10   SANDERO STEPWAY 10-16 GAS      MARCA SAFETY MP8559",588.29999999999995,0,2,0,0,0,2,{"$f":"+IFERROR(HYPERLINK(VLOOKUP(C607,FOTOGRAFICO!C:E,3,FALSE),C607),\"\")","v":""}]
[null,null,"54303-5RB0BSFT","AMORTIGUAD","AMORTIGUADOR DEL IZQ VERSA 20- 23 KICKS 17-20 GAS MARCA       SAFETY 7000724",560.88,0,1,2,0,2,0,{"$f":"+IFERROR(HYPERLINK(VLOOKUP(C608,FOTOGRAFICO!C:E,3,FALSE),C608),\"\")","v":""}]
[null,null,"54303F4200-KB","AMORTIGUAD","AMORTIGUADOR DEL IZQ TSURU III 92-17 TSUBAME 93-04 HIDRAULICO KABUTO = KYB633116",339.51,0,5,2,1,3,0,{"$f":"+IFERROR(HYPERLINK(VLOOKUP(C609,FOTOGRAFICO!C:E,3,FALSE),C609),\"\")","v":"54303F4200-KB"}]
[null,null,"54303-F4200SFT","AMORTIGUAD","AMORTIGUADOR DEL IZQ TSURU III 92-17 TSUBAME 93-04 HIDRAULICO SAFETY IMPORTADO = KYB633116",410.03,1,2,8,4,2,12,{"$f":"+IFERROR(HYPERLINK(VLOOKUP(C610,FOTOGRAFICO!C:E,3,FALSE),C610),\"\")","v":"54303-F4200SFT"}]
[null,null,"54650-B4050SFT","AMORTIGUAD","AMORTIGUADOR DEL IZQ GRAND I10 15-23 GAS MARCA SAFETY         7000641",0,0,0,0,0,0,0,{"$f":"+IFERROR(HYPERLINK(VLOOKUP(C611,FOTOGRAFICO!C:E,3,FALSE),C611),\"\")","v":""}]
[null,null,"54660-B4050SFT","AMORTIGUAD","AMORTIGUADOR DEL DER GRAND I10 15-20 GAS MARCA SAFETY         7000642",656.87,0,2,2,0,0,0,{"$f":"+IFERROR(HYPERLINK(VLOOKUP(C612,FOTOGRAFICO!C:E,3,FALSE),C612),\"\")","v":""}]
[null,null,"55302F4200-KB","AMORTIGUAD","AMORTIGUADOR TRAS DER TSURU    III 92-17 HIDRAULICO KABUTO    = MIZ107T6601",339.51,1,1,2,1,2,0,{"$f":"+IFERROR(HYPERLINK(VLOOKUP(C613,FOTOGRAFICO!C:E,3,FALSE),C613),\"\")","v":""}]
[null,null,"55302-F4200SFT","AMORTIGUAD","AMORTIGUADOR TRAS DER TSURU    III 92-17 HIDRAULICO SAFETY    IMPORTADO = MIZ107T6601",410.03,12,7,8,10,2,2,{"$f":"+IFERROR(HYPERLINK(VLOOKUP(C614,FOTOGRAFICO!C:E,3,FALSE),C614),\"\")","v":"55302-F4200SFT"}]
[null,null,"55303F4200-KB","AMORTIGUAD","AMORTIGUADOR TRAS IZQ TSURU    III 92-17 HIDRAULICO KABUTO    = KYB632073",340.21,0,2,2,1,1,1,{"$f":"+IFERROR(HYPERLINK(VLOOKUP(C615,FOTOGRAFICO!C:E,3,FALSE),C615),\"\")","v":""}]
[null,null,"55303-F4200SFT","AMORTIGUAD","AMORTIGUADOR TRAS IZQ TSURU    III 92-17 HIDRAULICO SAFETY    IMPORTADO = MON400874",410.03,1,12,13,16,2,3,{"$f":"+IFERROR(HYPERLINK(VLOOKUP(C616,FOTOGRAFICO!C:E,3,FALSE),C616),\"\")","v":"55303-F4200SFT"}]
[null,null,"55310-B4080SFT","AMORTIGUAD","AMORTIGUADOR TRAS GRAND I10    15-20 GAS MARCA SAFETY PIDE    FRANCISCO",465.53,0,0,0,0,0,0,{"$f":"+IFERROR(HYPERLINK(VLOOKUP(C617,FOTOGRAFICO!C:E,3,FALSE),C617),\"\")","v":""}]
[null,null,"56110F4001-KB","AMORTIGUAD","AMORTIGUADOR DEL NISSAN PICKUP 65-08 D21 2WD HIDRAULICO       KABUTO 32219",275.85000000000002,6,3,2,1,2,3,{"$f":"+IFERROR(HYPERLINK(VLOOKUP(C618,FOTOGRAFICO!C:E,3,FALSE),C618),\"\")","v":""}]
[null,null,"56110VW025-KB","AMORTIGUAD","AMORTIGUADOR DEL URVAN 02-13   GAS KABUTO                     = KYB344463 = NIS56110-VW025",244.02,1,4,7,2,3,2,{"$f":"+IFERROR(HYPERLINK(VLOOKUP(C619,FOTOGRAFICO!C:E,3,FALSE),C619),\"\")","v":""}]
[null,null,"562003XA0A-KB","AMORTIGUAD","AMORTIGUADOR TRAS URVAN NV350  14-20 GAS KABUTO 930 240       = GAB72013-A = SANN0480",265.24,2,4,0,2,3,1,{"$f":"+IFERROR(HYPERLINK(VLOOKUP(C620,FOTOGRAFICO!C:E,3,FALSE),C620),\"\")","v":""}]
[null,null,"56200F4005-KB","AMORTIGUAD","AMORTIGUADOR TRAS NISSAN       PICKUP D21 D22 94-15           HIDRAULICO MARCA KABUTO",275.85000000000002,4,2,0,4,2,2,{"$f":"+IFERROR(HYPERLINK(VLOOKUP(C621,FOTOGRAFICO!C:E,3,FALSE),C621),\"\")","v":""}]
[null,null,"5621000Q2C-KB","AMORTIGUAD","AMORTIGUADOR TRAS PLATINA 02-  10 CLIO 02-09 GAS KABUTO       = MIZSANN0350 = KYB343462",265.24,0,3,3,1,4,2,{"$f":"+IFERROR(HYPERLINK(VLOOKUP(C622,FOTOGRAFICO!C:E,3,FALSE),C622),\"\")","v":""}]
[null,null,"56210-F4301SFT","AMORTIGUAD","AMORTIGUADOR TRAS SENTRA B14   96-00 GAS MARCA SAFETY         7000275",492.31,0,2,2,0,2,0,{"$f":"+IFERROR(HYPERLINK(VLOOKUP(C623,FOTOGRAFICO!C:E,3,FALSE),C623),\"\")","v":""}]
[null,null,"56210VW025-KB","AMORTIGUAD","AMORTIGUADOR TRAS URVAN 99-13  FORD F-350 SUPER DUTY 99-06    FRONTIER 98-04 GAS KABUTO",275.85000000000002,1,2,1,5,4,2,{"$f":"+IFERROR(HYPERLINK(VLOOKUP(C624,FOTOGRAFICO!C:E,3,FALSE),C624),\"\")","v":""}]
[null,null,"5C0-413-031AKSFT","AMORTIGUAD","AMORTIGUADOR DEL GOLF JETTA A6 10-18 2.5 BORA 05-10 CADDY     14-20 1.6 GAS MARCA SAFETY",588.29999999999995,0,2,2,0,2,0,{"$f":"+IFERROR(HYPERLINK(VLOOKUP(C625,FOTOGRAFICO!C:E,3,FALSE),C625),\"\")","v":""}]
[null,null,"5QM-413-031ESFT","AMORTIGUAD","AMORTIGUADOR DEL JETTA A7 15-  21 TIGUAN 18-21 AUDI A3 13-23  50 MM GAS MARCA SAFETY 7000677",1027.1400000000001,0,2,2,0,2,0,{"$f":"+IFERROR(HYPERLINK(VLOOKUP(C626,FOTOGRAFICO!C:E,3,FALSE),C626),\"\")","v":""}]
[null,null,"5U0413031A-KB","AMORTIGUAD","AMORTIGUADOR TRAS GOL 08-19    POINTER 98-09 GAS MARCA KABUTO 832369 = BOG832369",297.07,2,1,1,3,5,1,{"$f":"+IFERROR(HYPERLINK(VLOOKUP(C627,FOTOGRAFICO!C:E,3,FALSE),C627),\"\")","v":"5U0413031A-KB"}]
[null,null,"5U0-413-031ASFT","AMORTIGUAD","AMORTIGUADOR TRAS VW GOL 08-20 POINTER 98-09 HIDRAULICO MARCA SAFETY = GAB30210 = MON400005",404.54,0,2,2,0,2,0,{"$f":"+IFERROR(HYPERLINK(VLOOKUP(C628,FOTOGRAFICO!C:E,3,FALSE),C628),\"\")","v":""}]
[null,null,"5U0513025E-KB","AMORTIGUAD","AMORTIGUADOR DEL GOL 08-19     POLO 03-08 LUPO 04-08 CORDOBA  03-09 IBIZA 03-09 GAS KABUTO",498.65,6,1,0,0,1,1,{"$f":"+IFERROR(HYPERLINK(VLOOKUP(C629,FOTOGRAFICO!C:E,3,FALSE),C629),\"\")","v":"5U0513025E-KB"}]
[null,null,"5U0-513-025ESFT","AMORTIGUAD","AMORTIGUADOR DEL GOL 09-19     POLO 03-08 LUPO 04-08 CORDOBA  03-09 IBIZA 03-09 SAFETY",602.02,12,6,13,13,3,3,{"$f":"+IFERROR(HYPERLINK(VLOOKUP(C630,FOTOGRAFICO!C:E,3,FALSE),C630),\"\")","v":"5U0-513-025ESFT"}]
[null,null,"5Z0513025H-KB","AMORTIGUAD","AMORTIGUADOR TRAS VENTO 13-19  GAS KABUTO                     = 5Z0-513-025HSFT",286.45999999999998,4,4,2,2,2,3,{"$f":"+IFERROR(HYPERLINK(VLOOKUP(C631,FOTOGRAFICO!C:E,3,FALSE),C631),\"\")","v":""}]
[null,null,"5Z0-513-025HSFT","AMORTIGUAD","AMORTIGUADOR TRAS VENTO 13-19  GAS SAFETY IMPORTADO           = BOG832724",396.31,0,1,2,15,20,12,{"$f":"+IFERROR(HYPERLINK(VLOOKUP(C632,FOTOGRAFICO!C:E,3,FALSE),C632),\"\")","v":"5Z0-513-025HSFT"}]
[null,null,"6RF413031B-KB","AMORTIGUAD","AMORTIGUADOR DEL VENTO 13-19   POLO 13-15 IBIZA 10-15 TOLEDO  13-15 GAS KABUTO",498.65,0,0,0,0,1,2,{"$f":"+IFERROR(HYPERLINK(VLOOKUP(C633,FOTOGRAFICO!C:E,3,FALSE),C633),\"\")","v":"6RF413031B-KB"}]
[null,null,"6RF-413-031BSFT","AMORTIGUAD","AMORTIGUADOR DEL VENTO 13-19   POLO 13-15 IBIZA 10-15 TOLEDO  13-15 GAS SAFETY IMPORTADO",684.3,7,37,7,30,3,9,{"$f":"+IFERROR(HYPERLINK(VLOOKUP(C634,FOTOGRAFICO!C:E,3,FALSE),C634),\"\")","v":"6RF-413-031BSFT"}]
[null,null,"832385SFT","AMORTIGUAD","AMORTIGUADOR TRAS MATIZ 03-05  GAS SAFETY IMPORTADO",341.46,0,0,0,7,6,4,{"$f":"+IFERROR(HYPERLINK(VLOOKUP(C635,FOTOGRAFICO!C:E,3,FALSE),C635),\"\")","v":"832385SFT"}]
[null,null,"832386SFT","AMORTIGUAD","AMORTIGUADOR TRAS FIESTA 03-10 SEDAN HATCHBACK GAS SAFETY     IMPORTADO = BOG832386",451.17,9,4,5,21,2,4,{"$f":"+IFERROR(HYPERLINK(VLOOKUP(C636,FOTOGRAFICO!C:E,3,FALSE),C636),\"\")","v":"832386SFT"}]
[null,null,"832430-KB","AMORTIGUAD","AMORTIGUADO TRAS GOLF JETTA A4 99-12 CLASICO 11-13 BEETLE     99-10 TOLEDO 01-15 GAS KABUTO",265.24,2,2,4,0,4,1,{"$f":"+IFERROR(HYPERLINK(VLOOKUP(C637,FOTOGRAFICO!C:E,3,FALSE),C637),\"\")","v":"832430-KB"}]
[null,null,"832430SFT","AMORTIGUAD","AMORTIGUADO TRAS GOLF JETTA A4 99-12 CLASICO 11-13 BEETLE     99-10 TOLEDO 01-15 GAS SAFETY",382.6,0,0,6,0,0,0,{"$f":"+IFERROR(HYPERLINK(VLOOKUP(C638,FOTOGRAFICO!C:E,3,FALSE),C638),\"\")","v":"832430SFT"}]
[null,null,"832600SFT","AMORTIGUAD","AMORTIGUADOR TRAS TORNADO 03-  10 GAS SAFETY IMPORTADO",508.77,5,0,0,0,0,0,{"$f":"+IFERROR(HYPERLINK(VLOOKUP(C639,FOTOGRAFICO!C:E,3,FALSE),C639),\"\")","v":"832600SFT"}]
[null,null,"90440BW010","AMORTIGUAD","AMORTIGUADOR 5TA PUERTA URVAN  02-12 CAJUELA TRASERA DER/IZQ  MARCA BRUCK GERMANY CALIDAD",592.61,0,0,0,0,2,0,{"$f":"+IFERROR(HYPERLINK(VLOOKUP(C640,FOTOGRAFICO!C:E,3,FALSE),C640),\"\")","v":"90440BW010"}]
[null,null,"90440VW470-KB","AMORTIGUAD","AMORTIGU DER 5TA PTA URVAN 02- 12 TOLDO ALTO C/PLACA 92 CM    MARCA KABUTO IMPORTADO",297.07,3,0,2,0,6,0,{"$f":"+IFERROR(HYPERLINK(VLOOKUP(C641,FOTOGRAFICO!C:E,3,FALSE),C641),\"\")","v":"90440VW470-KB"}]
[null,null,"90440W010","AMORTIGUAD","AMORTIGUADOR 5TA PUERTA URVAN  02-12 CAJUELA TRASERA DER/IZQ  MARCA NIKKO/EGP",176.9,0,0,16,0,0,0,{"$f":"+IFERROR(HYPERLINK(VLOOKUP(C642,FOTOGRAFICO!C:E,3,FALSE),C642),\"\")","v":"90440W010"}]
[null,null,"90441VW470-KB","AMORTIGUAD","AMORTIGU IZQ 5TA PTA URVAN 02- 12 TOLDO ALTO C/PLACA 92 CM    MARCA KABUTO IMPORTADO",153.84,13,0,4,0,4,4,{"$f":"+IFERROR(HYPERLINK(VLOOKUP(C643,FOTOGRAFICO!C:E,3,FALSE),C643),\"\")","v":"90441VW470-KB"}]
[null,null,"90445212-KB","AMORTIGUAD","AMORTIGUADOR DEL CHEVY 94-12   CHEVY PICKUP 98-04 HIDRAULICO  KABUTO = GAB638538",371.34,6,0,2,1,1,6,{"$f":"+IFERROR(HYPERLINK(VLOOKUP(C644,FOTOGRAFICO!C:E,3,FALSE),C644),\"\")","v":""}]
[null,null,"90445212SFT","AMORTIGUAD","AMORTIGUADOR DEL CHEVY 94-12   CHEVY PICK UP 99-03 HIDRAULICO MARCA SAFETY MP148",519.74,0,2,2,0,0,2,{"$f":"+IFERROR(HYPERLINK(VLOOKUP(C645,FOTOGRAFICO!C:E,3,FALSE),C645),\"\")","v":""}]
[null,null,"904501HL0AK-KB","AMORTIGUAD","AMORTIGU DER 5TA PTA MARCH 11- 23 C/PLACA 50 CM MARCA KABUTO  IMPORTADO",212.19,10,0,0,0,0,0,{"$f":"+IFERROR(HYPERLINK(VLOOKUP(C646,FOTOGRAFICO!C:E,3,FALSE),C646),\"\")","v":""}]
[null,null,"904511HL0AK-KB","AMORTIGUAD","AMORTIGU IZQ 5TA PTA MARCH 11- 23 C/PLACA 50 CM MARCA KABUTO  IMPORTADO",212.19,2,0,0,0,0,0,{"$f":"+IFERROR(HYPERLINK(VLOOKUP(C647,FOTOGRAFICO!C:E,3,FALSE),C647),\"\")","v":"904511HL0AK-KB"}]
[null,null,"90481270","AMORTIGUAD","AMORTIGUADOR 5A PUERTA CHEVY   94-12 3 PUERTAS TAPA TRASERA   57 CM SAFETY IMPOR = BOGGS1270",108.33,32,28,60,52,31,35,{"$f":"+IFERROR(HYPERLINK(VLOOKUP(C648,FOTOGRAFICO!C:E,3,FALSE),C648),\"\")","v":"90481270"}]
[null,null,"90481270KB","AMORTIGUAD","AMORTIGUADOR 5A PUERTA CHEVY   94-12 3 PUERTAS TAPA TRASERA   57 CM KABUTO = BOGGS1270",74.260000000000005,1,1,1,1,1,1,{"$f":"+IFERROR(HYPERLINK(VLOOKUP(C649,FOTOGRAFICO!C:E,3,FALSE),C649),\"\")","v":""}]
[null,null,"90873217KB","AMORTIGUAD","AMORTIGUADOR TRAS IZQ DER AVEO 1.5 18-22 GAS 7000756          2709127 MARCA KABUTO",318.29000000000002,1,1,1,1,1,1,{"$f":"+IFERROR(HYPERLINK(VLOOKUP(C650,FOTOGRAFICO!C:E,3,FALSE),C650),\"\")","v":""}]
[null,null,"90873217SFT","AMORTIGUAD","AMORTIGUADOR TRAS IZQ DER AVEO 1.5 18-22 GAS 7000756          2709127 MARCA SAFETY",410.03,0,9,8,11,0,35,{"$f":"+IFERROR(HYPERLINK(VLOOKUP(C651,FOTOGRAFICO!C:E,3,FALSE),C651),\"\")","v":""}]
[null,null,"930159","AMORTIGUAD","AMORTIGUADOR TRAS TOYOTA EX    06-12 MCA: BOGE                SOBRE PEDIDO PABLO GAMONEDA",641.67999999999995,0,0,0,0,0,0,{"$f":"+IFERROR(HYPERLINK(VLOOKUP(C652,FOTOGRAFICO!C:E,3,FALSE),C652),\"\")","v":""}]
[null,null,"93272191SFT","AMORTIGUAD","AMORTIGUADOR TRAS CHEVY 94-12  HIDRAULICO MARCA SAFETY 32291",0,0,0,0,0,0,0,{"$f":"+IFERROR(HYPERLINK(VLOOKUP(C653,FOTOGRAFICO!C:E,3,FALSE),C653),\"\")","v":""}]
[null,null,"94668560","AMORTIGUAD","AMORTIGUADOR COFRE CHEVY C3    08-14 MONZA SWIMG POP JOY      MARCA AC DELCO ORIGINAL",230.84,4,9,11,8,5,8,{"$f":"+IFERROR(HYPERLINK(VLOOKUP(C654,FOTOGRAFICO!C:E,3,FALSE),C654),\"\")","v":"94668560"}]
[null,null,"94757336SFT","AMORTIGUAD","AMORTIGUADOR DEL TORNADO 11-19 GAS MARCA SAFETY 7000510",643.16,0,2,2,0,2,0,{"$f":"+IFERROR(HYPERLINK(VLOOKUP(C655,FOTOGRAFICO!C:E,3,FALSE),C655),\"\")","v":""}]
[null,null,"95032446-KB","AMORTIGUAD","AMORTIGUADOR DEL DER SPARK 11- 17 BEAT 18-21 GAS KABUTO       = 3330079SFT = SANC0801",424.39,2,0,2,3,1,0,{"$f":"+IFERROR(HYPERLINK(VLOOKUP(C656,FOTOGRAFICO!C:E,3,FALSE),C656),\"\")","v":"95032446-KB"}]
[null,null,"95032447-KB","AMORTIGUAD","AMORTIGUADOR DEL IZQ SPARK 11- 17 BEAT 18-21 GAS KABUTO       = 3330080SFT = SANC0802",424.39,1,0,1,3,1,0,{"$f":"+IFERROR(HYPERLINK(VLOOKUP(C657,FOTOGRAFICO!C:E,3,FALSE),C657),\"\")","v":"95032447-KB"}]
[null,null,"95962016","AMORTIGUAD","AMORTIGUADOR 5A PTA SPARK 11-  17 BEAT 18-21 MARCA SAFETY     IMPORTADO",108.33,9,27,15,30,36,10,{"$f":"+IFERROR(HYPERLINK(VLOOKUP(C658,FOTOGRAFICO!C:E,3,FALSE),C658),\"\")","v":"95962016"}]
[null,null,"95962016-KB","AMORTIGUAD","AMORTIGUADOR 5A PTA SPARK 11-  17 BEAT 18-21 MARCA KABUTO     IMPORTADO = 95962016",95.48,5,3,2,1,1,1,{"$f":"+IFERROR(HYPERLINK(VLOOKUP(C659,FOTOGRAFICO!C:E,3,FALSE),C659),\"\")","v":""}]
[null,null,"96408735-KB","AMORTIGUAD","AMORTIGUADOR TRAS AVEO 08-18   PONTIAC G3 06-09 GAS KABUTO    = KYB343423 = MON250794",233.41,3,5,1,1,0,1,{"$f":"+IFERROR(HYPERLINK(VLOOKUP(C660,FOTOGRAFICO!C:E,3,FALSE),C660),\"\")","v":""}]
[null,null,"96408735SFT","AMORTIGUAD","AMORTIGUADOR TRAS AVEO 08-18   G3 06-09 GAS MARCA SAFETY      832603",327.75,0,2,2,0,2,0,{"$f":"+IFERROR(HYPERLINK(VLOOKUP(C661,FOTOGRAFICO!C:E,3,FALSE),C661),\"\")","v":""}]
[null,null,"96424025-KB","AMORTIGUAD","AMORTIGUADOR DEL IZQ MATIZ 06- 14 GAS KABUTO                  = KYB332505 = 96424025SFT",371.34,1,1,2,0,1,1,{"$f":"+IFERROR(HYPERLINK(VLOOKUP(C662,FOTOGRAFICO!C:E,3,FALSE),C662),\"\")","v":""}]
[null,null,"96424025SFT","AMORTIGUAD","AMORTIGUADOR DEL IZQ MATIZ 06- 14 GAS SAFETY IMPORTADO        = BOGMP8567 = KYB332505",482.71,5,3,4,1,6,3,{"$f":"+IFERROR(HYPERLINK(VLOOKUP(C663,FOTOGRAFICO!C:E,3,FALSE),C663),\"\")","v":"96424025SFT"}]
[null,null,"96424026-KB","AMORTIGUAD","AMORTIGUADOR DEL DER MATIZ 06- 14 GAS KABUTO                  = KYB332504 = 96424026SFT",371.34,1,2,1,2,0,1,{"$f":"+IFERROR(HYPERLINK(VLOOKUP(C664,FOTOGRAFICO!C:E,3,FALSE),C664),\"\")","v":""}]
[null,null,"96424026SFT","AMORTIGUAD","AMORTIGUADOR DEL DER MATIZ 06- 14 GAS SAFETY IMPORTADO        = BOGMP8568 = KYB332504",482.71,4,5,4,1,6,3,{"$f":"+IFERROR(HYPERLINK(VLOOKUP(C665,FOTOGRAFICO!C:E,3,FALSE),C665),\"\")","v":"96424026SFT"}]
[null,null,"96424027-KB","AMORTIGUAD","AMORTIGUADOR TRAS MATIZ 06-14  GAS KABUTO                     = 96424027SFT",233.41,3,2,3,4,4,1,{"$f":"+IFERROR(HYPERLINK(VLOOKUP(C666,FOTOGRAFICO!C:E,3,FALSE),C666),\"\")","v":""}]
[null,null,"96424027SFT","AMORTIGUAD","AMORTIGUADOR TRAS MATIZ 06-14  GAS SAFETY IMPORTADO           = BOG832620",318.14999999999998,8,7,10,10,9,10,{"$f":"+IFERROR(HYPERLINK(VLOOKUP(C667,FOTOGRAFICO!C:E,3,FALSE),C667),\"\")","v":"96424027SFT"}]
[null,null,"96955861K","AMORTIGUAD","AMORTIGUADOR DEL DER OPTRA 06- 10 GAS ORIGINAL COREA          = KYB339029",1351.13,0,0,0,0,1,0,{"$f":"+IFERROR(HYPERLINK(VLOOKUP(C668,FOTOGRAFICO!C:E,3,FALSE),C668),\"\")","v":"96955861K"}]
[null,null,"96980826SFT","AMORTIGUAD","AMORTIGUADOR DEL IZQ AVEO 08-  18 G3 06-09 GAS MARCA SAFETY   MP8537",602.02,0,2,2,0,2,0,{"$f":"+IFERROR(HYPERLINK(VLOOKUP(C669,FOTOGRAFICO!C:E,3,FALSE),C669),\"\")","v":""}]
[null,null,"96980827SFT","AMORTIGUAD","AMORTIGUADOR DEL DER AVEO 08-  18 PONTIAC G3 06-09 GAS MARCA  SAFETY MP8536 = KYB333417",602.02,0,2,2,0,0,2,{"$f":"+IFERROR(HYPERLINK(VLOOKUP(C670,FOTOGRAFICO!C:E,3,FALSE),C670),\"\")","v":""}]
[null,null,"A40-6A1-0AD","AMORTIGUAD","AMORTIGUADOR 5TA PTA FIESTA 96 -01 MARCA SAFETY IMPORTADO     A40-6A1-0AD PIDE CALL CENTER",135.76,0,0,0,0,0,0,{"$f":"+IFERROR(HYPERLINK(VLOOKUP(C671,FOTOGRAFICO!C:E,3,FALSE),C671),\"\")","v":""}]
[null,null,"AC19376716","AMORTIGUAD","AMORTIGUADOR IZQ DEL CAVALIER  1.5 18-20 MARCA ACDELCO PIDE   JAVIER",1517.07,0,0,0,0,0,0,{"$f":"+IFERROR(HYPERLINK(VLOOKUP(C672,FOTOGRAFICO!C:E,3,FALSE),C672),\"\")","v":""}]
[null,null,"AC19376717","AMORTIGUAD","AMORTIGUADOR DER DEL CAVALIER  1.5 18-20 MARCA ACDELCO PIDE   JAVIER",1424.49,0,0,0,0,0,0,{"$f":"+IFERROR(HYPERLINK(VLOOKUP(C673,FOTOGRAFICO!C:E,3,FALSE),C673),\"\")","v":""}]
[null,null,"AC19376730","AMORTIGUAD","AMORTIGUADOR TRAS CAVALIER 1.5 18-21 AVEO 1.5 18-21 MARCA     ACDELCO PIDE JAVIER",680.16,0,0,0,0,0,0,{"$f":"+IFERROR(HYPERLINK(VLOOKUP(C674,FOTOGRAFICO!C:E,3,FALSE),C674),\"\")","v":""}]
[null,null,"BOG22003","AMORTIGUAD","AMORTIGUADOR DIRECC VW SEDAN   73-03 SAFARI 71-81 COMBI 72-01 BUJE TORNILLO HIDR.BOGE MEXICO",348.71,9,4,3,1,5,3,{"$f":"+IFERROR(HYPERLINK(VLOOKUP(C675,FOTOGRAFICO!C:E,3,FALSE),C675),\"\")","v":"BOG22003"}]
[null,null,"BOG32019","AMORTIGUAD","AMORTIGUADOR TRAS DATSUN 75-78 MARCA BOGE PEDIDO JAHZEEL",358.29,0,0,0,0,0,0,{"$f":"+IFERROR(HYPERLINK(VLOOKUP(C676,FOTOGRAFICO!C:E,3,FALSE),C676),\"\")","v":"BOG32019"}]
[null,null,"BOG32034","AMORTIGUAD","AMORTIGUADOR TRAS VW SEDAN 52- 03 SAFARI 71-81 BRASILIA 74-83 HIDRAULICO BOGE MEXICO",236.54,7,6,7,8,11,7,{"$f":"+IFERROR(HYPERLINK(VLOOKUP(C677,FOTOGRAFICO!C:E,3,FALSE),C677),\"\")","v":"BOG32034"}]
[null,null,"BOG32051","AMORTIGUAD","AMORTIGUADOR DEL TRAS DATSUN   65-74 MARCA BOGE HIDRAULICO    PIDE YEL CAMPOS",339.4,0,0,0,0,0,0,{"$f":"+IFERROR(HYPERLINK(VLOOKUP(C678,FOTOGRAFICO!C:E,3,FALSE),C678),\"\")","v":""}]
[null,null,"BOG32057","AMORTIGUAD","AMORTIGUADOR DEL COMBI 72-01   PANEL CARABELLE HIDRAULICO     BOGE MEXICO",355.08,7,4,4,7,4,4,{"$f":"+IFERROR(HYPERLINK(VLOOKUP(C679,FOTOGRAFICO!C:E,3,FALSE),C679),\"\")","v":"BOG32057"}]
[null,null,"BOG32058","AMORTIGUAD","AMORTIGUADOR TRAS COMBI 72-01  PANEL CARABELLE HIDRAULICO     BOGE MEXICO",361,8,2,3,6,1,7,{"$f":"+IFERROR(HYPERLINK(VLOOKUP(C680,FOTOGRAFICO!C:E,3,FALSE),C680),\"\")","v":"BOG32058"}]
[null,null,"BOG32141","AMORTIGUAD","AMORTIGUADOR DEL VW SEDAN 73-  03 SAFARI 71-81 BRASILIA 74-83 HIDRAULICO BOGE MEXICO",259.12,12,8,6,8,6,4,{"$f":"+IFERROR(HYPERLINK(VLOOKUP(C681,FOTOGRAFICO!C:E,3,FALSE),C681),\"\")","v":"BOG32141"}]
[null,null,"BOG32161","AMORTIGUAD","AMORTIGUADOR TRAS CARIBE 77-87 ATLANTIC 77-87 HIDRAULICO      BOGE MEXICO",389.98,4,0,2,5,0,4,{"$f":"+IFERROR(HYPERLINK(VLOOKUP(C682,FOTOGRAFICO!C:E,3,FALSE),C682),\"\")","v":"BOG32161"}]
[null,null,"BOG32219","AMORTIGUAD","AMORTIGUADOR DEL NISSAN PICKUP 65-93 HIDRAULICO BOGE MEXICO",310.64,2,0,0,0,0,0,{"$f":"+IFERROR(HYPERLINK(VLOOKUP(C683,FOTOGRAFICO!C:E,3,FALSE),C683),\"\")","v":"BOG32219"}]
[null,null,"BOG32221","AMORTIGUAD","AMORTIGUADOR TRAS SHADOW 89-94 SPIRIT 89-95 PHANTOM 87-95     DART K 86-95 HIDRAULICO BOGE",383.31,5,0,0,0,0,0,{"$f":"+IFERROR(HYPERLINK(VLOOKUP(C684,FOTOGRAFICO!C:E,3,FALSE),C684),\"\")","v":"BOG32221"}]
[null,null,"BOG32237","AMORTIGUAD","AMORTIGUADOR TRAS GOLF JETTA   A2 A3 87-99 CABRIO 98-00       HIDRAULICO BOGE MEXICO",411.54,9,11,10,11,2,5,{"$f":"+IFERROR(HYPERLINK(VLOOKUP(C685,FOTOGRAFICO!C:E,3,FALSE),C685),\"\")","v":"BOG32237"}]
[null,null,"BOG32279","AMORTIGUAD","AMORTIGUADOR DEL NISSAN PICKUP 94-10 NP300 10-15 LUV 98-06    HIDRAULICO BOGE MEXICO",253.47,14,0,5,0,0,0,{"$f":"+IFERROR(HYPERLINK(VLOOKUP(C686,FOTOGRAFICO!C:E,3,FALSE),C686),\"\")","v":"BOG32279"}]
[null,null,"BOG32280","AMORTIGUAD","AMORTIG TRAS PICK UP NISSAN 94 -15,NP300 MCA:BOGE HIDRAULICO",417.18,16,0,0,0,0,0,{"$f":"+IFERROR(HYPERLINK(VLOOKUP(C687,FOTOGRAFICO!C:E,3,FALSE),C687),\"\")","v":"BOG32280"}]
[null,null,"BOG32291","AMORTIGUAD","AMORTIGUADOR TRAS CHEVY 94-12  CORSA SEDAN 02-08 HIDRAUL BOGE = MON250147 = 832291SFT",315.57,20,13,17,22,10,4,{"$f":"+IFERROR(HYPERLINK(VLOOKUP(C688,FOTOGRAFICO!C:E,3,FALSE),C688),\"\")","v":"BOG32291"}]
[null,null,"BOG32294","AMORTIGUAD","AMORTIGUADOR TRAS DERBY 95-00  HIDRAULICO BOGE MEXICO",461.55,5,0,0,0,0,0,{"$f":"+IFERROR(HYPERLINK(VLOOKUP(C689,FOTOGRAFICO!C:E,3,FALSE),C689),\"\")","v":"BOG32294"}]
[null,null,"BOG32369","AMORTIGUAD","AMORTIGUADOR TRAS VW GOL 08-20 POINTER 98-09 HIDRAULICO BOGE  MEXICO = GAB30210 = MON400005",451.06,15,12,5,8,9,12,{"$f":"+IFERROR(HYPERLINK(VLOOKUP(C690,FOTOGRAFICO!C:E,3,FALSE),C690),\"\")","v":"BOG32369"}]
[null,null,"BOG32382","AMORTIGUAD","AMORTIGUADOR TRAS COURIER      MCA BOGE SOBRE PEDIDO X PABLO",723.5,0,0,0,0,0,0,{"$f":"+IFERROR(HYPERLINK(VLOOKUP(C691,FOTOGRAFICO!C:E,3,FALSE),C691),\"\")","v":"BOG32382"}]
[null,null,"BOG32482","AMORTIGUAD","AMORTIGUADOR TRAS ATOS 00-13   HIDRAULICO BOGE MEXICO         = MON5695 = MIZ422T6600",377.94,12,6,19,4,18,3,{"$f":"+IFERROR(HYPERLINK(VLOOKUP(C692,FOTOGRAFICO!C:E,3,FALSE),C692),\"\")","v":"BOG32482"}]
[null,null,"BOG32593","AMORTIGUAD","AMORTIGUADOR TRAS POINTER PICK UP 98-10 HIDRAULICO BOGE       MEXICO",513.16,4,0,3,4,0,3,{"$f":"+IFERROR(HYPERLINK(VLOOKUP(C693,FOTOGRAFICO!C:E,3,FALSE),C693),\"\")","v":"BOG32593"}]
[null,null,"BOG35053","AMORTIGUAD","AMORTIGUADOR DEL F-150 89-98   F-250 89-97 F-350 89-98 MCA    BOGE",519.30999999999995,0,0,0,0,0,0,{"$f":"+IFERROR(HYPERLINK(VLOOKUP(C694,FOTOGRAFICO!C:E,3,FALSE),C694),\"\")","v":""}]
[null,null,"BOG35054","AMORTIGUAD","AMORTIGUADOR TRAS EXPLORER 81- 97 EXPEDITION 97-02 BRONCO 97  MCA: BOGE",553.98,0,0,0,0,0,0,{"$f":"+IFERROR(HYPERLINK(VLOOKUP(C695,FOTOGRAFICO!C:E,3,FALSE),C695),\"\")","v":""}]
[null,null,"BOG832237","AMORTIGUAD","AMORTIGUADOR TRAS GOLF JETTA   A2 A3 87-99 CABRIO 98-00 GAS   BOGE MEXICO = 1HM-513-031ESFT",485.98,3,0,2,3,0,2,{"$f":"+IFERROR(HYPERLINK(VLOOKUP(C696,FOTOGRAFICO!C:E,3,FALSE),C696),\"\")","v":"BOG832237"}]
[null,null,"BOG832278","AMORTIGUAD","AMORTIGUADOR TRAS TSUBAME 93-  04 MARCA BOGE GAS PIDE ABRAHAM 832278",323.58,0,0,0,0,0,0,{"$f":"+IFERROR(HYPERLINK(VLOOKUP(C697,FOTOGRAFICO!C:E,3,FALSE),C697),\"\")","v":""}]
[null,null,"BOG832291","AMORTIGUAD","AMORTIGUADOR TRAS CHEVY 94-12  CORSA SEDAN 02-08 GAS BOGE     MEXICO",383.99,6,2,10,12,4,6,{"$f":"+IFERROR(HYPERLINK(VLOOKUP(C698,FOTOGRAFICO!C:E,3,FALSE),C698),\"\")","v":"BOG832291"}]
[null,null,"BOG832322","AMORTIGUAD","AMORTIGUADOR TRAS SENTRA 96-00 LUCINO 96-00 GAS BOGE MEXICO",695.15,4,0,0,0,0,0,{"$f":"+IFERROR(HYPERLINK(VLOOKUP(C699,FOTOGRAFICO!C:E,3,FALSE),C699),\"\")","v":"BOG832322"}]
[null,null,"BOG832369","AMORTIGUAD","AMORTIGUADOR TRAS GOL 08-17    POINTER 98-09 GAS BOGE MEXICO",543.29999999999995,9,6,8,16,9,8,{"$f":"+IFERROR(HYPERLINK(VLOOKUP(C700,FOTOGRAFICO!C:E,3,FALSE),C700),\"\")","v":"BOG832369"}]
[null,null,"BOG832386","AMORTIGUAD","AMORTIGUADOR TRAS FIESTA 03-10 SEDAN HATCHBACK GAS BOGE       MEXICO = 832386SFT",715.92,5,3,12,6,0,3,{"$f":"+IFERROR(HYPERLINK(VLOOKUP(C701,FOTOGRAFICO!C:E,3,FALSE),C701),\"\")","v":"BOG832386"}]
[null,null,"BOG832387","AMORTIGUAD","AMORTIGUADOR TRAS ECOSPORT 03- 12 GAS BOGE MEXICO",733.98,6,0,0,0,0,0,{"$f":"+IFERROR(HYPERLINK(VLOOKUP(C702,FOTOGRAFICO!C:E,3,FALSE),C702),\"\")","v":"BOG832387"}]
[null,null,"BOG832395","AMORTIGUAD","AMORTIGUADOR TRA FOCUS 00-06   GAS BOGE                       PEDIDO ADAN FLORES",577.46,0,0,0,0,0,0,{"$f":"+IFERROR(HYPERLINK(VLOOKUP(C703,FOTOGRAFICO!C:E,3,FALSE),C703),\"\")","v":"BOG832395"}]
[null,null,"BOG832430","AMORTIGUAD","AMORTIGUADO TRAS GOLF JETTA A4 99-12 CLASICO 11-13 BEETLE     99-10 TOLEDO 01-15 GAS BOGE",526.80999999999995,8,9,7,11,8,4,{"$f":"+IFERROR(HYPERLINK(VLOOKUP(C704,FOTOGRAFICO!C:E,3,FALSE),C704),\"\")","v":"BOG832430"}]
[null,null,"BOG832454","AMORTIGUAD","AMORTIGUADOR TRAS SENTRA 01-06 GAS BOGE MEXICO",669.64,4,2,2,6,4,2,{"$f":"+IFERROR(HYPERLINK(VLOOKUP(C705,FOTOGRAFICO!C:E,3,FALSE),C705),\"\")","v":"BOG832454"}]
[null,null,"BOG832471","AMORTIGUAD","AMORTIGUADOR TRAS ASTRA 00-08  ZAFIRA 01-07 GAS BOGE MEXICO",559.77,5,0,0,0,0,0,{"$f":"+IFERROR(HYPERLINK(VLOOKUP(C706,FOTOGRAFICO!C:E,3,FALSE),C706),\"\")","v":"BOG832471"}]
[null,null,"BOG832480","AMORTIGUAD","AMORTIGUADOR TRAS PLATINA 02-  10 CLIO 02-09 GAS BOGE MEXICO  = MIZSANN0350 = KYB343462",675.13,6,2,3,0,0,0,{"$f":"+IFERROR(HYPERLINK(VLOOKUP(C707,FOTOGRAFICO!C:E,3,FALSE),C707),\"\")","v":"BOG832480"}]
[null,null,"BOG832481","AMORTIGUAD","AMORTIGUADOR TRAS DERBY 01-07  CORDOBA 01-02 IBIZA 99-02 GAS  BOGE MEXICO",592.74,6,0,6,4,4,4,{"$f":"+IFERROR(HYPERLINK(VLOOKUP(C708,FOTOGRAFICO!C:E,3,FALSE),C708),\"\")","v":"BOG832481"}]
[null,null,"BOG832484","AMORTIGUAD","AMORTIGUADOR DEL EUROVAN 01-04 2.8 GAS BOGE MEXICO            = MIZ516T6000",1584.6,3,0,0,0,0,0,{"$f":"+IFERROR(HYPERLINK(VLOOKUP(C709,FOTOGRAFICO!C:E,3,FALSE),C709),\"\")","v":"BOG832484"}]
[null,null,"BOG832536","AMORTIGUAD","AMORTIGUADOR TRAS POLO 03-08   LUPO 04-08 CORDOBA 03-09 IBIZA 03-09 GAS BOGE MEXICO",614.70000000000005,6,4,8,10,0,6,{"$f":"+IFERROR(HYPERLINK(VLOOKUP(C710,FOTOGRAFICO!C:E,3,FALSE),C710),\"\")","v":"BOG832536"}]
[null,null,"BOG832542","AMORTIGUAD","AMORTIGUADOR TRAS GOLF A5 12-  13 JETTA 10-18 PASSAT 06-18    BORA 06-11 SUSPEN/IND GAS BOGE",702.6,6,0,0,0,0,0,{"$f":"+IFERROR(HYPERLINK(VLOOKUP(C711,FOTOGRAFICO!C:E,3,FALSE),C711),\"\")","v":"BOG832542"}]
[null,null,"BOG832601","AMORTIGUAD","AMORTIGUADOR TRAS TIIDA 06-18  GAS BOGE MEXICO                = KYB343458 = E6210-EL00ASFT",757.53,0,0,1,4,0,0,{"$f":"+IFERROR(HYPERLINK(VLOOKUP(C712,FOTOGRAFICO!C:E,3,FALSE),C712),\"\")","v":"BOG832601"}]
[null,null,"BOG832603","AMORTIGUAD","AMORTIGUADOR TRAS AVEO 08-18   PONTIAC G3 06-09 GAS BOGE      MEXICO = KYB343423 = MON250794",570.76,3,7,4,6,4,10,{"$f":"+IFERROR(HYPERLINK(VLOOKUP(C713,FOTOGRAFICO!C:E,3,FALSE),C713),\"\")","v":"BOG832603"}]
[null,null,"BOG832607","AMORTIGUAD","AMORTIGUADOR TRAS CROSSFOX 06- 15 MARCA BOGE GAS PIDE LONDAIZ 832607",715.06,0,0,0,0,0,0,{"$f":"+IFERROR(HYPERLINK(VLOOKUP(C714,FOTOGRAFICO!C:E,3,FALSE),C714),\"\")","v":""}]
[null,null,"BOG832616","AMORTIGUAD","AMORTIGUADOR TRAS APRIO 1.6 08 -11 RENAULT SANDERO 1.6 10-12  BOGE PEDIDO VICTOR TELLITUD",806.24,0,0,0,0,0,0,{"$f":"+IFERROR(HYPERLINK(VLOOKUP(C715,FOTOGRAFICO!C:E,3,FALSE),C715),\"\")","v":"BOG832616"}]
[null,null,"BOG832617","AMORTIGUAD","AMORTIGUADOR DEL FOCUS 07-11   MAZDA 3 10-13 MCA: BOGE        PEDIDO MIGUEL ROMERO",926.67,0,0,0,0,0,0,{"$f":"+IFERROR(HYPERLINK(VLOOKUP(C716,FOTOGRAFICO!C:E,3,FALSE),C716),\"\")","v":""}]
[null,null,"BOG832620","AMORTIGUAD","AMORTIGUADOR TRAS MATIZ 06-14  GAS BOGE MEXICO                = 96424027SFT",859.26,3,0,0,0,0,0,{"$f":"+IFERROR(HYPERLINK(VLOOKUP(C717,FOTOGRAFICO!C:E,3,FALSE),C717),\"\")","v":"BOG832620"}]
[null,null,"BOG832690","AMORTIGUAD","AMORTIG TRAS JETTA GLI 10-15   2.0 2.5 BICENTEN SUSPEN RIGIDA GAS MARCA BOGE MEXICO 832690",613.55999999999995,0,0,0,0,0,0,{"$f":"+IFERROR(HYPERLINK(VLOOKUP(C718,FOTOGRAFICO!C:E,3,FALSE),C718),\"\")","v":""}]
[null,null,"BOG832691","AMORTIGUAD","AMORTIGUADOR TRAS SPARK 11-17  BEAT 18-21 GAS BOGE MEXICO     = 348036SFT = SANC0850",790.49,6,4,13,12,0,8,{"$f":"+IFERROR(HYPERLINK(VLOOKUP(C719,FOTOGRAFICO!C:E,3,FALSE),C719),\"\")","v":"BOG832691"}]
[null,null,"BOG832710","AMORTIGUAD","AMORTIGUADOR TRAS VERSA 12-19  NOTE 13-17 MARCH 11-17 GAS     BOGE",894.86,4,8,6,5,4,7,{"$f":"+IFERROR(HYPERLINK(VLOOKUP(C720,FOTOGRAFICO!C:E,3,FALSE),C720),\"\")","v":"BOG832710"}]
[null,null,"BOG832720","AMORTIGUAD","AMORTIGUADOR TRAS FIESTA 11-19 FIGO 16-20 MAZDA 2 11-15 MCA   BOGE PIDE TELLITUD",926.67,0,0,0,0,0,0,{"$f":"+IFERROR(HYPERLINK(VLOOKUP(C721,FOTOGRAFICO!C:E,3,FALSE),C721),\"\")","v":"BOG832720"}]
[null,null,"BOG832724","AMORTIGUAD","AMORTIGUADOR TRAS VENTO 13-19  GAS BOGE MEXICO                = 5Z0-513-025HSFT",1048.68,6,7,4,0,4,0,{"$f":"+IFERROR(HYPERLINK(VLOOKUP(C722,FOTOGRAFICO!C:E,3,FALSE),C722),\"\")","v":"BOG832724"}]
[null,null,"BOG832727","AMORTIGUAD","AMORTIGUADOR TRAS SONIC 11-18  GAS BOGE MEXICO",886.33,0,2,0,0,0,0,{"$f":"+IFERROR(HYPERLINK(VLOOKUP(C723,FOTOGRAFICO!C:E,3,FALSE),C723),\"\")","v":"BOG832727"}]
[null,null,"BOG835020","AMORTIGUAD","AMORTIGUADOR TRAS URVAN 99-13  FORD F-350 SUPER DUTY 99-06    FRONTIER 98-04 GAS BOGE MEXICO",510.55,0,0,6,12,2,4,{"$f":"+IFERROR(HYPERLINK(VLOOKUP(C724,FOTOGRAFICO!C:E,3,FALSE),C724),\"\")","v":"BOG835020"}]
[null,null,"BOG835096","AMORTIGUAD","AMORTIGUADOR DEL BLAZER 83-02  S10 BLAZER 91-04 S15 JIMMY 92- 04 MARCA BOGE GAS PIDE COTOC",529.27,0,0,0,0,0,0,{"$f":"+IFERROR(HYPERLINK(VLOOKUP(C725,FOTOGRAFICO!C:E,3,FALSE),C725),\"\")","v":""}]
[null,null,"BOG835106","AMORTIGUAD","AMORTIGUADOR TRAS VOYAGER 84-  07 CARAVAN 84-07 AEROSTAR 89-  96 GAS BOGE MEXICO",602.26,2,0,0,0,2,0,{"$f":"+IFERROR(HYPERLINK(VLOOKUP(C726,FOTOGRAFICO!C:E,3,FALSE),C726),\"\")","v":"BOG835106"}]
[null,null,"BOG835182","AMORTIGUAD","AMORTIGUAD DEL EXPLORER 4X2    92-02 PATA DE GALLO MARCA BOGE GAS PIDE PACO",719.14,0,0,0,0,0,0,{"$f":"+IFERROR(HYPERLINK(VLOOKUP(C727,FOTOGRAFICO!C:E,3,FALSE),C727),\"\")","v":"BOG835182"}]
[null,null,"BOG835189","AMORTIGUAD","AMORTIGUAD TRAS RANGER 97-04   MARCA BOGE GAS PIDE PACO",677.16,0,0,0,0,0,0,{"$f":"+IFERROR(HYPERLINK(VLOOKUP(C728,FOTOGRAFICO!C:E,3,FALSE),C728),\"\")","v":""}]
[null,null,"BOG835194","AMORTIGUAD","AMORTIGUADOR TRAS VOYAGER 08-  14 CARAVAN 08-14 WINDSTAR 95-  04 ROUTAN 08-12 GAS BOGE MEXIC",585.49,2,0,0,0,0,0,{"$f":"+IFERROR(HYPERLINK(VLOOKUP(C729,FOTOGRAFICO!C:E,3,FALSE),C729),\"\")","v":"BOG835194"}]
[null,null,"BOG835239","AMORTIGUAD","AMORTIGUADOR DEL URVAN 02-13   GAS BOGE MEXICO                = KYB344463 = NIS56110-VW025",672.24,0,0,7,9,4,6,{"$f":"+IFERROR(HYPERLINK(VLOOKUP(C730,FOTOGRAFICO!C:E,3,FALSE),C730),\"\")","v":"BOG835239"}]
[null,null,"BOG930194","AMORTIGUAD","AMORTIGUADOR TRAS RANGER 12-16 MARCA BOGE EXTREME PIDE ANGEL  930194 GAS",1522.5,0,0,0,0,0,0,{"$f":"+IFERROR(HYPERLINK(VLOOKUP(C731,FOTOGRAFICO!C:E,3,FALSE),C731),\"\")","v":""}]
[null,null,"BOG930220","AMORTIGUAD","AMORTIGUADOR TRAS HR-V 16-21   MARCA BOGE EXTREME PIDE        GASMANI",823.22,0,0,0,0,0,0,{"$f":"+IFERROR(HYPERLINK(VLOOKUP(C732,FOTOGRAFICO!C:E,3,FALSE),C732),\"\")","v":""}]
[null,null,"BOGCR004","AMORTIGUAD","AMORTIGUADOR DEL DATSUN 75-78  MARCA BOGE PEDIDO JAHZEEL",605.13,0,0,0,0,0,0,{"$f":"+IFERROR(HYPERLINK(VLOOKUP(C733,FOTOGRAFICO!C:E,3,FALSE),C733),\"\")","v":"BOGCR004"}]
[null,null,"BOGCR221","AMORTIGUAD","AMORTIGUADOR DEL CARIBE 77-87  ATLANTIC 77-87 CARTUCHO        HIDRAULICO BOGE MEXICO",554.84,3,7,3,4,0,2,{"$f":"+IFERROR(HYPERLINK(VLOOKUP(C734,FOTOGRAFICO!C:E,3,FALSE),C734),\"\")","v":"BOGCR221"}]
[null,null,"BOGCR273","AMORTIGUAD","AMORTIGUADOR DEL POINTER 98-09 POINTER PICKUP 98-10 CARTUCHO  HIDRAULICO BOGE = GAB83023",513.16,18,12,7,11,9,10,{"$f":"+IFERROR(HYPERLINK(VLOOKUP(C735,FOTOGRAFICO!C:E,3,FALSE),C735),\"\")","v":"BOGCR273"}]
[null,null,"BOGCR8273","AMORTIGUAD","AMORTIGUADOR DEL POINTER 98-09 POINTER PICKUP 98-10 CARTUCHO  GAS BOGE MEXICO",629.73,6,0,5,8,0,2,{"$f":"+IFERROR(HYPERLINK(VLOOKUP(C736,FOTOGRAFICO!C:E,3,FALSE),C736),\"\")","v":"BOGCR8273"}]
[null,null,"BOGGS001","AMORTIGUAD","AMORTIGUADOR 5A PUERTA CARIBE  77-87 TAPA TRASERA SAFETY      IMPORTADO",113.82,0,0,2,0,0,9,{"$f":"+IFERROR(HYPERLINK(VLOOKUP(C737,FOTOGRAFICO!C:E,3,FALSE),C737),\"\")","v":"BOGGS001"}]
[null,null,"BOGGS045","AMORTIGUAD","AMORTIGUADOR 5A PUERTA GOLF A2 87-92 TAPA TRASERA SAFETY      IMPORTADO",112.45,5,15,0,5,8,0,{"$f":"+IFERROR(HYPERLINK(VLOOKUP(C738,FOTOGRAFICO!C:E,3,FALSE),C738),\"\")","v":"BOGGS045"}]
[null,null,"BOGGS1270","AMORTIGUAD","AMORTIGUADOR 5A PUERTA CHEVY   94-12 3 PUERTAS TAPA TRASERA   57 CM SMIDTD        = 90481270",204.62,2,0,3,3,0,3,{"$f":"+IFERROR(HYPERLINK(VLOOKUP(C739,FOTOGRAFICO!C:E,3,FALSE),C739),\"\")","v":"BOGGS1270"}]
[null,null,"BOGGS359","AMORTIGUAD","AMORTIGUADOR CAJUELA JETTA A4  CLASICO 98-15 BRUCK GERMANY",192.75,10,0,0,8,7,2,{"$f":"+IFERROR(HYPERLINK(VLOOKUP(C740,FOTOGRAFICO!C:E,3,FALSE),C740),\"\")","v":"BOGGS359"}]
[null,null,"BOGMP002","AMORTIGUAD","AMORTIGUADOR DEL CARIBE 77-87  ATLANTIC 77-87 PIERNA COMPLETA HIDRAULICO BOGE MEXICO",851.87,4,0,0,0,0,0,{"$f":"+IFERROR(HYPERLINK(VLOOKUP(C741,FOTOGRAFICO!C:E,3,FALSE),C741),\"\")","v":"BOGMP002"}]
[null,null,"BOGMP020","AMORTIGUAD","AMORTIGUADOR DEL GOLF JETTA A2 A3 87-99 DERBY 95-07 CABRIO 98 -00 CORDOBA 01-02 HIDRAUL BOGE",569.61,15,7,15,13,4,9,{"$f":"+IFERROR(HYPERLINK(VLOOKUP(C742,FOTOGRAFICO!C:E,3,FALSE),C742),\"\")","v":"BOGMP020"}]
[null,null,"BOGMP035","AMORTIGUAD","AMORTIGUADOR DEL SHADOW 89-94  SPIRIT 89-95 PHANTOM 87-95     HIDRAULICO BOGE MEXICO",835.4,6,0,0,0,0,0,{"$f":"+IFERROR(HYPERLINK(VLOOKUP(C743,FOTOGRAFICO!C:E,3,FALSE),C743),\"\")","v":"BOGMP035"}]
[null,null,"BOGMP068","AMORTIGUAD","AMORTIGUADOR DEL TSURU II 88-  91 HIKARI 88-91 HIDRAULICO     BOGE MEXICO",485.29,4,0,0,4,0,2,{"$f":"+IFERROR(HYPERLINK(VLOOKUP(C744,FOTOGRAFICO!C:E,3,FALSE),C744),\"\")","v":"BOGMP068"}]
[null,null,"BOGMP069","AMORTIGUAD","AMORTIGU TRAS IZQ TSURU II 88- 91 HIKARI 88-91 HIDRAULICO     BOGE MEXICO",536.13,1,0,0,2,0,4,{"$f":"+IFERROR(HYPERLINK(VLOOKUP(C745,FOTOGRAFICO!C:E,3,FALSE),C745),\"\")","v":"BOGMP069"}]
[null,null,"BOGMP070","AMORTIGUAD","AMORTIGUAD TRAS DER TSURU II   88-91 MARCA BOGE HIDRAULICO",548.59,2,1,0,2,2,4,{"$f":"+IFERROR(HYPERLINK(VLOOKUP(C746,FOTOGRAFICO!C:E,3,FALSE),C746),\"\")","v":"BOGMP070"}]
[null,null,"BOGMP073","AMORTIGUAD","AMORTIGUADOR DEL TOPAZ 86-94   TEMPO 85-94 MARCA BOGE PIDE    DANIEL",525.48,0,0,0,0,0,0,{"$f":"+IFERROR(HYPERLINK(VLOOKUP(C747,FOTOGRAFICO!C:E,3,FALSE),C747),\"\")","v":""}]
[null,null,"BOGMP104","AMORTIGUAD","AMORTIGUADOR DEL DER TSURU III 92-17 TSUBAME 93-04 HIDRAULICO BOGE MEXICO = MIZ107T6001",473.64,12,16,16,9,5,14,{"$f":"+IFERROR(HYPERLINK(VLOOKUP(C748,FOTOGRAFICO!C:E,3,FALSE),C748),\"\")","v":"BOGMP104"}]
[null,null,"BOGMP105","AMORTIGUAD","AMORTIGUADOR DEL IZQ TSURU III 92-17 TSUBAME 93-04 HIDRAULICO BOGE MEXICO = KYB633116",473.64,13,20,16,8,5,10,{"$f":"+IFERROR(HYPERLINK(VLOOKUP(C749,FOTOGRAFICO!C:E,3,FALSE),C749),\"\")","v":"BOGMP105"}]
[null,null,"BOGMP106","AMORTIGUAD","AMORTIGUADOR TRAS DER TSURU    III 92-17 HIDRAULICO BOGE      MEXICO = MIZ107T6601",473.64,15,8,13,16,8,8,{"$f":"+IFERROR(HYPERLINK(VLOOKUP(C750,FOTOGRAFICO!C:E,3,FALSE),C750),\"\")","v":"BOGMP106"}]
[null,null,"BOGMP107","AMORTIGUAD","AMORTIGUADOR TRAS IZQ TSURU    III 92-17 HIDRAULICO BOGE      MEXICO = KYB632073",473.64,13,11,15,19,9,8,{"$f":"+IFERROR(HYPERLINK(VLOOKUP(C751,FOTOGRAFICO!C:E,3,FALSE),C751),\"\")","v":"BOGMP107"}]
[null,null,"BOGMP148","AMORTIGUAD","AMORTIGUADOR DEL CHEVY 94-12   CHEVY PICKUP 98-04 HIDRAULICO  BOGE MEXICO = GAB638538",682.51,19,24,10,21,4,9,{"$f":"+IFERROR(HYPERLINK(VLOOKUP(C752,FOTOGRAFICO!C:E,3,FALSE),C752),\"\")","v":"BOGMP148"}]
[null,null,"BOGMP307","AMORTIGUAD","AMORTIGUADOR DEL ATOS 00-13    HIDRAULICO BOGE MEXICO         = MIZ422T6000 = MON72890",598.27,8,8,16,16,18,8,{"$f":"+IFERROR(HYPERLINK(VLOOKUP(C753,FOTOGRAFICO!C:E,3,FALSE),C753),\"\")","v":"BOGMP307"}]
[null,null,"BOGMP8020","AMORTIGUAD","AMORTIGUADOR DEL GOLF JETTA A2 A3 87-99 DERBY 95-09 CABRIO 98 -00 CORDOBA 01-02 GAS BOGE",785,8,2,4,4,0,4,{"$f":"+IFERROR(HYPERLINK(VLOOKUP(C754,FOTOGRAFICO!C:E,3,FALSE),C754),\"\")","v":"BOGMP8020"}]
[null,null,"BOGMP8143","AMORTIGUAD","AMORTIGUADOR DEL ESCORT 91-02  MARCA BOGE GAS MP8143 PIDE     PACO",1065.1600000000001,0,0,0,0,0,0,{"$f":"+IFERROR(HYPERLINK(VLOOKUP(C755,FOTOGRAFICO!C:E,3,FALSE),C755),\"\")","v":""}]
[null,null,"BOGMP8144","AMORTIGUAD","AMORTIGUADOR TRAS ESCORT 91-02 MARCA BOGE GAS PIDE PACO       MP8144",1021.21,0,0,0,0,0,0,{"$f":"+IFERROR(HYPERLINK(VLOOKUP(C756,FOTOGRAFICO!C:E,3,FALSE),C756),\"\")","v":""}]
[null,null,"BOGMP8148","AMORTIGUAD","AMORTIGUADOR DEL CHEVY 94-12   CHEVY PICKUP 98-04 GAS BOGE    MEXICO",790.51,0,1,7,6,0,4,{"$f":"+IFERROR(HYPERLINK(VLOOKUP(C757,FOTOGRAFICO!C:E,3,FALSE),C757),\"\")","v":"BOGMP8148"}]
[null,null,"BOGMP8173","AMORTIGUAD","AMORTIGUADOR DEL IZQ ASTRA 00- 06 ZAFIRA 01-07 GAS BOGE       MEXICO",944.86,1,0,0,0,0,0,{"$f":"+IFERROR(HYPERLINK(VLOOKUP(C758,FOTOGRAFICO!C:E,3,FALSE),C758),\"\")","v":"BOGMP8173"}]
[null,null,"BOGMP8176","AMORTIGUAD","AMORTIGUADOR DEL FORD KA 01-08 GAS BOGE MEXICO",860.46,0,0,2,0,0,0,{"$f":"+IFERROR(HYPERLINK(VLOOKUP(C759,FOTOGRAFICO!C:E,3,FALSE),C759),\"\")","v":"BOGMP8176"}]
[null,null,"BOGMP8206","AMORTIGUAD","AMORTIGUADOR DEL DER SENTRA    96-00 LUCINO 96-00 GAS BOGE    MEXICO",923.18,0,0,0,0,0,0,{"$f":"+IFERROR(HYPERLINK(VLOOKUP(C760,FOTOGRAFICO!C:E,3,FALSE),C760),\"\")","v":"BOGMP8206"}]
[null,null,"BOGMP8207","AMORTIGUAD","AMORTIGUADOR DEL IZQ SENTRA    96-00 LUCINO 96-00 GAS BOGE    MEXICO",923.07,1,0,0,0,0,0,{"$f":"+IFERROR(HYPERLINK(VLOOKUP(C761,FOTOGRAFICO!C:E,3,FALSE),C761),\"\")","v":"BOGMP8207"}]
[null,null,"BOGMP8241","AMORTIGUAD","AMORTIGUADOR DEL GOLF JETTA A4 99-12 CLASICO 11-13 BEETLE     99-10 TOLEDO 01-08 GAS BOGE",1092.6300000000001,8,6,15,12,4,6,{"$f":"+IFERROR(HYPERLINK(VLOOKUP(C762,FOTOGRAFICO!C:E,3,FALSE),C762),\"\")","v":"BOGMP8241"}]
[null,null,"BOGMP8251","AMORTIGUAD","AMORTIGUADOR DEL IZQ SENTRA    01-06 GAS BOGE MEXICO          = MIZ118T6002",946.14,2,0,4,2,0,2,{"$f":"+IFERROR(HYPERLINK(VLOOKUP(C763,FOTOGRAFICO!C:E,3,FALSE),C763),\"\")","v":"BOGMP8251"}]
[null,null,"BOGMP8252","AMORTIGUAD","AMORTIGUADOR DEL DER SENTRA    01-06 GAS BOGE MEXICO          = MIZ118T6001",956.77,2,0,0,2,2,2,{"$f":"+IFERROR(HYPERLINK(VLOOKUP(C764,FOTOGRAFICO!C:E,3,FALSE),C764),\"\")","v":"BOGMP8252"}]
[null,null,"BOGMP8259","AMORTIGUAD","AMORTIGUADOR DEL NEON 00-06    MARCA BOGE PEDIDO MIGUEL OLEA",1115.8900000000001,0,0,0,0,0,0,{"$f":"+IFERROR(HYPERLINK(VLOOKUP(C765,FOTOGRAFICO!C:E,3,FALSE),C765),\"\")","v":""}]
[null,null,"BOGMP8264","AMORTIGUAD","AMORTIGUADOR DEL DER FOCUS 00- 06 DELANTERO DERECHO GAS BOGE  PEDIDO ADAN FLORES",842.37,0,0,0,0,0,0,{"$f":"+IFERROR(HYPERLINK(VLOOKUP(C766,FOTOGRAFICO!C:E,3,FALSE),C766),\"\")","v":"BOGMP8264"}]
[null,null,"BOGMP8265","AMORTIGUAD","AMORTIGUADOR DEL IZQ FOCUS 00- 06 DELANTERO IZQUIERD GAS BOGE PEDIDO ADAN FLORES",842.42,0,0,0,0,0,0,{"$f":"+IFERROR(HYPERLINK(VLOOKUP(C767,FOTOGRAFICO!C:E,3,FALSE),C767),\"\")","v":"BOGMP8265"}]
[null,null,"BOGMP8283","AMORTIGUAD","AMORTIGUADOR DEL FIESTA 98-02  FIESTA IKON 01-08 GAS BOGE     MEXICO = GAB79063",1186.05,6,0,2,2,0,2,{"$f":"+IFERROR(HYPERLINK(VLOOKUP(C768,FOTOGRAFICO!C:E,3,FALSE),C768),\"\")","v":"BOGMP8283"}]
[null,null,"BOGMP8291","AMORTIGUAD","AMORTIGUADOR TRAS FIESTA 98-02 FIESTA IKON 01-08 GAS BOGE     MEXICO",771.44,6,0,3,8,5,5,{"$f":"+IFERROR(HYPERLINK(VLOOKUP(C769,FOTOGRAFICO!C:E,3,FALSE),C769),\"\")","v":"BOGMP8291"}]
[null,null,"BOGMP8292","AMORTIGUAD","AMORTIGUADOR DEL FIESTA 03-10  SEDAN HATCHBACK GAS BOGE       MEXICO = KYB338742",746.55,8,4,5,7,5,3,{"$f":"+IFERROR(HYPERLINK(VLOOKUP(C770,FOTOGRAFICO!C:E,3,FALSE),C770),\"\")","v":"BOGMP8292"}]
[null,null,"BOGMP8297","AMORTIGUAD","AMORTIGUADOR DEL ECOSPORT 03-  12 GAS BOGE MEXICO",850.92,3,0,3,0,3,0,{"$f":"+IFERROR(HYPERLINK(VLOOKUP(C771,FOTOGRAFICO!C:E,3,FALSE),C771),\"\")","v":"BOGMP8297"}]
[null,null,"BOGMP8298","AMORTIGUAD","AMORTIGUADOR DEL PLATINA 02-10 CLIO 02-09 GAS BOGE MEXICO     = KYB333708 = MIZSANN0300",785.01,4,6,5,4,7,2,{"$f":"+IFERROR(HYPERLINK(VLOOKUP(C772,FOTOGRAFICO!C:E,3,FALSE),C772),\"\")","v":"BOGMP8298"}]
[null,null,"BOGMP8308","AMORTIGUAD","AMORTIGUA DEL TOWN COUNTRY 3.3 01-07 MARCA BOGE GAS PIDE      CLAUDIO JAVIER MP8308",1257.83,0,0,0,0,0,0,{"$f":"+IFERROR(HYPERLINK(VLOOKUP(C773,FOTOGRAFICO!C:E,3,FALSE),C773),\"\")","v":"BOGMP8308"}]
[null,null,"BOGMP8334","AMORTIGUAD","AMORTIGUADOR DEL DER CORSA 02- 08 MERIVA 03-08 SEDAN HATCHBAC GAS BOGE MEXICO",988.27,5,1,3,7,5,3,{"$f":"+IFERROR(HYPERLINK(VLOOKUP(C774,FOTOGRAFICO!C:E,3,FALSE),C774),\"\")","v":"BOGMP8334"}]
[null,null,"BOGMP8335","AMORTIGUAD","AMORTIGUADOR DEL IZQ CORSA 02- 08 MERIVA 03-08 SEDAN HATCHBAC GAS BOGE MEXICO",988.27,2,1,2,3,4,3,{"$f":"+IFERROR(HYPERLINK(VLOOKUP(C775,FOTOGRAFICO!C:E,3,FALSE),C775),\"\")","v":"BOGMP8335"}]
[null,null,"BOGMP8378","AMORTIGUAD","AMORTIGUADOR DEL SHARAN 02-08  ALHAMBRA 02-08 MARCA BOGE GAS  MP8378 CALLA CENTER",1884.04,0,0,0,0,0,0,{"$f":"+IFERROR(HYPERLINK(VLOOKUP(C776,FOTOGRAFICO!C:E,3,FALSE),C776),\"\")","v":""}]
[null,null,"BOGMP8380","AMORTIGUAD","AMORTIGUADOR DEL GOL 08-17     POLO 03-08 LUPO 04-08 CORDOBA  03-09 IBIZA 03-09 GAS BOGE MEX",933.32,9,4,5,8,4,9,{"$f":"+IFERROR(HYPERLINK(VLOOKUP(C777,FOTOGRAFICO!C:E,3,FALSE),C777),\"\")","v":"BOGMP8380"}]
[null,null,"BOGMP8419","AMORTIGUAD","AMORTIGUADOR DEL GOLF A5 12-13 NEW JETTA 10-15 PASSAT 06-18   BORA 06-11 B/55MM GAS BOGE",1227.72,12,7,0,6,0,4,{"$f":"+IFERROR(HYPERLINK(VLOOKUP(C778,FOTOGRAFICO!C:E,3,FALSE),C778),\"\")","v":"BOGMP8419"}]
[null,null,"BOGMP8497","AMORTIGUAD","AMORTIGUADOR DEL IZQ TORNADO   03-10 GAS BOGE MEXICO",977.27,0,1,1,0,0,0,{"$f":"+IFERROR(HYPERLINK(VLOOKUP(C779,FOTOGRAFICO!C:E,3,FALSE),C779),\"\")","v":"BOGMP8497"}]
[null,null,"BOGMP8498","AMORTIGUAD","AMORTIGUADOR DEL DER TORNADO   03-10 GAS BOGE MEXICO",998.92,0,0,0,0,0,0,{"$f":"+IFERROR(HYPERLINK(VLOOKUP(C780,FOTOGRAFICO!C:E,3,FALSE),C780),\"\")","v":"BOGMP8498"}]
[null,null,"BOGMP8501","AMORTIGUAD","AMORTIGUADOR DEL IZQ SENTRA    07-12 GAS BOGE MEXICO",1092.6300000000001,3,1,0,0,0,0,{"$f":"+IFERROR(HYPERLINK(VLOOKUP(C781,FOTOGRAFICO!C:E,3,FALSE),C781),\"\")","v":"BOGMP8501"}]
[null,null,"BOGMP8502","AMORTIGUAD","AMORTIGUADOR DEL DER SENTRA    07-12 GAS BOGE MEXICO",1069.58,3,1,0,0,0,0,{"$f":"+IFERROR(HYPERLINK(VLOOKUP(C782,FOTOGRAFICO!C:E,3,FALSE),C782),\"\")","v":"BOGMP8502"}]
[null,null,"BOGMP8520","AMORTIGUAD","AMORTIGUADOR DEL DER TIIDA 06- 18 GAS BOGE MEXICO             = KYB333390 = E4032-EL00ASFT",1131.08,2,3,1,2,0,4,{"$f":"+IFERROR(HYPERLINK(VLOOKUP(C783,FOTOGRAFICO!C:E,3,FALSE),C783),\"\")","v":"BOGMP8520"}]
[null,null,"BOGMP8521","AMORTIGUAD","AMORTIGUADOR DEL IZQ TIIDA 06- 18 GAS BOGE MEXICO             = KYB333391 = E4033-EL00ASFT",1131.08,2,3,1,3,2,3,{"$f":"+IFERROR(HYPERLINK(VLOOKUP(C784,FOTOGRAFICO!C:E,3,FALSE),C784),\"\")","v":"BOGMP8521"}]
[null,null,"BOGMP8522","AMORTIGUAD","AMORTIGUADOR DEL DER OPTRA 06- 10 MARCA BOGE GAS PIDE VICTOR  LONDAIZ",1464.56,0,0,0,0,0,0,{"$f":"+IFERROR(HYPERLINK(VLOOKUP(C785,FOTOGRAFICO!C:E,3,FALSE),C785),\"\")","v":""}]
[null,null,"BOGMP8523","AMORTIGUAD","AMORTIGUADOR DEL IZQ OPTRA 06- 10 MARCA BOGE GAS PIDE VICTOR  LONDAIZ",1464.56,0,0,0,0,0,0,{"$f":"+IFERROR(HYPERLINK(VLOOKUP(C786,FOTOGRAFICO!C:E,3,FALSE),C786),\"\")","v":""}]
[null,null,"BOGMP8532","AMORTIGUAD","AMORTIGUADOR DEL CROSSFOX 06-  15 MARCA BOGE GAS PIDE LONDAIZ MP8532",1098.1199999999999,1,0,0,0,1,0,{"$f":"+IFERROR(HYPERLINK(VLOOKUP(C787,FOTOGRAFICO!C:E,3,FALSE),C787),\"\")","v":"BOGMP8532"}]
[null,null,"BOGMP8533","AMORTIGUAD","AMORTIGUADOR DEL IZQ MAZDA 3   2.0 2.5 06-13 MAZDA 5 05-11    MARCA BOGE GAS DANIEL CASTILLO",1479.67,0,0,0,0,0,0,{"$f":"+IFERROR(HYPERLINK(VLOOKUP(C788,FOTOGRAFICO!C:E,3,FALSE),C788),\"\")","v":""}]
[null,null,"BOGMP8536","AMORTIGUAD","AMORTIGUADOR DEL DER AVEO 08-  18 PONTIAC G3 06-09 GAS BOGE   MEXICO = KYB333417 = MON400295",1197,3,9,2,3,4,3,{"$f":"+IFERROR(HYPERLINK(VLOOKUP(C789,FOTOGRAFICO!C:E,3,FALSE),C789),\"\")","v":"BOGMP8536"}]
[null,null,"BOGMP8537","AMORTIGUAD","AMORTIGUADOR DEL IZQ AVEO 08-  18 PONTIAC G3 06-09 GAS BOGE   MEXICO = KYB333418 = MON400296",1197,4,8,2,3,4,4,{"$f":"+IFERROR(HYPERLINK(VLOOKUP(C790,FOTOGRAFICO!C:E,3,FALSE),C790),\"\")","v":"BOGMP8537"}]
[null,null,"BOGMP8567","AMORTIGUAD","AMORTIGUADOR DEL IZQ MATIZ 06- 14 GAS BOGE MEXICO             = KYB332505 = 96424025SFT",974.84,4,0,4,4,0,2,{"$f":"+IFERROR(HYPERLINK(VLOOKUP(C791,FOTOGRAFICO!C:E,3,FALSE),C791),\"\")","v":"BOGMP8567"}]
[null,null,"BOGMP8568","AMORTIGUAD","AMORTIGUADOR DEL DER MATIZ 06- 14 GAS BOGE MEXICO             = KYB332504 = 96424026SFT",966.98,2,2,2,4,0,1,{"$f":"+IFERROR(HYPERLINK(VLOOKUP(C792,FOTOGRAFICO!C:E,3,FALSE),C792),\"\")","v":"BOGMP8568"}]
[null,null,"BOGMP8569","AMORTIGUAD","AMORTIGUADOR DEL BORA 06-11    TDI JETTA A5 TDI 11-18 LEON 08 -12 ALTEA 05-15 GAS MARCA BOGE",1041.07,0,0,0,0,0,0,{"$f":"+IFERROR(HYPERLINK(VLOOKUP(C793,FOTOGRAFICO!C:E,3,FALSE),C793),\"\")","v":""}]
[null,null,"BOGMP8613","AMORTIGUAD","AMORTIGUADOR DEL VENTO 13-19   POLO 13-15 IBIZA 10-15 TOLEDO  13-15 GAS BOGE MEXICO",1685.33,6,6,7,10,0,3,{"$f":"+IFERROR(HYPERLINK(VLOOKUP(C794,FOTOGRAFICO!C:E,3,FALSE),C794),\"\")","v":"BOGMP8613"}]
[null,null,"BOGMP8626","AMORTIGUAD","AMORTIGUADOR DEL DER SENTRA    1.8 2.0 13-19 GAS BOGE MEXICO",1378.28,1,2,0,2,0,3,{"$f":"+IFERROR(HYPERLINK(VLOOKUP(C795,FOTOGRAFICO!C:E,3,FALSE),C795),\"\")","v":"BOGMP8626"}]
[null,null,"BOGMP8627","AMORTIGUAD","AMORTIGUADOR DEL IZQ SENTRA    1.8 2.0 13-19 GAS BOGE MEXICO",1378.28,2,2,0,2,1,2,{"$f":"+IFERROR(HYPERLINK(VLOOKUP(C796,FOTOGRAFICO!C:E,3,FALSE),C796),\"\")","v":"BOGMP8627"}]
[null,null,"BOGMP8668","AMORTIGUAD","AMORTIGUADOR DEL DER VERSA 12- 19 NOTE 13-17 GAS BOGE         = E4302-3AN0CSFT = SANN0901",1279.4000000000001,2,1,2,6,5,2,{"$f":"+IFERROR(HYPERLINK(VLOOKUP(C797,FOTOGRAFICO!C:E,3,FALSE),C797),\"\")","v":"BOGMP8668"}]
[null,null,"BOGMP8669","AMORTIGUAD","AMORTIGUADOR DEL IZQ VERSA 12- 19 NOTE 13-17 GAS BOGE         = E4303-3AN0CSFT = SANN0902",1279.4100000000001,1,1,4,8,4,2,{"$f":"+IFERROR(HYPERLINK(VLOOKUP(C798,FOTOGRAFICO!C:E,3,FALSE),C798),\"\")","v":"BOGMP8669"}]
[null,null,"BOGMP8670","AMORTIGUAD","AMORTIGUADOR DEL DER MARCH 11- 21 MARCA BOGE GAS LARGO MAXIMA 537 MM MINIMA 380 MM",1378.28,2,4,2,3,0,3,{"$f":"+IFERROR(HYPERLINK(VLOOKUP(C799,FOTOGRAFICO!C:E,3,FALSE),C799),\"\")","v":"BOGMP8670"}]
[null,null,"BOGMP8671","AMORTIGUAD","AMORTIGUADOR DEL IZQ MARCH 11- 21 MARCA BOGE GAS LARGO MAXIMA 537 MM MINIMA 380 MM",1378.28,2,6,3,3,0,5,{"$f":"+IFERROR(HYPERLINK(VLOOKUP(C800,FOTOGRAFICO!C:E,3,FALSE),C800),\"\")","v":"BOGMP8671"}]
[null,null,"BOGMP8673","AMORTIGUAD","AMORTIGUADOR DEL IZQ SPARK 11- 17 BEAT 18-21 GAS BOGE MEXICO  = 3330080SFT = SANC0802",1328.85,2,4,8,7,4,4,{"$f":"+IFERROR(HYPERLINK(VLOOKUP(C801,FOTOGRAFICO!C:E,3,FALSE),C801),\"\")","v":"BOGMP8673"}]
[null,null,"BOGMP8674","AMORTIGUAD","AMORTIGUADOR DEL DER SPARK 11- 17 BEAT 18-21 GAS BOGE MEXICO  = 3330079SFT = SANC0801",1328.85,3,4,8,5,4,4,{"$f":"+IFERROR(HYPERLINK(VLOOKUP(C802,FOTOGRAFICO!C:E,3,FALSE),C802),\"\")","v":"BOGMP8674"}]
[null,null,"BOGMP8681","AMORTIGUAD","AMORTIGUADOR DEL IZQ ACCORD    08-12 MARCA BOGE PIDE MIGUEL",1546.72,0,0,0,0,0,0,{"$f":"+IFERROR(HYPERLINK(VLOOKUP(C803,FOTOGRAFICO!C:E,3,FALSE),C803),\"\")","v":""}]
[null,null,"BOGMP8682","AMORTIGUAD","AMORTIGUADOR DEL DER ACCORD    08-12 MARCA BOGE PIDE MIGUEL",1546.72,0,0,0,0,0,0,{"$f":"+IFERROR(HYPERLINK(VLOOKUP(C804,FOTOGRAFICO!C:E,3,FALSE),C804),\"\")","v":""}]
[null,null,"BOGMP8683","AMORTIGUAD","AMORTIGUADOR TRAS ACCORD 08-12 MARCA BOGE PIDE MIGUEL",1480.49,0,0,0,0,0,0,{"$f":"+IFERROR(HYPERLINK(VLOOKUP(C805,FOTOGRAFICO!C:E,3,FALSE),C805),\"\")","v":""}]
[null,null,"BOGMP8686","AMORTIGUAD","AMORTIGUADOR DEL DER FIESTA 11 -19 FIGO 16-20 MAZDA 2 11-15   MARCA BOGE PIDE FRANCO",1649.22,0,0,0,0,0,0,{"$f":"+IFERROR(HYPERLINK(VLOOKUP(C806,FOTOGRAFICO!C:E,3,FALSE),C806),\"\")","v":""}]
[null,null,"BOGMP8687","AMORTIGUAD","AMORTIGUADOR DEL IZQ FIESTA 11 -19 FIGO 16-20 MARCA BOGE GAS  PIDE FRANCO",1649.22,0,0,0,0,0,0,{"$f":"+IFERROR(HYPERLINK(VLOOKUP(C807,FOTOGRAFICO!C:E,3,FALSE),C807),\"\")","v":""}]
[null,null,"BOGMP8696","AMORTIGUAD","AMORTIGUADOR DEL DER SONIC 11- 18 GAS BOGE MEXICO",1707.88,0,1,0,0,0,0,{"$f":"+IFERROR(HYPERLINK(VLOOKUP(C808,FOTOGRAFICO!C:E,3,FALSE),C808),\"\")","v":"BOGMP8696"}]
[null,null,"BOGMP8697","AMORTIGUAD","AMORTIGUADOR DEL IZQ SONIC 11- 18 GAS BOGE MEXICO",1718.89,0,1,0,0,0,0,{"$f":"+IFERROR(HYPERLINK(VLOOKUP(C809,FOTOGRAFICO!C:E,3,FALSE),C809),\"\")","v":"BOGMP8697"}]
[null,null,"BOGMP8711","AMORTIGUAD","AMORTIGUADOR DEL ATTITUDE 19   MIRAGE 2019 MARCA BOGE",1375.69,3,1,2,1,0,1,{"$f":"+IFERROR(HYPERLINK(VLOOKUP(C810,FOTOGRAFICO!C:E,3,FALSE),C810),\"\")","v":"BOGMP8711"}]
[null,null,"BOGMP8712","AMORTIGUAD","AMORTIGUADOR DEL DER MAZDA 3   2.0 2.8 14-18 MCA: BOGE        PEDIDO MIGUEL ROMERO",753.46,0,0,0,0,0,0,{"$f":"+IFERROR(HYPERLINK(VLOOKUP(C811,FOTOGRAFICO!C:E,3,FALSE),C811),\"\")","v":""}]
[null,null,"BOGMP8713","AMORTIGUAD","AMORTIGUADOR DEL IZQ MAZDA 3   2.0 2.8 14-18 MCA: BOGE        PEDIDO MIGUEL ROMERO",753.46,0,0,0,0,0,0,{"$f":"+IFERROR(HYPERLINK(VLOOKUP(C812,FOTOGRAFICO!C:E,3,FALSE),C812),\"\")","v":""}]
[null,null,"BOGMP8730","AMORTIGUAD","AMORTIGUADOR DEL DER ELANTRA   17-20 KIA FORTE 19-20 MARCA    BOGE PIDE MIGUEL ROMERO",2510.02,0,0,0,0,0,0,{"$f":"+IFERROR(HYPERLINK(VLOOKUP(C813,FOTOGRAFICO!C:E,3,FALSE),C813),\"\")","v":""}]
[null,null,"BOGMP8747","AMORTIGUAD","AMORTIGUADOR DEL LOGAN 15-19   MARCA BOGE GAS PIDE TELLITUD   MP8747",842.71,0,0,0,0,0,0,{"$f":"+IFERROR(HYPERLINK(VLOOKUP(C814,FOTOGRAFICO!C:E,3,FALSE),C814),\"\")","v":""}]
[null,null,"BRA16717","AMORTIGUAD","AMORTIGUADOR 5A PUERTA POINTER 98-09 TAPA TRASERA MARC SMIDTD = 377827550C = 377-827-550C",186.72,1,8,6,15,18,1,{"$f":"+IFERROR(HYPERLINK(VLOOKUP(C815,FOTOGRAFICO!C:E,3,FALSE),C815),\"\")","v":"BRA16717"}]
[null,null,"BRU171827550A","AMORTIGUAD","AMORTIGUADOR 5A PUERTA CARIBE  77-87 1.6 1.8 49.9 CM MARCA    BRUCK GERMANY 171827550A",146.91999999999999,0,0,0,3,3,2,{"$f":"+IFERROR(HYPERLINK(VLOOKUP(C816,FOTOGRAFICO!C:E,3,FALSE),C816),\"\")","v":"BRU171827550A"}]
[null,null,"BRU191827550B","AMORTIGUAD","AMORTIGUADOR 5A PUERTA GOLF A2 88-92 1.8 50 CM MARCA BRUCK    GERMANY 191827550B",146.91999999999999,1,2,1,4,1,1,{"$f":"+IFERROR(HYPERLINK(VLOOKUP(C817,FOTOGRAFICO!C:E,3,FALSE),C817),\"\")","v":"BRU191827550B"}]
[null,null,"BRU1C0827550E","AMORTIGUAD","AMORTIGUADOR 5A PTA BEETLE 2.0 98-11 60 CM MARCA BRUCK        GERMANY 1C0827550E",175.5,0,4,8,6,4,2,{"$f":"+IFERROR(HYPERLINK(VLOOKUP(C818,FOTOGRAFICO!C:E,3,FALSE),C818),\"\")","v":"BRU1C0827550E"}]
[null,null,"BRU1J6827550B","AMORTIGUAD","AMORTIGUADOR 5A PUERTA GOLF A4 98-07 TAPA TRASERA BRUCK       GERMANY",232.71,2,0,6,2,0,6,{"$f":"+IFERROR(HYPERLINK(VLOOKUP(C819,FOTOGRAFICO!C:E,3,FALSE),C819),\"\")","v":"BRU1J6827550B"}]
[null,null,"BRU1J6827550C","AMORTIGUAD","AMORTIGUADOR 5A PUERTA JETTA   A4 99-15 2.0 VAGONETA 50 CM    MARCA BRUCK GERMANY 1J6827550C",231.57,2,5,4,0,2,2,{"$f":"+IFERROR(HYPERLINK(VLOOKUP(C820,FOTOGRAFICO!C:E,3,FALSE),C820),\"\")","v":"BRU1J6827550C"}]
[null,null,"BRU1K5827550C","AMORTIGUAD","AMORTIGUADOR CAJUELA BORA 05-  10 2.0T 2.5 29.9 CM MARCA      BRUCK GERMANY 1K5827550C",190.43,4,0,2,4,0,2,{"$f":"+IFERROR(HYPERLINK(VLOOKUP(C821,FOTOGRAFICO!C:E,3,FALSE),C821),\"\")","v":"BRU1K5827550C"}]
[null,null,"BRU379827550F","AMORTIGUAD","AMORTIGUADOR 5A PUERTA POINTER GUAYIN STATION WAGON 98-05     TAPA TRASERA BRUCK GERMANY",197.15,12,0,0,11,0,5,{"$f":"+IFERROR(HYPERLINK(VLOOKUP(C822,FOTOGRAFICO!C:E,3,FALSE),C822),\"\")","v":"BRU379827550F"}]
[null,null,"BRU5GM823359","AMORTIGUAD","AMORTIGUADOR COFRE GOLF A7 15- 21 1.4TSI 2.0T SPORTWAGEN 10-  16 2.0TDI 77.9CM MARCA BRUCK",333.82,2,1,1,1,1,2,{"$f":"+IFERROR(HYPERLINK(VLOOKUP(C823,FOTOGRAFICO!C:E,3,FALSE),C823),\"\")","v":"BRU5GM823359"}]
[null,null,"BRU5U6827550","AMORTIGUAD","AMORTIGUADOR 5A PUERTA TRASERA GOL 2009-14 MODELO HATCHBACK   MARCA BRUCK",295.01,0,6,6,0,0,0,{"$f":"+IFERROR(HYPERLINK(VLOOKUP(C824,FOTOGRAFICO!C:E,3,FALSE),C824),\"\")","v":"BRU5U6827550"}]
[null,null,"BRU5Z6827550A","AMORTIGUAD","AMORTIGUADOR 5A PUERTA TRASERA LUPO CROSSFOX TODOS MODELOS    MARCA BRUCK",262.08999999999997,9,13,0,8,0,1,{"$f":"+IFERROR(HYPERLINK(VLOOKUP(C825,FOTOGRAFICO!C:E,3,FALSE),C825),\"\")","v":"BRU5Z6827550A"}]
[null,null,"BRU610835","AMORTIGUAD","AMORTIGUADOR 5A PUERTA TRASERA FIESTA 3 PUERTAS 2001-05       MARCA BRUCK",334.97,0,0,0,3,0,6,{"$f":"+IFERROR(HYPERLINK(VLOOKUP(C826,FOTOGRAFICO!C:E,3,FALSE),C826),\"\")","v":"BRU610835"}]
[null,null,"BRU611125","AMORTIGUAD","AMORTIGUADOR 5A PUERTA TRASERA FIESTA 5 PUERTAS 2001-05       MARCA BRUCK",344.39,3,5,3,7,0,3,{"$f":"+IFERROR(HYPERLINK(VLOOKUP(C827,FOTOGRAFICO!C:E,3,FALSE),C827),\"\")","v":"BRU611125"}]
[null,null,"BRU611371","AMORTIGUAD","AMORTIGUADOR 5A PUERTA TRASERA FIESTA 5 PUERTAS 2006-07       MARCA BRUCK",275.04000000000002,2,0,5,4,1,1,{"$f":"+IFERROR(HYPERLINK(VLOOKUP(C828,FOTOGRAFICO!C:E,3,FALSE),C828),\"\")","v":"BRU611371"}]
[null,null,"BRU68089034AD","AMORTIGUAD","AMORTIGUADOR 5TA PTA TOWN      COUNTRY 08-17 MARCA BRUCK      GERMANY PIDE CALL CENTER",393.74,0,0,0,0,0,0,{"$f":"+IFERROR(HYPERLINK(VLOOKUP(C829,FOTOGRAFICO!C:E,3,FALSE),C829),\"\")","v":""}]
[null,null,"BRU6J3827550A","AMORTIGUAD","AMORTIGUADOR 5A PUERTA IBIZA   09-17 1.6 2.0 2 PUERTAS 45 CM  MARCA BRUCK GERMANY 6J3827550A",278.57,3,2,1,0,0,3,{"$f":"+IFERROR(HYPERLINK(VLOOKUP(C830,FOTOGRAFICO!C:E,3,FALSE),C830),\"\")","v":"BRU6J3827550A"}]
[null,null,"BRU6J4827550C","AMORTIGUAD","AMORTIGUADOR 5A PUERTA IBIZA   09-17 1.6 2.0 4 PUERTAS 56.1   CM MARCA BRUCK GERMANY",290.31,7,0,4,8,0,0,{"$f":"+IFERROR(HYPERLINK(VLOOKUP(C831,FOTOGRAFICO!C:E,3,FALSE),C831),\"\")","v":"BRU6J4827550C"}]
[null,null,"BRU6K5827550C","AMORTIGUAD","AMORTIGUADOR CAJUELA CORDOBA   99-02 1.6 DERBY 95-09 1.8 2.0  28.7 CM MARCA BRUCK GERMANY",190.43,7,0,0,0,0,2,{"$f":"+IFERROR(HYPERLINK(VLOOKUP(C832,FOTOGRAFICO!C:E,3,FALSE),C832),\"\")","v":"BRU6K5827550C"}]
[null,null,"BRU6K6827550A","AMORTIGUAD","AMORTIGUADOR 5A PUERTA TRASERA SEAT IBIZA 1999-2003",264.26,1,0,0,6,0,3,{"$f":"+IFERROR(HYPERLINK(VLOOKUP(C833,FOTOGRAFICO!C:E,3,FALSE),C833),\"\")","v":"BRU6K6827550A"}]
[null,null,"BRU6L5827550B","AMORTIGUAD","AMORTIGUADOR CAJUELA CORDOBA   03-09 1.6 2.0 28.7 CM MARCA    BRUCK GERMANY 6L5827550B",231.57,9,0,3,4,5,0,{"$f":"+IFERROR(HYPERLINK(VLOOKUP(C834,FOTOGRAFICO!C:E,3,FALSE),C834),\"\")","v":"BRU6L5827550B"}]
[null,null,"BRU6L6827550B","AMORTIGUAD","AMORTIGUADOR 5A PUERTA TRASERA SEAT IBIZA 2004-08             MARCA BRUCK",220.97,1,0,1,4,0,0,{"$f":"+IFERROR(HYPERLINK(VLOOKUP(C835,FOTOGRAFICO!C:E,3,FALSE),C835),\"\")","v":"BRU6L6827550B"}]
[null,null,"BRU6Q0823359","AMORTIGUAD","AMORTIGUADOR COFRE POLO 2003-  08 MARCA SMIDTD",272.39,2,0,0,4,0,2,{"$f":"+IFERROR(HYPERLINK(VLOOKUP(C836,FOTOGRAFICO!C:E,3,FALSE),C836),\"\")","v":"BRU6Q0823359"}]
[null,null,"BRU6Q5827550B","AMORTIGUAD","AMORTIGUADOR CAJUELA TRASERA   POLO SEDAN 2003-2008           MARCA BRUCK",226.84,13,0,0,0,0,0,{"$f":"+IFERROR(HYPERLINK(VLOOKUP(C837,FOTOGRAFICO!C:E,3,FALSE),C837),\"\")","v":"BRU6Q5827550B"}]
[null,null,"BRU8177006000","AMORTIGUAD","AMORTIGUADOR IZQ 5A PTA ATOS   1.0 00-04 CORTO 47.5 CM MARCA  BRUCK GERMANY 8178005010",251.52,0,3,0,0,2,2,{"$f":"+IFERROR(HYPERLINK(VLOOKUP(C838,FOTOGRAFICO!C:E,3,FALSE),C838),\"\")","v":"BRU8177006000"}]
[null,null,"BRU8178005010","AMORTIGUAD","AMORTIGUADOR DER 5A PTA ATOS   1.0 00-04 CORTO 47.5 CM MARCA  BRUCK GERMANY 8178005010",251.52,2,3,1,1,2,2,{"$f":"+IFERROR(HYPERLINK(VLOOKUP(C839,FOTOGRAFICO!C:E,3,FALSE),C839),\"\")","v":"BRU8178005010"}]
[null,null,"BRU84430ET80A","AMORTIGUAD","AMORTIGUADOR CAJUELA SENTRA    B16 06-12 2.0 2.5 26 CM MARCA  BRUCK GERMANY 84430ET80A",163.4,5,0,7,4,0,0,{"$f":"+IFERROR(HYPERLINK(VLOOKUP(C840,FOTOGRAFICO!C:E,3,FALSE),C840),\"\")","v":"BRU84430ET80A"}]
[null,null,"BRU8L0823359","AMORTIGUAD","AMORTIGUADOR COFRE JETTA A4    AUDI A3                        MARCA BRUCK",170.42,6,1,5,15,5,8,{"$f":"+IFERROR(HYPERLINK(VLOOKUP(C841,FOTOGRAFICO!C:E,3,FALSE),C841),\"\")","v":"BRU8L0823359"}]
[null,null,"BRU90440VW470","AMORTIGUAD","AMORTIGUADOR 5A PUERTA URVAN   01-12 2.4 TOLDO ALTO 90.6 CM   MARCA BRUCK GERMANY 90440VW470",481.9,4,0,1,4,8,0,{"$f":"+IFERROR(HYPERLINK(VLOOKUP(C842,FOTOGRAFICO!C:E,3,FALSE),C842),\"\")","v":"BRU90440VW470"}]
[null,null,"BRU9045108X25","AMORTIGUAD","AMORTIGUADOR 5A PUERTA TSURU   II 88-91 1.6 GUAYIN 76.5 CM    MARCA BRUCK GERMANY 9045108X25",257.39999999999998,1,4,1,1,1,1,{"$f":"+IFERROR(HYPERLINK(VLOOKUP(C843,FOTOGRAFICO!C:E,3,FALSE),C843),\"\")","v":"BRU9045108X25"}]
[null,null,"BRU90481270","AMORTIGUAD","AMORTIGUADOR 5A PUERTA CHEVY   94-12 3 PUERTAS TAPA TRASERA   57 CM BRUCK GERMANY = 90481270",220.96,0,8,0,10,8,12,{"$f":"+IFERROR(HYPERLINK(VLOOKUP(C844,FOTOGRAFICO!C:E,3,FALSE),C844),\"\")","v":"BRU90481270"}]
[null,null,"BRU93327493","AMORTIGUAD","AMORTIGUADOR 5A PUERTA TRASERA CORSA 2001-06 MARCA BRUCK      HATCHBACK",256.45,11,0,8,0,0,4,{"$f":"+IFERROR(HYPERLINK(VLOOKUP(C845,FOTOGRAFICO!C:E,3,FALSE),C845),\"\")","v":"BRU93327493"}]
[null,null,"BRU95962016","AMORTIGUAD","AMORTIGUADOR 5A PUERTA SPARK   11-20 1.2 37.8 CM MARCA BRUCK  GERMANY 95962016",298.56,1,1,2,1,1,1,{"$f":"+IFERROR(HYPERLINK(VLOOKUP(C846,FOTOGRAFICO!C:E,3,FALSE),C846),\"\")","v":"BRU95962016"}]
[null,null,"BRU96314606","AMORTIGUAD","AMORTIGUADOR 5A PUERTA TRASERA MATIZ 2006-2015                MARCA BRUCK",279.73,0,1,2,4,1,1,{"$f":"+IFERROR(HYPERLINK(VLOOKUP(C847,FOTOGRAFICO!C:E,3,FALSE),C847),\"\")","v":"BRU96314606"}]
[null,null,"BRU96666915","AMORTIGUAD","AMORTIGUADOR 5A PUERTA MATIZ   05-07 1.0 40.6 CM MARCA BRUCK  GERMANY 96666915",236.25,0,3,7,2,0,0,{"$f":"+IFERROR(HYPERLINK(VLOOKUP(C848,FOTOGRAFICO!C:E,3,FALSE),C848),\"\")","v":""}]
[null,null,"E4032EL00A-KB","AMORTIGUAD","AMORTIGUADOR DEL DER TIIDA 06- 18 GAS KABUTO                  = KYB333390 = E4032-EL00ASFT",445.6,1,1,1,2,1,1,{"$f":"+IFERROR(HYPERLINK(VLOOKUP(C849,FOTOGRAFICO!C:E,3,FALSE),C849),\"\")","v":"E4032EL00A-KB"}]
[null,null,"E4032-EL00ASFT","AMORTIGUAD","AMORTIGUADOR DEL DER TIIDA 06- 18 GAS SAFETY IMPORTADO        = BOGMP8520 = KYB333390",447.06,2,23,6,12,1,8,{"$f":"+IFERROR(HYPERLINK(VLOOKUP(C850,FOTOGRAFICO!C:E,3,FALSE),C850),\"\")","v":""}]
[null,null,"E4033EL00A-KB","AMORTIGUAD","AMORTIGUADOR DEL IZQ TIIDA 06- 18 GAS KABUTO                  = KYB333391 = E4033-EL00ASFT",445.6,0,1,1,2,2,2,{"$f":"+IFERROR(HYPERLINK(VLOOKUP(C851,FOTOGRAFICO!C:E,3,FALSE),C851),\"\")","v":"E4033EL00A-KB"}]
[null,null,"E4033-EL00ASFT","AMORTIGUAD","AMORTIGUADOR DEL IZQ TIIDA 06- 18 GAS SAFETY IMPORTADO        = BOGMP8521 = KYB333391",447.06,4,18,6,11,4,17,{"$f":"+IFERROR(HYPERLINK(VLOOKUP(C852,FOTOGRAFICO!C:E,3,FALSE),C852),\"\")","v":""}]
[null,null,"E4302-1HK0BSFT","AMORTIGUAD","AMORTIGUADOR DEL DER MARCH     12-23 GAS MARCA SAFETY MP8670",602.02,0,2,2,0,0,0,{"$f":"+IFERROR(HYPERLINK(VLOOKUP(C853,FOTOGRAFICO!C:E,3,FALSE),C853),\"\")","v":""}]
[null,null,"E43023AN0C-KB","AMORTIGUAD","AMORTIGUADOR DEL DER VERSA 12- 19 NOTE 13-17 GAS KABUTO       = E4302-3AN0CSFT = SANN0901",424.39,1,1,3,1,1,2,{"$f":"+IFERROR(HYPERLINK(VLOOKUP(C854,FOTOGRAFICO!C:E,3,FALSE),C854),\"\")","v":"E43023AN0C-KB"}]
[null,null,"E4302-3AN0CSFT","AMORTIGUAD","AMORTIGUADOR DEL DER VERSA 12- 19 NOTE 13-17 GAS SAFETY       = KYB332152 = SANN0901",478.6,4,12,9,8,13,6,{"$f":"+IFERROR(HYPERLINK(VLOOKUP(C855,FOTOGRAFICO!C:E,3,FALSE),C855),\"\")","v":""}]
[null,null,"E43023AN0CSPROMO","AMORTIGUAD","AMORTIGUADOR DEL DER VERSA 12- 19 NOTE 13-17 GAS SAFETY       = KYB332152 = SANN0901",547.16,0,0,0,1,0,0,{"$f":"+IFERROR(HYPERLINK(VLOOKUP(C856,FOTOGRAFICO!C:E,3,FALSE),C856),\"\")","v":""}]
[null,null,"E4302-3SH1CSFT","AMORTIGUAD","AMORTIGUADOR DEL DER SENTRA    13-19 GAS MARCA SAFETY MP8626",807.72,0,2,2,0,0,0,{"$f":"+IFERROR(HYPERLINK(VLOOKUP(C857,FOTOGRAFICO!C:E,3,FALSE),C857),\"\")","v":""}]
[null,null,"E4302-ET02BSFT","AMORTIGUAD","AMORTIGUADOR DEL DER SENTRA    B16 07-12 GAS MARCA SAFETY     MP8502",752.87,0,2,2,0,0,0,{"$f":"+IFERROR(HYPERLINK(VLOOKUP(C858,FOTOGRAFICO!C:E,3,FALSE),C858),\"\")","v":""}]
[null,null,"E43033AN0C-KB","AMORTIGUAD","AMORTIGUADOR DEL IZQ VERSA 12- 19 NOTE 13-17 GAS KABUTO       = E4303-3AN0CSFT = SANN0902",424.39,1,2,2,1,3,2,{"$f":"+IFERROR(HYPERLINK(VLOOKUP(C859,FOTOGRAFICO!C:E,3,FALSE),C859),\"\")","v":"E43033AN0C-KB"}]
[null,null,"E4303-3AN0CSFT","AMORTIGUAD","AMORTIGUADOR DEL IZQ VERSA 12- 19 NOTE 13-17 GAS SAFETY       = KYB332153 = SANN0902",478.6,4,22,9,10,16,8,{"$f":"+IFERROR(HYPERLINK(VLOOKUP(C860,FOTOGRAFICO!C:E,3,FALSE),C860),\"\")","v":"E4303-3AN0CSFT"}]
[null,null,"E4303-3SH1CSFT","AMORTIGUAD","AMORTIGUADOR DEL IZQ SENTRA    13-19 GAS MARCA SAFETY MP8627",807.72,0,2,2,0,2,0,{"$f":"+IFERROR(HYPERLINK(VLOOKUP(C861,FOTOGRAFICO!C:E,3,FALSE),C861),\"\")","v":""}]
[null,null,"E4303-ET02BSFT","AMORTIGUAD","AMORTIGUADOR DEL IZQ SENTRA    07-12 GAS MARCA SAFETY MP8501",752.87,0,2,2,0,2,0,{"$f":"+IFERROR(HYPERLINK(VLOOKUP(C862,FOTOGRAFICO!C:E,3,FALSE),C862),\"\")","v":""}]
[null,null,"E61103XA0A-KB","AMORTIGUAD","AMORTIGUADOR DEL URVAN NV350   14-20 GAS KABUTO               = GAB72012-AUSA = SANN0430",307.68,1,2,2,6,0,2,{"$f":"+IFERROR(HYPERLINK(VLOOKUP(C863,FOTOGRAFICO!C:E,3,FALSE),C863),\"\")","v":"E61103XA0A-KB"}]
[null,null,"E6110-3XA0ASFT","AMORTIGUAD","AMORTIGUADOR DEL URVAN NV350   14-23 GAS MARCA SAFETY 930 226",382.6,0,0,0,0,2,0,{"$f":"+IFERROR(HYPERLINK(VLOOKUP(C864,FOTOGRAFICO!C:E,3,FALSE),C864),\"\")","v":""}]
[null,null,"E6210-1HK0BSFT","AMORTIGUAD","AMORTIGUADOR TRAS MARCH 11-23  VERSA 12-19 NOTE 12-19 V-DRIVE 20-22 GAS MARCA SAFETY 832710",0,0,0,0,0,0,0,{"$f":"+IFERROR(HYPERLINK(VLOOKUP(C865,FOTOGRAFICO!C:E,3,FALSE),C865),\"\")","v":""}]
[null,null,"E62103AN0C-KB","AMORTIGUAD","AMORTIGUADOR TRAS VERSA 12-19  NOTE 13-17 MARCH 11-17 GAS     MARCA KABUTO",254.63,0,2,4,1,0,3,{"$f":"+IFERROR(HYPERLINK(VLOOKUP(C866,FOTOGRAFICO!C:E,3,FALSE),C866),\"\")","v":"E62103AN0C-KB"}]
[null,null,"E6210-3AN0CSFT","AMORTIGUAD","AMORTIGUADOR TRAS VERSA 12-19  NOTE 13-17 MARCH 11-17 GAS     SAFETY IMPORTADO",286.61,1,1,2,0,9,5,{"$f":"+IFERROR(HYPERLINK(VLOOKUP(C867,FOTOGRAFICO!C:E,3,FALSE),C867),\"\")","v":"E6210-3AN0CSFT"}]
[null,null,"E62103AN0CSPROMO","AMORTIGUAD","AMORTIGUADOR TRAS VERSA 12-19  NOTE 13-17 MARCH 11-17 GAS     SAFETY IMPORTADO",410.03,0,0,1,0,0,0,{"$f":"+IFERROR(HYPERLINK(VLOOKUP(C868,FOTOGRAFICO!C:E,3,FALSE),C868),\"\")","v":""}]
[null,null,"E6210-3SH1CSFT","AMORTIGUAD","AMORTIGUADOR TRAS SENTRA 13-19 GAS MARCA SAFETY 832668",451.17,0,2,2,0,2,0,{"$f":"+IFERROR(HYPERLINK(VLOOKUP(C869,FOTOGRAFICO!C:E,3,FALSE),C869),\"\")","v":""}]
[null,null,"E6210-3UB0ASFT","AMORTIGUAD","AMORTIGUADOR TRAS X-TRAIL      08-14 ROGUE 08-14 KOLEOS 09-16 GAS MARCA SAFETY 930 163",451.17,0,2,2,0,2,0,{"$f":"+IFERROR(HYPERLINK(VLOOKUP(C870,FOTOGRAFICO!C:E,3,FALSE),C870),\"\")","v":""}]
[null,null,"E6210EL00A-KB","AMORTIGUAD","AMORTIGUADOR TRAS TIIDA 06-18  GAS MARCA KABUTO               = KYB343458 = E6210-EL00ASFT",265.24,2,2,2,10,2,5,{"$f":"+IFERROR(HYPERLINK(VLOOKUP(C871,FOTOGRAFICO!C:E,3,FALSE),C871),\"\")","v":"E6210EL00A-KB"}]
[null,null,"E6210-EL00ASFT","AMORTIGUAD","AMORTIGUADOR TRAS TIIDA 06-18  GAS SAFETY IMPORTADO           = BOG832601 = KYB343458",267.77999999999997,1,0,2,11,11,9,{"$f":"+IFERROR(HYPERLINK(VLOOKUP(C872,FOTOGRAFICO!C:E,3,FALSE),C872),\"\")","v":""}]
[null,null,"EUR1H6827550A","AMORTIGUAD","AMORTIGUADOR 5A PUERTA GOLF A3 93-99 TAPA TRASERA BRUCK       GERMANY",186.31,16,0,2,9,0,8,{"$f":"+IFERROR(HYPERLINK(VLOOKUP(C873,FOTOGRAFICO!C:E,3,FALSE),C873),\"\")","v":""}]
[null,null,"GAB15066","AMORTIGUAD","AMORTIGUADOR DIR COMBI 72-01   PANEL CARABELLE BUJE BUJE      HIDRAULICO GABRIEL = BOG22002",634.85,5,0,0,2,1,1,{"$f":"+IFERROR(HYPERLINK(VLOOKUP(C874,FOTOGRAFICO!C:E,3,FALSE),C874),\"\")","v":""}]
[null,null,"GAB164030","AMORTIGUAD","AMORTIGUADOR DEL COMBI 72-01   PANEL CARABELLE CON RESORTE    HIDRAULICO BOGE MEXICO",887.22,7,0,0,0,0,0,{"$f":"+IFERROR(HYPERLINK(VLOOKUP(C875,FOTOGRAFICO!C:E,3,FALSE),C875),\"\")","v":""}]
[null,null,"GAB638538","AMORTIGUAD","AMORTIGUADOR DEL CHEVY 94-12   CHEVY PICKUP 98-04 HIDRAULICO  GABRIEL = MIZ214T6000",666.04,1,0,0,0,0,0,{"$f":"+IFERROR(HYPERLINK(VLOOKUP(C876,FOTOGRAFICO!C:E,3,FALSE),C876),\"\")","v":""}]
[null,null,"GAB72012-AUSA","AMORTIGUAD","AMORTIGUADOR DEL URVAN NV350   14-20 GAS GABRIEL              = KYB3440025 = SANN0430",935.33,2,0,3,4,2,1,{"$f":"+IFERROR(HYPERLINK(VLOOKUP(C877,FOTOGRAFICO!C:E,3,FALSE),C877),\"\")","v":""}]
[null,null,"GAB72013-A","AMORTIGUAD","AMORTIGUADOR TRAS URVAN NV350  14-20 GAS GABRIEL              = KYB3440026 = SANN0480",840.08,1,0,0,0,0,0,{"$f":"+IFERROR(HYPERLINK(VLOOKUP(C878,FOTOGRAFICO!C:E,3,FALSE),C878),\"\")","v":""}]
[null,null,"GAB79063","AMORTIGUAD","AMORTIGUADOR DEL FIESTA 98-02  FIESTA IKON 01-08 GAS GABRIEL  = BOGMP8283",1053.29,2,0,0,2,0,2,{"$f":"+IFERROR(HYPERLINK(VLOOKUP(C879,FOTOGRAFICO!C:E,3,FALSE),C879),\"\")","v":""}]
[null,null,"GM9038870","AMORTIGUAD","AMORTIGUADOR 5A PUERTA CHEVY   94-12 5 PUERTAS TAPA TRASERA   SMIDTD IMPORTADO",155.19,10,4,1,3,1,2,{"$f":"+IFERROR(HYPERLINK(VLOOKUP(C880,FOTOGRAFICO!C:E,3,FALSE),C880),\"\")","v":""}]
[null,null,"KYB234902","AMORTIGUAD","AMORTIGUADOR DEL NEON 94-99    MARCA KYB PEDIDO MIGUEL",980.65,0,0,0,0,0,0,{"$f":"+IFERROR(HYPERLINK(VLOOKUP(C881,FOTOGRAFICO!C:E,3,FALSE),C881),\"\")","v":""}]
[null,null,"KYB332144","AMORTIGUAD","AMORTIGUADOR DEL DERECHO MARCH 12-14 MCA: KYB JAPAN           SOBRE PEDIDO DANIEL CASTILLO",1188.26,0,0,0,0,0,0,{"$f":"+IFERROR(HYPERLINK(VLOOKUP(C882,FOTOGRAFICO!C:E,3,FALSE),C882),\"\")","v":""}]
[null,null,"KYB332145","AMORTIGUAD","AMORTIGUADOR DEL IZQUIER MARCH 12-14 MCA: KYB JAPAN           SOBRE PEDIDO DANIEL CASTILLO",1188.26,0,0,0,0,0,0,{"$f":"+IFERROR(HYPERLINK(VLOOKUP(C883,FOTOGRAFICO!C:E,3,FALSE),C883),\"\")","v":""}]
[null,null,"KYB332152","AMORTIGUAD","AMORTIGUADOR DEL DER VERSA 12- 19 NOTE 13-17 GAS KYB JAPONES  = E4302-3AN0CSFT = SANN0901",1450.57,1,9,1,2,0,2,{"$f":"+IFERROR(HYPERLINK(VLOOKUP(C884,FOTOGRAFICO!C:E,3,FALSE),C884),\"\")","v":""}]
[null,null,"KYB332153","AMORTIGUAD","AMORTIGUADOR DEL IZQ VERSA 12- 19 NOTE 13-17 GAS KYB JAPONES  = E4303-3AN0CSFT = SANN0902",1450.57,2,9,1,1,0,3,{"$f":"+IFERROR(HYPERLINK(VLOOKUP(C885,FOTOGRAFICO!C:E,3,FALSE),C885),\"\")","v":""}]
[null,null,"KYB333390","AMORTIGUAD","AMORTIGUADOR DEL DER TIIDA 06- 18 GAS KYB JAPONES             = BOGMP8520 = E4032-EL00ASFT",1186.24,4,4,1,2,1,4,{"$f":"+IFERROR(HYPERLINK(VLOOKUP(C886,FOTOGRAFICO!C:E,3,FALSE),C886),\"\")","v":""}]
[null,null,"KYB333391","AMORTIGUAD","AMORTIGUADOR DEL IZQ TIIDA 06- 18 GAS KYB JAPONES             = BOGMP8521 = E4033-EL00ASFT",1186.24,4,3,3,4,1,4,{"$f":"+IFERROR(HYPERLINK(VLOOKUP(C887,FOTOGRAFICO!C:E,3,FALSE),C887),\"\")","v":""}]
[null,null,"KYB333417","AMORTIGUAD","AMORTIGUADOR DEL DER AVEO 08-  18 PONTIAC G3 06-09 GAS KYB    JAPON = BOGMP8536 = MON400295",1384.49,2,2,1,4,2,2,{"$f":"+IFERROR(HYPERLINK(VLOOKUP(C888,FOTOGRAFICO!C:E,3,FALSE),C888),\"\")","v":""}]
[null,null,"KYB333418","AMORTIGUAD","AMORTIGUADOR DEL IZQ AVEO 08-  18 PONTIAC G3 06-09 GAS KYB    JAPON = BOGMP8537 = MON400296",1384.49,0,3,4,3,2,2,{"$f":"+IFERROR(HYPERLINK(VLOOKUP(C889,FOTOGRAFICO!C:E,3,FALSE),C889),\"\")","v":""}]
[null,null,"KYB333516","AMORTIGUAD","AMORTIGUADOR DEL DER ATTITUDE  05-11 GAS KYB JAPONES",1842.12,0,0,1,0,0,0,{"$f":"+IFERROR(HYPERLINK(VLOOKUP(C890,FOTOGRAFICO!C:E,3,FALSE),C890),\"\")","v":""}]
[null,null,"KYB333517","AMORTIGUAD","AMORTIGUADOR DEL IZQ ATTITUDE  05-11 GAS KYB JAPONES",1842.12,0,0,0,0,1,0,{"$f":"+IFERROR(HYPERLINK(VLOOKUP(C891,FOTOGRAFICO!C:E,3,FALSE),C891),\"\")","v":""}]
[null,null,"KYB333708","AMORTIGUAD","AMORTIGUADOR DEL PLATINA 02-10 CLIO 02-09 GAS KYB JAPONES     = BOGMP8298 = MIZSANN0300",959.89,0,0,0,0,6,4,{"$f":"+IFERROR(HYPERLINK(VLOOKUP(C892,FOTOGRAFICO!C:E,3,FALSE),C892),\"\")","v":""}]
[null,null,"KYB3338035","AMORTIGUAD","AMORTIGUADOR DELANTE EURO CLIO PIDE DANIEL CASTILLO           MARCA KYB",1381.18,0,0,0,0,0,0,{"$f":"+IFERROR(HYPERLINK(VLOOKUP(C893,FOTOGRAFICO!C:E,3,FALSE),C893),\"\")","v":""}]
[null,null,"KYB3338038","AMORTIGUAD","AMORTIGUADOR DEL VW UP 16-18   MARCA: KYB PEDIDO ROBERTO",1338.38,0,0,0,0,0,0,{"$f":"+IFERROR(HYPERLINK(VLOOKUP(C894,FOTOGRAFICO!C:E,3,FALSE),C894),\"\")","v":""}]
[null,null,"KYB3340125","AMORTIGUAD","AMORTIGUADOR DEL ECOSPORT 07-  12 AUTOMATICA KYB",1567.88,0,0,0,0,0,0,{"$f":"+IFERROR(HYPERLINK(VLOOKUP(C895,FOTOGRAFICO!C:E,3,FALSE),C895),\"\")","v":""}]
[null,null,"KYB334812","AMORTIGUAD","AMORTIGUADOR DEL GOLF JETTA A4 99-12 CLASICO 11-13 BEETLE     99-10 TOLEDO 01-08 GAS KYB",1194.49,10,8,4,12,6,8,{"$f":"+IFERROR(HYPERLINK(VLOOKUP(C896,FOTOGRAFICO!C:E,3,FALSE),C896),\"\")","v":""}]
[null,null,"KYB334835","AMORTIGUAD","AMORTIGUADOR DEL GOL 08-17     POLO 03-08 LUPO 04-08 CORDOBA  03-09 IBIZA 03-09 GAS KYB JAPO",1135.01,6,0,0,0,0,0,{"$f":"+IFERROR(HYPERLINK(VLOOKUP(C897,FOTOGRAFICO!C:E,3,FALSE),C897),\"\")","v":""}]
[null,null,"KYB338742","AMORTIGUAD","AMORTIGUADOR DEL FIESTA 03-10  SEDAN HATCHBACK GAS KYB        JAPONES S/PEDIDO JAVIER",701.13,0,0,0,0,0,0,{"$f":"+IFERROR(HYPERLINK(VLOOKUP(C898,FOTOGRAFICO!C:E,3,FALSE),C898),\"\")","v":""}]
[null,null,"KYB339186","AMORTIGUAD","AMORTIGUADOR DEL DER SUZUKI    SX4 07-14                      SOBRE PEDIDO",1347.98,0,0,0,0,0,0,{"$f":"+IFERROR(HYPERLINK(VLOOKUP(C899,FOTOGRAFICO!C:E,3,FALSE),C899),\"\")","v":""}]
[null,null,"KYB339187","AMORTIGUAD","AMORTIGUADOR DEL IZQ SUZUKI    SX4 SX5 07-10",1347.98,0,0,0,0,0,0,{"$f":"+IFERROR(HYPERLINK(VLOOKUP(C900,FOTOGRAFICO!C:E,3,FALSE),C900),\"\")","v":""}]
[null,null,"KYB343328","AMORTIGUAD","AMORTIGUADOR TRAS POLO 03-08   LUPO 04-08 CORDOBA 03-09 IBIZA 03-09 GAS KYB JAPONES",672.42,2,0,0,0,0,2,{"$f":"+IFERROR(HYPERLINK(VLOOKUP(C901,FOTOGRAFICO!C:E,3,FALSE),C901),\"\")","v":""}]
[null,null,"KYB343348","AMORTIGUAD","AMORTIGUADO TRAS GOLF JETTA A4 99-12 CLASICO 11-13 BEETLE     99-10 TOLEDO 01-15 GAS KYB",606.33000000000004,8,8,4,4,8,4,{"$f":"+IFERROR(HYPERLINK(VLOOKUP(C902,FOTOGRAFICO!C:E,3,FALSE),C902),\"\")","v":""}]
[null,null,"KYB343413","AMORTIGUAD","AMORTIGUADOR TRAS MAZDA 3      FOCUS 08-11 MARCA KYB PIDE     JAZMANO",864.06,0,0,0,0,0,0,{"$f":"+IFERROR(HYPERLINK(VLOOKUP(C903,FOTOGRAFICO!C:E,3,FALSE),C903),\"\")","v":""}]
[null,null,"KYB343423","AMORTIGUAD","AMORTIGUADOR TRAS AVEO 08-18   PONTIAC G3 06-09 GAS KYB       JAPON = BOG832603 = MON250794",672.42,4,0,2,4,0,6,{"$f":"+IFERROR(HYPERLINK(VLOOKUP(C904,FOTOGRAFICO!C:E,3,FALSE),C904),\"\")","v":""}]
[null,null,"KYB343425","AMORTIGUAD","AMORTIGUADOR TRAS URVAN 99-13  FORD F-350 SUPER DUTY 99-06    FRONTIER 98-04 GAS KYB JAPONES",571.63,12,0,10,10,0,4,{"$f":"+IFERROR(HYPERLINK(VLOOKUP(C905,FOTOGRAFICO!C:E,3,FALSE),C905),\"\")","v":""}]
[null,null,"KYB343458","AMORTIGUAD","AMORTIGUADOR TRAS TIIDA 06-18  GAS KYB JAPONES                = BOG832601 = E6210-EL00ASFT",878.93,8,2,10,0,0,0,{"$f":"+IFERROR(HYPERLINK(VLOOKUP(C906,FOTOGRAFICO!C:E,3,FALSE),C906),\"\")","v":""}]
[null,null,"KYB343462","AMORTIGUAD","AMORTIGUADOR TRAS PLATINA 02-  10 CLIO 02-09 GAS KYB JAPONES  = MIZSANN0350 = BOG832480",690.59,4,2,4,4,0,4,{"$f":"+IFERROR(HYPERLINK(VLOOKUP(C907,FOTOGRAFICO!C:E,3,FALSE),C907),\"\")","v":""}]
[null,null,"KYB3440025","AMORTIGUAD","AMORTIGUADOR DEL URVAN NV350   14-20 GAS KYB JAPONES          = GAB72012-AUSA = SANN0430",839.28,12,0,3,17,4,4,{"$f":"+IFERROR(HYPERLINK(VLOOKUP(C908,FOTOGRAFICO!C:E,3,FALSE),C908),\"\")","v":""}]
[null,null,"KYB3440026","AMORTIGUAD","AMORTIGUADOR TRAS URVAN NV350  14-20 GAS KYB JAPONES          = GAB72013-A = SANN0480",753.37,18,0,10,13,2,2,{"$f":"+IFERROR(HYPERLINK(VLOOKUP(C909,FOTOGRAFICO!C:E,3,FALSE),C909),\"\")","v":""}]
[null,null,"KYB344204","AMORTIGUAD","AMORTIGUADOR TRAS HIACE 05-17  GAS KYB JAPONES = GAB69095",672.42,10,0,10,8,4,4,{"$f":"+IFERROR(HYPERLINK(VLOOKUP(C910,FOTOGRAFICO!C:E,3,FALSE),C910),\"\")","v":""}]
[null,null,"KYB344463","AMORTIGUAD","AMORTIGUADOR DEL URVAN 02-13   GAS KYB JAPONES                = BOG835239 = NIS56110-VW025",579.9,14,0,6,9,1,6,{"$f":"+IFERROR(HYPERLINK(VLOOKUP(C911,FOTOGRAFICO!C:E,3,FALSE),C911),\"\")","v":""}]
[null,null,"KYB344493","AMORTIGUAD","AMORTIGUADOR DEL HIACE 05-17   GAS KYB JAPONES",708.76,9,0,15,19,4,8,{"$f":"+IFERROR(HYPERLINK(VLOOKUP(C912,FOTOGRAFICO!C:E,3,FALSE),C912),\"\")","v":""}]
[null,null,"KYB344810","AMORTIGUAD","AMORTIGUAD TRASERO EURO CLIO   07-09 PIDE DANIEL CASTILLO     MARCA KYB",1177.97,0,0,0,0,0,0,{"$f":"+IFERROR(HYPERLINK(VLOOKUP(C913,FOTOGRAFICO!C:E,3,FALSE),C913),\"\")","v":"KYB344810"}]
[null,null,"KYB348004","AMORTIGUAD","AMORTIGUADOR TRASERO FIESTA 03 -10 IKON 07-                   SOBRE PEDIDO JAVIER CLAUDIO",589.33000000000004,0,0,0,0,0,0,{"$f":"+IFERROR(HYPERLINK(VLOOKUP(C914,FOTOGRAFICO!C:E,3,FALSE),C914),\"\")","v":""}]
[null,null,"KYB348029","AMORTIGUAD","AMORTIGUADOR TRAS VERSA 12-19  NOTE 13-17 MARCH 11-17 GAS     KYB JAPONES",1063.97,4,4,0,4,0,2,{"$f":"+IFERROR(HYPERLINK(VLOOKUP(C915,FOTOGRAFICO!C:E,3,FALSE),C915),\"\")","v":""}]
[null,null,"KYB348083","AMORTIGUAD","AMORTIGUADOR TRAS ATTITUDE 08- 17 KYB",1201.07,0,0,0,0,0,0,{"$f":"+IFERROR(HYPERLINK(VLOOKUP(C916,FOTOGRAFICO!C:E,3,FALSE),C916),\"\")","v":""}]
[null,null,"KYB632072","AMORTIGUAD","AMORTIGUADOR TRAS DER TSURU    III 92-17 HIDRAULICO KYB       JAPONES = MIZ107T6601",436.06,25,11,4,7,13,10,{"$f":"+IFERROR(HYPERLINK(VLOOKUP(C917,FOTOGRAFICO!C:E,3,FALSE),C917),\"\")","v":""}]
[null,null,"KYB632073","AMORTIGUAD","AMORTIGUADOR TRAS IZQ TSURU    III 92-17 HIDRAULICO KYB       JAPONES = MON400874",436.06,35,8,4,6,16,12,{"$f":"+IFERROR(HYPERLINK(VLOOKUP(C918,FOTOGRAFICO!C:E,3,FALSE),C918),\"\")","v":""}]
[null,null,"KYB633115","AMORTIGUAD","AMORTIGUADOR DEL DER TSURU III 92-17 TSUBAME 93-04 HIDRAULICO KYB JAPONES = 54302-F4200SFT",436.06,25,18,5,6,11,12,{"$f":"+IFERROR(HYPERLINK(VLOOKUP(C919,FOTOGRAFICO!C:E,3,FALSE),C919),\"\")","v":""}]
[null,null,"KYB633116","AMORTIGUAD","AMORTIGUADOR DEL IZQ TSURU III 92-17 TSUBAME 93-04 HIDRAULICO KYB JAPONES = BOGMP105",436.06,21,18,5,7,10,12,{"$f":"+IFERROR(HYPERLINK(VLOOKUP(C920,FOTOGRAFICO!C:E,3,FALSE),C920),\"\")","v":""}]
[null,null,"KYB664024","AMORTIGUAD","AMORTIGUADOR DEL POINTER 01-09 HIDRAULICOS MARCA KYB          PEDIDO ROBERTO MUNOZ",530.24,0,0,0,0,0,0,{"$f":"+IFERROR(HYPERLINK(VLOOKUP(C921,FOTOGRAFICO!C:E,3,FALSE),C921),\"\")","v":""}]
[null,null,"KYB7000265","AMORTIGUAD","AMORTIG DEL SILVERADO GAS      GMC SIERRA 1500 07/13 EXCEPTO  SUSP ELECTRONICA",1308.9100000000001,0,0,0,0,0,0,{"$f":"+IFERROR(HYPERLINK(VLOOKUP(C922,FOTOGRAFICO!C:E,3,FALSE),C922),\"\")","v":""}]
[null,null,"M5T11005","AMORTIGUAD","AMORTIGUADOR TRAS AVEO 08-18   PONTIAC G3 06-09 GAS AC DELCO  = KYB343423 = MON250794",702.93,0,4,4,4,4,4,{"$f":"+IFERROR(HYPERLINK(VLOOKUP(C923,FOTOGRAFICO!C:E,3,FALSE),C923),\"\")","v":"M5T11005"}]
[null,null,"M5T11006","AMORTIGUAD","AMORTIGUADOR DEL DER MATIZ 06- 16 GAS MARCA AC DELCO ACDELCO  = KYB332504 = 96424026SFT",1086.67,2,2,2,1,2,1,{"$f":"+IFERROR(HYPERLINK(VLOOKUP(C924,FOTOGRAFICO!C:E,3,FALSE),C924),\"\")","v":"M5T11006"}]
[null,null,"M5T11007","AMORTIGUAD","AMORTIGUADOR DEL IZQ MATIZ 06- 16 GAS MCA AC DELCO =BOGMP8567 = KYB332505 = 96424025SFT",1086.67,2,2,2,1,2,2,{"$f":"+IFERROR(HYPERLINK(VLOOKUP(C925,FOTOGRAFICO!C:E,3,FALSE),C925),\"\")","v":"M5T11007"}]
[null,null,"M5T11008","AMORTIGUAD","AMORTIGUADOR TRAS MATIZ 06-16  MARCA AC DELCO ACDELCO  GAS    = 96424027SFT = BOG832620",556.15,2,4,4,6,4,4,{"$f":"+IFERROR(HYPERLINK(VLOOKUP(C926,FOTOGRAFICO!C:E,3,FALSE),C926),\"\")","v":"M5T11008"}]
[null,null,"MIZ107T6001","AMORTIGUAD","AMORTIGUADOR DEL DER TSURU III 92-17 TSUBAME 93-04 HIDRAULICO YOKOMITSU IMP = BOGMP104",506.43,3,0,0,0,0,0,{"$f":"+IFERROR(HYPERLINK(VLOOKUP(C927,FOTOGRAFICO!C:E,3,FALSE),C927),\"\")","v":""}]
[null,null,"MIZ107T6002","AMORTIGUAD","AMORTIGUADOR DEL IZQ TSURU III 92-17 TSUBAME 93-04 HIDRAULICO YOKOMITSU IMP = MON400872",421.56,3,10,0,0,0,0,{"$f":"+IFERROR(HYPERLINK(VLOOKUP(C928,FOTOGRAFICO!C:E,3,FALSE),C928),\"\")","v":""}]
[null,null,"MIZ107T6601","AMORTIGUAD","AMORTIGUADOR TRAS DER TSURU    III 92-17 HIDRAULICO YOKOMITSU IMPORTADO = 55302-F4200SFT",563.02,0,0,0,0,0,0,{"$f":"+IFERROR(HYPERLINK(VLOOKUP(C929,FOTOGRAFICO!C:E,3,FALSE),C929),\"\")","v":""}]
[null,null,"MIZ107T6602","AMORTIGUAD","AMORTIGUADOR TRAS IZQ TSURU    III 92-17 HIDRAULICO YOKOMITSU IMPORTADO = KYB632073",563.02,0,6,0,0,0,0,{"$f":"+IFERROR(HYPERLINK(VLOOKUP(C930,FOTOGRAFICO!C:E,3,FALSE),C930),\"\")","v":""}]
[null,null,"MIZ118T6001","AMORTIGUAD","AMORTIGUADOR DEL DER SENTRA    01-06 GAS SAFETY IMPORTADO     = BOGMP8252",725.44,0,1,8,2,0,7,{"$f":"+IFERROR(HYPERLINK(VLOOKUP(C931,FOTOGRAFICO!C:E,3,FALSE),C931),\"\")","v":""}]
[null,null,"MIZ118T6002","AMORTIGUAD","AMORTIGUADOR DEL IZQ SENTRA    01-06 GAS SAFETY IMPORTADO     = BOGMP8251",725.44,0,0,4,0,3,3,{"$f":"+IFERROR(HYPERLINK(VLOOKUP(C932,FOTOGRAFICO!C:E,3,FALSE),C932),\"\")","v":""}]
[null,null,"MIZ214T6000","AMORTIGUAD","AMORTIGUADOR DEL CHEVY 94-12   CHEVY PICKUP 98-04 HIDRAULICO  YOKOMITSU IMP = BOGMP148",350.82,0,0,35,17,3,12,{"$f":"+IFERROR(HYPERLINK(VLOOKUP(C933,FOTOGRAFICO!C:E,3,FALSE),C933),\"\")","v":""}]
[null,null,"MIZ214T6600","AMORTIGUAD","AMORTIGUADOR TRAS CHEVY 94-12  CORSA SEDAN 02-08 HI YOKOMITSU = BOG32291 = MON250147",280.08999999999997,0,0,19,13,0,13,{"$f":"+IFERROR(HYPERLINK(VLOOKUP(C934,FOTOGRAFICO!C:E,3,FALSE),C934),\"\")","v":""}]
[null,null,"MIZ214T6600-OP","AMORTIGUAD","AMORTIGUADOR TRAS CHEVY 94-12  CORSA SEDAN 02-08 HI YOKOMITSU = BOG32291 = MON250147",195.21,0,0,0,0,1,0,{"$f":"+IFERROR(HYPERLINK(VLOOKUP(C935,FOTOGRAFICO!C:E,3,FALSE),C935),\"\")","v":"MIZ214T6600-OP"}]
[null,null,"MIZ422T6000","AMORTIGUAD","AMORTIGUADOR DEL ATOS 00-13    HIDRAULICO SAFETY IMPORTADO    = BOGMP307 = MON72890",596.53,0,0,5,1,5,8,{"$f":"+IFERROR(HYPERLINK(VLOOKUP(C936,FOTOGRAFICO!C:E,3,FALSE),C936),\"\")","v":""}]
[null,null,"MIZ422T6600","AMORTIGUAD","AMORTIGUADOR TRAS ATOS 00-13   HIDRAULICO SAFETY IMPORTADO    = MON5695 = BOG32482",286.61,11,2,18,15,2,4,{"$f":"+IFERROR(HYPERLINK(VLOOKUP(C937,FOTOGRAFICO!C:E,3,FALSE),C937),\"\")","v":""}]
[null,null,"MIZ501T6000","AMORTIGUAD","AMORTIGUADOR DEL GOLF JETTA A2 87-91 CARTUCHO GAS SAFETY      IMPORTADO",370.64,0,1,0,0,2,0,{"$f":"+IFERROR(HYPERLINK(VLOOKUP(C938,FOTOGRAFICO!C:E,3,FALSE),C938),\"\")","v":""}]
[null,null,"MIZ516T6000","AMORTIGUAD","AMORTIGUADOR DEL EUROVAN 01-04 2.8 GAS YOKOMITSU IMPORTADO    = BOG832484",393.26,0,0,0,13,0,6,{"$f":"+IFERROR(HYPERLINK(VLOOKUP(C939,FOTOGRAFICO!C:E,3,FALSE),C939),\"\")","v":""}]
[null,null,"MIZSANN0300","AMORTIGUAD","AMORTIGUADOR DEL PLATINA 02-10 CLIO 02-09 GAS SAFETY          = BOGMP8298 = KYB333708",766.58,3,0,5,0,0,0,{"$f":"+IFERROR(HYPERLINK(VLOOKUP(C940,FOTOGRAFICO!C:E,3,FALSE),C940),\"\")","v":""}]
[null,null,"MIZSANN0350","AMORTIGUAD","AMORTIGUADOR TRAS PLATINA 02-  10 CLIO 02-09 GAS C/GOMA REBOT SAFETY IMP = BOG832480",410.03,0,0,0,0,4,0,{"$f":"+IFERROR(HYPERLINK(VLOOKUP(C941,FOTOGRAFICO!C:E,3,FALSE),C941),\"\")","v":""}]
[null,null,"MIZSANV1300","AMORTIGUAD","AMORTIGUADOR DEL GOL 08-17     POLO 03-08 LUPO 04-08 CORDOBA  03-09 IBIZA 03-09 GAS YOKOMITS",482.88,0,0,0,0,0,0,{"$f":"+IFERROR(HYPERLINK(VLOOKUP(C942,FOTOGRAFICO!C:E,3,FALSE),C942),\"\")","v":""}]
[null,null,"MON250089","AMORTIGUAD","AMORTIGUADOR TRAS VW SEDAN 52- 03 SAFARI 71-81 BRASILIA 74-83 HIDRAULICO MONROE",180.89,13,15,11,14,9,16,{"$f":"+IFERROR(HYPERLINK(VLOOKUP(C943,FOTOGRAFICO!C:E,3,FALSE),C943),\"\")","v":"MON250089"}]
[null,null,"MON250147","AMORTIGUAD","AMORTIGUADOR TRAS CHEVY 94-12  CORSA SEDAN 02-08 HIDRA MONROE = BOG32291 = 832291SFT",266.17,11,10,30,18,14,14,{"$f":"+IFERROR(HYPERLINK(VLOOKUP(C944,FOTOGRAFICO!C:E,3,FALSE),C944),\"\")","v":"MON250147"}]
[null,null,"MON250197","AMORTIGUAD","AMORTIGUADOR TRAS PLATINA 02-  10 CLIO 02-09 HIDRAULIC MONROE = MIZSANN0350 = BOG832480",582.73,0,0,3,8,4,4,{"$f":"+IFERROR(HYPERLINK(VLOOKUP(C945,FOTOGRAFICO!C:E,3,FALSE),C945),\"\")","v":"MON250197"}]
[null,null,"MON250538","AMORTIGUAD","AMORTIGUADOR DEL VW SEDAN 73-  03 SAFARI 71-81 BRASILIA 74-83 HIDRAULICO MONROE",188.64,12,28,8,16,3,6,{"$f":"+IFERROR(HYPERLINK(VLOOKUP(C946,FOTOGRAFICO!C:E,3,FALSE),C946),\"\")","v":"MON250538"}]
[null,null,"MON250794","AMORTIGUAD","AMORTIGUADOR TRAS AVEO 08-18   PONTIAC G3 06-09 GAS MONROE    = BOG832603 = KYB343423",468.46,10,13,9,7,0,8,{"$f":"+IFERROR(HYPERLINK(VLOOKUP(C947,FOTOGRAFICO!C:E,3,FALSE),C947),\"\")","v":"MON250794"}]
[null,null,"MON400004","AMORTIGUAD","AMORTIGUADOR DEL CHEVY 94-12   CHEVY PICKUP 98-04 HIDRAULICO  MONROE = BOGMP148",631.84,23,4,18,26,6,8,{"$f":"+IFERROR(HYPERLINK(VLOOKUP(C948,FOTOGRAFICO!C:E,3,FALSE),C948),\"\")","v":"MON400004"}]
[null,null,"MON400005","AMORTIGUAD","AMORTIGUADOR TRAS GOL 08-17    POINTER 98-09 HIDRAULICO       MONROE = BOG32369 = GAB30210",403.13,15,19,14,14,13,11,{"$f":"+IFERROR(HYPERLINK(VLOOKUP(C949,FOTOGRAFICO!C:E,3,FALSE),C949),\"\")","v":"MON400005"}]
[null,null,"MON400017","AMORTIGUAD","AMORTIGUADOR DEL PLATINA 02-10 CLIO 02-09 HIDRAULICO MONROE   = BOGMP8298 = KYB333708",702.89,8,5,4,6,8,4,{"$f":"+IFERROR(HYPERLINK(VLOOKUP(C950,FOTOGRAFICO!C:E,3,FALSE),C950),\"\")","v":"MON400017"}]
[null,null,"MON400295","AMORTIGUAD","AMORTIGUADOR DEL DER AVEO 08-  18 PONTIAC G3 06-09 GAS MONROE = BOGMP8536 = KYB333417",911.2,4,10,8,11,11,3,{"$f":"+IFERROR(HYPERLINK(VLOOKUP(C951,FOTOGRAFICO!C:E,3,FALSE),C951),\"\")","v":"MON400295"}]
[null,null,"MON400296","AMORTIGUAD","AMORTIGUADOR DEL IZQ AVEO 08-  18 PONTIAC G3 06-09 GAS MONROE = BOGMP8537 = KYB333418",911.2,4,10,8,9,3,3,{"$f":"+IFERROR(HYPERLINK(VLOOKUP(C952,FOTOGRAFICO!C:E,3,FALSE),C952),\"\")","v":"MON400296"}]
[null,null,"MON400871","AMORTIGUAD","AMORTIGUADOR DEL DER TSURU III 92-17 TSUBAME 93-04 HIDRAULICO MONROE = KYB633115",426.39,13,5,7,14,10,3,{"$f":"+IFERROR(HYPERLINK(VLOOKUP(C953,FOTOGRAFICO!C:E,3,FALSE),C953),\"\")","v":"MON400871"}]
[null,null,"MON400872","AMORTIGUAD","AMORTIGUADOR DEL IZQ TSURU III 92-17 TSUBAME 93-04 HIDRAULICO MONROE = 54303-F4200SFT",426.38,11,6,7,14,11,3,{"$f":"+IFERROR(HYPERLINK(VLOOKUP(C954,FOTOGRAFICO!C:E,3,FALSE),C954),\"\")","v":"MON400872"}]
[null,null,"MON400873","AMORTIGUAD","AMORTIGUADOR TRAS DER TSURU    III 92-17 HIDRAULICO MONROE    = MONMW873 = 55302-F4200SFT",426.39,19,4,1,15,10,2,{"$f":"+IFERROR(HYPERLINK(VLOOKUP(C955,FOTOGRAFICO!C:E,3,FALSE),C955),\"\")","v":"MON400873"}]
[null,null,"MON400874","AMORTIGUAD","AMORTIGUADOR TRAS IZQ TSURU    III 92-17 HIDRAULICO MONROE    = 55303-F4200SFT = MIZ107T6602",426.39,22,4,4,11,10,5,{"$f":"+IFERROR(HYPERLINK(VLOOKUP(C956,FOTOGRAFICO!C:E,3,FALSE),C956),\"\")","v":"MON400874"}]
[null,null,"MON400888","AMORTIGUAD","AMORTIGUADOR DEL POINTER 98-09 POINTER PICKUP 98-10 CARTUCHO  HIDRAULICO MONROE = BOGCR273",423.8,13,6,10,24,3,5,{"$f":"+IFERROR(HYPERLINK(VLOOKUP(C957,FOTOGRAFICO!C:E,3,FALSE),C957),\"\")","v":"MON400888"}]
[null,null,"MON5695","AMORTIGUAD","AMORTIGUADOR TRAS ATOS 00-13   GAS MONROE                     = BOG32482 = MIZ422T6600",415.69,0,0,0,4,0,1,{"$f":"+IFERROR(HYPERLINK(VLOOKUP(C958,FOTOGRAFICO!C:E,3,FALSE),C958),\"\")","v":"MON5695"}]
[null,null,"MON72890","AMORTIGUAD","AMORTIGUADOR DEL DER ATOS 00-  13 GAS MONROE  SOBRE PEDIDO    = BOGMP307 = MIZ422T6000",711.14,0,0,4,0,0,0,{"$f":"+IFERROR(HYPERLINK(VLOOKUP(C959,FOTOGRAFICO!C:E,3,FALSE),C959),\"\")","v":"MON72890"}]
[null,null,"MON72891","AMORTIGUAD","AMORTIGUADOR DEL IZQ ATOS 00-  13 GAS MONROE  SOBRE PEDIDO    = BOGMP307 = MIZ422T6000",706.33,0,0,2,0,0,0,{"$f":"+IFERROR(HYPERLINK(VLOOKUP(C960,FOTOGRAFICO!C:E,3,FALSE),C960),\"\")","v":"MON72891"}]
[null,null,"MP-8045SFT","AMORTIGUAD","AMORTIGUADOR DEL IZQ MATIZ 03- 05 GAS SAFETY IMPORTADO",588.29999999999995,0,0,4,5,9,4,{"$f":"+IFERROR(HYPERLINK(VLOOKUP(C961,FOTOGRAFICO!C:E,3,FALSE),C961),\"\")","v":"MP-8045SFT"}]
[null,null,"MP-8046SFT","AMORTIGUAD","AMORTIGUADOR DEL DER MATIZ 03- 05 GAS SAFETY IMPORTADO",670.58,0,2,2,5,2,5,{"$f":"+IFERROR(HYPERLINK(VLOOKUP(C962,FOTOGRAFICO!C:E,3,FALSE),C962),\"\")","v":"MP-8046SFT"}]
[null,null,"MP-8241SFT","AMORTIGUAD","AMORTIGUADOR DEL GOLF JETTA A4 99-12 CLASICO 11-13 BEETLE     99-10 TOLEDO 01-08 GAS SAFETY",615.73,7,14,18,12,8,9,{"$f":"+IFERROR(HYPERLINK(VLOOKUP(C963,FOTOGRAFICO!C:E,3,FALSE),C963),\"\")","v":"MP-8241SFT"}]
[null,null,"MP-8292SFT","AMORTIGUAD","AMORTIGUADOR DEL FIESTA 03-10  SEDAN HATCHBACK GAS SAFETY     IMPORTADO = BOGMP8292",588.29999999999995,14,3,17,11,0,1,{"$f":"+IFERROR(HYPERLINK(VLOOKUP(C964,FOTOGRAFICO!C:E,3,FALSE),C964),\"\")","v":"MP-8292SFT"}]
[null,null,"NIS56110-VW025","AMORTIGUAD","AMORTIGUADOR DEL URVAN 02-13   GAS SAFETY IMPORTADO           = BOG835239 = KYB344463",319.32,17,0,69,16,16,7,{"$f":"+IFERROR(HYPERLINK(VLOOKUP(C965,FOTOGRAFICO!C:E,3,FALSE),C965),\"\")","v":""}]
[null,null,"NIS56210-VW026","AMORTIGUAD","AMORTIGUADOR TRAS URVAN 99-13  FORD F-350 SUPER DUTY 99-06    HIDRAULICO SAFETY = GAB43133",294.67,19,0,28,23,11,5,{"$f":"+IFERROR(HYPERLINK(VLOOKUP(C966,FOTOGRAFICO!C:E,3,FALSE),C966),\"\")","v":""}]
[null,null,"ORI1H6827550","AMORTIGUAD","AMORTIGUADOR CAJUELA JETTA A3  93-99 28 CM BRUCK GERMANY",188.66,6,4,5,8,0,0,{"$f":"+IFERROR(HYPERLINK(VLOOKUP(C967,FOTOGRAFICO!C:E,3,FALSE),C967),\"\")","v":"ORI1H6827550"}]
[null,null,"RADPOINTER-PROMO","AMORTIGUAD","RADIADOR POINTER 1.8 2.0 98-09 ESTANDAR CON/SIN AIRE MECANICO MARCA ISAKA = 35735M = VALM933",563.02,15,5,0,3,0,0,{"$f":"+IFERROR(HYPERLINK(VLOOKUP(C968,FOTOGRAFICO!C:E,3,FALSE),C968),\"\")","v":""}]
[null,null,"SANC0201","AMORTIGUAD","AMORTIGUADOR DEL DER CORSA 02- 08 MERIVA 03-08 SEDAN HATCHBAC GAS MARCA YOKOMITZU =BOGMP8334",563.02,1,0,0,2,1,1,{"$f":"+IFERROR(HYPERLINK(VLOOKUP(C969,FOTOGRAFICO!C:E,3,FALSE),C969),\"\")","v":""}]
[null,null,"SANC0201-PROMO","AMORTIGUAD","AMORTIGUADOR DEL DER CORSA 02- 08 MERIVA 03-08 SEDAN HATCHBAC GAS MARCA YOKOMITZU =BOGMP8334",520.58000000000004,0,3,0,0,0,0,{"$f":"+IFERROR(HYPERLINK(VLOOKUP(C970,FOTOGRAFICO!C:E,3,FALSE),C970),\"\")","v":""}]
[null,null,"SANC0202","AMORTIGUAD","AMORTIGUADOR DEL IZQ CORSA 02- 08 MERIVA 03-08 SEDAN HATCHBAC GAS MARCA YOKOMITZU =BOGMP8335",563.02,0,1,3,4,0,1,{"$f":"+IFERROR(HYPERLINK(VLOOKUP(C971,FOTOGRAFICO!C:E,3,FALSE),C971),\"\")","v":""}]
[null,null,"SANC0202-PROMO","AMORTIGUAD","AMORTIGUADOR DEL IZQ CORSA 02- 08 MERIVA 03-08 SEDAN HATCHBAC GAS MARCA YOKOMITZU =BOGMP8335",506.43,0,0,6,0,0,0,{"$f":"+IFERROR(HYPERLINK(VLOOKUP(C972,FOTOGRAFICO!C:E,3,FALSE),C972),\"\")","v":""}]
[null,null,"SANC0801","AMORTIGUAD","AMORTIGUADOR DEL DER SPARK 11- 17 BEAT 18-21 GAS YOKOMITSU    = 3330079SFT = BOGMP8674",379.12,25,15,1,4,10,20,{"$f":"+IFERROR(HYPERLINK(VLOOKUP(C973,FOTOGRAFICO!C:E,3,FALSE),C973),\"\")","v":""}]
[null,null,"SANC0801-PROMO","AMORTIGUAD","AMORTIGUADOR DEL DER SPARK 11- 17 BEAT 18-21 GAS YOKOMITSU    = 3330079SFT = BOGMP8674",421.56,0,0,19,3,0,6,{"$f":"+IFERROR(HYPERLINK(VLOOKUP(C974,FOTOGRAFICO!C:E,3,FALSE),C974),\"\")","v":""}]
[null,null,"SANC0802","AMORTIGUAD","AMORTIGUADOR DEL IZQ SPARK 11- 17 BEAT 18-21 GAS YOKOMITSU    = 3330080SFT = BOGMP8673",379.12,0,22,7,7,1,25,{"$f":"+IFERROR(HYPERLINK(VLOOKUP(C975,FOTOGRAFICO!C:E,3,FALSE),C975),\"\")","v":""}]
[null,null,"SANC0802-OP","AMORTIGUAD","AMORTIGUADOR DEL IZQ SPARK 11- 17 BEAT 18-21 GAS YOKOMITSU    = 3330080SFT = BOGMP8673",421.56,0,4,22,1,0,0,{"$f":"+IFERROR(HYPERLINK(VLOOKUP(C976,FOTOGRAFICO!C:E,3,FALSE),C976),\"\")","v":""}]
[null,null,"SANC0811","AMORTIGUAD","AMORTIGUADOR DEL DER SPARK NG  16-22 GAS MARCA YOKOMITZU",527.01,2,0,5,3,4,1,{"$f":"+IFERROR(HYPERLINK(VLOOKUP(C977,FOTOGRAFICO!C:E,3,FALSE),C977),\"\")","v":"SANC0811"}]
[null,null,"SANC0812","AMORTIGUAD","AMORTIGUADOR DEL IZQ SPARK NG  16-22 GAS MARCA YOKOMITZU",527.01,4,0,2,6,5,4,{"$f":"+IFERROR(HYPERLINK(VLOOKUP(C978,FOTOGRAFICO!C:E,3,FALSE),C978),\"\")","v":"SANC0812"}]
[null,null,"SANC0850","AMORTIGUAD","AMORTIGUADOR TRAS SPARK 11-17  BEAT 18-21 GAS YOKOMITSU       IMPORT = BOG832691 = 348036SFT",280.08999999999997,0,0,0,18,0,7,{"$f":"+IFERROR(HYPERLINK(VLOOKUP(C979,FOTOGRAFICO!C:E,3,FALSE),C979),\"\")","v":""}]
[null,null,"SANC0850PROMO","AMORTIGUAD","AMORTIGUADOR TRAS SPARK 11-17  BEAT 18-21 GAS YOKOMITSU       IMPORT = BOG832691 = 348036SFT",223.51,0,0,0,0,0,0,{"$f":"+IFERROR(HYPERLINK(VLOOKUP(C980,FOTOGRAFICO!C:E,3,FALSE),C980),\"\")","v":""}]
[null,null,"SANC0860","AMORTIGUAD","AMORTIGUADOR TRAS SPARK NG 1.4 16-21 IZQ O DER GAS MARCA YOKO MITZU",283.55,5,4,7,1,2,2,{"$f":"+IFERROR(HYPERLINK(VLOOKUP(C981,FOTOGRAFICO!C:E,3,FALSE),C981),\"\")","v":"SANC0860"}]
[null,null,"SANC0901","AMORTIGUAD","AMORTIGUADOR DEL DER SONIC 11- 18 GAS MARCA YOKOMITSU         = BOGMP8696 =19315698",464,1,4,1,1,1,5,{"$f":"+IFERROR(HYPERLINK(VLOOKUP(C982,FOTOGRAFICO!C:E,3,FALSE),C982),\"\")","v":"SANC0901"}]
[null,null,"SANC0901-PROMO","AMORTIGUAD","AMORTIGUADOR DEL DER SONIC 11- 18 GAS MARCA YOKOMITSU         = BOGMP8696 =19315698",520.58000000000004,6,0,1,1,0,14,{"$f":"+IFERROR(HYPERLINK(VLOOKUP(C983,FOTOGRAFICO!C:E,3,FALSE),C983),\"\")","v":""}]
[null,null,"SANC0902","AMORTIGUAD","AMORTIGUADOR DEL IZQ SONIC 11- 18 GAS MARCA YOKOMITSU         = BOGMP8697 =19315697",519.1,2,0,1,1,4,1,{"$f":"+IFERROR(HYPERLINK(VLOOKUP(C984,FOTOGRAFICO!C:E,3,FALSE),C984),\"\")","v":"SANC0902"}]
[null,null,"SANC0902-PROMO","AMORTIGUAD","AMORTIGUADOR DEL IZQ SONIC 11- 18 GAS MARCA YOKOMITSU         = BOGMP8697 =19315697",520.58000000000004,8,2,10,0,4,4,{"$f":"+IFERROR(HYPERLINK(VLOOKUP(C985,FOTOGRAFICO!C:E,3,FALSE),C985),\"\")","v":"SANC0902-PROMO"}]
[null,null,"SANC0950","AMORTIGUAD","AMORTIGUADOR TRAS SONIC 11-18  GAS MARCA YOKOMITSU =19315699  = BOG832727",301.60000000000002,6,8,12,8,8,22,{"$f":"+IFERROR(HYPERLINK(VLOOKUP(C986,FOTOGRAFICO!C:E,3,FALSE),C986),\"\")","v":"SANC0950"}]
[null,null,"SANC0950-PROMO","AMORTIGUAD","AMORTIGUADOR TRAS SONIC 11-18  GAS MARCA YOKOMITSU =19315699  = BOG832727",322.52999999999997,4,0,0,0,0,0,{"$f":"+IFERROR(HYPERLINK(VLOOKUP(C987,FOTOGRAFICO!C:E,3,FALSE),C987),\"\")","v":""}]
[null,null,"SANC9901","AMORTIGUAD","AMORTIGUADOR DEL DER AVEO 08-  18 PONTIAC G3 06-09 YOKOMITZU  =BOGMP8537 =KYB333418 DE GAS",421.56,4,26,2,0,12,8,{"$f":"+IFERROR(HYPERLINK(VLOOKUP(C988,FOTOGRAFICO!C:E,3,FALSE),C988),\"\")","v":""}]
[null,null,"SANC9902","AMORTIGUAD","AMORTIGUADOR DEL IZQ AVEO 08-  18 PONTIAC G3 06-09 YOKOMITZU  =BOGMP8537 =KYB333418 DE GAS",421.56,5,16,21,0,4,17,{"$f":"+IFERROR(HYPERLINK(VLOOKUP(C989,FOTOGRAFICO!C:E,3,FALSE),C989),\"\")","v":""}]
[null,null,"SANC9902-PROMO","AMORTIGUAD","AMORTIGUADOR DEL IZQ AVEO 08-  18 PONTIAC G3 06-09 YOKOMITZU  =BOGMP8537 =KYB333418 DE GAS",421.56,0,0,0,16,25,0,{"$f":"+IFERROR(HYPERLINK(VLOOKUP(C990,FOTOGRAFICO!C:E,3,FALSE),C990),\"\")","v":"SANC9902-PROMO"}]
[null,null,"SANC9913","AMORTIGUAD","AMORTIGUADOR DEL DER AVEO 18-  23 DE GAS MARCA YOKOMITZU      AVEO II 1.5L",421.56,0,13,2,7,2,23,{"$f":"+IFERROR(HYPERLINK(VLOOKUP(C991,FOTOGRAFICO!C:E,3,FALSE),C991),\"\")","v":"SANC9913"}]
[null,null,"SANC9914","AMORTIGUAD","AMORTIGUADOR DEL IZQ AVEO 18-  23 DE GAS MARCA YOKOMITZU      AVEO II 1.5L",421.56,5,17,3,7,6,27,{"$f":"+IFERROR(HYPERLINK(VLOOKUP(C992,FOTOGRAFICO!C:E,3,FALSE),C992),\"\")","v":"SANC9914"}]
[null,null,"SANC9960","AMORTIGUAD","AMORTIGUADOR TRAS AVEO 18-23   1.5L GAS MARCA YOKOMITZU",308.39,3,9,3,1,14,20,{"$f":"+IFERROR(HYPERLINK(VLOOKUP(C993,FOTOGRAFICO!C:E,3,FALSE),C993),\"\")","v":"SANC9960"}]
[null,null,"SANC9960-PROMO","AMORTIGUAD","AMORTIGUADOR TRAS AVEO 18-23   1.5 GAS MARCA YOKOMITZU",294.24,4,0,0,0,0,0,{"$f":"+IFERROR(HYPERLINK(VLOOKUP(C994,FOTOGRAFICO!C:E,3,FALSE),C994),\"\")","v":""}]
[null,null,"SAND0301","AMORTIGUAD","AMORTIGUADOR DEL DER I10 15-20 HYUNDAI GRAND I10 1.2L DE GAS  SEDAN/H-BACK MARCA YOKOMITZU",563.02,3,1,4,1,5,4,{"$f":"+IFERROR(HYPERLINK(VLOOKUP(C995,FOTOGRAFICO!C:E,3,FALSE),C995),\"\")","v":"SAND0301"}]
[null,null,"SAND0301-PROMO","AMORTIGUAD","AMORTIGUADOR DEL DER I10 15-20 HYUNDAI GRAND I10 1.2L DE GAS  SEDAN/H-BACK MARCA YOKOMITZU",506.43,0,0,0,1,0,0,{"$f":"+IFERROR(HYPERLINK(VLOOKUP(C996,FOTOGRAFICO!C:E,3,FALSE),C996),\"\")","v":""}]
[null,null,"SAND0302","AMORTIGUAD","AMORTIGUADOR DEL IZQ I10 15-20 HYUNDAI GRAND I10 1.2L DE GAS  SEDAN/H-BACK MARCA YOKOMITZU",520.58000000000004,3,0,4,1,2,2,{"$f":"+IFERROR(HYPERLINK(VLOOKUP(C997,FOTOGRAFICO!C:E,3,FALSE),C997),\"\")","v":"SAND0302"}]
[null,null,"SANF0211","AMORTIGUAD","AMORTIGUADOR DEL DER FIESTA 11 -19 FIGO 16-20 MAZDA 2 11-15   MARCA YOKOMITZU = BOGMP8686",563.02,0,0,1,0,0,3,{"$f":"+IFERROR(HYPERLINK(VLOOKUP(C998,FOTOGRAFICO!C:E,3,FALSE),C998),\"\")","v":"SANF0211"}]
[null,null,"SANF0212","AMORTIGUAD","AMORTIGUADOR DEL IZQ FIESTA 11 -19 FIGO 16-20 MAZDA 2 11-15   MARCA YOKOMITZU = BOGMP8687",563.02,0,0,0,0,1,5,{"$f":"+IFERROR(HYPERLINK(VLOOKUP(C999,FOTOGRAFICO!C:E,3,FALSE),C999),\"\")","v":"SANF0212"}]
[null,null,"SANF0270","AMORTIGUAD","AMORTIGUADOR TRAS FIESTA 11-19 FIGO 16-20 MAZDA 2 11-15 MARCA YOKOMITZU = BOG832720 DE GAS",336.68,2,8,5,8,0,4,{"$f":"+IFERROR(HYPERLINK(VLOOKUP(C1000,FOTOGRAFICO!C:E,3,FALSE),C1000),\"\")","v":""}]
[null,null,"SANF0301","AMORTIGUAD","AMORTIGUADOR DER DEL FIESTA    IKON 1.6 11-15 MCA YOMOMITZU   PIDE JAVIER",506.43,0,0,0,0,0,0,{"$f":"+IFERROR(HYPERLINK(VLOOKUP(C1001,FOTOGRAFICO!C:E,3,FALSE),C1001),\"\")","v":""}]
[null,null,"SANF0302","AMORTIGUAD","AMORTIGUADOR IZQ DEL FIESTA    IKON 1.6 11-15 MCA YOMKOMITZU  PIDE JAVIER",506.43,0,0,0,0,0,0,{"$f":"+IFERROR(HYPERLINK(VLOOKUP(C1002,FOTOGRAFICO!C:E,3,FALSE),C1002),\"\")","v":""}]
[null,null,"SANF0350","AMORTIGUAD","AMORTIGUADOR TRAS FIESTA IKON  1.6 11-15 MARCA YOKOMITZU      PIDE JAVIER",322.52999999999997,0,0,0,0,0,0,{"$f":"+IFERROR(HYPERLINK(VLOOKUP(C1003,FOTOGRAFICO!C:E,3,FALSE),C1003),\"\")","v":""}]
[null,null,"SANF0420","AMORTIGUAD","AMORTIGUAD DEL FORD RANGER 2WD 04-12 2.3L DER/IZQ RANGER 4WD  98-12 DE GAS YOKOMITSU",361.48,0,0,0,0,0,0,{"$f":"+IFERROR(HYPERLINK(VLOOKUP(C1004,FOTOGRAFICO!C:E,3,FALSE),C1004),\"\")","v":""}]
[null,null,"SANF0460","AMORTIGUAD","AMORTIGUA TRAS FORD RANGER 2WD 04-12 2.3L DER/IZQ RANGER 4WD  98-12 DE GAS YOKOMITSU",361.48,0,0,0,0,0,0,{"$f":"+IFERROR(HYPERLINK(VLOOKUP(C1005,FOTOGRAFICO!C:E,3,FALSE),C1005),\"\")","v":""}]
[null,null,"SANH0401","AMORTIGUAD","AMORTIGUADOR DEL DER HONDA FIT 06-08 MARCA YOKOMITZU",647.9,0,0,0,0,0,0,{"$f":"+IFERROR(HYPERLINK(VLOOKUP(C1006,FOTOGRAFICO!C:E,3,FALSE),C1006),\"\")","v":""}]
[null,null,"SANH0402","AMORTIGUAD","AMORTIGUADOR DEL IZQ HONDA FIT 06-08 MARCA YOKOMITZU",647.9,0,0,0,0,0,0,{"$f":"+IFERROR(HYPERLINK(VLOOKUP(C1007,FOTOGRAFICO!C:E,3,FALSE),C1007),\"\")","v":""}]
[null,null,"SANK1100","AMORTIGUAD","AMORTIGUADOR DEL ATTITUDE 1.2  15-24 MIRAGE G4 15-24 MARCA    YOKOMITSU DE GAS",379.12,0,0,0,4,0,6,{"$f":"+IFERROR(HYPERLINK(VLOOKUP(C1008,FOTOGRAFICO!C:E,3,FALSE),C1008),\"\")","v":"SANK1100"}]
[null,null,"SANN0430","AMORTIGUAD","AMORTIGUADOR DEL URVAN NV350   14-20 GAS YOKOMITSU IMPORTADO  = GAB72012-AUSA = KYB3440025",280.08999999999997,1,0,0,7,12,0,{"$f":"+IFERROR(HYPERLINK(VLOOKUP(C1009,FOTOGRAFICO!C:E,3,FALSE),C1009),\"\")","v":""}]
[null,null,"SANN0480","AMORTIGUAD","AMORTIGUADOR TRAS URVAN NV350  14-20 GAS YOKOMITSU IMPORTADO  = GAB72013-A = KYB3440026",267.06,11,0,0,6,14,5,{"$f":"+IFERROR(HYPERLINK(VLOOKUP(C1010,FOTOGRAFICO!C:E,3,FALSE),C1010),\"\")","v":""}]
[null,null,"SANN0801","AMORTIGUAD","AMORTIGUADOR DEL DER MARCH 11- 17 GAS YOKOMITSU IMPORTADO",704.48,4,0,11,0,4,0,{"$f":"+IFERROR(HYPERLINK(VLOOKUP(C1011,FOTOGRAFICO!C:E,3,FALSE),C1011),\"\")","v":"SANN0801"}]
[null,null,"SANN0802","AMORTIGUAD","AMORTIGUADOR DEL IZQ MARCH 11- 17 GAS YOKOMITSU IMPORTADO",421.56,7,9,12,2,9,11,{"$f":"+IFERROR(HYPERLINK(VLOOKUP(C1012,FOTOGRAFICO!C:E,3,FALSE),C1012),\"\")","v":""}]
[null,null,"SANN0860","AMORTIGUAD","AMORTIGUADOR TRAS VERSA 12-19  NOTE 13-17 MARCH 11-17 GAS     YOKOMITSU IMPORTADO",223.51,4,1,13,10,13,0,{"$f":"+IFERROR(HYPERLINK(VLOOKUP(C1013,FOTOGRAFICO!C:E,3,FALSE),C1013),\"\")","v":""}]
[null,null,"SANN0860-PROMO","AMORTIGUAD","AMORTIGUADOR TRAS VERSA 12-19  NOTE 13-17 MARCH 11-17 GAS     YOKOMITSU IMPORTADO",251.8,0,0,0,0,0,0,{"$f":"+IFERROR(HYPERLINK(VLOOKUP(C1014,FOTOGRAFICO!C:E,3,FALSE),C1014),\"\")","v":""}]
[null,null,"SANN0901","AMORTIGUAD","AMORTIGUADOR DEL DER VERSA 12- 19 NOTE 13-17 GAS YOKOMITSU    IMPORTADO = E4302-3AN0CSFT",506.43,7,0,4,1,3,15,{"$f":"+IFERROR(HYPERLINK(VLOOKUP(C1015,FOTOGRAFICO!C:E,3,FALSE),C1015),\"\")","v":""}]
[null,null,"SANN0901-PROMO","AMORTIGUAD","AMORTIGUADOR DEL DER VERSA 12- 19 NOTE 13-17 GAS YOKOMITSU    IMPORTADO = E4302-3AN0CSFT",379.12,0,0,0,0,0,0,{"$f":"+IFERROR(HYPERLINK(VLOOKUP(C1016,FOTOGRAFICO!C:E,3,FALSE),C1016),\"\")","v":""}]
[null,null,"SANN0902","AMORTIGUAD","AMORTIGUADOR DEL IZQ VERSA 12- 19 NOTE 13-17 GAS YOKOMITSU    = KYB332153 = E4303-3AN0CSFT",520.58000000000004,2,9,2,2,1,11,{"$f":"+IFERROR(HYPERLINK(VLOOKUP(C1017,FOTOGRAFICO!C:E,3,FALSE),C1017),\"\")","v":""}]
[null,null,"SANN0902-OP","AMORTIGUAD","AMORTIGUADOR DEL IZQ VERSA 12- 19 NOTE 13-17 GAS YOKOMITSU    = KYB332153 = E4303-3AN0CSFT",379.12,1,3,0,4,0,0,{"$f":"+IFERROR(HYPERLINK(VLOOKUP(C1018,FOTOGRAFICO!C:E,3,FALSE),C1018),\"\")","v":""}]
[null,null,"SANN0911","AMORTIGUAD","AMORTIGUADOR DEL DER VERSA 1.6 20-21 KICKS 17-20 GAS MARCA    YOKOMITZU",563.02,0,0,0,0,0,0,{"$f":"+IFERROR(HYPERLINK(VLOOKUP(C1019,FOTOGRAFICO!C:E,3,FALSE),C1019),\"\")","v":""}]
[null,null,"SANN0912","AMORTIGUAD","AMORTIGUADOR DEL IZQ VERSA 1.6 20-21 KICKS 17-20 GAS MARCA    YOKOMITZU",563.02,0,0,0,0,0,0,{"$f":"+IFERROR(HYPERLINK(VLOOKUP(C1020,FOTOGRAFICO!C:E,3,FALSE),C1020),\"\")","v":""}]
[null,null,"SANN0950","AMORTIGUAD","AMORTIGUADOR TRAS VERSA 12-19  NOTE 13-17 MARCH 11-17 GAS     YOKOMITSU IMPORTADO",322.52999999999997,2,4,1,1,0,21,{"$f":"+IFERROR(HYPERLINK(VLOOKUP(C1021,FOTOGRAFICO!C:E,3,FALSE),C1021),\"\")","v":""}]
[null,null,"SANN0950-PROMO","AMORTIGUAD","AMORTIGUADOR TRAS VERSA 12-19  NOTE 13-17 MARCH 11-17 GAS     YOKOMITSU IMPORTADO",251.8,3,0,36,0,0,0,{"$f":"+IFERROR(HYPERLINK(VLOOKUP(C1022,FOTOGRAFICO!C:E,3,FALSE),C1022),\"\")","v":""}]
[null,null,"SANN0960","AMORTIGUAD","AMORTIGUADOR TRAS VERSA 20-21  KICKS 17-20 GAS MARCA YOKOMITZ",364.97,1,0,0,0,0,0,{"$f":"+IFERROR(HYPERLINK(VLOOKUP(C1023,FOTOGRAFICO!C:E,3,FALSE),C1023),\"\")","v":""}]
[null,null,"SANN1101","AMORTIGUAD","AMORTIGUADOR DEL DER TIIDA 06- 18 GAS MCA YOKOMITSU           =BOGMP8520 = KYB333390",421.56,7,1,0,8,10,4,{"$f":"+IFERROR(HYPERLINK(VLOOKUP(C1024,FOTOGRAFICO!C:E,3,FALSE),C1024),\"\")","v":"SANN1101"}]
[null,null,"SANN1101-PROMO","AMORTIGUAD","AMORTIGUADOR DEL DER TIIDA 06- 18 GAS MCA YOKOMITSU           =BOGMP8520 = KYB333390",421.56,4,0,0,0,0,0,{"$f":"+IFERROR(HYPERLINK(VLOOKUP(C1025,FOTOGRAFICO!C:E,3,FALSE),C1025),\"\")","v":""}]
[null,null,"SANN1102","AMORTIGUAD","AMORTIGUADOR DEL IZQ TIIDA 06- 18 GAS MCA YOKOMITSU           = KYB333391 = E4033-EL00ASFT",421.56,12,4,3,4,16,3,{"$f":"+IFERROR(HYPERLINK(VLOOKUP(C1026,FOTOGRAFICO!C:E,3,FALSE),C1026),\"\")","v":""}]
[null,null,"SANN1102-PROMO","AMORTIGUAD","AMORTIGUADOR DEL IZQ TIIDA 06- 18 GAS MCA YOKOMITSU           = KYB333391 = E4033-EL00ASFT",421.56,1,0,1,0,0,0,{"$f":"+IFERROR(HYPERLINK(VLOOKUP(C1027,FOTOGRAFICO!C:E,3,FALSE),C1027),\"\")","v":""}]
[null,null,"SANN1150","AMORTIGUAD","AMORTIGUADOR TRAS TIIDA 06-18  GAS DER O IZQ MARCA YOKOMITSU  =BOG832601 =E6210-EL00ASFT",251.8,2,1,8,10,4,17,{"$f":"+IFERROR(HYPERLINK(VLOOKUP(C1028,FOTOGRAFICO!C:E,3,FALSE),C1028),\"\")","v":"SANN1150"}]
[null,null,"SANN1301","AMORTIGUAD","AMORTIGUADOR DEL DER SENTRA    01-06 B-15 GAS MARCA YOKOMITZU = MIZ118T6001 = BOGMP8252",421.56,2,6,5,3,1,2,{"$f":"+IFERROR(HYPERLINK(VLOOKUP(C1029,FOTOGRAFICO!C:E,3,FALSE),C1029),\"\")","v":"SANN1301"}]
[null,null,"SANN1302","AMORTIGUAD","AMORTIGUADOR DEL IZQ SENTRA    01-06 B-15 GAS MARCA YOKOMITZU = MIZ118T6002 = BOGMP8251",506.43,0,2,4,4,0,2,{"$f":"+IFERROR(HYPERLINK(VLOOKUP(C1030,FOTOGRAFICO!C:E,3,FALSE),C1030),\"\")","v":""}]
[null,null,"SANN1350","AMORTIGUAD","AMORTIGUADOR TRAS SENTRA 01-06 GAS MARCA YOKOMITZU",421.56,1,0,8,3,6,8,{"$f":"+IFERROR(HYPERLINK(VLOOKUP(C1031,FOTOGRAFICO!C:E,3,FALSE),C1031),\"\")","v":"SANN1350"}]
[null,null,"SANN1401","AMORTIGUAD","AMORTIGUADOR DER DEL SENTRA    07-12 MARCA YOKOMITZU PIDE     DANIEL CASTILLO",647.9,1,1,2,2,0,2,{"$f":"+IFERROR(HYPERLINK(VLOOKUP(C1032,FOTOGRAFICO!C:E,3,FALSE),C1032),\"\")","v":""}]
[null,null,"SANN1402","AMORTIGUAD","AMORTIGUADOR IZQ DEL SENTRA    07-12 MARCA YOKOMITZU PIDE     DANIEL CASTILLO",647.9,2,1,3,1,0,1,{"$f":"+IFERROR(HYPERLINK(VLOOKUP(C1033,FOTOGRAFICO!C:E,3,FALSE),C1033),\"\")","v":""}]
[null,null,"SANN1450","AMORTIGUAD","AMORTIGUADOR TRAS SENTRA 07-12 MARCA YOKOMITZU PIDE DANIEL    CASTILLO",364.97,0,0,0,0,0,0,{"$f":"+IFERROR(HYPERLINK(VLOOKUP(C1034,FOTOGRAFICO!C:E,3,FALSE),C1034),\"\")","v":""}]
[null,null,"SANN3410","AMORTIGUAD","AMORTIGUADOR TRAS SANDERO      STEPWAY 10-20 APRIO 08-10      MARCA YOKOMITSU DE GAS",308.39,0,0,0,0,0,0,{"$f":"+IFERROR(HYPERLINK(VLOOKUP(C1035,FOTOGRAFICO!C:E,3,FALSE),C1035),\"\")","v":""}]
[null,null,"SANT0400","AMORTIGUAD","AMORTIGUADOR DEL HIACE 05-19   GAS CHASIS LARGO TECHO ALTO    MARCA YOKOMITZU IZQ O DER",280.08999999999997,12,16,8,8,0,5,{"$f":"+IFERROR(HYPERLINK(VLOOKUP(C1036,FOTOGRAFICO!C:E,3,FALSE),C1036),\"\")","v":""}]
[null,null,"SANT0450","AMORTIGUAD","AMORTIGUADOR TRAS HIACE 05-19  GAS CHASIS LARGO TECHO ALTO    MARCA YOKOMITZU DER O IZQ",322.52999999999997,7,0,5,4,15,10,{"$f":"+IFERROR(HYPERLINK(VLOOKUP(C1037,FOTOGRAFICO!C:E,3,FALSE),C1037),\"\")","v":"SANT0450"}]
[null,null,"SANT2011","AMORTIGUAD","AMORTIGUADOR DEL DER AVANZA    1.5 12-22 GAS MARCA YOKOMITZU",563.02,3,4,4,1,1,0,{"$f":"+IFERROR(HYPERLINK(VLOOKUP(C1038,FOTOGRAFICO!C:E,3,FALSE),C1038),\"\")","v":"SANT2011"}]
[null,null,"SANT2012","AMORTIGUAD","AMORTIGUADOR DEL IZQ AVANZA    1.5 12-22 GAS MARCA YOKOMITZU",563.02,4,4,4,0,1,0,{"$f":"+IFERROR(HYPERLINK(VLOOKUP(C1039,FOTOGRAFICO!C:E,3,FALSE),C1039),\"\")","v":"SANT2012"}]
[null,null,"SANT2060","AMORTIGUAD","AMORTIGUADOR TRAS AVANZA  1.5  12-22 GAS MARCA YOKOMITZU",294.24,4,5,0,0,0,0,{"$f":"+IFERROR(HYPERLINK(VLOOKUP(C1040,FOTOGRAFICO!C:E,3,FALSE),C1040),\"\")","v":""}]
[null,null,"SANV0700","AMORTIGUAD","AMORTIGUADOR DEL VENTO 13-23   POLO 13-19 IBIZA 10-17 TOLEDO  13-19 GAS MARCA YOKOMITZU",464,0,0,0,7,0,7,{"$f":"+IFERROR(HYPERLINK(VLOOKUP(C1041,FOTOGRAFICO!C:E,3,FALSE),C1041),\"\")","v":"SANV0700"}]
[null,null,"SANV0700-PROMO","AMORTIGUAD","AMORTIGUADOR DEL VENTO 13-23   POLO 13-19 IBIZA 10-17 TOLEDO  13-19 GAS MARCA YOKOMITZU",520.58000000000004,0,0,0,0,0,0,{"$f":"+IFERROR(HYPERLINK(VLOOKUP(C1042,FOTOGRAFICO!C:E,3,FALSE),C1042),\"\")","v":"SANV0700-PROMO"}]
[null,null,"SANV0750","AMORTIGUAD","AMORTIGUADOR TRAS VENTO 13-23  POLO 13-19 IBIZA 10-17 TOLEDO  13-19 GAS MARCA YOKOMITZU",308.39,1,0,1,1,0,0,{"$f":"+IFERROR(HYPERLINK(VLOOKUP(C1043,FOTOGRAFICO!C:E,3,FALSE),C1043),\"\")","v":"SANV0750"}]
[null,null,"SANV0750-PROMO","AMORTIGUAD","AMORTIGUADOR TRAS VENTO 13-23  POLO 13-19 IBIZA 10-17 TOLEDO  13-19 GAS MARCA YOKOMITZU",280.08999999999997,0,0,0,4,8,0,{"$f":"+IFERROR(HYPERLINK(VLOOKUP(C1044,FOTOGRAFICO!C:E,3,FALSE),C1044),\"\")","v":"SANV0750-PROMO"}]
[null,null,"SARV5100","AMORTIGUAD","AMORT RESOR DEL SEDAN JGO 2PZS 73-03 SAFARI 71-81 BRASILIA    CON RESORTES JGO 2 PZAS TAIWAN",1669.26,2,0,0,0,1,0,{"$f":"+IFERROR(HYPERLINK(VLOOKUP(C1045,FOTOGRAFICO!C:E,3,FALSE),C1045),\"\")","v":"SARV5100"}]
[null,null,"SARV5150","AMORTIGUAD","AMORT RESOR TRA SEDAN JGO 2PZS 73-03 SAFARI 71-81 BRASILIA    CON RESORTES JGO 2 PZAS TAIWAN",1669.26,1,0,0,0,1,0,{"$f":"+IFERROR(HYPERLINK(VLOOKUP(C1046,FOTOGRAFICO!C:E,3,FALSE),C1046),\"\")","v":"SARV5150"}]
[null,null,"SFNK0110","AMORTIGUAD","AMORTIGUADOR 5A PUERTA ATOS 05 -12 IZQ DER LARGO 60 CM daniel CILINDRO 31 CM MARCA YOKOMITSU",181.07,0,0,0,0,0,0,{"$f":"+IFERROR(HYPERLINK(VLOOKUP(C1047,FOTOGRAFICO!C:E,3,FALSE),C1047),\"\")","v":""}]
[null,null,"SFNN0401","AMORTIGUAD","AMORTIGUADOR 5A PTA DER NV350  13-22 CHASIS LARGO L 82 CM CIL 57 CM ANCHO MARCA YOKOMITSU",280.08999999999997,0,2,0,0,0,6,{"$f":"+IFERROR(HYPERLINK(VLOOKUP(C1048,FOTOGRAFICO!C:E,3,FALSE),C1048),\"\")","v":"SFNN0401"}]
[null,null,"SFNN0402","AMORTIGUAD","AMORTIGUADOR 5A PTA DER NV350  13-22 CHASIS LARGO L 82 CM CIL 57 CM ANCHO MARCA YOKOMITSU",280.08999999999997,0,2,0,0,0,6,{"$f":"+IFERROR(HYPERLINK(VLOOKUP(C1049,FOTOGRAFICO!C:E,3,FALSE),C1049),\"\")","v":"SFNN0402"}]
[null,null,"SFNN0801","AMORTIGUAD","AMORTIGUADOR CAJUELA DER MARCH 11-22 C/BASE 50 CM MARCA       YOKOMITSU",138.63,0,0,2,2,0,0,{"$f":"+IFERROR(HYPERLINK(VLOOKUP(C1050,FOTOGRAFICO!C:E,3,FALSE),C1050),\"\")","v":"SFNN0801"}]
[null,null,"SFNV0120","AMORTIGUAD","AMORTIGUADOR COFRE GOLF A4     99-15 JETTA A4 99-15 YOKOMITZU PIDE ALBERTO",152.78,0,0,0,0,0,0,{"$f":"+IFERROR(HYPERLINK(VLOOKUP(C1051,FOTOGRAFICO!C:E,3,FALSE),C1051),\"\")","v":""}]
[null,null,"SMI8L0823359","AMORTIGUAD","AMORTIGUADOR COFRE JETTA A4    AUDI A3                        MARCA SMIDTD",194,1,1,1,0,2,2,{"$f":"+IFERROR(HYPERLINK(VLOOKUP(C1052,FOTOGRAFICO!C:E,3,FALSE),C1052),\"\")","v":""}]
[null,null,"SYD7000493","AMORTIGUAD","AMORTIGUADOR TRAS GAS CRAFTER  07-18 SPRINTER 07-18 MARCA SYD PIDE MANUEL MOSTRADOR",666.69,0,0,0,0,0,0,{"$f":"+IFERROR(HYPERLINK(VLOOKUP(C1053,FOTOGRAFICO!C:E,3,FALSE),C1053),\"\")","v":""}]
[null,null,"004-1213-00","AMORTIGUAD","AMORTIGUADOR 5TA PUERTA        EXPEDITION 97-02 NAVIGATOR 97- 05 MARCA HUSHAN",493.67,0,0,2,0,0,0,{"$f":"+IFERROR(HYPERLINK(VLOOKUP(C1054,FOTOGRAFICO!C:E,3,FALSE),C1054),\"\")","v":""}]
[null,null,"004-1214-04","AMORTIGUAD","AMORTIGUADOR 5TA PTA EXPLORER  02-05 MARCA RADEC 004-1214-04  IMPORTADO",503.11,0,0,0,0,0,0,{"$f":"+IFERROR(HYPERLINK(VLOOKUP(C1055,FOTOGRAFICO!C:E,3,FALSE),C1055),\"\")","v":""}]
[null,null,"004-1604-00","AMORTIGUAD","AMORTIGUADOR 5TA PUERTA JEEP   COMPASS 07-17 MARCA HUSHAN",481.53,0,0,0,0,0,1,{"$f":"+IFERROR(HYPERLINK(VLOOKUP(C1056,FOTOGRAFICO!C:E,3,FALSE),C1056),\"\")","v":""}]
[null,null,"004-1605-13","AMORTIGUAD","AMORTIGUADOR 5TA PUERTA GRAND  CHEROKKE 08-10 MARCA TYG",515.25,0,0,0,0,0,0,{"$f":"+IFERROR(HYPERLINK(VLOOKUP(C1057,FOTOGRAFICO!C:E,3,FALSE),C1057),\"\")","v":""}]
[null,null,"004-2601-04","AMORTIGUAD","AMORTIGUADO 5TA PTA CLIO 05-08 DER IZQ MARCA RADEC IMPORTADO",178.04,0,0,0,0,0,0,{"$f":"+IFERROR(HYPERLINK(VLOOKUP(C1058,FOTOGRAFICO!C:E,3,FALSE),C1058),\"\")","v":""}]
[null,null,"004-3111-00","AMORTIGUAD","AMORTIGUADOR 5TA PUERTA GOLF   00-07 MARCA HUSHAN PIDE        SERGIO SANCHEZ",385.76,0,0,0,0,0,0,{"$f":"+IFERROR(HYPERLINK(VLOOKUP(C1059,FOTOGRAFICO!C:E,3,FALSE),C1059),\"\")","v":""}]
[null,null,"20990086","AMORTIGUAD","AMORTIGUADO 5a PTA GMC TERRAIN 10-15                          SOBRE PEDIDO X RAUL",837.5,0,0,0,0,0,0,{"$f":"+IFERROR(HYPERLINK(VLOOKUP(C1060,FOTOGRAFICO!C:E,3,FALSE),C1060),\"\")","v":""}]
[null,null,"3330018SFT","AMORTIGUAD","AMORTIGUADOR DEL DER SWIFT 12- 17 MARCA SAFETY GAS            PEDIDO RAUL",752.87,0,0,0,0,0,0,{"$f":"+IFERROR(HYPERLINK(VLOOKUP(C1061,FOTOGRAFICO!C:E,3,FALSE),C1061),\"\")","v":""}]
[null,null,"3330019SFT","AMORTIGUAD","AMORTIGUADOR DEL IZQ SWIFT 12- 17 MARCA SAFETY GAS            PEDIDO RAUL",752.87,0,0,0,0,0,0,{"$f":"+IFERROR(HYPERLINK(VLOOKUP(C1062,FOTOGRAFICO!C:E,3,FALSE),C1062),\"\")","v":""}]
[null,null,"348084SFT","AMORTIGUAD","AMORTIGUADOR TRASERO SWIFT 12- 17 MARCA SAFETY GAS PIDE RAUL  FABILA 348084SFT",570.48,0,0,0,0,0,0,{"$f":"+IFERROR(HYPERLINK(VLOOKUP(C1063,FOTOGRAFICO!C:E,3,FALSE),C1063),\"\")","v":""}]
[null,null,"54650-H9200SFT","AMORTIGUAD","AMORTIGUADOR DEL IZQ RIO 1.6   18-23 ACCENT 1.6 18-21 MARCA   SAFETY MP8745 PIDE OSVALDO",604.72,0,0,0,0,0,0,{"$f":"+IFERROR(HYPERLINK(VLOOKUP(C1064,FOTOGRAFICO!C:E,3,FALSE),C1064),\"\")","v":""}]
[null,null,"7000226SFT","AMORTIGUAD","AMORTIGUAD TRAS PARTNER GRAND  RAID 04-12 GAS MARCA SAFETY    PIDE OSVALDO EUBIO",478.6,0,0,0,0,0,0,{"$f":"+IFERROR(HYPERLINK(VLOOKUP(C1065,FOTOGRAFICO!C:E,3,FALSE),C1065),\"\")","v":""}]
[null,null,"7000228SFT","AMORTIGUAD","AMORTIGUADOR DEL PARTNER GRAND RAID 04-12 GAS MARCA SAFETY    PIDE OSVALDO RUBIO",739.15,0,0,0,0,0,0,{"$f":"+IFERROR(HYPERLINK(VLOOKUP(C1066,FOTOGRAFICO!C:E,3,FALSE),C1066),\"\")","v":""}]
[null,null,"ACM5T11002","AMORTIGUAD","AMORTIGUADOR IZQ TRAS MATIZ    04-05 MARCA ACDELCO",458.82,0,0,0,0,0,0,{"$f":"+IFERROR(HYPERLINK(VLOOKUP(C1067,FOTOGRAFICO!C:E,3,FALSE),C1067),\"\")","v":""}]
[null,null,"BOG32083","AMORTIGUAD","AMORTIGUADOR DEL RENAULT R12   72-84 HIDRAULICO MARCA BOGE    PIDE JULIO MARTINEZ",622.75,0,0,0,0,0,0,{"$f":"+IFERROR(HYPERLINK(VLOOKUP(C1068,FOTOGRAFICO!C:E,3,FALSE),C1068),\"\")","v":""}]
[null,null,"BOG32192","AMORTIGUAD","AMORTIGUADOR TRAS HONDA ACCORD 08-15 MARCA BOGE SOLICITADO    JULIO",505.21,0,0,0,0,0,0,{"$f":"+IFERROR(HYPERLINK(VLOOKUP(C1069,FOTOGRAFICO!C:E,3,FALSE),C1069),\"\")","v":""}]
[null,null,"BOG333414","AMORTIGUAD","AMORTIGUADO DEL DER IKON 11-15 ARMADO EN INDIA MARCA: KYB     PEDIDO OSVALDO",1807.43,0,0,3,0,0,0,{"$f":"+IFERROR(HYPERLINK(VLOOKUP(C1070,FOTOGRAFICO!C:E,3,FALSE),C1070),\"\")","v":""}]
[null,null,"BOG333415","AMORTIGUAD","AMORTIGUAD DEL IZQ IKON 11-15  ARMADO EN INDIA MARCA: KYB     PEDIDO OSVALDO",1807.43,0,0,2,0,0,0,{"$f":"+IFERROR(HYPERLINK(VLOOKUP(C1071,FOTOGRAFICO!C:E,3,FALSE),C1071),\"\")","v":""}]
[null,null,"BOG832511","AMORTIGUAD","AMORTIGUADOR TRAS MERIVA 03-08 MARCA BOGE PEDIDO RAUL",432.92,0,0,0,0,0,0,{"$f":"+IFERROR(HYPERLINK(VLOOKUP(C1072,FOTOGRAFICO!C:E,3,FALSE),C1072),\"\")","v":""}]
[null,null,"BOG832614","AMORTIGUAD","AMORTIGUADOR TRAS CIVIC 06-11  1.3 1.8 2.0 MARCA: BOGE        PEDIDO OSVALDO",1210.53,0,0,0,0,0,0,{"$f":"+IFERROR(HYPERLINK(VLOOKUP(C1073,FOTOGRAFICO!C:E,3,FALSE),C1073),\"\")","v":""}]
[null,null,"BOG832683","AMORTIGUAD","AMORTIGUADOR TRAS IBIZA 10-15  MARCA BOGE SOLICITADO EDUARDO",998.92,0,0,0,0,0,0,{"$f":"+IFERROR(HYPERLINK(VLOOKUP(C1074,FOTOGRAFICO!C:E,3,FALSE),C1074),\"\")","v":""}]
[null,null,"BOG832695","AMORTIGUAD","AMORTIGUADOR TRASERO AVANZA 07 -13 MARCA BOGE GAS PIDE PEDRO  CANDELARIO CALL CENTER 832695",788.21,0,0,0,0,0,0,{"$f":"+IFERROR(HYPERLINK(VLOOKUP(C1075,FOTOGRAFICO!C:E,3,FALSE),C1075),\"\")","v":""}]
[null,null,"BOG832713","AMORTIGUAD","AMORTIGUADOR TRAS HONDA FIT 09 -14 CITY 09-13 MARCA BOGE      PEDIDO ALEJANDRO",996.44,0,0,0,0,0,0,{"$f":"+IFERROR(HYPERLINK(VLOOKUP(C1076,FOTOGRAFICO!C:E,3,FALSE),C1076),\"\")","v":""}]
[null,null,"BOG835104","AMORTIGUAD","AMORTIGUADOR DEL CHEROKEE 84-  01 GRAND CHEROKEE 4.7 93-04    BOGE GAS PIDE ISRAEL CURRO",582.52,0,0,0,0,0,0,{"$f":"+IFERROR(HYPERLINK(VLOOKUP(C1077,FOTOGRAFICO!C:E,3,FALSE),C1077),\"\")","v":""}]
[null,null,"BOG835105","AMORTIGUAD","AMORTIGUADOR TRAS GRAND        CHEROKEE 4.7 93-04 MARCA BOGE  GAS PIDE ISRAEL CURRO",563.38,0,0,0,0,0,0,{"$f":"+IFERROR(HYPERLINK(VLOOKUP(C1078,FOTOGRAFICO!C:E,3,FALSE),C1078),\"\")","v":""}]
[null,null,"BOG930041","AMORTIGUAD","AMORTIGUADOR TRAS SUBURBAN 14- 20 TAHOE 07-14 YUKON 07-20     MARCA BOGE EXTREME PIDE RAUL F",766.07,0,0,0,0,0,0,{"$f":"+IFERROR(HYPERLINK(VLOOKUP(C1079,FOTOGRAFICO!C:E,3,FALSE),C1079),\"\")","v":""}]
[null,null,"BOG930078","AMORTIGUAD","AMORTIGUADOR TRAS HONDA CR-V   02-12 MARCA BOGE PEDIDO        ALEJANDRO",1302.28,0,0,0,0,0,0,{"$f":"+IFERROR(HYPERLINK(VLOOKUP(C1080,FOTOGRAFICO!C:E,3,FALSE),C1080),\"\")","v":""}]
[null,null,"BOG930106","AMORTIGUAD","AMORTIG DEL IZQ DER DURANGO 04 -10 GAS EXTREME BOGE           930 106 PIDE MIGUEL COTOC",806.82,0,0,0,0,0,0,{"$f":"+IFERROR(HYPERLINK(VLOOKUP(C1081,FOTOGRAFICO!C:E,3,FALSE),C1081),\"\")","v":""}]
[null,null,"BOG930148","AMORTIGUAD","AMORTIGUADOR TRAS OUTLANDER 05 -06 MARCA BOGE EXTREME GAS     PIDE RAUL FABIOLA",1173.83,0,0,0,0,0,0,{"$f":"+IFERROR(HYPERLINK(VLOOKUP(C1082,FOTOGRAFICO!C:E,3,FALSE),C1082),\"\")","v":""}]
[null,null,"BOG930150","AMORTIGUAD","AMORTIGUADOR TRAS EUROVAN      DIESEL 05-12 MARCA BOGE",872.98,0,0,0,0,0,0,{"$f":"+IFERROR(HYPERLINK(VLOOKUP(C1083,FOTOGRAFICO!C:E,3,FALSE),C1083),\"\")","v":""}]
[null,null,"BOG930163","AMORTIGUAD","AMORTIGUADOR TRAS X-TRAIL 2.5  08-13 ROGUE 2.5 08-14 MARCA    BOGE X-TREME GAS PIDE ZAR TORR",1049.9000000000001,0,0,2,0,0,0,{"$f":"+IFERROR(HYPERLINK(VLOOKUP(C1084,FOTOGRAFICO!C:E,3,FALSE),C1084),\"\")","v":""}]
[null,null,"BOG930216","AMORTIGUAD","AMORTIGUADOR TRAS PATHFINDER   13-18 MARCA BOGE PEDIDO RAUL",908.61,0,0,0,0,0,0,{"$f":"+IFERROR(HYPERLINK(VLOOKUP(C1085,FOTOGRAFICO!C:E,3,FALSE),C1085),\"\")","v":""}]
[null,null,"BOG930237","AMORTIGUAD","AMORTIGUADOR DEL SUBURBAN 14-  20 YUKON 15-20 TAHOE 15-20     MARCA BOGE EXTREME PIDE RAUL F",2210.94,0,0,0,0,0,0,{"$f":"+IFERROR(HYPERLINK(VLOOKUP(C1086,FOTOGRAFICO!C:E,3,FALSE),C1086),\"\")","v":""}]
[null,null,"BOG950028","AMORTIGUAD","AMORTIGUADOR DEL DER CR-V 02-  06 MARCA BOGE EXTREME GAS PIDE ANGEL VERA 950 028",1980.45,0,0,0,0,0,0,{"$f":"+IFERROR(HYPERLINK(VLOOKUP(C1087,FOTOGRAFICO!C:E,3,FALSE),C1087),\"\")","v":""}]
[null,null,"BOG950029","AMORTIGUAD","AMORTIGUADOR DEL IZQ CR-V 02-  06 MARCA BOGE EXTREME GAS      PIDE ANGEL VERA 950 029",1980.45,0,0,0,0,0,0,{"$f":"+IFERROR(HYPERLINK(VLOOKUP(C1088,FOTOGRAFICO!C:E,3,FALSE),C1088),\"\")","v":""}]
[null,null,"BOG950058","AMORTIGUAD","AMORTIGUADOR TRAS DER X-TRAIL  01-07 MARCA BOGE GAS XTREME    PIDE EDUARDO 950 058",1625.13,0,0,0,0,0,0,{"$f":"+IFERROR(HYPERLINK(VLOOKUP(C1089,FOTOGRAFICO!C:E,3,FALSE),C1089),\"\")","v":""}]
[null,null,"BOG950059","AMORTIGUAD","AMORTIGUADOR TRAS IZQ X-TRAIL  01-07 MARCA BOGE EXTREME       PIDE EDUARDO 950 059",1625.13,0,0,0,0,0,0,{"$f":"+IFERROR(HYPERLINK(VLOOKUP(C1090,FOTOGRAFICO!C:E,3,FALSE),C1090),\"\")","v":""}]
[null,null,"BOG950153","AMORTIGUAD","AMORT DEL IZQ PATHFINDER 13-18 MURANO 15-18 MARCA BOGE PEDIDO RAUL",1775.66,0,0,0,0,0,0,{"$f":"+IFERROR(HYPERLINK(VLOOKUP(C1091,FOTOGRAFICO!C:E,3,FALSE),C1091),\"\")","v":""}]
[null,null,"BOG950154","AMORTIGUAD","AMORT DEL DER PATHFINDE 13-18  MURANO 15-18 MARCA BOGE PEDIDO RAUL",1775.66,0,0,0,0,0,0,{"$f":"+IFERROR(HYPERLINK(VLOOKUP(C1092,FOTOGRAFICO!C:E,3,FALSE),C1092),\"\")","v":""}]
[null,null,"BOG950191","AMORTIGUAD","AMORTIGUADOR DEL IZQ KOLEOS 17 -21 X-TRAIL 14-21 MARCA BOGE   GAS PIDE ZAR TORRES",2039.56,0,0,0,0,0,0,{"$f":"+IFERROR(HYPERLINK(VLOOKUP(C1093,FOTOGRAFICO!C:E,3,FALSE),C1093),\"\")","v":""}]
[null,null,"BOG950192","AMORTIGUAD","AMORTIGUADOR DEL DER KOLEOS 17 -21 X-TRAIL 14-21 MARCA BOGE   GAS PIDE ZAR TORRES",2039.56,0,0,0,0,0,0,{"$f":"+IFERROR(HYPERLINK(VLOOKUP(C1094,FOTOGRAFICO!C:E,3,FALSE),C1094),\"\")","v":""}]
[null,null,"BOGMP043","AMORTIGUAD","AMORTIGUADOR TRAS TOPAZ 84-94  GHIA 84-94 TEMPO 84-94 MCA:    BOGE PEDIDO MIGUEL COTOC",490.53,0,0,0,0,0,0,{"$f":"+IFERROR(HYPERLINK(VLOOKUP(C1095,FOTOGRAFICO!C:E,3,FALSE),C1095),\"\")","v":""}]
[null,null,"BOGMP8261","AMORTIGUAD","AMORTIGUADOR DEL COURIER 01-12 MARCA BOGE GAS MP8261",1049.03,0,0,0,0,0,0,{"$f":"+IFERROR(HYPERLINK(VLOOKUP(C1096,FOTOGRAFICO!C:E,3,FALSE),C1096),\"\")","v":""}]
[null,null,"BOGMP8387","AMORTIGUAD","AMORTIGUADOR DEL IZQ MALIBU    04-12 PONTIAC G6 04-09 MARCA   BOGE GAS PIDE ALEX FUENTES",1702.3,0,0,0,0,0,0,{"$f":"+IFERROR(HYPERLINK(VLOOKUP(C1097,FOTOGRAFICO!C:E,3,FALSE),C1097),\"\")","v":""}]
[null,null,"BOGMP8388","AMORTIGUAD","AMORTIGUADOR DEL DER MALIBU    04-12 PONTIAC G6 04-09 MARCA   BOGE GAS PIDE ALEX FUENTES",1702.3,0,0,0,0,0,0,{"$f":"+IFERROR(HYPERLINK(VLOOKUP(C1098,FOTOGRAFICO!C:E,3,FALSE),C1098),\"\")","v":""}]
[null,null,"BOGMP8647","AMORTIGUAD","AMORTIGUADOR DEL IZQ TOYOTA    AVANZA 07-13 MARCA BOGE",1312.03,0,0,0,0,0,0,{"$f":"+IFERROR(HYPERLINK(VLOOKUP(C1099,FOTOGRAFICO!C:E,3,FALSE),C1099),\"\")","v":""}]
[null,null,"BOGMP8648","AMORTIGUAD","AMORTIGUADOR DEL DER TOYOTA    AVANZA 07-13 MARCA BOGE",1312.03,0,0,0,0,0,0,{"$f":"+IFERROR(HYPERLINK(VLOOKUP(C1100,FOTOGRAFICO!C:E,3,FALSE),C1100),\"\")","v":""}]
[null,null,"BOGMP8655","AMORTIGUAD","AMORTIGUADOR DEL IZQ HONDA FIT 09-14 CITY 09-13 MARCA BOGE    PEDIDO ALEJANDRO",1746.52,0,0,0,0,0,0,{"$f":"+IFERROR(HYPERLINK(VLOOKUP(C1101,FOTOGRAFICO!C:E,3,FALSE),C1101),\"\")","v":""}]
[null,null,"BOGMP8656","AMORTIGUAD","AMORTIGUADOR DEL DER HONDA FIT 09-14 CITY 09-13 MARCA BOGE    PEDIDO ALEJANDRO",1746.52,0,0,0,0,0,0,{"$f":"+IFERROR(HYPERLINK(VLOOKUP(C1102,FOTOGRAFICO!C:E,3,FALSE),C1102),\"\")","v":""}]
[null,null,"BOGMP8672","AMORTIGUAD","AMORTIGUADOR DEL VW UP 14-15   MARCA BOGE MP8672 PIDE RAUL    FABILA",1262.9100000000001,0,0,0,0,0,0,{"$f":"+IFERROR(HYPERLINK(VLOOKUP(C1103,FOTOGRAFICO!C:E,3,FALSE),C1103),\"\")","v":""}]
[null,null,"BOGMP8677","AMORTIGUAD","AMORTIGUADOR DEL IZQ CIVIC 06- 11 1.3 1.8 2.0 MCA: BOGE       PEDIDO OSVALDO",1228.8800000000001,0,0,0,0,0,0,{"$f":"+IFERROR(HYPERLINK(VLOOKUP(C1104,FOTOGRAFICO!C:E,3,FALSE),C1104),\"\")","v":""}]
[null,null,"BOGMP8678","AMORTIGUAD","AMORTIGUADOR DEL DER CIVIC 06- 11 1.3 1.8 2.0 MCA: BOGE       PEDIDO OSVALDO",1228.8800000000001,0,0,0,0,0,0,{"$f":"+IFERROR(HYPERLINK(VLOOKUP(C1105,FOTOGRAFICO!C:E,3,FALSE),C1105),\"\")","v":""}]
[null,null,"BOGMP8679","AMORTIGUAD","AMORTIGUADOR DEL IZQ CIVIC 12- 15 MARCA BOGE                  PEDIDO RAUL FABILA",1293.96,0,0,0,0,0,0,{"$f":"+IFERROR(HYPERLINK(VLOOKUP(C1106,FOTOGRAFICO!C:E,3,FALSE),C1106),\"\")","v":""}]
[null,null,"BOGMP8680","AMORTIGUAD","AMORTIGUADOR DEL DER CIVIC 12- 15 MARCA BOGE                  PEDIDO RAUL FABILA",1293.96,0,0,0,0,0,0,{"$f":"+IFERROR(HYPERLINK(VLOOKUP(C1107,FOTOGRAFICO!C:E,3,FALSE),C1107),\"\")","v":""}]
[null,null,"BOGMP8698","AMORTIGUAD","AMORTIGUADOR DEL DER SWIFT 12- 15 EXC SPORT MCA: BOGE         PEDIDO RAUL FABILA",1155.48,0,0,0,0,0,0,{"$f":"+IFERROR(HYPERLINK(VLOOKUP(C1108,FOTOGRAFICO!C:E,3,FALSE),C1108),\"\")","v":""}]
[null,null,"BOGMP8699","AMORTIGUAD","AMORTIGUADOR DEL IZQ SWIFT 12- 15 EXC SPORT MCA: BOGE         PEDIDO RAUL",1155.48,0,0,0,0,0,0,{"$f":"+IFERROR(HYPERLINK(VLOOKUP(C1109,FOTOGRAFICO!C:E,3,FALSE),C1109),\"\")","v":""}]
[null,null,"BOGMP8737","AMORTIGUAD","AMORTIGUADOR DEL IZQ AVANZA    14-20 MARCA BOGE PIDE EDSON",1401,0,0,0,0,0,0,{"$f":"+IFERROR(HYPERLINK(VLOOKUP(C1110,FOTOGRAFICO!C:E,3,FALSE),C1110),\"\")","v":""}]
[null,null,"BOGMP8738","AMORTIGUAD","AMORTIGUADOR DEL DER AVANZA    14-20 MARCA BOGE PIDE EDSON",1401,0,0,0,0,0,0,{"$f":"+IFERROR(HYPERLINK(VLOOKUP(C1111,FOTOGRAFICO!C:E,3,FALSE),C1111),\"\")","v":""}]
[null,null,"KYB3320010","AMORTIGUAD","AMORTIGUADOR DEL MIRAGE 15-17  MCA: KYB                       SOBRE PEDIDO MIGUEL",1276.1199999999999,0,0,0,0,0,0,{"$f":"+IFERROR(HYPERLINK(VLOOKUP(C1112,FOTOGRAFICO!C:E,3,FALSE),C1112),\"\")","v":""}]
[null,null,"KYB3330063","AMORTIGUAD","AMORTIG DEL DER CITY 14-20 FIT 15-19 MARCA KYB PIDE ADAN",2366.9699999999998,0,0,0,0,0,0,{"$f":"+IFERROR(HYPERLINK(VLOOKUP(C1113,FOTOGRAFICO!C:E,3,FALSE),C1113),\"\")","v":""}]
[null,null,"KYB3330064","AMORTIGUAD","AMORTIG DEL IZQ CITY 14-20 FIT 15-19 MARCA KYB PIDE ADAN",2366.9699999999998,0,0,0,0,0,0,{"$f":"+IFERROR(HYPERLINK(VLOOKUP(C1114,FOTOGRAFICO!C:E,3,FALSE),C1114),\"\")","v":""}]
[null,null,"KYB333348","AMORTIGUAD","AMORTIGUADOR DEL DER FOCUS 00- 07 MARCA KYB",1025.3599999999999,0,0,0,0,0,0,{"$f":"+IFERROR(HYPERLINK(VLOOKUP(C1115,FOTOGRAFICO!C:E,3,FALSE),C1115),\"\")","v":""}]
[null,null,"KYB333349","AMORTIGUAD","AMORTIGUADOR DEL IZQ FOCUS 00- 07 MARCA KYB",1025.3599999999999,0,0,0,0,0,0,{"$f":"+IFERROR(HYPERLINK(VLOOKUP(C1116,FOTOGRAFICO!C:E,3,FALSE),C1116),\"\")","v":""}]
[null,null,"KYB333614","AMORTIGUAD","AMORTI DEL MERCEDES BENZ CLASE A 01-05 MARCA KYB GAS PIDE     ERICK AVILA 333614",2458,0,0,0,0,0,0,{"$f":"+IFERROR(HYPERLINK(VLOOKUP(C1117,FOTOGRAFICO!C:E,3,FALSE),C1117),\"\")","v":""}]
[null,null,"KYB3340053","AMORTIGUAD","AMORTIGUADOR DEL DER CIVIC 12- 13 SEDAN MARCA KYB PIDE RAUL   FABILA",1719.87,0,0,0,0,0,0,{"$f":"+IFERROR(HYPERLINK(VLOOKUP(C1118,FOTOGRAFICO!C:E,3,FALSE),C1118),\"\")","v":""}]
[null,null,"KYB3340054","AMORTIGUAD","AMORTIGUADOR DEL IZQ CIVIC 12- 13 SEDAN MARCA KYB PIDE RAUL   FABILA",1719.87,0,0,0,0,0,0,{"$f":"+IFERROR(HYPERLINK(VLOOKUP(C1119,FOTOGRAFICO!C:E,3,FALSE),C1119),\"\")","v":""}]
[null,null,"KYB3340128","AMORTIGUAD","AMORTIGUADOR DER DEL YARIS 14- 16 MARCA KYB PIDE ALEJANDRO",1795.87,0,0,0,0,0,0,{"$f":"+IFERROR(HYPERLINK(VLOOKUP(C1120,FOTOGRAFICO!C:E,3,FALSE),C1120),\"\")","v":""}]
[null,null,"KYB3340129","AMORTIGUAD","AMORTIGUADOR IZQ DEL YARIS 14- 16 MARCA KYB PIDE ALEJANDRO",1795.87,0,0,0,0,0,0,{"$f":"+IFERROR(HYPERLINK(VLOOKUP(C1121,FOTOGRAFICO!C:E,3,FALSE),C1121),\"\")","v":""}]
[null,null,"KYB334840","AMORTIGUAD","AMORTIGUADOR DEL DER FOCUS 08- 11 MARCA KYB PIDE RAUL FABILA  334840",1587.56,0,0,0,0,0,0,{"$f":"+IFERROR(HYPERLINK(VLOOKUP(C1122,FOTOGRAFICO!C:E,3,FALSE),C1122),\"\")","v":""}]
[null,null,"KYB334841","AMORTIGUAD","AMORTIGUADOR DEL IZQ FOCUS 08- 11 MARCA KYB PIDE RAUL FABILA  334841",1587.56,0,0,0,0,0,0,{"$f":"+IFERROR(HYPERLINK(VLOOKUP(C1123,FOTOGRAFICO!C:E,3,FALSE),C1123),\"\")","v":""}]
[null,null,"KYB335061","AMORTIGUAD","AMORTIGUADOR DEL UPLANDER 05-  09 MONTANA 06-09 MARCA KYB     PIDE MIGUEL",1980.91,0,0,0,0,0,0,{"$f":"+IFERROR(HYPERLINK(VLOOKUP(C1124,FOTOGRAFICO!C:E,3,FALSE),C1124),\"\")","v":""}]
[null,null,"KYB3358000","AMORTIGUAD","AMORTIGUADOR DEL TIGUAN 09-11  TIGUAN 15-17 MARCA KYB GAS     3358000 PIDE RAUL FABILA",1769.43,0,0,0,0,0,0,{"$f":"+IFERROR(HYPERLINK(VLOOKUP(C1125,FOTOGRAFICO!C:E,3,FALSE),C1125),\"\")","v":""}]
[null,null,"KYB338737","AMORTIGUAD","AMORTIGUADOR DEL DUSTER 12-13  OROCH 19-20 MARCA KYB PEDIDO   SERGIO",1493.27,0,0,0,0,0,0,{"$f":"+IFERROR(HYPERLINK(VLOOKUP(C1126,FOTOGRAFICO!C:E,3,FALSE),C1126),\"\")","v":""}]
[null,null,"KYB339247","AMORTIGUAD","AMORTIGUADOR DEL DER AVENGER   08-14 CIRRUS 07-10 MARCA KYB   PEDIDO DAVID",1585.97,0,0,0,0,0,0,{"$f":"+IFERROR(HYPERLINK(VLOOKUP(C1127,FOTOGRAFICO!C:E,3,FALSE),C1127),\"\")","v":""}]
[null,null,"KYB339248","AMORTIGUAD","AMORTIGUADOR DEL IZQ AVENGER   07-12 CIRRUS 07-10 MARCA KYB   PEDIDO DAVID",1585.97,0,0,0,0,0,0,{"$f":"+IFERROR(HYPERLINK(VLOOKUP(C1128,FOTOGRAFICO!C:E,3,FALSE),C1128),\"\")","v":""}]
[null,null,"KYB339820","AMORTIGUAD","AMORTIGUADOR DEL DER MAZDA 5   12-15 FOCUS 07-12 MARCA KYB    GAS PIDE RAUL FABILA",1848.74,0,0,0,0,0,0,{"$f":"+IFERROR(HYPERLINK(VLOOKUP(C1129,FOTOGRAFICO!C:E,3,FALSE),C1129),\"\")","v":""}]
[null,null,"KYB339821","AMORTIGUAD","AMORTIGUADOR DEL IZQ MAZDA 5   12-15 FOCUS 07-12 MARCA KYB    GAS PIDE RAUL FABILA",1848.74,0,0,0,0,0,0,{"$f":"+IFERROR(HYPERLINK(VLOOKUP(C1130,FOTOGRAFICO!C:E,3,FALSE),C1130),\"\")","v":""}]
[null,null,"KYB339853","AMORTIGUAD","AMORTIGUAD DEL MERCEDES BENZ   CLASE B200 06-11 MARCA KYB     PEDIDO RAUL",1779.22,0,0,0,0,0,0,{"$f":"+IFERROR(HYPERLINK(VLOOKUP(C1131,FOTOGRAFICO!C:E,3,FALSE),C1131),\"\")","v":""}]
[null,null,"KYB341472","AMORTIGUAD","AMORTIGUADOR TRAS DER FIVE     HUNDRED 05-07 MONTEGO 05-07    MARCA KYB PEDIDO CARLOS",1228.2,0,0,0,0,0,0,{"$f":"+IFERROR(HYPERLINK(VLOOKUP(C1132,FOTOGRAFICO!C:E,3,FALSE),C1132),\"\")","v":""}]
[null,null,"KYB341473","AMORTIGUAD","AMORTIGUADOR TRAS IZQ FIVE     HUNDRED 05-07 MONTEGO 05-07    MARCA KYB PEDIDO CARLOS",1228.2,0,0,0,0,0,0,{"$f":"+IFERROR(HYPERLINK(VLOOKUP(C1133,FOTOGRAFICO!C:E,3,FALSE),C1133),\"\")","v":""}]
[null,null,"KYB343291","AMORTIGUAD","AMORTIGUADOR TRAS FOCUS 00-07  MARCA KYB",777.81,0,0,0,0,0,0,{"$f":"+IFERROR(HYPERLINK(VLOOKUP(C1134,FOTOGRAFICO!C:E,3,FALSE),C1134),\"\")","v":""}]
[null,null,"KYB343412","AMORTIGUAD","AMORTIGUADOR TRAS MAZDA 5 06-  15 MAZDA 3 06-09 MARCA KYB     GAS PIDE RAUL FABILA",641.02,0,0,0,0,0,0,{"$f":"+IFERROR(HYPERLINK(VLOOKUP(C1135,FOTOGRAFICO!C:E,3,FALSE),C1135),\"\")","v":""}]
[null,null,"KYB343827","AMORTIGUAD","AMORTIGUADOR TRAS DUSTER 12-18 CAPTUR 18-20 MARCA KYB PIDE    SERGIO",1159.8,0,0,0,0,0,0,{"$f":"+IFERROR(HYPERLINK(VLOOKUP(C1136,FOTOGRAFICO!C:E,3,FALSE),C1136),\"\")","v":""}]
[null,null,"KYB344338","AMORTIGUAD","AMORTIGUADOR TRAS UPLANDER 06- 09 VENTURE 97-05 MONTANA 06-08 AZTECA 01-03 KYB PIDE MIGUEL",733.55,0,0,0,0,1,0,{"$f":"+IFERROR(HYPERLINK(VLOOKUP(C1137,FOTOGRAFICO!C:E,3,FALSE),C1137),\"\")","v":""}]
[null,null,"KYB348038","AMORTIGUAD","AMORTIGUADOR TRAS FOCUS 00-07  MARCA KYB P",584.54999999999995,0,0,0,0,0,0,{"$f":"+IFERROR(HYPERLINK(VLOOKUP(C1138,FOTOGRAFICO!C:E,3,FALSE),C1138),\"\")","v":""}]
[null,null,"KYB349067","AMORTIGUAD","AMORTIGUADOR TRAS TIGUAN 09-17 MARCA KYB GAS PIDE RAUL FABILA 349067",1463.79,0,0,0,0,0,0,{"$f":"+IFERROR(HYPERLINK(VLOOKUP(C1139,FOTOGRAFICO!C:E,3,FALSE),C1139),\"\")","v":""}]
[null,null,"MON553003","AMORTIGUAD","AMORTIG DEL SPRINTER 2.1 07-16 315 415 CDI CRAFTER 2.0 07-13  MONROE GAS SEVERO PIDE GAZCA",2051.54,0,0,0,0,0,0,{"$f":"+IFERROR(HYPERLINK(VLOOKUP(C1140,FOTOGRAFICO!C:E,3,FALSE),C1140),\"\")","v":""}]
[null,null,"SANC0250","AMORTIGUAD","AMORTIGUADOR TRAS CORSA 02-08  HATCHBACK TIGRA 94-00 GAS      MARCA YOKOMITZU",223.51,0,0,11,0,1,0,{"$f":"+IFERROR(HYPERLINK(VLOOKUP(C1141,FOTOGRAFICO!C:E,3,FALSE),C1141),\"\")","v":"SANC0250"}]
[null,null,"SANC0802-PROMO","AMORTIGUAD","AMORTIGUADOR DEL IZQ SPARK 11- 17 BEAT 18-21 GAS YOKOMITSU    = 3330080SFT = BOGMP8673",421.56,0,0,2,0,0,0,{"$f":"+IFERROR(HYPERLINK(VLOOKUP(C1142,FOTOGRAFICO!C:E,3,FALSE),C1142),\"\")","v":""}]
[null,null,"SANC0850-PROMO","AMORTIGUAD","AMORTIGUADOR TRAS SPARK 11-17  BEAT 18-21 GAS YOKOMITSU       IMPORT = BOG832691 = 348036SFT",251.8,0,0,0,0,0,0,{"$f":"+IFERROR(HYPERLINK(VLOOKUP(C1143,FOTOGRAFICO!C:E,3,FALSE),C1143),\"\")","v":"SANC0850-PROMO"}]
[null,null,"SANC0860-PROMO","AMORTIGUAD","AMORTIGUADOR TRAS SPARK NG 1.4 16-21 IZQ O DER GAS MARCA YOKO MITZU",297.87,0,0,0,6,0,0,{"$f":"+IFERROR(HYPERLINK(VLOOKUP(C1144,FOTOGRAFICO!C:E,3,FALSE),C1144),\"\")","v":""}]
[null,null,"SANC9901-PROMO","AMORTIGUAD","AMORTIGUADOR DEL DER AVEO 08-  18 PONTIAC G3 06-09 YOKOMITZU  =BOGMP8537 =KYB333418 DE GAS",421.56,0,0,0,0,11,0,{"$f":"+IFERROR(HYPERLINK(VLOOKUP(C1145,FOTOGRAFICO!C:E,3,FALSE),C1145),\"\")","v":"SANC9901-PROMO"}]
[null,null,"SANC9911PROMO","AMORTIGUAD","AMORTIGUADOR DEL DER AVEO 18-  23 DE GAS MARCA YOKOMITZU      AVEO II 1.5L",464,0,0,0,0,0,0,{"$f":"+IFERROR(HYPERLINK(VLOOKUP(C1146,FOTOGRAFICO!C:E,3,FALSE),C1146),\"\")","v":""}]
[null,null,"SANC9914-PROMO","AMORTIGUAD","AMORTIGUADOR DEL IZQ AVEO 18-  23 DE GAS MARCA YOKOMITZU      AVEO II 1.5L",520.58000000000004,0,5,0,5,5,0,{"$f":"+IFERROR(HYPERLINK(VLOOKUP(C1147,FOTOGRAFICO!C:E,3,FALSE),C1147),\"\")","v":"SANC9914-PROMO"}]
[null,null,"SAND0302-PROMO","AMORTIGUAD","AMORTIGUADOR DEL IZQ I10 15-20 HYUNDAI GRAND I10 1.2L DE GAS  SEDAN/H-BACK MARCA YOKOMITZU",506.43,0,0,0,0,0,0,{"$f":"+IFERROR(HYPERLINK(VLOOKUP(C1148,FOTOGRAFICO!C:E,3,FALSE),C1148),\"\")","v":""}]
[null,null,"SANF0210","AMORTIGUAD","AMORTIGUADOR DEL FIESTA 03-10  SEDAN HATCHBACK MARCA          YOKOMITSU GAS MP8292 PIDE ROA",464,0,0,0,0,0,0,{"$f":"+IFERROR(HYPERLINK(VLOOKUP(C1149,FOTOGRAFICO!C:E,3,FALSE),C1149),\"\")","v":""}]
[null,null,"SANF0260","AMORTIGUAD","AMORTIGUADOR TRAS FIESTA 03-10 SEDAN HATCHBACK MARCA          YOKOMITSU PIDE ROA",336.68,0,0,0,0,0,0,{"$f":"+IFERROR(HYPERLINK(VLOOKUP(C1150,FOTOGRAFICO!C:E,3,FALSE),C1150),\"\")","v":""}]
[null,null,"SANH0501","AMORTIGUAD","AMORTIGU DEL DER FIT 1.5 09-14 CITY 1.5 09-13 MARCA YOKOMITSU GAS MP8656 PIDE OSVALDO RUBIO",563.02,0,0,1,0,0,0,{"$f":"+IFERROR(HYPERLINK(VLOOKUP(C1151,FOTOGRAFICO!C:E,3,FALSE),C1151),\"\")","v":""}]
[null,null,"SANH0502","AMORTIGUAD","AMORTIGU DEL IZQ FIT 1.5 09-14 CITY 1.5 09-13 MARCA YOKOMITSU GAS MP8655 PIDE OSVALDO RUBIO",563.02,0,0,1,0,0,0,{"$f":"+IFERROR(HYPERLINK(VLOOKUP(C1152,FOTOGRAFICO!C:E,3,FALSE),C1152),\"\")","v":""}]
[null,null,"SANN0430-PROMO","AMORTIGUAD","AMORTIGUADOR DEL URVAN NV350   14-20 GAS YOKOMITSU IMPORTADO  = GAB72012-AUSA = KYB3440025",251.8,0,0,0,0,0,0,{"$f":"+IFERROR(HYPERLINK(VLOOKUP(C1153,FOTOGRAFICO!C:E,3,FALSE),C1153),\"\")","v":""}]
[null,null,"SANN0901-OP","AMORTIGUAD","AMORTIGUADOR DEL DER VERSA 12- 19 NOTE 13-17 GAS YOKOMITSU    IMPORTADO = E4302-3AN0CSFT",379.12,0,2,3,1,0,0,{"$f":"+IFERROR(HYPERLINK(VLOOKUP(C1154,FOTOGRAFICO!C:E,3,FALSE),C1154),\"\")","v":"SANN0901-OP"}]
[null,null,"SANT0450-PROMO","AMORTIGUAD","AMORTIGUADOR TRAS HIACE 05-19  GAS CHASIS LARGO TECHO ALTO    MARCA YOKOMITZU DER O IZQ",223.51,0,0,0,0,0,0,{"$f":"+IFERROR(HYPERLINK(VLOOKUP(C1155,FOTOGRAFICO!C:E,3,FALSE),C1155),\"\")","v":""}]
[null,null,"SANV0700-OP","AMORTIGUAD","AMORTIGUADOR DEL VENTO 13-23   POLO 13-19 IBIZA 10-17 TOLEDO  13-19 GAS MARCA YOKOMITZU",520.58000000000004,0,0,0,1,0,0,{"$f":"+IFERROR(HYPERLINK(VLOOKUP(C1156,FOTOGRAFICO!C:E,3,FALSE),C1156),\"\")","v":""}]
[null,null,"SFNE0120","AMORTIGUAD","AMORTIGUADOR CAJUELA IBIZA 10- 17 MARCA YOKOMITZU",152.78,0,0,0,0,0,0,{"$f":"+IFERROR(HYPERLINK(VLOOKUP(C1157,FOTOGRAFICO!C:E,3,FALSE),C1157),\"\")","v":""}]
[null,null,"SFNN0802","AMORTIGUAD","AMORTIGUADOR CAJUELA IZQ MARCH 11-22 C/BASE 50 CM MARCA       YOKOMITSU",138.63,0,1,0,0,0,2,{"$f":"+IFERROR(HYPERLINK(VLOOKUP(C1158,FOTOGRAFICO!C:E,3,FALSE),C1158),\"\")","v":""}]
[null,null,"SFNT2001","AMORTIGUAD","AMORTIGUADOR 5A PTA DER AVANZA 12-21 C/BASE MARCA YOKOMITSU   PIDE MIGUEL MARIN",212.19,0,0,0,0,0,0,{"$f":"+IFERROR(HYPERLINK(VLOOKUP(C1159,FOTOGRAFICO!C:E,3,FALSE),C1159),\"\")","v":""}]
[null,null,"SFNT2002","AMORTIGUAD","AMORTIGUADOR 5A PTA IZQ AVANZA 12-21 C/BASE MARCA YOKOMITSU   PIDE MIGUEL MARIN",212.19,0,0,0,0,0,0,{"$f":"+IFERROR(HYPERLINK(VLOOKUP(C1160,FOTOGRAFICO!C:E,3,FALSE),C1160),\"\")","v":""}]
[null,null,"SFNV0410","AMORTIGUAD","AMORTIGUADOR COFRE BORA 06-10  LARGO 73 CM MARCA YOKOMITSU    PIDE AZAEL",110.34,0,0,3,0,2,0,{"$f":"+IFERROR(HYPERLINK(VLOOKUP(C1161,FOTOGRAFICO!C:E,3,FALSE),C1161),\"\")","v":"SFNV0410"}]
[null,null,"SYD7000229","AMORTIGUAD","AMORTIGUAD TRAS FIESTA 11-19   MAZDA 2 11-15 MARCA SYD GAS    PIDE OSVALDO RUBIO CAL 7000229",776.52,0,0,0,0,0,0,{"$f":"+IFERROR(HYPERLINK(VLOOKUP(C1162,FOTOGRAFICO!C:E,3,FALSE),C1162),\"\")","v":""}]
[null,null,"SYD7000331","AMORTIGUAD","AMORTIGUADOR DEL DER ATTITUDE  05-11 ACCENT 06-10 GAS MARCA   SYD PEDIDO DAVID",1093.94,0,0,0,0,0,0,{"$f":"+IFERROR(HYPERLINK(VLOOKUP(C1163,FOTOGRAFICO!C:E,3,FALSE),C1163),\"\")","v":""}]
[null,null,"SYD7000332","AMORTIGUAD","AMORTIGUADOR DEL IZQ ATTITUDE  05-11 ACCENT 06-10 GAS MARCA   SYD PEDIDO DAVID",1093.94,0,0,0,0,0,0,{"$f":"+IFERROR(HYPERLINK(VLOOKUP(C1164,FOTOGRAFICO!C:E,3,FALSE),C1164),\"\")","v":""}]
[null,null,"SYD7000359","AMORTIGUAD","AMORTIGUADOR DEL DER FIESTA 11 -19 MARCA SYD GAS PIDE OSVALDO RUBIO CALL 7000359",1232.33,0,0,0,0,0,0,{"$f":"+IFERROR(HYPERLINK(VLOOKUP(C1165,FOTOGRAFICO!C:E,3,FALSE),C1165),\"\")","v":""}]
[null,null,"SYD7000360","AMORTIGUAD","AMORTIGUADOR DEL IZQ FIESTA 11 -19 MARCA SYD GAS PIDE OSVALDO RUBIO CALL CENTER 7000360",1232.33,0,0,0,0,0,0,{"$f":"+IFERROR(HYPERLINK(VLOOKUP(C1166,FOTOGRAFICO!C:E,3,FALSE),C1166),\"\")","v":""}]
[null,null,"004-0652-00","AMORTIGUAD","AMORTIGUADOR 5TA PUERTA ZAFIRA 99-05 MARCA HUSHAN PIDE MOISES",0,0,0,0,0,0,0,{"$f":"+IFERROR(HYPERLINK(VLOOKUP(C1167,FOTOGRAFICO!C:E,3,FALSE),C1167),\"\")","v":""}]
[null,null,"004-2612-01","AMORTIGUAD","AMORTIGUADOR COFRE DUSTER 10-  15 MARCA HUSHAN",407.34,0,0,0,0,0,0,{"$f":"+IFERROR(HYPERLINK(VLOOKUP(C1168,FOTOGRAFICO!C:E,3,FALSE),C1168),\"\")","v":""}]
[null,null,"004-3112-01","AMORTIGUAD","AMORTIGUADOR CAJUELA JETTA A3  93-98 MARCA HUSHAN PEDIDO      5AUL",338.55,0,0,0,0,0,0,{"$f":"+IFERROR(HYPERLINK(VLOOKUP(C1169,FOTOGRAFICO!C:E,3,FALSE),C1169),\"\")","v":""}]
[null,null,"334846SFT","AMORTIGUAD","AMORTIGUADOR DEL DER ASTRA     ZAFIRA 00-06 GAS MARCA SAFETY  PIDE RAUL",743.56,0,0,0,0,0,0,{"$f":"+IFERROR(HYPERLINK(VLOOKUP(C1170,FOTOGRAFICO!C:E,3,FALSE),C1170),\"\")","v":""}]
[null,null,"334847SFT","AMORTIGUAD","AMORTIGUADOR DEL IZQ ASTRA     ZAFIRA 00-06 GAS MARCA SAFETY  PIDE RAUL",743.56,0,0,0,0,0,0,{"$f":"+IFERROR(HYPERLINK(VLOOKUP(C1171,FOTOGRAFICO!C:E,3,FALSE),C1171),\"\")","v":""}]
[null,null,"338749SFT","AMORTIGUAD","AMORTIGUADOR DEL LOGAN 1.6 15- 19 GAS MARCA SAFETY IMPORTADO  MP8747 PIDE CARLOS SAMUEL",876.29,0,0,0,0,0,0,{"$f":"+IFERROR(HYPERLINK(VLOOKUP(C1172,FOTOGRAFICO!C:E,3,FALSE),C1172),\"\")","v":""}]
[null,null,"343307SFT","AMORTIGUAD","AMORTIGUADOR TRAS ASTRA ZAFIRA 00-07 GAS MARCA SAFETY PIDE    RAUL",372.45,0,0,0,0,0,0,{"$f":"+IFERROR(HYPERLINK(VLOOKUP(C1173,FOTOGRAFICO!C:E,3,FALSE),C1173),\"\")","v":""}]
[null,null,"56210F4600SFT","AMORTIGUAD","AMORTIGUADOR TRASERO SENTRA 01 -06 ALMERA 01-05 SCALA 10-13   GAS MARCA SAFETY 832454",423.74,0,0,0,0,0,0,{"$f":"+IFERROR(HYPERLINK(VLOOKUP(C1174,FOTOGRAFICO!C:E,3,FALSE),C1174),\"\")","v":""}]
[null,null,"68298326","AMORTIGUAD","AMORTIGUADOR GRAND CHEROKEE R  LADO DERECHO MARCA KYB",2674.42,0,0,0,0,0,0,{"$f":"+IFERROR(HYPERLINK(VLOOKUP(C1175,FOTOGRAFICO!C:E,3,FALSE),C1175),\"\")","v":""}]
[null,null,"68298327","AMORTIGUAD","AMORTIGUADOR DELANTERO IZQUIER DO JEEP GRAND CHEROKEE         MARCA SYD",2674.42,0,0,0,0,0,0,{"$f":"+IFERROR(HYPERLINK(VLOOKUP(C1176,FOTOGRAFICO!C:E,3,FALSE),C1176),\"\")","v":""}]
[null,null,"90440-VW010SFT","AMORTIGUAD","AMORTIGUADOR 5TA PUERTA URVAN  IZQ DER 02-12 LARGO 77 CM      CILINDRO 50 CM MARCA SAFETY",171.41,0,0,0,0,0,0,{"$f":"+IFERROR(HYPERLINK(VLOOKUP(C1177,FOTOGRAFICO!C:E,3,FALSE),C1177),\"\")","v":"90440-VW010SFT"}]
[null,null,"BOG832496","AMORTIGUAD","AMORTIGUADOR TRAS ALMERA 01-06 MARCA BOGE PIDE JORGE",701.59,0,0,0,0,0,0,{"$f":"+IFERROR(HYPERLINK(VLOOKUP(C1178,FOTOGRAFICO!C:E,3,FALSE),C1178),\"\")","v":""}]
[null,null,"BOG835099","AMORTIGUAD","AMORTIGUAD DEL RAM 1500 94-01  RAM 2500 94-02 RAM 3500 94-02  MCA:BOGE PEDIDO ANGEL",499.16,0,0,0,0,0,0,{"$f":"+IFERROR(HYPERLINK(VLOOKUP(C1179,FOTOGRAFICO!C:E,3,FALSE),C1179),\"\")","v":"BOG835099"}]
[null,null,"BOG835179","AMORTIGUAD","AMORTIGUADOR TRAS RAM 1500 97- 03 RAM 2500 97-03 RAM 3500 97- 03 MCA: BOGE PEDIDO EDUARDO",577.44000000000005,0,0,0,0,0,0,{"$f":"+IFERROR(HYPERLINK(VLOOKUP(C1180,FOTOGRAFICO!C:E,3,FALSE),C1180),\"\")","v":""}]
[null,null,"BOG930160","AMORTIGUAD","AMORTIGUADO TRAS JOURNEY 08-10 2.4 3.5 GAS MARCA BOGE EXTREME 930 160",911.69,0,0,0,0,0,0,{"$f":"+IFERROR(HYPERLINK(VLOOKUP(C1181,FOTOGRAFICO!C:E,3,FALSE),C1181),\"\")","v":""}]
[null,null,"BOG930161","AMORTIGUAD","AMORTIGUADOR TRA MAZDA CX-7 06 -12 GAS MARCA BOGE             PEDIDO MOISES",678.36,0,0,0,0,0,0,{"$f":"+IFERROR(HYPERLINK(VLOOKUP(C1182,FOTOGRAFICO!C:E,3,FALSE),C1182),\"\")","v":""}]
[null,null,"BOG950080","AMORTIGUAD","AMORTIGUADOR DEL DER JOURNEY   2010                           PEDIDO POR JORGE DIAZ",1259.47,0,0,0,0,0,0,{"$f":"+IFERROR(HYPERLINK(VLOOKUP(C1183,FOTOGRAFICO!C:E,3,FALSE),C1183),\"\")","v":""}]
[null,null,"BOG950081","AMORTIGUAD","AMOTIRGUADOR DEL IZQ JOURNEY   2010                           PEDIDO JORGE DIAZ",1259.47,0,0,0,0,0,0,{"$f":"+IFERROR(HYPERLINK(VLOOKUP(C1184,FOTOGRAFICO!C:E,3,FALSE),C1184),\"\")","v":""}]
[null,null,"BOG950159","AMORTIGUAD","AMORTIGUADO DEL GRAND CHEROKEE 11-18 DURANGO 2WD 4WD 11-15    MARCA BOGE EXTREME PIDE GMOGLZ",0,0,0,0,0,0,0,{"$f":"+IFERROR(HYPERLINK(VLOOKUP(C1185,FOTOGRAFICO!C:E,3,FALSE),C1185),\"\")","v":""}]
[null,null,"BOGG204056","AMORTIGUAD","AMORTIGUADOR 5A PTA FORD                                      SOBRE PEDIDO X FRANCISCO",229.99,0,0,0,0,0,0,{"$f":"+IFERROR(HYPERLINK(VLOOKUP(C1186,FOTOGRAFICO!C:E,3,FALSE),C1186),\"\")","v":""}]
[null,null,"BOGMP8319","AMORTIGUAD","AMORTIGUADOR DEL IZQ ALMERA 01 -06 MARCA BOGE PIDE JORGE",933.81,0,0,0,0,0,0,{"$f":"+IFERROR(HYPERLINK(VLOOKUP(C1187,FOTOGRAFICO!C:E,3,FALSE),C1187),\"\")","v":""}]
[null,null,"BOGMP8320","AMORTIGUAD","AMORTIGUADOR DEL DER ALMERA 01 -06 MARCA BOGE PIDE JORGE",933.81,0,0,0,0,0,0,{"$f":"+IFERROR(HYPERLINK(VLOOKUP(C1188,FOTOGRAFICO!C:E,3,FALSE),C1188),\"\")","v":""}]
[null,null,"BOGMP8534","AMORTIGUAD","AMORTIGUADOR DER DER MAZDA 3   05-13 MARCA BOGE PEDIDO POR    OSCAR",1479.67,0,0,0,0,0,0,{"$f":"+IFERROR(HYPERLINK(VLOOKUP(C1189,FOTOGRAFICO!C:E,3,FALSE),C1189),\"\")","v":""}]
[null,null,"BOGMP8640","AMORTIGUAD","AMORTIGUADOR DEL DER CAMRY 2.4 07-09 2.5 07-11 MARCA BOGE GAS PIDE JORGE GUT.",1540.84,0,0,0,0,0,0,{"$f":"+IFERROR(HYPERLINK(VLOOKUP(C1190,FOTOGRAFICO!C:E,3,FALSE),C1190),\"\")","v":""}]
[null,null,"BOGMP8641","AMORTIGUAD","AMORTIGUADOR DEL IZQ CAMRY 2.4 07-09 2.5 07-11 MARCA BOGE GAS PIDE JORGE GUT.",1540.84,0,0,0,0,0,0,{"$f":"+IFERROR(HYPERLINK(VLOOKUP(C1191,FOTOGRAFICO!C:E,3,FALSE),C1191),\"\")","v":""}]
[null,null,"BOGSG301058","AMORTIGUAD","AMORTIGUADOR 5A PUERTA CARIBE  77-87 MCA: BOGE                PEDIDO POR FRANCISCO HERNANDEZ",153.12,0,0,0,0,0,0,{"$f":"+IFERROR(HYPERLINK(VLOOKUP(C1192,FOTOGRAFICO!C:E,3,FALSE),C1192),\"\")","v":"BOGSG301058"}]
[null,null,"KYB333394","AMORTIGUAD","AMORTIGUADOR DEL DER SENTRA    SE-R SCALA 10-13 MARCA KYB     PIDE GERARDO",1249.02,0,0,0,0,0,0,{"$f":"+IFERROR(HYPERLINK(VLOOKUP(C1193,FOTOGRAFICO!C:E,3,FALSE),C1193),\"\")","v":""}]
[null,null,"KYB333395","AMORTIGUAD","AMORTIGUADOR DEL IZQ SENTRA    SE-R SCALA 10-13 MARCA KYB     PIDE GERARDO",1249.02,0,0,0,0,0,0,{"$f":"+IFERROR(HYPERLINK(VLOOKUP(C1194,FOTOGRAFICO!C:E,3,FALSE),C1194),\"\")","v":""}]
[null,null,"KYB333453","AMORTIGUAD","AMORTIGUADOR DEL DER AVANZA 07 -11 MARCA KYB GAS JAPAN PIDE   ANGEL VENDEDOR",1890.05,0,0,0,0,0,0,{"$f":"+IFERROR(HYPERLINK(VLOOKUP(C1195,FOTOGRAFICO!C:E,3,FALSE),C1195),\"\")","v":""}]
[null,null,"KYB333454","AMORTIGUAD","AMORTIGUADOR DEL IZQ AVANZA 07 -11 MARCA KYB GAS JAPAN PIDE   ANGEL VENDEDOR 333454",1890.05,0,0,0,0,0,0,{"$f":"+IFERROR(HYPERLINK(VLOOKUP(C1196,FOTOGRAFICO!C:E,3,FALSE),C1196),\"\")","v":""}]
[null,null,"KYB333741","AMORTIGUAD","AMORTIGUADOR DEL NISSAN APRIO  07-11 SANDERO 10-12 STEPWAY 11 -15 MARCA KYB PEDIDO RAUL",1185.08,0,0,0,0,0,0,{"$f":"+IFERROR(HYPERLINK(VLOOKUP(C1197,FOTOGRAFICO!C:E,3,FALSE),C1197),\"\")","v":""}]
[null,null,"KYB3347505","AMORTIGUAD","AMORTIGUADOR DEL CADILLAC SRX  10-16 SUSPENSION NORMAL MARCA  KYB GAS PIDE GMOGLZ",2370.81,0,0,0,0,0,0,{"$f":"+IFERROR(HYPERLINK(VLOOKUP(C1198,FOTOGRAFICO!C:E,3,FALSE),C1198),\"\")","v":""}]
[null,null,"KYB3348028","AMORTIGUAD","AMORTIGUADOR DEL BMW 320i 328i 330e 340i 15-18 SERIE 4 16-20  420i 428i MARCA KYB GAS GMOGLZ",1738.04,0,0,0,0,0,0,{"$f":"+IFERROR(HYPERLINK(VLOOKUP(C1199,FOTOGRAFICO!C:E,3,FALSE),C1199),\"\")","v":""}]
[null,null,"KYB338038","AMORTIGUAD","AMORTIGUADOR DEL RAM 700 15-19 PALIO ADVENTURE 13-20 MARCA    KYB PEDIDO ANGEL",1279.31,0,0,0,0,0,0,{"$f":"+IFERROR(HYPERLINK(VLOOKUP(C1200,FOTOGRAFICO!C:E,3,FALSE),C1200),\"\")","v":"KYB338038"}]
[null,null,"KYB343472","AMORTIGUAD","AMORTIGUADOR TRAS AVANZA 07-11 MARCA KYB GAS JAPON 343472     PIDE ANGEL VENDEDOR",954.93,0,0,0,0,0,0,{"$f":"+IFERROR(HYPERLINK(VLOOKUP(C1201,FOTOGRAFICO!C:E,3,FALSE),C1201),\"\")","v":""}]
[null,null,"KYB343833","AMORTIGUAD","AMORTIGUADOR TRAS RENUAL LOGAN 17-20 MARCA KYB PEDIDO JORGE",906.01,0,0,0,0,0,0,{"$f":"+IFERROR(HYPERLINK(VLOOKUP(C1202,FOTOGRAFICO!C:E,3,FALSE),C1202),\"\")","v":""}]
[null,null,"KYB344459","AMORTIGUAD","AMORTIGUADOR TRAS JETTA A6     11-19 SPORTWAGEN 10-13 LEON    08-13 MARCA KYB PIDE RAUL",731.89,0,0,0,0,0,0,{"$f":"+IFERROR(HYPERLINK(VLOOKUP(C1203,FOTOGRAFICO!C:E,3,FALSE),C1203),\"\")","v":""}]
[null,null,"KYB3448017","AMORTIGUAD","AMORTIGUADOR TRAS BMW 15-18    320i 328i 330e 340i SERIE 4    16-20 420i MARCA KYB GAS GMOGL",1622.39,0,0,0,0,0,0,{"$f":"+IFERROR(HYPERLINK(VLOOKUP(C1204,FOTOGRAFICO!C:E,3,FALSE),C1204),\"\")","v":""}]
[null,null,"KYB349098","AMORTIGUAD","AMORTIGUADOR TRAS ATTITUDE 12- 14 MARCA KYB PEDIDO ANGEL",785.79,0,0,0,0,0,0,{"$f":"+IFERROR(HYPERLINK(VLOOKUP(C1205,FOTOGRAFICO!C:E,3,FALSE),C1205),\"\")","v":""}]
[null,null,"KYB68298326","AMORTIGUAD","AMORTIGUADOR DELANTERO DERECHO GRAND CHEROKEE 2016-2017       MARCA KYB",0,0,0,0,0,0,0,{"$f":"+IFERROR(HYPERLINK(VLOOKUP(C1206,FOTOGRAFICO!C:E,3,FALSE),C1206),\"\")","v":""}]
[null,null,"KYB68298327","AMORTIGUAD","AMORTIGUADOR DELANTERO IZQUIER DO GRAND CHEROKEE 2016-2017    MARCA KYB",0,0,0,0,0,0,0,{"$f":"+IFERROR(HYPERLINK(VLOOKUP(C1207,FOTOGRAFICO!C:E,3,FALSE),C1207),\"\")","v":""}]
[null,null,"MON331048","AMORTIGUAD","AMORTIGUADOR DEL HONDA CRV DER 05-06 MARCA MONROE",2303.38,0,0,0,0,0,0,{"$f":"+IFERROR(HYPERLINK(VLOOKUP(C1208,FOTOGRAFICO!C:E,3,FALSE),C1208),\"\")","v":""}]
[null,null,"MON331049","AMORTIGUAD","AMORTIGUADOR DEL HONDA CRV IZQ 05-06 MARCA MONROE",2303.38,0,0,0,0,0,0,{"$f":"+IFERROR(HYPERLINK(VLOOKUP(C1209,FOTOGRAFICO!C:E,3,FALSE),C1209),\"\")","v":""}]
[null,null,"MON73017","AMORTIGUAD","AMORTIGUADOR DEL DEL IKON 12-  15 MARCA MONROE PEDIDO JORGE",1643.1,0,0,0,0,0,0,{"$f":"+IFERROR(HYPERLINK(VLOOKUP(C1210,FOTOGRAFICO!C:E,3,FALSE),C1210),\"\")","v":"MON73017"}]
[null,null,"MON73018","AMORTIGUAD","AMORTIGUADOR DEL IZQ IKON 12-  15 MARCA MONROE PEDIDO JORGE",1643.1,0,0,0,0,0,0,{"$f":"+IFERROR(HYPERLINK(VLOOKUP(C1211,FOTOGRAFICO!C:E,3,FALSE),C1211),\"\")","v":"MON73018"}]
[null,null,"MON73051","AMORTIGUAD","AMORTIGUADOR DEL DER MALIBU 16 -18 MARCA MONROE               PEDIDO MIGUEL COTOC",1506.45,0,0,0,0,0,0,{"$f":"+IFERROR(HYPERLINK(VLOOKUP(C1212,FOTOGRAFICO!C:E,3,FALSE),C1212),\"\")","v":""}]
[null,null,"MON73052","AMORTIGUAD","AMORTIGUADOR DEL IZQ MALIBU 16 -18 MARCA MONROE               PEDIDO MIGUEL COTOC",1506.45,0,0,0,0,0,0,{"$f":"+IFERROR(HYPERLINK(VLOOKUP(C1213,FOTOGRAFICO!C:E,3,FALSE),C1213),\"\")","v":""}]
[null,null,"MP-8388SFT","AMORTIGUAD","AMORTIGUAD DEL DER MALIBU 04-  07 MCA SAFETY                  SOBRE PEDIDO X OSCAR",560.64,0,0,0,0,0,0,{"$f":"+IFERROR(HYPERLINK(VLOOKUP(C1214,FOTOGRAFICO!C:E,3,FALSE),C1214),\"\")","v":"MP-8388SFT"}]
[null,null,"SANC9913-PROMO","AMORTIGUAD","AMORTIGUADOR DEL DER AVEO 18-  23 DE GAS MARCA YOKOMITZU      AVEO II 1.5L",464,0,3,0,3,2,0,{"$f":"+IFERROR(HYPERLINK(VLOOKUP(C1215,FOTOGRAFICO!C:E,3,FALSE),C1215),\"\")","v":"SANC9913-PROMO"}]
[null,null,"SANF0211-PROMO","AMORTIGUAD","AMORTIGUADOR DEL DER FIESTA 11 -19 FIGO 16-20 MAZDA 2 11-15   MARCA YOKOMITZU = BOGMP8686",563.02,0,0,0,4,0,0,{"$f":"+IFERROR(HYPERLINK(VLOOKUP(C1216,FOTOGRAFICO!C:E,3,FALSE),C1216),\"\")","v":""}]
[null,null,"SANK0801","AMORTIGUAD","AMORTIGUADOR DEL DER I10 11-14 GAS YOKOMITZU IMPORTADO        = 332502SFT = KYB332502",506.43,0,4,0,0,1,2,{"$f":"+IFERROR(HYPERLINK(VLOOKUP(C1217,FOTOGRAFICO!C:E,3,FALSE),C1217),\"\")","v":"SANK0801"}]
[null,null,"SANK0802","AMORTIGUAD","AMORTIGUADOR DEL IZQ I10 11-14 GAS YOKOMITZU IMPORTADO        = KYB332503 = 332503SFT",464,0,1,0,0,1,3,{"$f":"+IFERROR(HYPERLINK(VLOOKUP(C1218,FOTOGRAFICO!C:E,3,FALSE),C1218),\"\")","v":"SANK0802"}]
[null,null,"SANK1310","AMORTIGUAD","AMORTIGUADOR DEL CHEROKEE      DER O IZQ MCA MIZUMO           SOBRE PEDIDO X ADRIAN",496.37,0,0,0,0,0,0,{"$f":"+IFERROR(HYPERLINK(VLOOKUP(C1219,FOTOGRAFICO!C:E,3,FALSE),C1219),\"\")","v":""}]
[null,null,"SANN1101-OP","AMORTIGUAD","AMORTIGUADOR DEL DER TIIDA 06- 18 GAS MCA YOKOMITSU           =BOGMP8520 = KYB333390",421.56,0,0,0,1,0,0,{"$f":"+IFERROR(HYPERLINK(VLOOKUP(C1220,FOTOGRAFICO!C:E,3,FALSE),C1220),\"\")","v":""}]
[null,null,"SANN1102-OP","AMORTIGUAD","AMORTIGUADOR DEL IZQ TIIDA 06- 18 GAS MCA YOKOMITSU           = KYB333391 = E4033-EL00ASFT",421.56,0,0,0,2,0,0,{"$f":"+IFERROR(HYPERLINK(VLOOKUP(C1221,FOTOGRAFICO!C:E,3,FALSE),C1221),\"\")","v":""}]
[null,null,"SANN1150-PROMO","AMORTIGUAD","AMORTIGUADOR TRAS TIIDA 06-18  GAS DER O IZQ MARCA YOKOMITSU  =BOG832601 =E6210-EL00ASFT",251.8,0,0,0,0,0,0,{"$f":"+IFERROR(HYPERLINK(VLOOKUP(C1222,FOTOGRAFICO!C:E,3,FALSE),C1222),\"\")","v":""}]
[null,null,"SG204043","AMORTIGUAD","AMORTIGUADOR CAJUELA EXPLORER  2004",249.82,0,0,0,0,0,0,{"$f":"+IFERROR(HYPERLINK(VLOOKUP(C1223,FOTOGRAFICO!C:E,3,FALSE),C1223),\"\")","v":""}]
[null,null,"SG314044","AMORTIGUAD","AMORTIGUADOR CAJUELA CHEROKEE                                 SOBRE PEDIDO",185.16,0,0,0,0,0,0,{"$f":"+IFERROR(HYPERLINK(VLOOKUP(C1224,FOTOGRAFICO!C:E,3,FALSE),C1224),\"\")","v":""}]
[null,null,"SG314049","AMORTIGUAD","AMORTIGUADOR COFRE CHEROKEE                                   SOBRE PEDIDO",178.76,0,0,0,0,0,0,{"$f":"+IFERROR(HYPERLINK(VLOOKUP(C1225,FOTOGRAFICO!C:E,3,FALSE),C1225),\"\")","v":""}]
[null,null,"SG404025","AMORTIGUAD","AMORTIGUADOR COFRE EXPLORER    2003-2005",162.16,0,0,0,0,0,0,{"$f":"+IFERROR(HYPERLINK(VLOOKUP(C1226,FOTOGRAFICO!C:E,3,FALSE),C1226),\"\")","v":""}]
[null,null,"SYD7000072","AMORTIGUAD","AMORTIGUADOR DEL KANGOO 04-19  GAS MARCA SYD PEDIDO           YASMANI CALL",967.64,0,0,0,0,0,0,{"$f":"+IFERROR(HYPERLINK(VLOOKUP(C1227,FOTOGRAFICO!C:E,3,FALSE),C1227),\"\")","v":""}]
[null,null,"SYD7000538","AMORTIGUAD","AMORTIGUADOR TRAS AVANZA 07-20 MARCA SYD PIDE RAUL MEDRANO    7000538",605.17999999999995,0,0,0,0,0,0,{"$f":"+IFERROR(HYPERLINK(VLOOKUP(C1228,FOTOGRAFICO!C:E,3,FALSE),C1228),\"\")","v":""}]
[null,null,"SYD7000754","AMORTIGUAD","AMORTIGUADOR DEL DER AVEO II   18-20 GAS MARCA: SYD PEDIDO    ANGEL",1379.51,0,0,0,0,0,0,{"$f":"+IFERROR(HYPERLINK(VLOOKUP(C1229,FOTOGRAFICO!C:E,3,FALSE),C1229),\"\")","v":""}]
[null,null,"SYD7000755","AMORTIGUAD","AMORTIGUADOR DEL IZQ AVEO II   18-20 GAS MARCA: SYD PEDIDO    ANGEL",1379.51,0,0,0,0,0,0,{"$f":"+IFERROR(HYPERLINK(VLOOKUP(C1230,FOTOGRAFICO!C:E,3,FALSE),C1230),\"\")","v":""}]
[null,null,"SYD7000766","AMORTIGUAD","AMORTIGUADOR DEL DER AVANZA 12 -20 MARCA SYD GAS PIDE RAUL    MEDRANO 7000766",1419.06,0,0,0,0,0,0,{"$f":"+IFERROR(HYPERLINK(VLOOKUP(C1231,FOTOGRAFICO!C:E,3,FALSE),C1231),\"\")","v":""}]
[null,null,"SYD7000767","AMORTIGUAD","AMORTIGUADOR DEL IZQ AVANZA 12 -20 MARCA SYD GAS PIDE RAUL    MEDRANO 7000767",1419.06,0,0,0,0,0,0,{"$f":"+IFERROR(HYPERLINK(VLOOKUP(C1232,FOTOGRAFICO!C:E,3,FALSE),C1232),\"\")","v":""}]
[null,null,"004-1304-00","AMORTIGUAD","AMORTIGUADOR 5TA PUERTA HONDA  FIT 09-14 TK",559.76,0,0,0,0,0,0,{"$f":"+IFERROR(HYPERLINK(VLOOKUP(C1233,FOTOGRAFICO!C:E,3,FALSE),C1233),\"\")","v":""}]
[null,null,"333700SFT","AMORTIGUAD","AMORTIGUADOR DEL FORD KA 1.6   01-08 GAS MARCA SAFETY         IMPORTADO",684.3,0,0,0,0,0,0,{"$f":"+IFERROR(HYPERLINK(VLOOKUP(C1234,FOTOGRAFICO!C:E,3,FALSE),C1234),\"\")","v":""}]
[null,null,"333765SFT","AMORTIGUAD","AMORTIGUADOR DEL KANGOO 04-17  GAS MARCA SAFETY",0,0,0,0,0,0,0,{"$f":"+IFERROR(HYPERLINK(VLOOKUP(C1235,FOTOGRAFICO!C:E,3,FALSE),C1235),\"\")","v":""}]
[null,null,"334335SFT","AMORTIGUAD","AMORTIGUAD DEL VOYAGER CARAVAN TOWN & COUNTRY 01-07 GAS       MP8308 MARCA SAFETY",751.49,0,0,0,0,0,0,{"$f":"+IFERROR(HYPERLINK(VLOOKUP(C1236,FOTOGRAFICO!C:E,3,FALSE),C1236),\"\")","v":""}]
[null,null,"338741SFT","AMORTIGUAD","AMORTIGUADOR DEL ECOSPORT 2.0  03-12 GAS MARCA SAFETY         IMPORTADO MP8297",725.44,0,0,0,0,0,0,{"$f":"+IFERROR(HYPERLINK(VLOOKUP(C1237,FOTOGRAFICO!C:E,3,FALSE),C1237),\"\")","v":""}]
[null,null,"341493SFT","AMORTIGUAD","AMORTIGUADOR DEL SILVERADO     1500 07-14 4X2 4X4 GAS MARCA   SAFETY",0,0,0,0,0,0,0,{"$f":"+IFERROR(HYPERLINK(VLOOKUP(C1238,FOTOGRAFICO!C:E,3,FALSE),C1238),\"\")","v":""}]
[null,null,"434188SFT","AMORTIGUAD","AMORTIGUADOR DEL VOYAGER       CARAVAN TOWN & COUNTRY 96-00   GAS MARCA SAFETY",0,0,0,0,0,0,0,{"$f":"+IFERROR(HYPERLINK(VLOOKUP(C1239,FOTOGRAFICO!C:E,3,FALSE),C1239),\"\")","v":""}]
[null,null,"55302-EQ025SFT","AMORTIGUAD","AMORTIGUADOR TRAS DER X-TRAIL  01-07 GAS MARCA SAFETY",0,0,0,0,0,0,0,{"$f":"+IFERROR(HYPERLINK(VLOOKUP(C1240,FOTOGRAFICO!C:E,3,FALSE),C1240),\"\")","v":""}]
[null,null,"55303-EQ025SFT","AMORTIGUAD","AMORTIGUADOR TRAS IZQ X-TRAIL  01-07 GAS MARCA SAFETY",0,0,0,0,0,0,0,{"$f":"+IFERROR(HYPERLINK(VLOOKUP(C1241,FOTOGRAFICO!C:E,3,FALSE),C1241),\"\")","v":""}]
[null,null,"56110-F4000SFT","AMORTIGUAD","AMORTIGUADOR DEL PICK UP D21   85-08 4X2 GAS MARCA SAFETY",0,0,0,0,0,0,0,{"$f":"+IFERROR(HYPERLINK(VLOOKUP(C1242,FOTOGRAFICO!C:E,3,FALSE),C1242),\"\")","v":""}]
[null,null,"56110-F4001SFT","AMORTIGUAD","AMORTIGUADOR DEL PICK UP D21   85-08 4X2 HIDRAULICO MARCA     SAFETY",0,0,0,0,0,0,0,{"$f":"+IFERROR(HYPERLINK(VLOOKUP(C1243,FOTOGRAFICO!C:E,3,FALSE),C1243),\"\")","v":"56110-F4001SFT"}]
[null,null,"AC19315694","AMORTIGUAD","AMORTIGUADOR IZQ DEL CRUZE 10- 16 MARCA ACDELCO PIDE ENRIQUE",1170.1099999999999,0,0,0,0,0,0,{"$f":"+IFERROR(HYPERLINK(VLOOKUP(C1244,FOTOGRAFICO!C:E,3,FALSE),C1244),\"\")","v":""}]
[null,null,"AC19315695","AMORTIGUAD","AMORTIGUADOR DER DEL CRUZE 10- 16 MARCA ACDELCO PIDE ENRIQUE",1170.1099999999999,0,0,0,0,0,0,{"$f":"+IFERROR(HYPERLINK(VLOOKUP(C1245,FOTOGRAFICO!C:E,3,FALSE),C1245),\"\")","v":""}]
[null,null,"BOG832739","AMORTIGUAD","AMORTIGUADOR TRAS CITY 14-20   MARCA BOGE GAS PIDE EDGAR      MARTINES RAMOS",1768.09,0,0,0,0,0,0,{"$f":"+IFERROR(HYPERLINK(VLOOKUP(C1246,FOTOGRAFICO!C:E,3,FALSE),C1246),\"\")","v":""}]
[null,null,"BOG832748","AMORTIGUAD","AMORTIGUADOR TRAS AVANZA 14-20 MARCA BOGE GAS PIDE CESAR      CARRERA",861.87,0,0,0,0,0,0,{"$f":"+IFERROR(HYPERLINK(VLOOKUP(C1247,FOTOGRAFICO!C:E,3,FALSE),C1247),\"\")","v":""}]
[null,null,"BOG835233","AMORTIGUAD","AMORTIGUADOR TRAS EXPLORER 4.0 91-94 6 CILINDROS MCA: BOGE    PEDIDO MIGUEL COTOC",414.86,0,0,0,0,0,0,{"$f":"+IFERROR(HYPERLINK(VLOOKUP(C1248,FOTOGRAFICO!C:E,3,FALSE),C1248),\"\")","v":""}]
[null,null,"BOG930010","AMORTIGUAD","AMORTIGUADOR DEL JEEP LIBERTY  02-13 DODGE NITRO 07-12 MCA    BOGE PEDIDO LUIS ARMANDO",1366.21,0,0,0,0,0,0,{"$f":"+IFERROR(HYPERLINK(VLOOKUP(C1249,FOTOGRAFICO!C:E,3,FALSE),C1249),\"\")","v":""}]
[null,null,"BOG930114","AMORTIGUAD","AMORTIGUADOR DEL COLORADO Z71  04-06 CONYON 07-12 MCA: BOGE   PEDIDO LUIS ENRIQUE",715.92,0,0,0,0,0,0,{"$f":"+IFERROR(HYPERLINK(VLOOKUP(C1250,FOTOGRAFICO!C:E,3,FALSE),C1250),\"\")","v":""}]
[null,null,"BOG930151","AMORTIGUAD","AMORTIGUADOR TRAS HONDA CR-V   12-15 GAS MARCA BOGE           PEDIDO LUIS ARMANDO",1473.55,0,0,0,0,0,0,{"$f":"+IFERROR(HYPERLINK(VLOOKUP(C1251,FOTOGRAFICO!C:E,3,FALSE),C1251),\"\")","v":""}]
[null,null,"BOG930159","AMORTIGUAD","AMORTIGUAD TRAS RAV 4 06-12    MARCA: BOGE                    PEDIDO LUIS ARMANDO",655.71,0,0,0,0,0,0,{"$f":"+IFERROR(HYPERLINK(VLOOKUP(C1252,FOTOGRAFICO!C:E,3,FALSE),C1252),\"\")","v":""}]
[null,null,"BOG930189","AMORTIGUAD","AMORTIGUADOR TRAS CAPTIVA 07-  15 MARCA BOGE PEDIDO ENRIQUE",1161.5899999999999,0,0,0,0,0,0,{"$f":"+IFERROR(HYPERLINK(VLOOKUP(C1253,FOTOGRAFICO!C:E,3,FALSE),C1253),\"\")","v":""}]
[null,null,"BOG930207","AMORTIGUAD","AMORTIGUADOR TRAS GRAND VITARA 06-13 MARCA BOGE EXTREME GAS   PIDE JUAN GARCIA",523.24,0,0,0,0,0,0,{"$f":"+IFERROR(HYPERLINK(VLOOKUP(C1254,FOTOGRAFICO!C:E,3,FALSE),C1254),\"\")","v":""}]
[null,null,"BOG950068","AMORTIGUAD","AMORTIGUADO DEL DER CR-V 2.4   07-17 MARCA BOGE GAS EXTREME   PIDE LUIS ARMANDO",1822.22,0,0,0,0,0,0,{"$f":"+IFERROR(HYPERLINK(VLOOKUP(C1255,FOTOGRAFICO!C:E,3,FALSE),C1255),\"\")","v":""}]
[null,null,"BOG950069","AMORTIGUAD","AMORTIGUADO DEL IZQ CR-V 2.4   07-17 MARCA BOGE GAS EXTREME   PIDE LUIS ARMANDO",1822.22,0,0,0,0,0,0,{"$f":"+IFERROR(HYPERLINK(VLOOKUP(C1256,FOTOGRAFICO!C:E,3,FALSE),C1256),\"\")","v":""}]
[null,null,"BOG950078","AMORTIGUAD","AMORTIGUAD DEL DER RAV4 06-12  MARCA BOGE                     PEDIDO LUIS ARMANDO",1739.54,0,0,0,0,0,0,{"$f":"+IFERROR(HYPERLINK(VLOOKUP(C1257,FOTOGRAFICO!C:E,3,FALSE),C1257),\"\")","v":""}]
[null,null,"BOG950079","AMORTIGUAD","AMORTIGUAD DEL IZQ RAV 4 06-12 MARCA: BOGE                    PEDIDO LUIS ARMANDO",1739.54,0,0,0,0,0,0,{"$f":"+IFERROR(HYPERLINK(VLOOKUP(C1258,FOTOGRAFICO!C:E,3,FALSE),C1258),\"\")","v":""}]
[null,null,"BOG950108","AMORTIGUAD","AMORTIGUADOR DEL DER GRAND     VITARA 06-12 MARCA BOGE EXTREM GAS PIDE JUAN GAR.",1149.3699999999999,0,0,0,0,0,0,{"$f":"+IFERROR(HYPERLINK(VLOOKUP(C1259,FOTOGRAFICO!C:E,3,FALSE),C1259),\"\")","v":""}]
[null,null,"BOG950109","AMORTIGUAD","AMORTIGUADOR DEL IZQ GRAND     VITARA 1.6 2.0 06-13 MARCA     BOGE EXTREME PIDE ERICK AVILA",1159.1099999999999,0,0,0,0,0,0,{"$f":"+IFERROR(HYPERLINK(VLOOKUP(C1260,FOTOGRAFICO!C:E,3,FALSE),C1260),\"\")","v":""}]
[null,null,"BOG950121","AMORTIGUAD","AMORTIGUADOR DEL IZQ CAPTIVA   07-15 MARCA BOGE PEDIDO        ENRIQUE",1645.47,0,0,0,0,0,0,{"$f":"+IFERROR(HYPERLINK(VLOOKUP(C1261,FOTOGRAFICO!C:E,3,FALSE),C1261),\"\")","v":""}]
[null,null,"BOG950124","AMORTIGUAD","AMORTIGUADOR DEL TOWN COUNTRY  08-16 MARCA BOGE               PEDIDO JUAN GARCIA",1456.53,0,0,0,0,0,0,{"$f":"+IFERROR(HYPERLINK(VLOOKUP(C1262,FOTOGRAFICO!C:E,3,FALSE),C1262),\"\")","v":""}]
[null,null,"BOGMP8295","AMORTIGUAD","AMORTIGUADO TRAS STRATUS 95-06 2.0 2.4 MARCA BOGE PIDE LUIS   PEREZ ROSAS MP8295",1065.1600000000001,0,0,0,0,2,0,{"$f":"+IFERROR(HYPERLINK(VLOOKUP(C1263,FOTOGRAFICO!C:E,3,FALSE),C1263),\"\")","v":""}]
[null,null,"BOGMP8705","AMORTIGUAD","AMORTIGUAD DEL IZQ CITY 1.5 14 -20 FIT 1.5 15-19 MARCA BOGE   GAS PIDE ISRAEL CURRO MP8705",1975.14,0,0,0,0,0,0,{"$f":"+IFERROR(HYPERLINK(VLOOKUP(C1264,FOTOGRAFICO!C:E,3,FALSE),C1264),\"\")","v":""}]
[null,null,"BOGMP8706","AMORTIGUAD","AMORTIGUAD DEL DER CITY 1.5 14 -20 FIT 1.5 15-19 MARCA BOGE   GAS PIDE ISRAEL CURRO MP8706",1975.14,0,0,0,0,0,0,{"$f":"+IFERROR(HYPERLINK(VLOOKUP(C1265,FOTOGRAFICO!C:E,3,FALSE),C1265),\"\")","v":""}]
[null,null,"E6110-4KH4ASFT","AMORTIGUAD","AMORTIGUADOR DEL D23 NP300 4X2 4X4 16-22 FRONTIER 16-22 GAS   MARCA SAFETY IMPORTADO 835234",547.16,0,0,0,8,0,8,{"$f":"+IFERROR(HYPERLINK(VLOOKUP(C1266,FOTOGRAFICO!C:E,3,FALSE),C1266),\"\")","v":""}]
[null,null,"GM23137745","AMORTIGUAD","AMORTIGUADOR 5A PUERTA CAPTIVA 08-13 MARCA GM PIDE LUIS",532.76,0,0,0,0,0,0,{"$f":"+IFERROR(HYPERLINK(VLOOKUP(C1267,FOTOGRAFICO!C:E,3,FALSE),C1267),\"\")","v":""}]
[null,null,"KY555700","AMORTIGUAD","AMORTIGUADOR TRAS KANGOO 04-17 MARCA KYB SOLICITADOS MIGUEL   COTOC",1078.04,0,0,0,0,0,0,{"$f":"+IFERROR(HYPERLINK(VLOOKUP(C1268,FOTOGRAFICO!C:E,3,FALSE),C1268),\"\")","v":""}]
[null,null,"KYB3338000","AMORTIGUAD","AMORTIGUAD DEL DER PEUGEOT 301 13-22 MARCA KYB GAS PIDE       FABIAN",1339.88,0,0,0,0,0,0,{"$f":"+IFERROR(HYPERLINK(VLOOKUP(C1269,FOTOGRAFICO!C:E,3,FALSE),C1269),\"\")","v":""}]
[null,null,"KYB3338001","AMORTIGUAD","AMORTIGUAD DEL IZQ PEUGEOT 301 13-22 MARCA KYB GAS PIDE       FABIAN",1339.88,0,0,0,0,0,0,{"$f":"+IFERROR(HYPERLINK(VLOOKUP(C1270,FOTOGRAFICO!C:E,3,FALSE),C1270),\"\")","v":""}]
[null,null,"KYB3338012","AMORTIGUAD","AMORTIGUADOR DEL DER PEUGEOT   208 14-17 MARCA KYB",991.83,0,0,0,0,0,0,{"$f":"+IFERROR(HYPERLINK(VLOOKUP(C1271,FOTOGRAFICO!C:E,3,FALSE),C1271),\"\")","v":""}]
[null,null,"KYB3338013","AMORTIGUAD","AMORTIGUADOR DEL IZQ PEUGEOT   208 14-17 MARCA KYB",991.83,0,0,0,0,0,0,{"$f":"+IFERROR(HYPERLINK(VLOOKUP(C1272,FOTOGRAFICO!C:E,3,FALSE),C1272),\"\")","v":""}]
[null,null,"KYB3340061","AMORTIGUAD","AMORTIGUADOR DEL DER KIA FORTE 16-18 MARCA KYB",1788.81,0,0,0,0,0,0,{"$f":"+IFERROR(HYPERLINK(VLOOKUP(C1273,FOTOGRAFICO!C:E,3,FALSE),C1273),\"\")","v":""}]
[null,null,"KYB3340062","AMORTIGUAD","AMORTIGUADOR DEL IZQ KIA FORTE 16-18 MARCA KYB",1788.81,0,0,0,0,0,0,{"$f":"+IFERROR(HYPERLINK(VLOOKUP(C1274,FOTOGRAFICO!C:E,3,FALSE),C1274),\"\")","v":""}]
[null,null,"KYB3410049","AMORTIGUAD","AMORTIGUADOR TRAS RAM 700 15-  17 MARCA KYB PEDIDO COTOC",756.29,0,0,0,0,0,0,{"$f":"+IFERROR(HYPERLINK(VLOOKUP(C1275,FOTOGRAFICO!C:E,3,FALSE),C1275),\"\")","v":""}]
[null,null,"KYB341311","AMORTIGUAD","AMORTIGUADOR TRAS HONDA CIVIC  01-05 MARCA KYB                SOLICITADO ISAAC",1237.79,0,0,0,0,0,0,{"$f":"+IFERROR(HYPERLINK(VLOOKUP(C1276,FOTOGRAFICO!C:E,3,FALSE),C1276),\"\")","v":""}]
[null,null,"KYB3430045","AMORTIGUAD","AMORTIGUADO TRAS YARIS SEDAN R 14-18 MARCA KYB GAS PIDE ERICK AVILA",1188.28,0,0,0,0,2,0,{"$f":"+IFERROR(HYPERLINK(VLOOKUP(C1277,FOTOGRAFICO!C:E,3,FALSE),C1277),\"\")","v":""}]
[null,null,"KYB3430058","AMORTIGUAD","AMORTIGUADOR TRAS AVANZA 12-19 MARCA KYB                      SOLICITADO GERARDO VERA",761.84,0,0,0,0,0,0,{"$f":"+IFERROR(HYPERLINK(VLOOKUP(C1278,FOTOGRAFICO!C:E,3,FALSE),C1278),\"\")","v":""}]
[null,null,"KYB3440040","AMORTIGUAD","AMORTIGUADOR TRASERO EXPLORER  13-19 MARCA KYB PIDE OSCAR",1184.21,0,0,0,0,0,0,{"$f":"+IFERROR(HYPERLINK(VLOOKUP(C1279,FOTOGRAFICO!C:E,3,FALSE),C1279),\"\")","v":""}]
[null,null,"KYB443219","AMORTIGUAD","AMORTIGUADOR TRAS GOLF A2 A3   87-99 JETTA A2 A3 87-99 MARCA  KYB",363.47,0,0,0,0,0,0,{"$f":"+IFERROR(HYPERLINK(VLOOKUP(C1280,FOTOGRAFICO!C:E,3,FALSE),C1280),\"\")","v":""}]
[null,null,"KYB633227","AMORTIGUAD","AMORTIGUADOR DEL GOLF JETTA A2 A3 87-99 DERBY 95-07 CABRIO 98 -00 CORDOBA 01-02 MARCA KYB",708.76,0,0,0,0,0,0,{"$f":"+IFERROR(HYPERLINK(VLOOKUP(C1281,FOTOGRAFICO!C:E,3,FALSE),C1281),\"\")","v":""}]
[null,null,"MIZ214T600-PROMO","AMORTIGUAD","AMORTIGUADOR DEL CHEVY 94-12   CHEVY PICKUP 98-04 HIDRAULICO  YOKOMITSU IMP = BOGMP148",350.82,0,0,0,0,0,0,{"$f":"+IFERROR(HYPERLINK(VLOOKUP(C1282,FOTOGRAFICO!C:E,3,FALSE),C1282),\"\")","v":""}]
[null,null,"SANC0501","AMORTIGUAD","AMORTIGUADOR DEL DER ONIX 20-  24 GAS MARCA YOKOMITZU",506.43,0,0,0,0,0,0,{"$f":"+IFERROR(HYPERLINK(VLOOKUP(C1283,FOTOGRAFICO!C:E,3,FALSE),C1283),\"\")","v":""}]
[null,null,"SANC0502","AMORTIGUAD","AMORTIGUADOR DEL IZQ ONIX 20-  24 GAS MARCA YOKOMITZU",506.43,0,0,0,0,0,0,{"$f":"+IFERROR(HYPERLINK(VLOOKUP(C1284,FOTOGRAFICO!C:E,3,FALSE),C1284),\"\")","v":""}]
[null,null,"SANC0901-PROMO2","AMORTIGUAD","AMORTIGUADOR DEL DER SONIC 11- 18 GAS MARCA YOKOMITSU         = BOGMP8696 =19315698",464,0,0,0,0,0,0,{"$f":"+IFERROR(HYPERLINK(VLOOKUP(C1285,FOTOGRAFICO!C:E,3,FALSE),C1285),\"\")","v":""}]
[null,null,"SANC0902-PROMO2","AMORTIGUAD","AMORTIGUADOR DEL IZQ SONIC 11- 18 GAS MARCA YOKOMITSU         = BOGMP8697 =19315697",464,0,0,0,0,0,0,{"$f":"+IFERROR(HYPERLINK(VLOOKUP(C1286,FOTOGRAFICO!C:E,3,FALSE),C1286),\"\")","v":""}]
[null,null,"SANC9902-OP","AMORTIGUAD","AMORTIGUADOR DEL IZQ AVEO 08-  18 PONTIAC G3 06-09 YOKOMITZU  =BOGMP8537 =KYB333418 DE GAS",421.56,0,0,0,1,0,0,{"$f":"+IFERROR(HYPERLINK(VLOOKUP(C1287,FOTOGRAFICO!C:E,3,FALSE),C1287),\"\")","v":""}]
[null,null,"SANK9901","AMORTIGUAD","AMORTIGUADOR DEL DER CALIBER   07-12 COMPASS 07-17 PATRIOT 07 -17 YOKOMITSU PIDE LUIS ARMAND",647.9,0,0,0,0,0,0,{"$f":"+IFERROR(HYPERLINK(VLOOKUP(C1288,FOTOGRAFICO!C:E,3,FALSE),C1288),\"\")","v":""}]
[null,null,"SANK9902","AMORTIGUAD","AMORTIGUADOR DEL IZQ CALIBER   07-12 COMPASS 07-17 PATRIOT 07 -17 YOKOMITSU PIDE LUIS ARMAND",647.9,0,0,0,0,0,0,{"$f":"+IFERROR(HYPERLINK(VLOOKUP(C1289,FOTOGRAFICO!C:E,3,FALSE),C1289),\"\")","v":""}]
[null,null,"SANN0860PROMO","AMORTIGUAD","AMORTIGUADOR TRAS VERSA 12-19  NOTE 13-17 MARCH 11-17 GAS     YOKOMITSU IMPORTADO",223.51,0,0,0,0,0,0,{"$f":"+IFERROR(HYPERLINK(VLOOKUP(C1290,FOTOGRAFICO!C:E,3,FALSE),C1290),\"\")","v":""}]
[null,null,"SFNN0400","AMORTIGUAD","AMORTIGUADOR 5TA PTA URVAN 02- 12 DER/IZQ LARGO 77 CM MARCA   YOKOMITSU PIDE LUIS ARMANDO",254.63,0,0,0,0,0,0,{"$f":"+IFERROR(HYPERLINK(VLOOKUP(C1291,FOTOGRAFICO!C:E,3,FALSE),C1291),\"\")","v":""}]
[null,null,"SFNN1701","AMORTIGUAD","AMORTIGUADOR 5TA PTA DER C/BAS KICKS 17-21 LARGO 55 CM        MARCA YOKOMITSU",152.78,0,0,0,1,0,0,{"$f":"+IFERROR(HYPERLINK(VLOOKUP(C1292,FOTOGRAFICO!C:E,3,FALSE),C1292),\"\")","v":""}]
[null,null,"SFNN1702","AMORTIGUAD","AMORTIGUADOR IZQ 5TA PTA C/BAS KICKS 17-21 LARGO 51 CM MARCA  YOKOMITSU",152.78,0,0,0,3,0,0,{"$f":"+IFERROR(HYPERLINK(VLOOKUP(C1293,FOTOGRAFICO!C:E,3,FALSE),C1293),\"\")","v":""}]
[null,null,"SFNV1420","AMORTIGUAD","AMORTIGUADOR CAJUELA POLO 14-  21 LARGO 53 CM MARCA YOKOMITSU PIDE FABIAN PALACIOS",126.04,0,0,0,0,0,0,{"$f":"+IFERROR(HYPERLINK(VLOOKUP(C1294,FOTOGRAFICO!C:E,3,FALSE),C1294),\"\")","v":""}]
[null,null,"SYD16408","AMORTIGUAD","AMORTIGUADOR 5TA PTA URVAN 02- 12 TOLDO ALTO MARCA SYD PIDE   ALEJANDRO",776.7,0,0,0,0,0,0,{"$f":"+IFERROR(HYPERLINK(VLOOKUP(C1295,FOTOGRAFICO!C:E,3,FALSE),C1295),\"\")","v":""}]
[null,null,"SYD700002","AMORTIGUAD","AMORTIGUADOR TRAS CARAVAN 84-  07 VOYAGER 84-07 TOWN AND      COUNTRY 86-07 SYD LUIS CASTILL",506.5,0,0,0,0,2,0,{"$f":"+IFERROR(HYPERLINK(VLOOKUP(C1296,FOTOGRAFICO!C:E,3,FALSE),C1296),\"\")","v":""}]
[null,null,"SYD7000157","AMORTIGUAD","AMORTIGUADOR TRAS FOCUS AMERIC 99-11 GAS MARCA SYD PIDE JUAN  7000157",531.5,0,0,0,0,0,0,{"$f":"+IFERROR(HYPERLINK(VLOOKUP(C1297,FOTOGRAFICO!C:E,3,FALSE),C1297),\"\")","v":""}]
[null,null,"SYD7000293","AMORTIGUAD","AMORTIGUAD DEL MALIBU 97-03    GRAND AM 99-05 MARCA SYD GAS   PIDE LUIS ANGEL CALL CENTER",948.97,0,0,0,0,2,0,{"$f":"+IFERROR(HYPERLINK(VLOOKUP(C1298,FOTOGRAFICO!C:E,3,FALSE),C1298),\"\")","v":""}]
[null,null,"SYD7000655","AMORTIGUAD","AMORTIGUADO DEL DER IKON INDIA 12-14 MARCA SYD GAS PIDE OSCAR VENTAS",1391.59,0,0,0,0,0,0,{"$f":"+IFERROR(HYPERLINK(VLOOKUP(C1299,FOTOGRAFICO!C:E,3,FALSE),C1299),\"\")","v":""}]
[null,null,"SYD7000656","AMORTIGUAD","AMORTIGUADO DEL IZQ IKON INDIA 12-14 MARCA SYD GAS PIDE OSCAR VENTAS",1391.59,0,0,0,0,0,0,{"$f":"+IFERROR(HYPERLINK(VLOOKUP(C1300,FOTOGRAFICO!C:E,3,FALSE),C1300),\"\")","v":""}]
[null,null,"SYD7000878","AMORTIGUAD","AMORTIGUADOR DEL DER FOCUS 06- 11 NORTE AMERICA GAS MARCA SYD 7000878",990.71,0,0,0,1,0,0,{"$f":"+IFERROR(HYPERLINK(VLOOKUP(C1301,FOTOGRAFICO!C:E,3,FALSE),C1301),\"\")","v":""}]
[null,null,"SYD7000879","AMORTIGUAD","AMORTIGUADOR DEL IZQ FOCUS 06- 11 NORTE AMERICA GAS MARCA SYD 7000879",990.71,0,0,0,1,0,0,{"$f":"+IFERROR(HYPERLINK(VLOOKUP(C1302,FOTOGRAFICO!C:E,3,FALSE),C1302),\"\")","v":""}]
[null,null,"004-1313-01","AMORTIGUAD","AMORTIGUADOR 5TA PTA HR-V 16-  18 57.3 CM MARCA SPART         004-1313-01",400.6,0,0,0,0,0,0,{"$f":"+IFERROR(HYPERLINK(VLOOKUP(C1303,FOTOGRAFICO!C:E,3,FALSE),C1303),\"\")","v":""}]
[null,null,"004-2322-00","AMORTIGUAD","AMORTIGUADOR 5TA PTA URVAN 00- 12 DER/IZQ MARCA RADEC IMPORTA PIDE EDER",774.23,0,0,0,0,0,0,{"$f":"+IFERROR(HYPERLINK(VLOOKUP(C1304,FOTOGRAFICO!C:E,3,FALSE),C1304),\"\")","v":""}]
[null,null,"004-3102-01","AMORTIGUAD","AMORTIGUADOR 5 PUERTA BEETLE   98-12 CAJUELA MARCA HUSHAN     PEDIDO AXEL",396.96,0,0,0,0,0,0,{"$f":"+IFERROR(HYPERLINK(VLOOKUP(C1305,FOTOGRAFICO!C:E,3,FALSE),C1305),\"\")","v":""}]
[null,null,"90440-VW470","AMORTIGUAD","AMORTIGUADOR 5TA PUERTA URVAN  13-18 CAJUELA TRASERA DER/IZQ  MARCA HERTA 92 CM",396.5,0,0,0,0,0,0,{"$f":"+IFERROR(HYPERLINK(VLOOKUP(C1306,FOTOGRAFICO!C:E,3,FALSE),C1306),\"\")","v":""}]
[null,null,"B22-197672","AMORTIGUAD","AMORTIGUADOR DEL IZQ XDRIVE    11-13 3.0                      SOBRE PEDIDO FERNANDO PENA",3854.32,0,0,0,0,0,0,{"$f":"+IFERROR(HYPERLINK(VLOOKUP(C1307,FOTOGRAFICO!C:E,3,FALSE),C1307),\"\")","v":""}]
[null,null,"B22-197689","AMORTIGUAD","AMORTIGUADOR DEL DER XDRIVE    11-13 3.0                      SOBRE PEDIDO FERNANDO PENA",4097.9799999999996,0,0,0,0,0,0,{"$f":"+IFERROR(HYPERLINK(VLOOKUP(C1308,FOTOGRAFICO!C:E,3,FALSE),C1308),\"\")","v":""}]
[null,null,"BOG35096","AMORTIGUAD","AMORTIGUADOR DEL BLAZER S10    2WD 90-04 HIDRAULICO MARCA     BOGE PIDE JOSUA",553.34,0,0,0,0,2,0,{"$f":"+IFERROR(HYPERLINK(VLOOKUP(C1309,FOTOGRAFICO!C:E,3,FALSE),C1309),\"\")","v":""}]
[null,null,"BOG832615","AMORTIGUAD","AMORTIGUADOR TRAS TOYOTA YARIS 06-14 1.5 TRASERO MARCA BOGE   PEDIDO AXEL",574.37,0,0,0,0,0,0,{"$f":"+IFERROR(HYPERLINK(VLOOKUP(C1310,FOTOGRAFICO!C:E,3,FALSE),C1310),\"\")","v":""}]
[null,null,"BOG832631","AMORTIGUAD","AMORT DEL TOYOTA PICK UP 4WD 4 RUNNER 86-95 DE GAS MARCA BOG  E HECHO EN MEXICO 832631",537.66999999999996,0,0,0,0,0,0,{"$f":"+IFERROR(HYPERLINK(VLOOKUP(C1311,FOTOGRAFICO!C:E,3,FALSE),C1311),\"\")","v":""}]
[null,null,"BOG832632","AMORTIGUAD","AMORT TRAS TOYOTA PICK UP 4WD  4 RUNNER 86-95 TACOMA 95-04 DE  GAS MARCA BOGE HECHO EN MEXIC",464.26,0,0,0,0,0,0,{"$f":"+IFERROR(HYPERLINK(VLOOKUP(C1312,FOTOGRAFICO!C:E,3,FALSE),C1312),\"\")","v":""}]
[null,null,"BOG930231","AMORTIGUAD","AMORTIGUAD TRAS DUSTER 11-16   MARCA BOGE GAS PIDE AXEL       930231",884.04,0,0,0,0,0,0,{"$f":"+IFERROR(HYPERLINK(VLOOKUP(C1313,FOTOGRAFICO!C:E,3,FALSE),C1313),\"\")","v":""}]
[null,null,"BOG950164","AMORTIGUAD","AMORTIGUAD DEL DUSTER 11-16    MARCA BOGE GAS PIDE AXEL       950164",1126.3399999999999,0,0,0,0,0,0,{"$f":"+IFERROR(HYPERLINK(VLOOKUP(C1314,FOTOGRAFICO!C:E,3,FALSE),C1314),\"\")","v":""}]
[null,null,"BOGMP8140","AMORTIGUAD","AMORTIGUAD TRAS NEON 2.0 94-99 MARCA BOGE GAS PIDE AXEL       VELAZQUEZ MP8140",956.8,0,0,0,0,0,0,{"$f":"+IFERROR(HYPERLINK(VLOOKUP(C1315,FOTOGRAFICO!C:E,3,FALSE),C1315),\"\")","v":""}]
[null,null,"BOGMP8294","AMORTIGUAD","AMORTIGUAD DEL IZQ DER STRATUS 95-06 CIRRUS 95-06 MARCA BOGE  GAS PEDIDO CESAR ESTUDILLO",880.21,0,0,0,0,0,0,{"$f":"+IFERROR(HYPERLINK(VLOOKUP(C1316,FOTOGRAFICO!C:E,3,FALSE),C1316),\"\")","v":""}]
[null,null,"BOGMP8296","AMORTIGUAD","AMORTIGUADOR DEL SCENIC 01-04  MEGANE 01-04 MARCA BOGE        PEDIDO CESAR",974.83,0,0,0,0,0,0,{"$f":"+IFERROR(HYPERLINK(VLOOKUP(C1317,FOTOGRAFICO!C:E,3,FALSE),C1317),\"\")","v":""}]
[null,null,"BOGMP8495","AMORTIGUAD","AMORTIGUADOR DEL IZQ CALIBER   07-12 COMPASS 07-17 PATRIOT 07 -17 MARCA BOGE GAS CESAR CARRE",1143.97,0,0,0,0,0,0,{"$f":"+IFERROR(HYPERLINK(VLOOKUP(C1318,FOTOGRAFICO!C:E,3,FALSE),C1318),\"\")","v":""}]
[null,null,"BOGMP8496","AMORTIGUAD","AMORTIGUADOR DEL DER CALIBER   07-12 COMPASS 07-17 PATRIOT 07 -17 MARCA BOGE GAS CESAR CARRE",1143.97,0,0,0,0,0,0,{"$f":"+IFERROR(HYPERLINK(VLOOKUP(C1319,FOTOGRAFICO!C:E,3,FALSE),C1319),\"\")","v":""}]
[null,null,"BOGMP8561","AMORTIGUAD","AMORTIGUADOR DEL IZQ FOCUS 07- 11 MARCA BOGE                  SOLICITADO ALBERTO",1745.55,0,0,0,0,0,0,{"$f":"+IFERROR(HYPERLINK(VLOOKUP(C1320,FOTOGRAFICO!C:E,3,FALSE),C1320),\"\")","v":""}]
[null,null,"BOGMP8562","AMORTIGUAD","AMORTIGUADOR DEL DER FOCUS 07- 11 MARCA BOGE                  SOLICITADO ROBERTO",1745.55,0,0,0,0,0,0,{"$f":"+IFERROR(HYPERLINK(VLOOKUP(C1321,FOTOGRAFICO!C:E,3,FALSE),C1321),\"\")","v":""}]
[null,null,"BOGMP8700","AMORTIGUAD","AMORTIGUADOR DEL DER MAZDA 2   1.5 11-15 MARCA BOGE GAS PIDE  EDER MP8700",1703.4,0,0,0,0,0,0,{"$f":"+IFERROR(HYPERLINK(VLOOKUP(C1322,FOTOGRAFICO!C:E,3,FALSE),C1322),\"\")","v":""}]
[null,null,"BOGMP8701","AMORTIGUAD","AMORTIGUADOR DEL IZQ MAZDA 2   1.5 11-15 MARCA BOGE GAS PIDE  EDER MP8701",1703.4,0,0,0,0,0,0,{"$f":"+IFERROR(HYPERLINK(VLOOKUP(C1323,FOTOGRAFICO!C:E,3,FALSE),C1323),\"\")","v":""}]
[null,null,"KYB333344","AMORTIGUAD","AMORTIGUA DEL DER SENTRA 01-06 MARCA KYB GAS PIDE GERARDO     VERA 333344",984.67,0,0,0,0,0,0,{"$f":"+IFERROR(HYPERLINK(VLOOKUP(C1324,FOTOGRAFICO!C:E,3,FALSE),C1324),\"\")","v":""}]
[null,null,"KYB333345","AMORTIGUAD","AMORTIGUA DEL IZQ SENTRA 01-06 MARCA KYB GAS PIDE GERARDO     VERA 333345",984.67,0,0,0,0,0,0,{"$f":"+IFERROR(HYPERLINK(VLOOKUP(C1325,FOTOGRAFICO!C:E,3,FALSE),C1325),\"\")","v":""}]
[null,null,"KYB339051","AMORTIGUAD","AMORTIGUADOR DEL DER MALIBU 04 -12 PONTIAC G6 05-09 MARCA KYB",1801.57,0,0,0,0,0,0,{"$f":"+IFERROR(HYPERLINK(VLOOKUP(C1326,FOTOGRAFICO!C:E,3,FALSE),C1326),\"\")","v":""}]
[null,null,"KYB339052","AMORTIGUAD","AMORTIGUADOR DEL IZQ MALIBU 04 -12 PONTIAC G6 05-09 MARCA KYB PEDIDO JULIO",1801.57,0,0,0,0,0,0,{"$f":"+IFERROR(HYPERLINK(VLOOKUP(C1327,FOTOGRAFICO!C:E,3,FALSE),C1327),\"\")","v":"KYB339052"}]
[null,null,"SANC0802PROMO","AMORTIGUAD","AMORTIGUADOR DEL IZQ SPARK 11- 17 BEAT 18-21 GAS YOKOMITSU    = 3330080SFT = BOGMP8673",421.56,0,0,0,0,0,0,{"$f":"+IFERROR(HYPERLINK(VLOOKUP(C1328,FOTOGRAFICO!C:E,3,FALSE),C1328),\"\")","v":""}]
[null,null,"SANC1751","AMORTIGUAD","AMORTIGUADOR TRAS DER OPTRA    2.0 06-10 MARCA YOKOMITSU GAS  PIDE EDER RIQUELME",506.43,0,0,0,0,0,0,{"$f":"+IFERROR(HYPERLINK(VLOOKUP(C1329,FOTOGRAFICO!C:E,3,FALSE),C1329),\"\")","v":""}]
[null,null,"SANC1752","AMORTIGUAD","AMORTIGUADO TRAS IZQ OPTRA 2.0 06-10 MARCA YOKOMITSU GAS      PIDE EDER RIQUELME",506.43,0,0,0,0,0,0,{"$f":"+IFERROR(HYPERLINK(VLOOKUP(C1330,FOTOGRAFICO!C:E,3,FALSE),C1330),\"\")","v":""}]
[null,null,"SFNV2120","AMORTIGUAD","AMORTIGUADOR CAJUELA BEETLE 12 -19 LARGO 68 CM MARCA YOKOMITZ PIDE EDER RIQUELME",152.78,0,0,0,0,0,0,{"$f":"+IFERROR(HYPERLINK(VLOOKUP(C1331,FOTOGRAFICO!C:E,3,FALSE),C1331),\"\")","v":""}]
[null,null,"SYD7000723","AMORTIGUAD","AMORTIGUADOR DEL DER KICKS 17- 23 VERSA II 20-22 MARCA SYD    GAS PIDE EDER",1391.59,0,0,0,0,0,0,{"$f":"+IFERROR(HYPERLINK(VLOOKUP(C1332,FOTOGRAFICO!C:E,3,FALSE),C1332),\"\")","v":""}]
[null,null,"SYD7000724","AMORTIGUAD","AMORTIGUADOR DEL IZQ KICKS 17- 23 VERSA II 20-22 MARCA SYD    GAS PIDE EDER",1391.59,0,0,0,0,0,0,{"$f":"+IFERROR(HYPERLINK(VLOOKUP(C1333,FOTOGRAFICO!C:E,3,FALSE),C1333),\"\")","v":""}]
[null,null,"SYD7000725","AMORTIGUAD","AMORTIGUADOR TRAS KICKS 17-23  VERSA II 20-22 MARCA KYB GAS   PIDE EDER",920.4,0,0,0,0,0,0,{"$f":"+IFERROR(HYPERLINK(VLOOKUP(C1334,FOTOGRAFICO!C:E,3,FALSE),C1334),\"\")","v":""}]
[null,null,"004-0650-00","AMORTIGUAD","AMORTIGUADOR 5TA PUERTA        VENTURE 97-05 HUSHAN",586.74,0,0,0,0,0,2,{"$f":"+IFERROR(HYPERLINK(VLOOKUP(C1335,FOTOGRAFICO!C:E,3,FALSE),C1335),\"\")","v":""}]
[null,null,"004-0714-00","AMORTIGUAD","AMORTIGUADOR CAJUELA SHADOW 89 -94 MARCA TK",432.97,0,0,0,0,0,3,{"$f":"+IFERROR(HYPERLINK(VLOOKUP(C1336,FOTOGRAFICO!C:E,3,FALSE),C1336),\"\")","v":""}]
[null,null,"004-0908-05","AMORTIGUAD","AMORTIGUADOR COFRE DURANGO 11- 22 MARCA RADEC IMPORTADO       004-0908-05 PIDE EDGAR",430.27,0,0,0,0,0,0,{"$f":"+IFERROR(HYPERLINK(VLOOKUP(C1337,FOTOGRAFICO!C:E,3,FALSE),C1337),\"\")","v":""}]
[null,null,"004-1214-03","AMORTIGUAD","AMORTIGUADOR COFRE EXPLORER    02-05 MARCA HUSHAN",364.18,0,0,0,0,0,0,{"$f":"+IFERROR(HYPERLINK(VLOOKUP(C1338,FOTOGRAFICO!C:E,3,FALSE),C1338),\"\")","v":""}]
[null,null,"004-1214-08","AMORTIGUAD","AMORTIGUADOR COFRE EXPLORER    06-10 MARCA RADEC IMPORTADO    004-1214-08",427.58,0,0,0,0,0,0,{"$f":"+IFERROR(HYPERLINK(VLOOKUP(C1339,FOTOGRAFICO!C:E,3,FALSE),C1339),\"\")","v":""}]
[null,null,"004-1215-00","AMORTIGUAD","AMORTIGUADOR COFRE FORD F-150  97-03 F150 97-03 MARCA HUSHAN  PIDE SOTO",408.69,0,0,0,0,0,0,{"$f":"+IFERROR(HYPERLINK(VLOOKUP(C1340,FOTOGRAFICO!C:E,3,FALSE),C1340),\"\")","v":""}]
[null,null,"004-1303-03","AMORTIGUAD","AMORTIGUADOR 5TA PUERTA HONDA  CR-V 07-11 MARCA HUSHAN",427.58,0,0,0,0,0,3,{"$f":"+IFERROR(HYPERLINK(VLOOKUP(C1341,FOTOGRAFICO!C:E,3,FALSE),C1341),\"\")","v":""}]
[null,null,"004-2601-00","AMORTIGUAD","AMORTIGUADOR 5TA PUERTA CLIO   05-08 MARCA HUSHAN",427.58,0,0,0,0,0,0,{"$f":"+IFERROR(HYPERLINK(VLOOKUP(C1342,FOTOGRAFICO!C:E,3,FALSE),C1342),\"\")","v":""}]
[null,null,"333331SFT","AMORTIGUAD","AMORTIGUADOR DEL DER FIT 05-08 GAS MARCA SAFETY MP8526",890,0,0,0,0,0,1,{"$f":"+IFERROR(HYPERLINK(VLOOKUP(C1343,FOTOGRAFICO!C:E,3,FALSE),C1343),\"\")","v":""}]
[null,null,"333332SFT","AMORTIGUAD","AMORTIGUADOR DEL IZQ FIT 05-08 GAS MARCA SAFETY MP8527",890,0,0,0,0,0,1,{"$f":"+IFERROR(HYPERLINK(VLOOKUP(C1344,FOTOGRAFICO!C:E,3,FALSE),C1344),\"\")","v":""}]
[null,null,"AC19376797","AMORTIGUAD","AMORTIGUADOR TRASERO EQUINOX   2.4 16-17 SUSPENSION SUAVE     MARCA ACDELCO PIDE EDGAR DUART",1301.23,0,0,0,0,0,2,{"$f":"+IFERROR(HYPERLINK(VLOOKUP(C1345,FOTOGRAFICO!C:E,3,FALSE),C1345),\"\")","v":""}]
[null,null,"BOG32090","AMORTIGUAD","AMORTIGUADOR TRAS DART DUSTER  LEBARON MAGNUM VALIANT VOLARE  77-82 BOGE HIDRAULICO JOSUA",592.21,0,0,0,0,0,0,{"$f":"+IFERROR(HYPERLINK(VLOOKUP(C1346,FOTOGRAFICO!C:E,3,FALSE),C1346),\"\")","v":""}]
[null,null,"BOG835115","AMORTIGUAD","AMORTIGUADOR TRAS ECONOLINE    E150 E250 4.6 5.4 98-09 MARCA  BOGE GAS PIDE DUARTE EDGAR",647.19000000000005,0,0,0,0,0,0,{"$f":"+IFERROR(HYPERLINK(VLOOKUP(C1347,FOTOGRAFICO!C:E,3,FALSE),C1347),\"\")","v":""}]
[null,null,"OP1J5827552","AMORTIGUAD","AMORTIGUADOR CAJUELA JETTA A4  2.0 99-09 MARCA OEP IMPORTADO  PIDE EDGAR DUARTE",0,0,0,0,0,0,0,{"$f":"+IFERROR(HYPERLINK(VLOOKUP(C1348,FOTOGRAFICO!C:E,3,FALSE),C1348),\"\")","v":""}]
[null,null,"OP90481270","AMORTIGUAD","AMORTIGUADOR 5 PTA CHEVY 1.6   94-12 MARCA OEP IMPORTADO      PIDE EDGAR DUARTE",0,0,0,0,0,0,0,{"$f":"+IFERROR(HYPERLINK(VLOOKUP(C1349,FOTOGRAFICO!C:E,3,FALSE),C1349),\"\")","v":""}]
[null,null,"SCH314878","AMORTIGUAD","AMORTIGUADOR DEL IZQ BMW X3 11 -15 MARCA SACHS DE GAS 314878  PIDE EDGAR DUARTE",2555.84,0,0,0,0,0,0,{"$f":"+IFERROR(HYPERLINK(VLOOKUP(C1350,FOTOGRAFICO!C:E,3,FALSE),C1350),\"\")","v":""}]
[null,null,"SCH314879","AMORTIGUAD","AMORTIGUADOR DEL DER BMW X3 11 -15 MARCA SACHS DE GAS 314879  PIDE EDGAR DUARTE",2555.84,0,0,0,0,0,0,{"$f":"+IFERROR(HYPERLINK(VLOOKUP(C1351,FOTOGRAFICO!C:E,3,FALSE),C1351),\"\")","v":""}]
[null,null,"SFNT0400","AMORTIGUAD","AMORTIGUADOR CAJUELA 5TA PTA   HIACE 2.7 05-19 CHASIS LARGO   77 CM LARGO MARCA YOKOMITSU",172.65,0,0,0,0,0,0,{"$f":"+IFERROR(HYPERLINK(VLOOKUP(C1352,FOTOGRAFICO!C:E,3,FALSE),C1352),\"\")","v":""}]
[null,null,"ECO613","ANCLA","ANCLA FRENO MANO VW  JGO 2PZAS 1600 VW SEDAN 1200, 1500, 1600",38.130000000000003,9,0,0,0,0,0,{"$f":"+IFERROR(HYPERLINK(VLOOKUP(C1353,FOTOGRAFICO!C:E,3,FALSE),C1353),\"\")","v":""}]
[null,null,"ECO614","ANCLA","ANCLA FRENO MANO VW  JGO 2PZAS 1600 VW SEDAN 1200, 1500, 1600",38.130000000000003,9,0,0,0,0,0,{"$f":"+IFERROR(HYPERLINK(VLOOKUP(C1354,FOTOGRAFICO!C:E,3,FALSE),C1354),\"\")","v":""}]
[null,null,"MAP4576C","ANILLO","ANILLOS MOTOR ATTITUDE 06-11   STD MARCA MORESA PIDE CALL CEN",517.96,1,0,0,0,0,0,{"$f":"+IFERROR(HYPERLINK(VLOOKUP(C1355,FOTOGRAFICO!C:E,3,FALSE),C1355),\"\")","v":""}]
[null,null,"MAP902NSTD","ANILLO","ANILLO SEAT LEON 1.4 08-14     ALTEA 10-12 IBIZA 11-13 1 PIEZ MORESA PEDIDO DAVID",305.10000000000002,0,0,3,0,1,0,{"$f":"+IFERROR(HYPERLINK(VLOOKUP(C1356,FOTOGRAFICO!C:E,3,FALSE),C1356),\"\")","v":""}]
[null,null,"GM93737136","ANILLO","ANILLO PISTON STD AVEO 1.5L    18-20 MARCA: AC DELCO KIT 1PZ  PEDIDO MIGUEL COTOC",2104.88,0,0,0,0,0,0,{"$f":"+IFERROR(HYPERLINK(VLOOKUP(C1357,FOTOGRAFICO!C:E,3,FALSE),C1357),\"\")","v":""}]
[null,null,"42224CP","ANILLOS","ANILLOS MOTOR STD VW GOL POLO  LUPO CORDOBA IBIZA MOTOR 1.6L  8 VALVULAS MARCA MAHLE",607.79,0,0,1,0,3,0,{"$f":"+IFERROR(HYPERLINK(VLOOKUP(C1358,FOTOGRAFICO!C:E,3,FALSE),C1358),\"\")","v":"42224CP"}]
[null,null,"C1796-020","ANILLOS","ANILLOS PISTON 020 CHEVY 1.6   AVEO 1.6 PONTIAC G3 1.6        CROMADOS GRANT = HAS4602020",386.23,0,0,0,0,0,0,{"$f":"+IFERROR(HYPERLINK(VLOOKUP(C1359,FOTOGRAFICO!C:E,3,FALSE),C1359),\"\")","v":""}]
[null,null,"C1796-STD","ANILLOS","ANILLOS PISTON STD CHEVY 1.6   AVEO 1.6 PONTIAC G3 1.6        CROMADOS GRANT = SP3024KMSTD",386.23,0,0,0,0,0,0,{"$f":"+IFERROR(HYPERLINK(VLOOKUP(C1360,FOTOGRAFICO!C:E,3,FALSE),C1360),\"\")","v":""}]
[null,null,"C1797-STD","ANILLOS","ANILLOS PISTON STD TSURU III   1.6 94-17 16 VALVULAS CROMADOS MARCA GRANT MAP4659C STD",288.31,0,0,0,0,0,0,{"$f":"+IFERROR(HYPERLINK(VLOOKUP(C1361,FOTOGRAFICO!C:E,3,FALSE),C1361),\"\")","v":""}]
[null,null,"C1868-020","ANILLOS","ANILLOS PISTON 020 CHEVY 1.4   CROMADOS MARCA GRANT HECHO EN  USA",385.47,0,0,0,1,1,0,{"$f":"+IFERROR(HYPERLINK(VLOOKUP(C1362,FOTOGRAFICO!C:E,3,FALSE),C1362),\"\")","v":""}]
[null,null,"C1868-STD","ANILLOS","ANILLOS PISTON STD CHEVY 1.4   CROMADOS MARCA GRANT HECHO EN  USA",385.47,0,0,0,0,0,0,{"$f":"+IFERROR(HYPERLINK(VLOOKUP(C1363,FOTOGRAFICO!C:E,3,FALSE),C1363),\"\")","v":""}]
[null,null,"C5044-STD","ANILLOS","ANILLOS PISTON STD ATOS 1.0 99 -04 ANILLO ACEITE 2.5 MM       CROMADOS GRANT = SP3195KXSTD",372.49,0,0,0,0,0,0,{"$f":"+IFERROR(HYPERLINK(VLOOKUP(C1364,FOTOGRAFICO!C:E,3,FALSE),C1364),\"\")","v":""}]
[null,null,"CP2C4602STD","ANILLOS","ANILLOS PISTON STD CHEVY 1.6   AVEO 1.6 PONTIAC G3 1.6        CROMA PERFECT CIRCLE = HAS4602",415.2,4,0,0,3,0,0,{"$f":"+IFERROR(HYPERLINK(VLOOKUP(C1365,FOTOGRAFICO!C:E,3,FALSE),C1365),\"\")","v":""}]
[null,null,"CTIA5099STD","ANILLOS","ANILLOS PISTON STD URVAN 2.4   2.5 91-17 FRONTIER X-TRAIL D21 KA24DE QR25DE GASOLI MARCA CTI",362.69,0,0,0,0,0,0,{"$f":"+IFERROR(HYPERLINK(VLOOKUP(C1366,FOTOGRAFICO!C:E,3,FALSE),C1366),\"\")","v":"CTIA5099STD"}]
[null,null,"HAS4341","ANILLOS","ANILLOS PISTON STD GOLF JETTA  A2 A3 1.8 COMBI 1800 89-02     DERBY 1.8 93-96 NEGROS MELLING",610.84,3,0,1,1,0,2,{"$f":"+IFERROR(HYPERLINK(VLOOKUP(C1367,FOTOGRAFICO!C:E,3,FALSE),C1367),\"\")","v":""}]
[null,null,"HAS4341020","ANILLOS","ANILLOS PISTON 020 GOLF JETTA  A2 A3 1.8 COMBI 1800 89-02     DERBY 1.8 93-96 NEGROS MELLING",511.48,1,0,0,0,0,0,{"$f":"+IFERROR(HYPERLINK(VLOOKUP(C1368,FOTOGRAFICO!C:E,3,FALSE),C1368),\"\")","v":""}]
[null,null,"HAS4341030","ANILLOS","ANILLOS PISTON 030 GOLF JETTA  A2 A3 1.8 COMBI 1800 89-02     DERBY 1.8 93-96 NEGROS MELLING",470.65,1,0,0,0,1,2,{"$f":"+IFERROR(HYPERLINK(VLOOKUP(C1369,FOTOGRAFICO!C:E,3,FALSE),C1369),\"\")","v":""}]
[null,null,"HAS4602","ANILLOS","ANILLOS PISTON STD CHEVY 1.6   AVEO 1.6 PONTIAC G3 1.6        CROMADOS MELLING = C1796-STD",857.7,1,2,3,2,0,2,{"$f":"+IFERROR(HYPERLINK(VLOOKUP(C1370,FOTOGRAFICO!C:E,3,FALSE),C1370),\"\")","v":""}]
[null,null,"HAS4602020","ANILLOS","ANILLOS PISTON 020 CHEVY 1.6   AVEO 1.6 PONTIAC G3 1.6        CROMADOS MELLING = C1796-020",764.82,0,0,1,0,1,0,{"$f":"+IFERROR(HYPERLINK(VLOOKUP(C1371,FOTOGRAFICO!C:E,3,FALSE),C1371),\"\")","v":""}]
[null,null,"HAS4659","ANILLOS","ANILLOS PISTON STD TSURU III   1.6 94-17 16 VALVULAS NEGROS   MARCA MELLING MAP4659F STD",432.91,3,3,2,6,0,4,{"$f":"+IFERROR(HYPERLINK(VLOOKUP(C1372,FOTOGRAFICO!C:E,3,FALSE),C1372),\"\")","v":""}]
[null,null,"HAS4812-STD","ANILLOS","ANILLOS PISTON STD CHEVY 1.4   NEGROS MARCA MELLING HECHO EN  USA = MAP4812FSTD",474.5,4,0,3,4,0,4,{"$f":"+IFERROR(HYPERLINK(VLOOKUP(C1373,FOTOGRAFICO!C:E,3,FALSE),C1373),\"\")","v":""}]
[null,null,"HAS5095STD","ANILLOS","ANILLOS PISTON STD POINTER 1.8 98-09 DERBY 1.8 97-09 POLO 1.6 06-13 CROMADOS MARCA MELLING",644.5,14,2,10,6,0,1,{"$f":"+IFERROR(HYPERLINK(VLOOKUP(C1374,FOTOGRAFICO!C:E,3,FALSE),C1374),\"\")","v":""}]
[null,null,"HAS5099020","ANILLOS","ANILLOS PISTON 020 URVAN 2.4   2.5 91-17 FRONTIER X-TRAIL D21 KA24DE QR25DE GASOLINA MELLING",790.93,2,0,2,0,0,0,{"$f":"+IFERROR(HYPERLINK(VLOOKUP(C1375,FOTOGRAFICO!C:E,3,FALSE),C1375),\"\")","v":""}]
[null,null,"HAS5099030","ANILLOS","ANILLOS PISTON 030 URVAN 2.4   2.5 91-17 FRONTIER X-TRAIL D21 KA24DE QR25DE GASOLINA MELLING",790.93,1,0,2,0,0,0,{"$f":"+IFERROR(HYPERLINK(VLOOKUP(C1376,FOTOGRAFICO!C:E,3,FALSE),C1376),\"\")","v":""}]
[null,null,"HAS5099STD","ANILLOS","ANILLOS PISTON STD URVAN 2.4   2.5 91-17 FRONTIER X-TRAIL D21 KA24DE QR25DE GASOLINA MELLING",684.14,27,0,3,13,2,6,{"$f":"+IFERROR(HYPERLINK(VLOOKUP(C1377,FOTOGRAFICO!C:E,3,FALSE),C1377),\"\")","v":""}]
[null,null,"HAS5135STD","ANILLOS","ANILLOS PISTO STD PLATINA CLIO KANGOO STEPWAY SANDERO LOGAN   1.6 01-19 CROMADOS MELLING",461.08,5,0,12,9,0,2,{"$f":"+IFERROR(HYPERLINK(VLOOKUP(C1378,FOTOGRAFICO!C:E,3,FALSE),C1378),\"\")","v":""}]
[null,null,"HAS6781STD","ANILLOS","ANILLOS PISTON STD VW SEDAN    1.6 66-04 COMBI 1600 75-88 8   VALVULAS NEGROS MARCA MELLING",281.10000000000002,14,1,2,6,0,2,{"$f":"+IFERROR(HYPERLINK(VLOOKUP(C1379,FOTOGRAFICO!C:E,3,FALSE),C1379),\"\")","v":""}]
[null,null,"MAP4341FSTD","ANILLOS","ANILLOS PISTON STD GOLF JETTA  A2 A3 1.8 COMBI 1800 89-02     DERBY 1.8 93-96 NEGROS MORESA",311.72000000000003,4,1,5,8,4,2,{"$f":"+IFERROR(HYPERLINK(VLOOKUP(C1380,FOTOGRAFICO!C:E,3,FALSE),C1380),\"\")","v":"MAP4341FSTD"}]
[null,null,"MAP4576C STD","ANILLOS","ANILLOS MOTOR DODGE ATTITUDE   1.4 06-11 MARCA MORESA",0,0,0,0,0,0,0,{"$f":"+IFERROR(HYPERLINK(VLOOKUP(C1381,FOTOGRAFICO!C:E,3,FALSE),C1381),\"\")","v":""}]
[null,null,"MAP4602C030","ANILLOS","ANILLOS PISTON 030 CHEVY 1.6   AVEO 1.6 PONTIAC G3 1.6        CROMADOS MORESA = C1796-030",375.98,3,2,6,7,1,2,{"$f":"+IFERROR(HYPERLINK(VLOOKUP(C1382,FOTOGRAFICO!C:E,3,FALSE),C1382),\"\")","v":"MAP4602C030"}]
[null,null,"MAP4602CSTD","ANILLOS","ANILLOS PISTON STD CHEVY 1.6   AVEO 1.6 PONTIAC G3 1.6        CROMADOS MORESA = C1796-STD",375.97,5,10,9,18,3,8,{"$f":"+IFERROR(HYPERLINK(VLOOKUP(C1383,FOTOGRAFICO!C:E,3,FALSE),C1383),\"\")","v":"MAP4602CSTD"}]
[null,null,"MAP4639CSTD","ANILLOS","ANILLOS PISTON STD GOLF A3 A4  2.0 93-07 JETTA A3 A4 2.0 CLAS 93-14 CROMADOS MARCA MORESA",385.59,10,2,6,4,5,3,{"$f":"+IFERROR(HYPERLINK(VLOOKUP(C1384,FOTOGRAFICO!C:E,3,FALSE),C1384),\"\")","v":"MAP4639CSTD"}]
[null,null,"MAP4659F020","ANILLOS","ANILLOS PISTON 020 TSURU III   1.6 94-17 16 VALVULAS NEGROS   MARCA MORESA MAP4659F 020",242.65,6,3,4,2,2,4,{"$f":"+IFERROR(HYPERLINK(VLOOKUP(C1385,FOTOGRAFICO!C:E,3,FALSE),C1385),\"\")","v":"MAP4659F020"}]
[null,null,"MAP4659F030","ANILLOS","ANILLOS PISTON 030 TSURU III   1.6 94-17 16 VALVULAS NEGROS   MARCA MORESA MAP4659F 030",242.65,9,2,5,4,6,2,{"$f":"+IFERROR(HYPERLINK(VLOOKUP(C1386,FOTOGRAFICO!C:E,3,FALSE),C1386),\"\")","v":"MAP4659F030"}]
[null,null,"MAP4659FSTD","ANILLOS","ANILLOS PISTON STD TSURU III   1.6 94-17 16 VALVULAS NEGROS   MARCA MORESA MAP4659F STD",242.65,12,2,7,14,4,5,{"$f":"+IFERROR(HYPERLINK(VLOOKUP(C1387,FOTOGRAFICO!C:E,3,FALSE),C1387),\"\")","v":"MAP4659FSTD"}]
[null,null,"MAP4812F020","ANILLOS","ANILLOS PISTON 020 CHEVY 1.4   NEGROS MARCA MORESA            = MR4812020",309.92,4,0,1,4,0,1,{"$f":"+IFERROR(HYPERLINK(VLOOKUP(C1388,FOTOGRAFICO!C:E,3,FALSE),C1388),\"\")","v":""}]
[null,null,"MAP4812FSTD","ANILLOS","ANILLOS PISTON STD CHEVY 1.4   NEGROS MARCA MORESA            = HAS4812-STD",309.92,7,3,5,11,2,2,{"$f":"+IFERROR(HYPERLINK(VLOOKUP(C1389,FOTOGRAFICO!C:E,3,FALSE),C1389),\"\")","v":"MAP4812FSTD"}]
[null,null,"MAP5029FSTD","ANILLOS","ANILLOS PISTON STD EUROVAN 1.9 DIESEL BORA TDI 1.9 05-09 PARA 4 PISTONES NEGROS MARCA MORESA",342.34,2,2,2,3,0,1,{"$f":"+IFERROR(HYPERLINK(VLOOKUP(C1390,FOTOGRAFICO!C:E,3,FALSE),C1390),\"\")","v":"MAP5029FSTD"}]
[null,null,"MAP5095C020","ANILLOS","ANILLOS PISTON 020 POINTER 1.8 98-09 DERBY 1.8 97-09 POLO 1.6 06-13 CROMADOS MARCA MORESA",366.96,8,0,0,4,0,2,{"$f":"+IFERROR(HYPERLINK(VLOOKUP(C1391,FOTOGRAFICO!C:E,3,FALSE),C1391),\"\")","v":"MAP5095C020"}]
[null,null,"MAP5095CSTD","ANILLOS","ANILLOS PISTON STD POINTER 1.8 98-09 DERBY 1.8 97-09 POLO 1.6 06-13 CROMADOS MARCA MORESA",366.96,9,0,6,3,4,3,{"$f":"+IFERROR(HYPERLINK(VLOOKUP(C1392,FOTOGRAFICO!C:E,3,FALSE),C1392),\"\")","v":"MAP5095CSTD"}]
[null,null,"MAP5099C020","ANILLOS","ANILLOS PISTON 020 URVAN 2.4   2.5 91-17 FRONTIER X-TRAIL D21 KA24DE QR25DE GASOLINA MORESA",342.34,5,0,4,13,0,3,{"$f":"+IFERROR(HYPERLINK(VLOOKUP(C1393,FOTOGRAFICO!C:E,3,FALSE),C1393),\"\")","v":"MAP5099C020"}]
[null,null,"MAP5099C030","ANILLOS","ANILLOS PISTON 030 URVAN 2.4   2.5 91-17 FRONTIER X-TRAIL D21 KA24DE QR25DE GASOLINA MORESA",342.34,2,0,4,3,0,2,{"$f":"+IFERROR(HYPERLINK(VLOOKUP(C1394,FOTOGRAFICO!C:E,3,FALSE),C1394),\"\")","v":"MAP5099C030"}]
[null,null,"MAP5099CSTD","ANILLOS","ANILLOS PISTON STD URVAN 2.4   2.5 91-17 FRONTIER X-TRAIL D21 KA24DE QR25DE GASOLINA MORESA",342.33,3,0,7,19,3,2,{"$f":"+IFERROR(HYPERLINK(VLOOKUP(C1395,FOTOGRAFICO!C:E,3,FALSE),C1395),\"\")","v":""}]
[null,null,"MAP5177CSTD","ANILLOS","ANILLOS PISTON STD VW GOL POLO LUPO CORDOBA IBIZA MOTOR 1.6L  8 VALVULAS MARCA MORESA",398.8,4,5,3,4,2,4,{"$f":"+IFERROR(HYPERLINK(VLOOKUP(C1396,FOTOGRAFICO!C:E,3,FALSE),C1396),\"\")","v":"MAP5177CSTD"}]
[null,null,"MAP5185C030","ANILLOS","ANILLOS PISTON 030 CORSA 1.8   TORNADO MERIVA ASTRA ZAFIRA    1.8 CROMADOS MARCA MORESA",557.94000000000005,2,0,0,2,0,1,{"$f":"+IFERROR(HYPERLINK(VLOOKUP(C1397,FOTOGRAFICO!C:E,3,FALSE),C1397),\"\")","v":"MAP5185C030"}]
[null,null,"MAP5185CSTD","ANILLOS","ANILLOS PISTON STD CORSA 1.8   TORNADO MERIVA ASTRA ZAFIRA    1.8 CROMADOS MARCA MORESA",557.96,5,4,6,8,2,2,{"$f":"+IFERROR(HYPERLINK(VLOOKUP(C1398,FOTOGRAFICO!C:E,3,FALSE),C1398),\"\")","v":"MAP5185CSTD"}]
[null,null,"MAP5261CSTD","ANILLOS","ANILLOS PISTON STD HIACE 2.7   05-15 TACOMA HILUX 2.7 CROMADO MOTORES 2TRFE MARCA MORESA",410.81,2,0,4,3,2,2,{"$f":"+IFERROR(HYPERLINK(VLOOKUP(C1399,FOTOGRAFICO!C:E,3,FALSE),C1399),\"\")","v":""}]
[null,null,"MAP5273C020","ANILLOS","ANILLOS PISTON 020 MATIZ 1.0   03-15 G1 G2 PARA 4 PISTONES    CROMADOS MARCA MORESA",398.8,4,2,3,2,0,2,{"$f":"+IFERROR(HYPERLINK(VLOOKUP(C1400,FOTOGRAFICO!C:E,3,FALSE),C1400),\"\")","v":"MAP5273C020"}]
[null,null,"MAP5273C030","ANILLOS","ANILLOS PISTON 030 MATIZ 1.0   03-15 G1 G2 PARA 4 PISTONES    CROMADOS MARCA MORESA",398.79,1,1,0,2,1,2,{"$f":"+IFERROR(HYPERLINK(VLOOKUP(C1401,FOTOGRAFICO!C:E,3,FALSE),C1401),\"\")","v":"MAP5273C030"}]
[null,null,"MAP5273CSTD","ANILLOS","ANILLOS PISTON STD MATIZ 1.0   03-15 G1 G2 PARA 4 PISTONES    CROMADOS MARCA MORESA",398.8,1,3,7,3,3,2,{"$f":"+IFERROR(HYPERLINK(VLOOKUP(C1402,FOTOGRAFICO!C:E,3,FALSE),C1402),\"\")","v":"MAP5273CSTD"}]
[null,null,"MAP5298F020","ANILLOS","ANILLOS PISTON 020 ATOS 1.1 05 -12 ANILLO ACEITE DELGADO 2.0  MM NEGROS MARCA MORESA",310.5,6,2,7,4,3,2,{"$f":"+IFERROR(HYPERLINK(VLOOKUP(C1403,FOTOGRAFICO!C:E,3,FALSE),C1403),\"\")","v":"MAP5298F020"}]
[null,null,"MAP5298FSTD","ANILLOS","ANILLOS PISTON STD ATOS 1.1 05 -12 ANILLO ACEITE DELGADO 2.0  MM NEGROS MARCA MORESA",310.5,8,0,13,13,10,4,{"$f":"+IFERROR(HYPERLINK(VLOOKUP(C1404,FOTOGRAFICO!C:E,3,FALSE),C1404),\"\")","v":"MAP5298FSTD"}]
[null,null,"MAP6781FSTD","ANILLOS","ANILLOS PISTON STD VW SEDAN    1.6 66-04 COMBI 1600 75-88 8   VALVULAS NEGROS MARCA MORESA",197.6,9,2,6,6,4,4,{"$f":"+IFERROR(HYPERLINK(VLOOKUP(C1405,FOTOGRAFICO!C:E,3,FALSE),C1405),\"\")","v":"MAP6781FSTD"}]
[null,null,"MAP903NSTD","ANILLOS","ANILLOS PISTON STD VENTO 1.6L  CABEZA DE 16 VALVULAS 13-17    MOTOR CLSA CLRA MARCA MORESA",315.92,2,4,2,2,2,2,{"$f":"+IFERROR(HYPERLINK(VLOOKUP(C1406,FOTOGRAFICO!C:E,3,FALSE),C1406),\"\")","v":"MAP903NSTD"}]
[null,null,"P1259-STD","ANILLOS","ANILLOS PISTON STD VW SEDAN    1.6 66-04 COMBI 1600 75-88 8   VALVULAS NEGROS MARCA GRANT",280.35000000000002,0,0,0,0,0,0,{"$f":"+IFERROR(HYPERLINK(VLOOKUP(C1407,FOTOGRAFICO!C:E,3,FALSE),C1407),\"\")","v":"P1259-STD"}]
[null,null,"P1506-020","ANILLOS","ANILLOS PISTON 020 TSURU I II  III 1.6 84-93 SENTRA 1.6 83-92 8 VALVULAS NEGROS MARCA GRANT",295.02999999999997,0,0,0,0,0,1,{"$f":"+IFERROR(HYPERLINK(VLOOKUP(C1408,FOTOGRAFICO!C:E,3,FALSE),C1408),\"\")","v":"P1506-020"}]
[null,null,"P1506-030","ANILLOS","ANILLOS PISTON 030 TSURU I II  III 1.6 84-93 SENTRA 1.6 83-92 8 VALVULAS NEGROS MARCA GRANT",295.02999999999997,1,0,0,0,0,0,{"$f":"+IFERROR(HYPERLINK(VLOOKUP(C1409,FOTOGRAFICO!C:E,3,FALSE),C1409),\"\")","v":"P1506-030"}]
[null,null,"P1797-020","ANILLOS","ANILLOS PISTON 020 TSURU III   1.6 94-17 16 VALVULAS NEGROS   MARCA GRANT MAP4659F 020",269.29000000000002,0,0,0,0,1,0,{"$f":"+IFERROR(HYPERLINK(VLOOKUP(C1410,FOTOGRAFICO!C:E,3,FALSE),C1410),\"\")","v":"P1797-020"}]
[null,null,"P1797-STD","ANILLOS","ANILLOS PISTON STD TSURU III   1.6 94-17 16 VALVULAS NEGROS   MARCA GRANT MAP4659F STD",269.29000000000002,0,0,0,0,0,0,{"$f":"+IFERROR(HYPERLINK(VLOOKUP(C1411,FOTOGRAFICO!C:E,3,FALSE),C1411),\"\")","v":"P1797-STD"}]
[null,null,"S42259CP","ANILLOS","ANILLO PISTON STD MATIZ 1.0 03 -15 G1 G2 PARA UN PISTON       CROMADO MARCA MAHLE S42259CP",112.41,0,0,3,4,0,3,{"$f":"+IFERROR(HYPERLINK(VLOOKUP(C1412,FOTOGRAFICO!C:E,3,FALSE),C1412),\"\")","v":""}]
[null,null,"S5093-STD","ANILLOS","ANILLOS PISTON STD POINTER 1.8 98-09 DERBY 1.8 97-09 POLO 1.6 06-13 CROMADOS MARCA GRANT",388.78,0,0,0,0,0,0,{"$f":"+IFERROR(HYPERLINK(VLOOKUP(C1413,FOTOGRAFICO!C:E,3,FALSE),C1413),\"\")","v":""}]
[null,null,"S5183-STD","ANILLOS","ANILLOS PISTON STD FIESTA 1.6  01-10 IKON COURIER 1.6 01-12   8 VALV.CROMADOS MARCA GRANT",383.5,0,0,0,0,0,0,{"$f":"+IFERROR(HYPERLINK(VLOOKUP(C1414,FOTOGRAFICO!C:E,3,FALSE),C1414),\"\")","v":""}]
[null,null,"S5190-020","ANILLOS","ANILLOS PISTO 020 PLATINA CLIO KANGOO STEPWAY SANDERO LOGAN   1.6 01-19 CROMADOS GRANT",337.91,0,0,0,0,0,0,{"$f":"+IFERROR(HYPERLINK(VLOOKUP(C1415,FOTOGRAFICO!C:E,3,FALSE),C1415),\"\")","v":""}]
[null,null,"S5190-STD","ANILLOS","ANILLOS PISTO STD PLATINA CLIO KANGOO STEPWAY SANDERO LOGAN   1.6 01-19 CROMADOS GRANT",337.91,0,0,0,0,0,0,{"$f":"+IFERROR(HYPERLINK(VLOOKUP(C1416,FOTOGRAFICO!C:E,3,FALSE),C1416),\"\")","v":""}]
[null,null,"S5216-STD","ANILLOS","ANILLOS PISTON STD CORSA 1.8   TORNADO MERIVA ASTRA ZAFIRA    1.8 CROMADOS MARCA GRANT",518.45000000000005,0,0,0,0,0,0,{"$f":"+IFERROR(HYPERLINK(VLOOKUP(C1417,FOTOGRAFICO!C:E,3,FALSE),C1417),\"\")","v":""}]
[null,null,"S5253-STD","ANILLOS","ANILLOS PISTON STD MATIZ 1.0   03-15 G1 G2 PARA 4 PISTONES    CROMADOS MARCA GRANT",324.62,0,0,0,0,0,0,{"$f":"+IFERROR(HYPERLINK(VLOOKUP(C1418,FOTOGRAFICO!C:E,3,FALSE),C1418),\"\")","v":""}]
[null,null,"S5276-020","ANILLOS","ANILLOS PISTON 020 ATOS 1.1 05 -12 ANILLO ACEITE DELGADO 2.0  MM CROMADOS MARCA GRANT",362.29,0,0,0,0,0,0,{"$f":"+IFERROR(HYPERLINK(VLOOKUP(C1419,FOTOGRAFICO!C:E,3,FALSE),C1419),\"\")","v":""}]
[null,null,"S5276-STD","ANILLOS","ANILLOS PISTON STD ATOS 1.1 05 -12 ANILLO ACEITE DELGADO 2.0  MM CROMADO GRANT = HAS5298STD",362.29,0,0,0,0,0,0,{"$f":"+IFERROR(HYPERLINK(VLOOKUP(C1420,FOTOGRAFICO!C:E,3,FALSE),C1420),\"\")","v":""}]
[null,null,"S5362-STD","ANILLOS","ANILLOS PISTON STD SPARK 1.2L  11-17 GM BEAT 1.2L 18-20       MARCA GRANT HECHO EN USA",481.79,0,0,0,0,0,0,{"$f":"+IFERROR(HYPERLINK(VLOOKUP(C1421,FOTOGRAFICO!C:E,3,FALSE),C1421),\"\")","v":""}]
[null,null,"SP10386XSTD","ANILLOS","ANILLOS PISTON STD GOLF JETTA  A2 A3 1.8 COMBI 1800 89-02     DERBY 1.8 93-96 NEGROS MAHLE",436.4,0,0,1,0,0,0,{"$f":"+IFERROR(HYPERLINK(VLOOKUP(C1422,FOTOGRAFICO!C:E,3,FALSE),C1422),\"\")","v":""}]
[null,null,"SP3005KMSTD","ANILLOS","ANILLOS MOTOR JETTA A3 2.0 STD Y GOLF JETTA A4 2.0 99-12      MARCA MAHLE",508.56,0,0,2,0,0,0,{"$f":"+IFERROR(HYPERLINK(VLOOKUP(C1423,FOTOGRAFICO!C:E,3,FALSE),C1423),\"\")","v":""}]
[null,null,"SP3018XSTD","ANILLOS","ANILLOS PISTON STD TSURU III   1.6 94-17 16 VALVULAS NEGROS   MARCA MAHLE MAP4659F STD",344.1,2,3,2,0,2,0,{"$f":"+IFERROR(HYPERLINK(VLOOKUP(C1424,FOTOGRAFICO!C:E,3,FALSE),C1424),\"\")","v":""}]
[null,null,"SP3024KMSTD","ANILLOS","ANILLOS PISTON STD CHEVY 1.6   AVEO 1.6 PONTIAC G3 1.6        CROMADOS MAHLE = C1796-STD",607.79,4,0,2,0,0,0,{"$f":"+IFERROR(HYPERLINK(VLOOKUP(C1425,FOTOGRAFICO!C:E,3,FALSE),C1425),\"\")","v":""}]
[null,null,"SP3195KXSTD","ANILLOS","ANILLOS PISTON STD ATOS 1.0 99 -04 ANILLO ACEITE 2.5 MM       CROMADOS MAHLE = C5044-STD",383.39,0,0,4,0,5,0,{"$f":"+IFERROR(HYPERLINK(VLOOKUP(C1426,FOTOGRAFICO!C:E,3,FALSE),C1426),\"\")","v":""}]
[null,null,"SP3200KXSTD","ANILLOS","ANILLOS PISTON STD URVAN 2.4   2.5 91-17 FRONTIER X-TRAIL D21 KA24DE QR25DE GASOLINA MAHLE",556.46,5,0,8,0,0,0,{"$f":"+IFERROR(HYPERLINK(VLOOKUP(C1427,FOTOGRAFICO!C:E,3,FALSE),C1427),\"\")","v":""}]
[null,null,"SP9183KXSTD","ANILLOS","ANILLOS PISTON STD VW SEDAN    1.6 66-04 COMBI 1600 75-88 8   VALVULAS CROMADOS MARCA MAHLE",349.28,1,0,1,0,1,0,{"$f":"+IFERROR(HYPERLINK(VLOOKUP(C1428,FOTOGRAFICO!C:E,3,FALSE),C1428),\"\")","v":""}]
[null,null,"SP9183XSTD","ANILLOS","ANILLOS PISTON STD VW SEDAN    1.6 66-04 COMBI 1600 75-88 8   VALVULAS NEGROS MARCA MAHLE",259.35000000000002,4,7,3,0,0,0,{"$f":"+IFERROR(HYPERLINK(VLOOKUP(C1429,FOTOGRAFICO!C:E,3,FALSE),C1429),\"\")","v":""}]
[null,null,"3005KM020","ANILLOS","ANILLOS PISTON 020 GOLF JETTA  A2 A3 2.0 91-98 POINTER 2.0 95 -03 MARCA MAHLE PIDE RAUL",496.57,0,0,0,0,0,0,{"$f":"+IFERROR(HYPERLINK(VLOOKUP(C1430,FOTOGRAFICO!C:E,3,FALSE),C1430),\"\")","v":""}]
[null,null,"CP2C4597STD","ANILLOS","ANILLOS PISTON STD SPARK 1.2   11-17 BEAT 1.2 18-20 MARCA     CIRCULO PERFECTO PIDE RAUL F",481.78,0,0,0,0,0,0,{"$f":"+IFERROR(HYPERLINK(VLOOKUP(C1431,FOTOGRAFICO!C:E,3,FALSE),C1431),\"\")","v":""}]
[null,null,"M2C4439","ANILLOS","ANILLOS PISTON STD VERSA MARCH NOTE MARCA MELLING PIDE RAUL   FABIOLA M2C4439",1664.63,0,0,0,0,0,0,{"$f":"+IFERROR(HYPERLINK(VLOOKUP(C1432,FOTOGRAFICO!C:E,3,FALSE),C1432),\"\")","v":""}]
[null,null,"MAP302CSTD","ANILLOS","ANILLOS PISTON STD CRUZE 1.8   10-16 TORNADO 1.8 10-16 TRAX   1.8 13-19 CROMADO MARCA MORESA",0,0,0,0,0,0,0,{"$f":"+IFERROR(HYPERLINK(VLOOKUP(C1433,FOTOGRAFICO!C:E,3,FALSE),C1433),\"\")","v":""}]
[null,null,"42225CP.020","ANILLOS","ANILLO MOT MR18DE,TIIDA,SENTRA 1.8L (12 5) EN 20, MARCA MALHE",526.61,0,0,0,0,0,0,{"$f":"+IFERROR(HYPERLINK(VLOOKUP(C1434,FOTOGRAFICO!C:E,3,FALSE),C1434),\"\")","v":""}]
[null,null,"71SPA","ANTENA","ANTENA CHEVROLET SPARK BEAT    18- IMPORTADA",241.59,1,1,1,3,1,0,{"$f":"+IFERROR(HYPERLINK(VLOOKUP(C1435,FOTOGRAFICO!C:E,3,FALSE),C1435),\"\")","v":""}]
[null,null,"78CH09","ANTENA","ANTENA CHEVY TIPO ORIGINAL     2009 CONECTOR PONTIAC",237.02,2,3,2,1,2,0,{"$f":"+IFERROR(HYPERLINK(VLOOKUP(C1436,FOTOGRAFICO!C:E,3,FALSE),C1436),\"\")","v":"78CH09"}]
[null,null,"89VWSC","ANTENA","ANTENA TOLDO VW GOL POINTER    IMPORTADA",207.4,0,2,2,1,0,3,{"$f":"+IFERROR(HYPERLINK(VLOOKUP(C1437,FOTOGRAFICO!C:E,3,FALSE),C1437),\"\")","v":""}]
[null,null,"98FIE","ANTENA","ANTENA FORD FIESTA IKON FOCUS  KA MONDEO IMPORTADA",190.3,0,4,1,1,1,3,{"$f":"+IFERROR(HYPERLINK(VLOOKUP(C1438,FOTOGRAFICO!C:E,3,FALSE),C1438),\"\")","v":""}]
[null,null,"ABC72090","ANTENA","ANTENA TYPO ALETA NEGRA OSCURO",32.549999999999997,22,14,22,20,74,14,{"$f":"+IFERROR(HYPERLINK(VLOOKUP(C1439,FOTOGRAFICO!C:E,3,FALSE),C1439),\"\")","v":"ABC72090"}]
[null,null,"AN0001","ANTENA","ANTENA TSURU III (IMPORTADA)",72.36,5,12,3,2,6,3,{"$f":"+IFERROR(HYPERLINK(VLOOKUP(C1440,FOTOGRAFICO!C:E,3,FALSE),C1440),\"\")","v":"AN0001"}]
[null,null,"AN0001-2","ANTENA","ANTENA TSURU III (IMPORTADA)",89.11,4,0,0,0,18,0,{"$f":"+IFERROR(HYPERLINK(VLOOKUP(C1441,FOTOGRAFICO!C:E,3,FALSE),C1441),\"\")","v":""}]
[null,null,"AN121A","ANTENA","ANTENA TIPO TIBURON BMW        IMPORTADA",147.74,1,1,2,0,6,1,{"$f":"+IFERROR(HYPERLINK(VLOOKUP(C1442,FOTOGRAFICO!C:E,3,FALSE),C1442),\"\")","v":"AN121A"}]
[null,null,"AN124","ANTENA","ANTENA ADORNO TIPO TIIDA       IMPORTADA",22.51,11,4,11,6,9,4,{"$f":"+IFERROR(HYPERLINK(VLOOKUP(C1443,FOTOGRAFICO!C:E,3,FALSE),C1443),\"\")","v":"AN124"}]
[null,null,"AN201","ANTENA","ANTENA CB IMAN 2 SECCIONES CON RESORTE 97 CM MARCA TUNIX",122.8,0,1,1,3,1,0,{"$f":"+IFERROR(HYPERLINK(VLOOKUP(C1444,FOTOGRAFICO!C:E,3,FALSE),C1444),\"\")","v":"AN201"}]
[null,null,"AN2918/BK","ANTENA","ANTENA GT CON ARILLO GRANDE",21.04,8,8,16,12,0,3,{"$f":"+IFERROR(HYPERLINK(VLOOKUP(C1445,FOTOGRAFICO!C:E,3,FALSE),C1445),\"\")","v":""}]
[null,null,"AN2918/CH","ANTENA","ANTENA DECORATIVA GOLF MINI",19.75,38,0,0,14,16,22,{"$f":"+IFERROR(HYPERLINK(VLOOKUP(C1446,FOTOGRAFICO!C:E,3,FALSE),C1446),\"\")","v":""}]
[null,null,"AN323","ANTENA","ANTENA CHEVY MONZA LATERAL     3 SECCIONES PIDE LONDAIZ MARCA TUNIX IMPORTADO AN323",86.13,0,0,0,0,0,0,{"$f":"+IFERROR(HYPERLINK(VLOOKUP(C1447,FOTOGRAFICO!C:E,3,FALSE),C1447),\"\")","v":""}]
[null,null,"AN59C","ANTENA","ANTENA TIPO TIBURON CORTA      CROMADA 7X9 CM IMPORTADA MARCA TUNIX",19.45,1,1,1,17,8,1,{"$f":"+IFERROR(HYPERLINK(VLOOKUP(C1448,FOTOGRAFICO!C:E,3,FALSE),C1448),\"\")","v":"AN59C"}]
[null,null,"AN72238","ANTENA","ANTENA TOLDO CHEVY CON CABLE",72.400000000000006,5,17,28,10,4,7,{"$f":"+IFERROR(HYPERLINK(VLOOKUP(C1449,FOTOGRAFICO!C:E,3,FALSE),C1449),\"\")","v":"AN72238"}]
[null,null,"AN808","ANTENA","ANTENA REPUESTO CON ESPIRAL Y  ADAPTADORES 41 CM IMPORTADA",26.73,5,3,8,4,10,0,{"$f":"+IFERROR(HYPERLINK(VLOOKUP(C1450,FOTOGRAFICO!C:E,3,FALSE),C1450),\"\")","v":"AN808"}]
[null,null,"ANI202","ANTENA","ANTENA DECORATIVA TIPO TIBURON NEGRO",31.87,2,0,2,0,0,0,{"$f":"+IFERROR(HYPERLINK(VLOOKUP(C1451,FOTOGRAFICO!C:E,3,FALSE),C1451),\"\")","v":""}]
[null,null,"ANTENAPARAB","ANTENA","ANTENA INTERIOR DE PARABRISAS  UNIVERSAL, TODOS LOS AUTOS",40.32,7,3,14,9,3,4,{"$f":"+IFERROR(HYPERLINK(VLOOKUP(C1452,FOTOGRAFICO!C:E,3,FALSE),C1452),\"\")","v":"ANTENAPARAB"}]
[null,null,"ANTJBA-247","ANTENA","ANTENA CIBIC ACEITE",416.11,4,6,0,0,0,0,{"$f":"+IFERROR(HYPERLINK(VLOOKUP(C1453,FOTOGRAFICO!C:E,3,FALSE),C1453),\"\")","v":"ANTJBA-247"}]
[null,null,"BRATR22","ANTENA","ANTENA RADIO COMBI TODOS MODEL OS",117.38,0,0,6,0,0,4,{"$f":"+IFERROR(HYPERLINK(VLOOKUP(C1454,FOTOGRAFICO!C:E,3,FALSE),C1454),\"\")","v":"BRATR22"}]
[null,null,"FST-04-954","ANTENA","ANTENA UNIVERSAL CON IMAN",153.33000000000001,5,0,0,0,0,0,{"$f":"+IFERROR(HYPERLINK(VLOOKUP(C1455,FOTOGRAFICO!C:E,3,FALSE),C1455),\"\")","v":""}]
[null,null,"PON1420","ANTENA","ANTENA RADIO VW SEDAN 69-02    OCULTA MARCA IMPORTADA",44.52,17,0,5,3,5,0,{"$f":"+IFERROR(HYPERLINK(VLOOKUP(C1456,FOTOGRAFICO!C:E,3,FALSE),C1456),\"\")","v":""}]
[null,null,"STM-803","ANTENA","ANTENA REPUESTO VW Ford,CHevr, UNIVERSAL EXTRA LARGA",43.41,0,0,3,0,4,0,{"$f":"+IFERROR(HYPERLINK(VLOOKUP(C1457,FOTOGRAFICO!C:E,3,FALSE),C1457),\"\")","v":"STM-803"}]
[null,null,"GM94786498","ANTENA","ANTENA RADIO SPARK 1.4 16-20   MARCA GM PIDE OSVALOD",284.82,0,0,0,0,0,0,{"$f":"+IFERROR(HYPERLINK(VLOOKUP(C1458,FOTOGRAFICO!C:E,3,FALSE),C1458),\"\")","v":""}]
[null,null,"GM13288181","ANTENA","ANTENA RADIO SONIC 10-16 SONIC 12-18 TRAX 13-18 MARCA GM",464.83,0,0,0,0,1,0,{"$f":"+IFERROR(HYPERLINK(VLOOKUP(C1459,FOTOGRAFICO!C:E,3,FALSE),C1459),\"\")","v":"GM13288181"}]
[null,null,"GM93360341","ANTENA","ANTENA RADIO CORSA 1.8 03-08   TORNADO 1.8 04-11 MARCA GM     ORIGINAL 93360341 ENRIQUE CARR",192.5,0,0,0,0,0,0,{"$f":"+IFERROR(HYPERLINK(VLOOKUP(C1460,FOTOGRAFICO!C:E,3,FALSE),C1460),\"\")","v":""}]
[null,null,"GM94671525","ANTI","ANTI IMPACTO CHEVY 09-12       AMORTIGUADOR IMPACTO CHEVY     MARCA GM",494.95,0,0,0,0,0,0,{"$f":"+IFERROR(HYPERLINK(VLOOKUP(C1461,FOTOGRAFICO!C:E,3,FALSE),C1461),\"\")","v":""}]
[null,null,"10120-ZT79K","ANTICONGEL","ANTICONGELANTE NISSAN AZUL     USO DIRECTO ORIGINAL 946 ML    CAJA CON 6",85.05,11,0,10,11,26,12,{"$f":"+IFERROR(HYPERLINK(VLOOKUP(C1462,FOTOGRAFICO!C:E,3,FALSE),C1462),\"\")","v":"10120-ZT79K"}]
[null,null,"15121807","ANTICONGEL","ANTICONG.GONHER GARRAFA 3.78   LTS VERDE SINTETICO LISTO PARA USAR 35%",128.58000000000001,0,0,0,0,0,0,{"$f":"+IFERROR(HYPERLINK(VLOOKUP(C1463,FOTOGRAFICO!C:E,3,FALSE),C1463),\"\")","v":"15121807"}]
[null,null,"68048953AB","ANTICONGEL","ANTICONG.CONCENTRADO GARRAFA   3.785 LTS MOPAR ORIGINAL       NARANJA",450.81,1,12,5,8,0,3,{"$f":"+IFERROR(HYPERLINK(VLOOKUP(C1464,FOTOGRAFICO!C:E,3,FALSE),C1464),\"\")","v":"68048953AB"}]
[null,null,"AMARILLO-GALON","ANTICONGEL","ANTICONG.OXICAR GARRAFA AMARIL LISTO PARA USAR EMPAQUE 6      PIEZAS",31.95,4,1,15,1,3,4,{"$f":"+IFERROR(HYPERLINK(VLOOKUP(C1465,FOTOGRAFICO!C:E,3,FALSE),C1465),\"\")","v":"AMARILLO-GALON"}]
[null,null,"AMARILLO-PORRON","ANTICONGEL","ANTICONG.OXICAR PORRON AMARILL 19 LTS LISTO PARA USAR",125,0,5,7,0,2,0,{"$f":"+IFERROR(HYPERLINK(VLOOKUP(C1466,FOTOGRAFICO!C:E,3,FALSE),C1466),\"\")","v":"AMARILLO-PORRON"}]
[null,null,"APV60","ANTICONGEL","ANTICONGE REFRIGERANT TF GARRA QUIMICA TF PERMATEX VERD LISTO P/USAR -2*C A 120*C 3.78 LITRO",75.08,4,2,6,2,12,48,{"$f":"+IFERROR(HYPERLINK(VLOOKUP(C1467,FOTOGRAFICO!C:E,3,FALSE),C1467),\"\")","v":"APV60"}]
[null,null,"AZUL-GALON","ANTICONGEL","ANTICONG.OXICAR GARRAFA AZUL   LISTO PARA USAR EMPAQUE 6      PIEZAS",31.95,1,7,2,2,5,8,{"$f":"+IFERROR(HYPERLINK(VLOOKUP(C1468,FOTOGRAFICO!C:E,3,FALSE),C1468),\"\")","v":"AZUL-GALON"}]
[null,null,"AZUL-PORRON","ANTICONGEL","ANTICONG.OXICAR PORRON AZUL    20 LTS LISTO PARA USAR",125,0,4,3,0,1,0,{"$f":"+IFERROR(HYPERLINK(VLOOKUP(C1469,FOTOGRAFICO!C:E,3,FALSE),C1469),\"\")","v":"AZUL-PORRON"}]
[null,null,"BAR14111","ANTICONGEL","ANTICONG.CONCENTRADO BOTELLA   946 ML BARDAHL AMARILLO        CAJA 15 PIEZAS",42.12,53,87,57,95,55,7,{"$f":"+IFERROR(HYPERLINK(VLOOKUP(C1470,FOTOGRAFICO!C:E,3,FALSE),C1470),\"\")","v":"BAR14111"}]
[null,null,"BAR14112","ANTICONGEL","ANTICONG.CONCENTRADO GARRAFA   3.785 LTS BARDAHL AMARILLO     CAJA 4 PIEZAS",160.19999999999999,206,194,241,260,277,131,{"$f":"+IFERROR(HYPERLINK(VLOOKUP(C1471,FOTOGRAFICO!C:E,3,FALSE),C1471),\"\")","v":"BAR14112"}]
[null,null,"BAR14211","ANTICONGEL","ANTICONG.COOLANT BOTELLA 946   ML BARDAHL VERDE LISTO P/USAR  CAJA 15 PIEZAS",30.55,202,161,371,285,46,106,{"$f":"+IFERROR(HYPERLINK(VLOOKUP(C1472,FOTOGRAFICO!C:E,3,FALSE),C1472),\"\")","v":"BAR14211"}]
[null,null,"BAR14212","ANTICONGEL","ANTICONG.COOLANT GARRAFA 3.785 LTS BARDAHL VERDE LISTO P/USAR CAJA 4 PIEZAS",115.11,414,164,209,169,218,75,{"$f":"+IFERROR(HYPERLINK(VLOOKUP(C1473,FOTOGRAFICO!C:E,3,FALSE),C1473),\"\")","v":"BAR14212"}]
[null,null,"BAR14221","ANTICONGEL","ANTICONG.INTELIGENTE BOTELLA   946 ML BARDAHL COOLANT VIOLETA CAMBIA AL AMARILLO LISTO P/USA",37.159999999999997,25,36,5,21,14,30,{"$f":"+IFERROR(HYPERLINK(VLOOKUP(C1474,FOTOGRAFICO!C:E,3,FALSE),C1474),\"\")","v":"BAR14221"}]
[null,null,"BAR14222","ANTICONGEL","ANTICONG.INTELIGENTE GARRAFA   3.7 LT BARDAHL COOLANT VIOLETA CAMBIA AL AMARILLO LISTO P/USA",138.74,84,68,79,52,58,52,{"$f":"+IFERROR(HYPERLINK(VLOOKUP(C1475,FOTOGRAFICO!C:E,3,FALSE),C1475),\"\")","v":"BAR14222"}]
[null,null,"BAR14721","ANTICONGEL","ANTICONGELANTE CLIMATIZADO 946 ML REFRIGERANTE AJUSTE NIVELES 17% COMPATIBLE MARCA BARDAHL",24.77,10,20,18,19,8,10,{"$f":"+IFERROR(HYPERLINK(VLOOKUP(C1476,FOTOGRAFICO!C:E,3,FALSE),C1476),\"\")","v":"BAR14721"}]
[null,null,"BAR14723","ANTICONGEL","ANTICONGEL CLIMATIZADO 3.785 L REFRIGERANTE AJUSTE NIVELES    17% COMPATIBLE MARCA BARDAHL",92.5,4,5,10,14,21,20,{"$f":"+IFERROR(HYPERLINK(VLOOKUP(C1477,FOTOGRAFICO!C:E,3,FALSE),C1477),\"\")","v":"BAR14723"}]
[null,null,"BAR14763","ANTICONGEL","ANTICONGELANTE LISTO PARA USAR 50/50 ROJO 946ML BARDHAL       CAJA 12 PZAS",42.56,3,0,0,8,9,0,{"$f":"+IFERROR(HYPERLINK(VLOOKUP(C1478,FOTOGRAFICO!C:E,3,FALSE),C1478),\"\")","v":"BAR14763"}]
[null,null,"BAR14783","ANTICONGEL","ANTICONGELANTE 50/50 3.785 L   ORGANICO ROJO LISTO PARA USAR  MARCA BARDAHL",148.65,26,27,29,25,30,54,{"$f":"+IFERROR(HYPERLINK(VLOOKUP(C1479,FOTOGRAFICO!C:E,3,FALSE),C1479),\"\")","v":"BAR14783"}]
[null,null,"BAR14901","ANTICONGEL","ANTICONG ULTRACONCENTRADO 1 LT 100 % AZUL MARCA BARDAHL",56.15,10,4,7,13,10,20,{"$f":"+IFERROR(HYPERLINK(VLOOKUP(C1480,FOTOGRAFICO!C:E,3,FALSE),C1480),\"\")","v":"BAR14901"}]
[null,null,"BAR14903","ANTICONGEL","ANTICONG ULTRACONCENTR 3.785 L GALON 100 % AZUL MARCA BARDAHL",202.32,0,11,12,1,22,9,{"$f":"+IFERROR(HYPERLINK(VLOOKUP(C1481,FOTOGRAFICO!C:E,3,FALSE),C1481),\"\")","v":"BAR14903"}]
[null,null,"CHEKER-VERDE","ANTICONGEL","ANTICONG.CHECKER GARRAFA 3.78  LTS VERDE LISTO PARA USAR      CAJA 4 PIEZAS",77.38,1029,166,305,572,543,860,{"$f":"+IFERROR(HYPERLINK(VLOOKUP(C1482,FOTOGRAFICO!C:E,3,FALSE),C1482),\"\")","v":""}]
[null,null,"ECO117-A","ANTICONGEL","ANTICONG.ECOM GARRAFA 3.785 LT LISTO PARA USAR -17*C 126*C    CAJA 4 PIEZAS",135,14,0,8,4,10,7,{"$f":"+IFERROR(HYPERLINK(VLOOKUP(C1483,FOTOGRAFICO!C:E,3,FALSE),C1483),\"\")","v":""}]
[null,null,"ECO117C-A","ANTICONGEL","ANTICONG.CONCENTRAD.ECOM GARRA 3.785 LTS VERDE ASTM D3306     CAJA 4 PIEZAS",214.24,3,3,10,4,0,2,{"$f":"+IFERROR(HYPERLINK(VLOOKUP(C1484,FOTOGRAFICO!C:E,3,FALSE),C1484),\"\")","v":""}]
[null,null,"ECO117-R","ANTICONGEL","ANTICONG.MOD.RECIENTES BOTELLA 1 LT ECOM ROJO LISTO PARA USAR -27*C 128*C CAJA 12 PIEZAS",54.86,0,0,10,0,0,0,{"$f":"+IFERROR(HYPERLINK(VLOOKUP(C1485,FOTOGRAFICO!C:E,3,FALSE),C1485),\"\")","v":""}]
[null,null,"ECO119-A","ANTICONGEL","ANTICONG.REFRIGERANTE GARRAFA  3.785 LTS ECOM LISTO PARA USAR -2*C 120*C",83.43,52,113,93,205,51,24,{"$f":"+IFERROR(HYPERLINK(VLOOKUP(C1486,FOTOGRAFICO!C:E,3,FALSE),C1486),\"\")","v":"ECO119-A"}]
[null,null,"ECO119-B","ANTICONGEL","ANTICONG.REFRIGERANTE PORRON   20 LTS ECOM LISTO PARA USAR    -2*C 120*C",368.62,28,7,37,19,23,29,{"$f":"+IFERROR(HYPERLINK(VLOOKUP(C1487,FOTOGRAFICO!C:E,3,FALSE),C1487),\"\")","v":""}]
[null,null,"GO-1029575","ANTICONGEL","ANTICONG.GONHER BOTELLA 946    ML LISTO PARA USAR 35% VERDE   CAJA 20 PZ",34.11,91,56,220,53,73,55,{"$f":"+IFERROR(HYPERLINK(VLOOKUP(C1488,FOTOGRAFICO!C:E,3,FALSE),C1488),\"\")","v":"GO-1029575"}]
[null,null,"GO-1029576","ANTICONGEL","ANTICONG.GONHER GARRAFA 3.78   LTS LISTO PARA USAR 35% VERDE  CAJA 4 PZ",126.38,543,374,1047,1147,884,1301,{"$f":"+IFERROR(HYPERLINK(VLOOKUP(C1489,FOTOGRAFICO!C:E,3,FALSE),C1489),\"\")","v":"GO-1029576"}]
[null,null,"GO-1029577","ANTICONGEL","ANTICONG.GONHER BOTELLA 946 ML ROJO ORGANICO LONG LIFE        50% LISTO PARA USAR",47.07,88,41,67,27,18,83,{"$f":"+IFERROR(HYPERLINK(VLOOKUP(C1490,FOTOGRAFICO!C:E,3,FALSE),C1490),\"\")","v":"GO-1029577"}]
[null,null,"GO-1029578","ANTICONGEL","ANTICONG.GONHER GARRAFA 3.78   LTS ROJO ORGANICO LONG LIFE    50% LISTO PARA USAR",174.39,196,292,145,447,256,227,{"$f":"+IFERROR(HYPERLINK(VLOOKUP(C1491,FOTOGRAFICO!C:E,3,FALSE),C1491),\"\")","v":"GO-1029578"}]
[null,null,"GO-1029579","ANTICONGEL","ANTICONG.CONCENT.70% BOTELLA   946 ML AZUL MARCA GONNHER",52.07,35,15,11,15,10,148,{"$f":"+IFERROR(HYPERLINK(VLOOKUP(C1492,FOTOGRAFICO!C:E,3,FALSE),C1492),\"\")","v":"GO-1029579"}]
[null,null,"GO-1029580","ANTICONGEL","ANTICONG.CONCENT. GARRAFA 3.78 LTS AZUL LISTO PARA USAR 70%   MARCA GONHER CAJA 4 PZ",192.95,57,33,77,38,110,50,{"$f":"+IFERROR(HYPERLINK(VLOOKUP(C1493,FOTOGRAFICO!C:E,3,FALSE),C1493),\"\")","v":"GO-1029580"}]
[null,null,"GO-1029581","ANTICONGEL","ANTICONGELA 35% DIRECTO CUBETA 19 LITROS LISTO PARA USAR      VERDE",505.16,2,1,9,3,12,1,{"$f":"+IFERROR(HYPERLINK(VLOOKUP(C1494,FOTOGRAFICO!C:E,3,FALSE),C1494),\"\")","v":""}]
[null,null,"GO-1029582","ANTICONGEL","ANTICONG.CONCENT.70% CUBETA    19 LITROS AZUL MARCA GONNHER",1865.84,12,12,1,1,2,18,{"$f":"+IFERROR(HYPERLINK(VLOOKUP(C1495,FOTOGRAFICO!C:E,3,FALSE),C1495),\"\")","v":""}]
[null,null,"GOPREDILORG","ANTICONGEL","ANTICONGEL ORGANICO 50% CUBETA 19 LITROS ROSA DIRECTO GONHER",711.86,6,2,2,0,4,0,{"$f":"+IFERROR(HYPERLINK(VLOOKUP(C1496,FOTOGRAFICO!C:E,3,FALSE),C1496),\"\")","v":""}]
[null,null,"M-C2A-DG","ANTICONGEL","ANTICONG.LISTO P/USAR 33% GARR 3.78 LTS MOTORCRAFT VERDE",160.88,7,5,6,6,4,3,{"$f":"+IFERROR(HYPERLINK(VLOOKUP(C1497,FOTOGRAFICO!C:E,3,FALSE),C1497),\"\")","v":"M-C2A-DG"}]
[null,null,"M-C2A-G","ANTICONGEL","ANTICONG.CONCENTRADO 96% GARRA 3.78 LTS MOTORCRAFT VERDE",425.39,3,4,0,5,7,6,{"$f":"+IFERROR(HYPERLINK(VLOOKUP(C1498,FOTOGRAFICO!C:E,3,FALSE),C1498),\"\")","v":"M-C2A-G"}]
[null,null,"M-VC3DG50L","ANTICONGEL","ANTICONG.LISTO P/USAR 50% GARR 3.78 LTS MOTORCRAFT NARANJA    LISTO PARA USARSE 50% GARRAFA",223.34,5,8,6,2,4,5,{"$f":"+IFERROR(HYPERLINK(VLOOKUP(C1499,FOTOGRAFICO!C:E,3,FALSE),C1499),\"\")","v":"M-VC3DG50L"}]
[null,null,"NIS10120-ZT70J","ANTICONGEL","ANTICONG ORIGINAL NISSAN 946ML ANTICONGELANTE AZUL",106.51,10,0,39,17,21,2,{"$f":"+IFERROR(HYPERLINK(VLOOKUP(C1500,FOTOGRAFICO!C:E,3,FALSE),C1500),\"\")","v":"NIS10120-ZT70J"}]
[null,null,"ORIG012A8FA1","ANTICONGEL","ANTICONG.VW ORIG.CONCENTR.BOTE 946 ML ROSA G12 PLUS",107.82,21,23,13,4,18,9,{"$f":"+IFERROR(HYPERLINK(VLOOKUP(C1501,FOTOGRAFICO!C:E,3,FALSE),C1501),\"\")","v":""}]
[null,null,"PRES-35-GARRAFA","ANTICONGEL","ANTICONG.PRESTON 35% GARRAFA   3.78 LTS COR-GUARD VERDE LISTO PARA USAR",180.84,16,18,10,18,1,9,{"$f":"+IFERROR(HYPERLINK(VLOOKUP(C1502,FOTOGRAFICO!C:E,3,FALSE),C1502),\"\")","v":"PRES-35-GARRAFA"}]
[null,null,"PRES-35-LITRO","ANTICONGEL","ANTICONG.PRESTON 35% BOTELLA   946 ML COR-GUARD VERDE LISTO   PARA USAR",58.4,13,12,4,0,0,0,{"$f":"+IFERROR(HYPERLINK(VLOOKUP(C1503,FOTOGRAFICO!C:E,3,FALSE),C1503),\"\")","v":"PRES-35-LITRO"}]
[null,null,"PRES-97-GARRAFA","ANTICONGEL","ANTICONG.CONCENTRADO 97% GARRA 3.78 LTS PRESTONE COR-GUARD",385.25,1,4,2,8,4,3,{"$f":"+IFERROR(HYPERLINK(VLOOKUP(C1504,FOTOGRAFICO!C:E,3,FALSE),C1504),\"\")","v":"PRES-97-GARRAFA"}]
[null,null,"PRES-ASIAN-GARRA","ANTICONGEL","ANTICONG.ASIAN VERDE 50% GARRA FA 3.78L ASIAN VEHICLES MARCA  PRESTONE LISTO PARA USAR",220.37,6,6,9,4,6,5,{"$f":"+IFERROR(HYPERLINK(VLOOKUP(C1505,FOTOGRAFICO!C:E,3,FALSE),C1505),\"\")","v":""}]
[null,null,"PRES-AZUL-GARRAF","ANTICONGEL","ANTICONG.PRESTONE 33% GARRAFA  3.78 LTS NISSAN AZUL LISTO     PARA USAR",167.63,22,21,24,8,22,17,{"$f":"+IFERROR(HYPERLINK(VLOOKUP(C1506,FOTOGRAFICO!C:E,3,FALSE),C1506),\"\")","v":"PRES-AZUL-GARRAF"}]
[null,null,"PRES-AZUL-LITRO","ANTICONGEL","ANTICONG.PRESTONE 33% BOTELLA  946 ML NISSAN AZUL LISTO       PARA USAR",52.75,0,0,0,0,0,0,{"$f":"+IFERROR(HYPERLINK(VLOOKUP(C1507,FOTOGRAFICO!C:E,3,FALSE),C1507),\"\")","v":"PRES-AZUL-LITRO"}]
[null,null,"PRES-DEXC-97-GAR","ANTICONGEL","ANTICONG.DEX-COOL 97% GARRAFA  3.78 LTS PRESTONE NARANJA      CONCENTRADO",403.11,0,10,7,0,0,0,{"$f":"+IFERROR(HYPERLINK(VLOOKUP(C1508,FOTOGRAFICO!C:E,3,FALSE),C1508),\"\")","v":"PRES-DEXC-97-GAR"}]
[null,null,"PRES-DEXCOOL-GAR","ANTICONGEL","ANTICONG.DEX-COOL 50% GARRAFA  3.78 LTS PRESTONE NARANJA      LISTO PARA USAR",245.83,10,58,40,43,31,25,{"$f":"+IFERROR(HYPERLINK(VLOOKUP(C1509,FOTOGRAFICO!C:E,3,FALSE),C1509),\"\")","v":"PRES-DEXCOOL-GAR"}]
[null,null,"PRES-EUROP-GARRA","ANTICONGEL","ANTICONG.EUROPEAN 50% GARRAFA  3.78L EUROPEAN VEHICLES MARCA  PRESTONE LISTO PARA USAR",220.37,6,8,4,4,6,5,{"$f":"+IFERROR(HYPERLINK(VLOOKUP(C1510,FOTOGRAFICO!C:E,3,FALSE),C1510),\"\")","v":"PRES-EUROP-GARRA"}]
[null,null,"PRES-ROSA-GARRAF","ANTICONGEL","ANTICONG.PRESTONE VW 50% GARRA 3.78 LTS SEAT TOYOTA AUDI ROSA LISTO PARA USAR",236.37,9,5,40,32,13,4,{"$f":"+IFERROR(HYPERLINK(VLOOKUP(C1511,FOTOGRAFICO!C:E,3,FALSE),C1511),\"\")","v":"PRES-ROSA-GARRAF"}]
[null,null,"PRES-ROSA-LITRO","ANTICONGEL","ANTICONG.PRESTONE VW 50% BOTEL 946 ML SEAT TOYOTA AUDI ROSA   LISTO PARA USAR",82.88,4,21,0,11,0,8,{"$f":"+IFERROR(HYPERLINK(VLOOKUP(C1512,FOTOGRAFICO!C:E,3,FALSE),C1512),\"\")","v":"PRES-ROSA-LITRO"}]
[null,null,"PRESTONE","ANTICONGEL","ANTICONGELANTE PRESTONE GARRAF A LISTO PARA USAR 3.78LTS",134.88,0,0,0,0,0,0,{"$f":"+IFERROR(HYPERLINK(VLOOKUP(C1513,FOTOGRAFICO!C:E,3,FALSE),C1513),\"\")","v":""}]
[null,null,"PRES-VERDE-GARRA","ANTICONGEL","ANTICONG.PRESTONE 33% GARRAFA  3.78 LTS VERDE LISTO PARA USAR",137.22,5,6,6,1,8,9,{"$f":"+IFERROR(HYPERLINK(VLOOKUP(C1514,FOTOGRAFICO!C:E,3,FALSE),C1514),\"\")","v":"PRES-VERDE-GARRA"}]
[null,null,"QUAANTIVERDE","ANTICONGEL","ANTICONG.CONCENT.IDEAL GARRAFA 3.79 LTS QUAKER VERDE L/PARA   USAR 33% CAJA 4 PIEZAS",115.7,132,0,0,59,47,34,{"$f":"+IFERROR(HYPERLINK(VLOOKUP(C1515,FOTOGRAFICO!C:E,3,FALSE),C1515),\"\")","v":"QUAANTIVERDE"}]
[null,null,"QUAGARRA","ANTICONGEL","ANTICONG.CONCENT.IDEAL GARRAFA 3.79 LTS QUAKER VERDE L/PARA   USAR 33% CAJA 4 PIEZAS",115.7,0,95,31,0,0,0,{"$f":"+IFERROR(HYPERLINK(VLOOKUP(C1516,FOTOGRAFICO!C:E,3,FALSE),C1516),\"\")","v":"QUAGARRA"}]
[null,null,"QUANTICONCBOT","ANTICONGEL","ANTICONG.CONCENT.OPTIMA BOTELL 946 ML QUAKER ROJO L/PARA USAR 50% CAJA 16 PIEZAS ASTM D3306",69.92,19,34,14,18,11,6,{"$f":"+IFERROR(HYPERLINK(VLOOKUP(C1517,FOTOGRAFICO!C:E,3,FALSE),C1517),\"\")","v":"QUANTICONCBOT"}]
[null,null,"QUANTICONCGARR","ANTICONGEL","ANTICONG.CONCENT.OPTIMA GARRAF 3.79 LTS QUAKER ROJO L/P.USAR  50% CAJA 4 PIEZAS ASTM D3306",249.4,18,33,16,16,11,5,{"$f":"+IFERROR(HYPERLINK(VLOOKUP(C1518,FOTOGRAFICO!C:E,3,FALSE),C1518),\"\")","v":"QUANTICONCGARR"}]
[null,null,"QUELITRO","ANTICONGEL","ANTICONG.CONCENT.IDEAL BOTELLA 946 ML QUAKER VERDE L/PARA     USAR 33% CAJA 16 PIEZAS",29.94,0,0,0,0,0,0,{"$f":"+IFERROR(HYPERLINK(VLOOKUP(C1519,FOTOGRAFICO!C:E,3,FALSE),C1519),\"\")","v":"QUELITRO"}]
[null,null,"ROSA-GALON","ANTICONGEL","ANTICONG.OXICAR GARRAFA ROSA   LISTO PARA USAR EMPAQUE 6      PIEZAS",31.95,7,16,16,8,6,23,{"$f":"+IFERROR(HYPERLINK(VLOOKUP(C1520,FOTOGRAFICO!C:E,3,FALSE),C1520),\"\")","v":"ROSA-GALON"}]
[null,null,"ROSANTIC","ANTICONGEL","ANTICONG 33% LISTO PARA USAR   BOLSA 950 ML ROSHFRANS VERDE   CLIMATIZADO CAJA 16 PIEZAS",38.229999999999997,15,26,39,0,18,0,{"$f":"+IFERROR(HYPERLINK(VLOOKUP(C1521,FOTOGRAFICO!C:E,3,FALSE),C1521),\"\")","v":"ROSANTIC"}]
[null,null,"ROSANTI-GALON","ANTICONGEL","ANTICONG 50% LISTO PARA USAR   GALON 3.785 LTS ROSHFRANS ROSA COOLANT  CAJA 4 PIEZAS",182.17,53,0,19,0,29,0,{"$f":"+IFERROR(HYPERLINK(VLOOKUP(C1522,FOTOGRAFICO!C:E,3,FALSE),C1522),\"\")","v":"ROSANTI-GALON"}]
[null,null,"ROSANTI-LITRO","ANTICONGEL","ANTICONG 50% LISTO PARA USAR   BOLSA 950 ML ROSHFRANS ROSA    COOLANT CAJA 16 PIEZAS",46.37,43,46,33,54,37,28,{"$f":"+IFERROR(HYPERLINK(VLOOKUP(C1523,FOTOGRAFICO!C:E,3,FALSE),C1523),\"\")","v":"ROSANTI-LITRO"}]
[null,null,"ROSA-PORRON","ANTICONGEL","ANTICONG.OXICAR PORRON ROSA    20 LTS LISTO PARA USAR",125,3,12,9,39,8,10,{"$f":"+IFERROR(HYPERLINK(VLOOKUP(C1524,FOTOGRAFICO!C:E,3,FALSE),C1524),\"\")","v":"ROSA-PORRON"}]
[null,null,"ROSCLIMA-GALON","ANTICONGEL","ANTICONG 33% LISTO PARA USAR   GALON 3.78 LTS ROSHFRANS VERDE CLIMATIZADO CAJA 4 PIEZAS",148.4,24,28,20,32,26,5,{"$f":"+IFERROR(HYPERLINK(VLOOKUP(C1525,FOTOGRAFICO!C:E,3,FALSE),C1525),\"\")","v":"ROSCLIMA-GALON"}]
[null,null,"ROSCONCE-GALON","ANTICONGEL","ANTICONG ROSHFRANS CONCENTRADO AL 70% GALON 3.78 LTS AZUL     CAJA 4 PIEZAS",222.3,12,6,4,3,5,4,{"$f":"+IFERROR(HYPERLINK(VLOOKUP(C1526,FOTOGRAFICO!C:E,3,FALSE),C1526),\"\")","v":"ROSCONCE-GALON"}]
[null,null,"VERDE-10 LITROS","ANTICONGEL","ANTICONG.OXICAR 10 LTS VERDE   LISTO PARA USAR",75,0,30,8,9,4,2,{"$f":"+IFERROR(HYPERLINK(VLOOKUP(C1527,FOTOGRAFICO!C:E,3,FALSE),C1527),\"\")","v":"VERDE-10 LITROS"}]
[null,null,"VERDE-15-LITROS","ANTICONGEL","ANTICONG.OXICAR 15 LTS VERDE   LISTO PARA USAR",91.65,0,0,0,0,0,0,{"$f":"+IFERROR(HYPERLINK(VLOOKUP(C1528,FOTOGRAFICO!C:E,3,FALSE),C1528),\"\")","v":""}]
[null,null,"VERDE-GALON","ANTICONGEL","ANTICONG.OXICAR GARRAFA VERDE  LISTO PARA USAR EMPAQUE 6      PIEZAS",31.95,83,74,57,73,37,69,{"$f":"+IFERROR(HYPERLINK(VLOOKUP(C1529,FOTOGRAFICO!C:E,3,FALSE),C1529),\"\")","v":"VERDE-GALON"}]
[null,null,"VERDE-LITRO","ANTICONGEL","ANTICONG.OXICAR BOTELLA VERDE  LISTO PARA USAR",25.83,0,0,0,0,0,1,{"$f":"+IFERROR(HYPERLINK(VLOOKUP(C1530,FOTOGRAFICO!C:E,3,FALSE),C1530),\"\")","v":"VERDE-LITRO"}]
[null,null,"VERDE-PORRON","ANTICONGEL","ANTICONG.OXICAR PORRON VERDE   20 LTS LISTO PARA USAR",125,35,37,71,138,29,42,{"$f":"+IFERROR(HYPERLINK(VLOOKUP(C1531,FOTOGRAFICO!C:E,3,FALSE),C1531),\"\")","v":"VERDE-PORRON"}]
[null,null,"AMARILLO-10LITRO","ANTICONGEL","ANTICONG.OXICAR 10 LTS AMARILL LISTO PARA USAR",50.66,0,0,0,0,0,0,{"$f":"+IFERROR(HYPERLINK(VLOOKUP(C1532,FOTOGRAFICO!C:E,3,FALSE),C1532),\"\")","v":"AMARILLO-10LITRO"}]
[null,null,"NARANJA-PORRON","ANTICONGEL","ANTICONG.OXICAR PORRON NARANJA 20 LTS LISTO PARA USAR",93.34,0,0,0,0,0,0,{"$f":"+IFERROR(HYPERLINK(VLOOKUP(C1533,FOTOGRAFICO!C:E,3,FALSE),C1533),\"\")","v":""}]
[null,null,"ECO117-R-B","ANTICONGEL","ANTICONG.REFRIGERANTE PORRON   20 LTS ECOM LISTO PARA USAR    ROSA -2*C 120*C PEDIDO LUIS",613.89,0,0,0,0,0,0,{"$f":"+IFERROR(HYPERLINK(VLOOKUP(C1534,FOTOGRAFICO!C:E,3,FALSE),C1534),\"\")","v":""}]
[null,null,"NSC012","ANTIEMPANA","ANTIEMPANANTE PARA CRISTALES   NEW SHINE 120 ML",37.17,2,0,0,0,0,0,{"$f":"+IFERROR(HYPERLINK(VLOOKUP(C1535,FOTOGRAFICO!C:E,3,FALSE),C1535),\"\")","v":""}]
[null,null,"508-C","ANTIFAZ","ANTIFAZ PARA TSURU III COMPLET                                SOBRE PEDIDO POR RODRIGO ARROY",348.84,0,0,0,0,0,0,{"$f":"+IFERROR(HYPERLINK(VLOOKUP(C1536,FOTOGRAFICO!C:E,3,FALSE),C1536),\"\")","v":""}]
[null,null,"ANTIFAZ01","ANTIFAZ","ANTIFAZ COFRE CHEVY 94-03      TODOS",164.12,4,10,23,20,0,8,{"$f":"+IFERROR(HYPERLINK(VLOOKUP(C1537,FOTOGRAFICO!C:E,3,FALSE),C1537),\"\")","v":"ANTIFAZ01"}]
[null,null,"ANTIFAZ02","ANTIFAZ","ANTIFAZ COFRE CORSA 00-06",185.88,4,3,0,2,1,2,{"$f":"+IFERROR(HYPERLINK(VLOOKUP(C1538,FOTOGRAFICO!C:E,3,FALSE),C1538),\"\")","v":"ANTIFAZ02"}]
[null,null,"ANTIFAZ03","ANTIFAZ","ANTIFAZ COFRE GOLF A3 93-99",185.88,17,2,2,0,2,0,{"$f":"+IFERROR(HYPERLINK(VLOOKUP(C1539,FOTOGRAFICO!C:E,3,FALSE),C1539),\"\")","v":"ANTIFAZ03"}]
[null,null,"ANTIFAZ04","ANTIFAZ","ANTIFAZ COFRE FIESTA 00-06",185.88,7,4,2,0,6,0,{"$f":"+IFERROR(HYPERLINK(VLOOKUP(C1540,FOTOGRAFICO!C:E,3,FALSE),C1540),\"\")","v":"ANTIFAZ04"}]
[null,null,"ANTIFAZ05","ANTIFAZ","ANTIFAZ COFRE CHEVY C2 03-07   TODOS",164.12,13,15,11,12,2,5,{"$f":"+IFERROR(HYPERLINK(VLOOKUP(C1541,FOTOGRAFICO!C:E,3,FALSE),C1541),\"\")","v":"ANTIFAZ05"}]
[null,null,"ANTIFAZ06","ANTIFAZ","ANTIFAZ COFRE PLATINA 99-10",185.88,0,0,1,0,1,0,{"$f":"+IFERROR(HYPERLINK(VLOOKUP(C1542,FOTOGRAFICO!C:E,3,FALSE),C1542),\"\")","v":"ANTIFAZ06"}]
[null,null,"ANTIFAZ07","ANTIFAZ","ANTIFAZ COFRE JETTA A4 99-",185.88,8,6,4,2,2,5,{"$f":"+IFERROR(HYPERLINK(VLOOKUP(C1543,FOTOGRAFICO!C:E,3,FALSE),C1543),\"\")","v":"ANTIFAZ07"}]
[null,null,"ANTIFAZ08","ANTIFAZ","ANTIFAZ COFRE JETTA A3 93-99",197.5,8,2,2,0,2,0,{"$f":"+IFERROR(HYPERLINK(VLOOKUP(C1544,FOTOGRAFICO!C:E,3,FALSE),C1544),\"\")","v":"ANTIFAZ08"}]
[null,null,"ANTIFAZ09","ANTIFAZ","ANTIFAZ COFRE SENTRA 02-06",185.88,2,0,2,0,0,0,{"$f":"+IFERROR(HYPERLINK(VLOOKUP(C1545,FOTOGRAFICO!C:E,3,FALSE),C1545),\"\")","v":"ANTIFAZ09"}]
[null,null,"ANTIFAZ10","ANTIFAZ","ANTIFAZ COFRE POINTER 06-",185.88,9,6,4,0,2,0,{"$f":"+IFERROR(HYPERLINK(VLOOKUP(C1546,FOTOGRAFICO!C:E,3,FALSE),C1546),\"\")","v":"ANTIFAZ10"}]
[null,null,"ANTIFAZ11","ANTIFAZ","ANTIFAZ COFRE STRATUS          95-99",158.82,2,2,0,0,0,0,{"$f":"+IFERROR(HYPERLINK(VLOOKUP(C1547,FOTOGRAFICO!C:E,3,FALSE),C1547),\"\")","v":"ANTIFAZ11"}]
[null,null,"ANTIFAZ12","ANTIFAZ","ANTIFAZ COFRE PICK UP NISSAN",155,9,0,0,0,0,0,{"$f":"+IFERROR(HYPERLINK(VLOOKUP(C1548,FOTOGRAFICO!C:E,3,FALSE),C1548),\"\")","v":"ANTIFAZ12"}]
[null,null,"ANTIFAZ13","ANTIFAZ","ANTIFAZ COFRE TSURU III",164.13,40,6,10,16,4,5,{"$f":"+IFERROR(HYPERLINK(VLOOKUP(C1549,FOTOGRAFICO!C:E,3,FALSE),C1549),\"\")","v":"ANTIFAZ13"}]
[null,null,"ANTIFAZ14","ANTIFAZ","ANTIFAZ COFRE ATOS MOD/NUEVO",164.12,2,3,9,4,1,4,{"$f":"+IFERROR(HYPERLINK(VLOOKUP(C1550,FOTOGRAFICO!C:E,3,FALSE),C1550),\"\")","v":"ANTIFAZ14"}]
[null,null,"ANTIFAZ15","ANTIFAZ","ANTIFAZ COFRE ATOS MOD/VIEJO",185.88,5,0,4,4,2,2,{"$f":"+IFERROR(HYPERLINK(VLOOKUP(C1551,FOTOGRAFICO!C:E,3,FALSE),C1551),\"\")","v":"ANTIFAZ15"}]
[null,null,"ANTIFAZ16","ANTIFAZ","ANTIFAZ COFRE JETTA A2 87-92",185.88,10,0,2,0,0,0,{"$f":"+IFERROR(HYPERLINK(VLOOKUP(C1552,FOTOGRAFICO!C:E,3,FALSE),C1552),\"\")","v":"ANTIFAZ16"}]
[null,null,"ANTIFAZ17","ANTIFAZ","ANTIFAZ COFRE EUROVAN 00-04",145.88,4,0,0,0,0,0,{"$f":"+IFERROR(HYPERLINK(VLOOKUP(C1553,FOTOGRAFICO!C:E,3,FALSE),C1553),\"\")","v":"ANTIFAZ17"}]
[null,null,"ANTIFAZ18","ANTIFAZ","ANTIFAZ COFRE MATIZ 00-2005 G1",144.19,4,0,0,0,0,0,{"$f":"+IFERROR(HYPERLINK(VLOOKUP(C1554,FOTOGRAFICO!C:E,3,FALSE),C1554),\"\")","v":"ANTIFAZ18"}]
[null,null,"ANTIFAZ19","ANTIFAZ","ANTIFAZ COFRE POINTER 00-05",185.88,33,10,9,15,2,3,{"$f":"+IFERROR(HYPERLINK(VLOOKUP(C1555,FOTOGRAFICO!C:E,3,FALSE),C1555),\"\")","v":"ANTIFAZ19"}]
[null,null,"ANTIFAZ20","ANTIFAZ","ANTIFAZ DERBY TODOS",185.88,2,7,4,0,1,0,{"$f":"+IFERROR(HYPERLINK(VLOOKUP(C1556,FOTOGRAFICO!C:E,3,FALSE),C1556),\"\")","v":"ANTIFAZ20"}]
[null,null,"ANTIFAZ24","ANTIFAZ","ANTIFAZ COFRE CHEVY C3 08-11   C-3",164.12,1,7,4,3,1,9,{"$f":"+IFERROR(HYPERLINK(VLOOKUP(C1557,FOTOGRAFICO!C:E,3,FALSE),C1557),\"\")","v":"ANTIFAZ24"}]
[null,null,"ANTIFAZ25","ANTIFAZ","ANTIFAZ COFRE FOCUS",158.82,10,0,0,0,0,0,{"$f":"+IFERROR(HYPERLINK(VLOOKUP(C1558,FOTOGRAFICO!C:E,3,FALSE),C1558),\"\")","v":"ANTIFAZ25"}]
[null,null,"ANTIFAZ26","ANTIFAZ","ANTIFAZ COFRE LUPO",185.88,0,2,0,0,0,0,{"$f":"+IFERROR(HYPERLINK(VLOOKUP(C1559,FOTOGRAFICO!C:E,3,FALSE),C1559),\"\")","v":"ANTIFAZ26"}]
[null,null,"ANTIFAZ27","ANTIFAZ","ANTIFAZ COFRE IBIZA CORDOBA    02/09 SEAT IBIZA CORDOBA",188.1,0,2,0,2,0,2,{"$f":"+IFERROR(HYPERLINK(VLOOKUP(C1560,FOTOGRAFICO!C:E,3,FALSE),C1560),\"\")","v":"ANTIFAZ27"}]
[null,null,"ANTIFAZ30","ANTIFAZ","ANTIFAZ COFRE TIIDA 07-18      NISSAN TIIDA 07-18",164.12,2,3,4,2,2,6,{"$f":"+IFERROR(HYPERLINK(VLOOKUP(C1561,FOTOGRAFICO!C:E,3,FALSE),C1561),\"\")","v":"ANTIFAZ30"}]
[null,null,"ANTIFAZ523","ANTIFAZ","ANTIFAZ IKON 02-07",144.19,0,0,0,0,0,0,{"$f":"+IFERROR(HYPERLINK(VLOOKUP(C1562,FOTOGRAFICO!C:E,3,FALSE),C1562),\"\")","v":"ANTIFAZ523"}]
[null,null,"ANTIFAZ575","ANTIFAZ","ANTIFAZ COFRE MATIZ G2 TODOS   MODELOS",166.08,17,8,3,9,0,5,{"$f":"+IFERROR(HYPERLINK(VLOOKUP(C1563,FOTOGRAFICO!C:E,3,FALSE),C1563),\"\")","v":"ANTIFAZ575"}]
[null,null,"ANTIFAZ576","ANTIFAZ","ANTIFAZ COFRE ECOSPORT TODOS",153.41,0,0,0,0,0,0,{"$f":"+IFERROR(HYPERLINK(VLOOKUP(C1564,FOTOGRAFICO!C:E,3,FALSE),C1564),\"\")","v":"ANTIFAZ576"}]
[null,null,"ANTIFAZ585","ANTIFAZ","ANTIFAZ COFRE JETTA CLASICO 08 JETTA CLASICO 08-14",193.74,9,0,0,2,0,1,{"$f":"+IFERROR(HYPERLINK(VLOOKUP(C1565,FOTOGRAFICO!C:E,3,FALSE),C1565),\"\")","v":"ANTIFAZ585"}]
[null,null,"ANTIFAZ587","ANTIFAZ","ANTIFAZ COFRE AVEO 12-16",197.5,10,10,7,8,0,3,{"$f":"+IFERROR(HYPERLINK(VLOOKUP(C1566,FOTOGRAFICO!C:E,3,FALSE),C1566),\"\")","v":"ANTIFAZ587"}]
[null,null,"ANTIFAZ592","ANTIFAZ","ANTIFAZ COFRE MARCH TODOS",185.88,13,0,2,2,2,3,{"$f":"+IFERROR(HYPERLINK(VLOOKUP(C1567,FOTOGRAFICO!C:E,3,FALSE),C1567),\"\")","v":"ANTIFAZ592"}]
[null,null,"ANTIFAZ593","ANTIFAZ","ANTIFAZ COFRE VERSA 2012-2019  NISSAN V-DRIVE 20-23",164.12,9,0,2,0,8,0,{"$f":"+IFERROR(HYPERLINK(VLOOKUP(C1568,FOTOGRAFICO!C:E,3,FALSE),C1568),\"\")","v":"ANTIFAZ593"}]
[null,null,"ANTIFAZ598","ANTIFAZ","ANTIFAZ COFRE JETTA A6 16-17   A-6",174.39,1,0,0,2,1,2,{"$f":"+IFERROR(HYPERLINK(VLOOKUP(C1569,FOTOGRAFICO!C:E,3,FALSE),C1569),\"\")","v":"ANTIFAZ598"}]
[null,null,"ANTIFAZ599","ANTIFAZ","ANTIFAZ COFRE VENTO 13-15",193.76,1,1,1,0,3,2,{"$f":"+IFERROR(HYPERLINK(VLOOKUP(C1570,FOTOGRAFICO!C:E,3,FALSE),C1570),\"\")","v":"ANTIFAZ599"}]
[null,null,"ANTIFAZ601","ANTIFAZ","ANTIFAZ COFRE VERSA 2015-2019  NISSAN V-DRIVE 20-23",197.5,3,5,2,4,5,3,{"$f":"+IFERROR(HYPERLINK(VLOOKUP(C1571,FOTOGRAFICO!C:E,3,FALSE),C1571),\"\")","v":"ANTIFAZ601"}]
[null,null,"ANTIFAZ603","ANTIFAZ","ANTIFAZ MAZDA  17",144.19,0,0,0,0,0,0,{"$f":"+IFERROR(HYPERLINK(VLOOKUP(C1572,FOTOGRAFICO!C:E,3,FALSE),C1572),\"\")","v":""}]
[null,null,"ANTIFAZ608","ANTIFAZ","ANTIFAZ COFRE AVEO 17-20",197.5,7,3,2,0,2,4,{"$f":"+IFERROR(HYPERLINK(VLOOKUP(C1573,FOTOGRAFICO!C:E,3,FALSE),C1573),\"\")","v":"ANTIFAZ608"}]
[null,null,"ANTIFAZ609","ANTIFAZ","ANTIFAZ COFRE SENTRA 16-19",174.39,1,1,2,1,1,2,{"$f":"+IFERROR(HYPERLINK(VLOOKUP(C1574,FOTOGRAFICO!C:E,3,FALSE),C1574),\"\")","v":""}]
[null,null,"ANTIFAZ614","ANTIFAZ","ANTIFAZ COFRE VENTO 16-23",166.07,3,4,2,0,0,0,{"$f":"+IFERROR(HYPERLINK(VLOOKUP(C1575,FOTOGRAFICO!C:E,3,FALSE),C1575),\"\")","v":"ANTIFAZ614"}]
[null,null,"ANTIFAZ620","ANTIFAZ","ANTIFAZ COFRE VERSA 2012-2014",197.5,5,4,0,1,0,3,{"$f":"+IFERROR(HYPERLINK(VLOOKUP(C1576,FOTOGRAFICO!C:E,3,FALSE),C1576),\"\")","v":"ANTIFAZ620"}]
[null,null,"ANTIFAZ623","ANTIFAZ","ANTIFAZ COFRE VERSA 2020-2023",174.39,2,1,2,2,0,2,{"$f":"+IFERROR(HYPERLINK(VLOOKUP(C1577,FOTOGRAFICO!C:E,3,FALSE),C1577),\"\")","v":"ANTIFAZ623"}]
[null,null,"ANTIFAZ624","ANTIFAZ","ANTIFAZ COFRE TORNADO 18-20",193.76,3,2,2,1,2,3,{"$f":"+IFERROR(HYPERLINK(VLOOKUP(C1578,FOTOGRAFICO!C:E,3,FALSE),C1578),\"\")","v":"ANTIFAZ624"}]
[null,null,"SAN511","ANTIFAZ","ANTIFAZ COFRE POLO TODOS",158.82,2,0,0,0,0,0,{"$f":"+IFERROR(HYPERLINK(VLOOKUP(C1579,FOTOGRAFICO!C:E,3,FALSE),C1579),\"\")","v":""}]
[null,null,"SAN528","ANTIFAZ","ANTIFAZ COFRE GOLF A4 99-08    A-4",158.82,0,0,0,0,0,1,{"$f":"+IFERROR(HYPERLINK(VLOOKUP(C1580,FOTOGRAFICO!C:E,3,FALSE),C1580),\"\")","v":""}]
[null,null,"SAN580","ANTIFAZ","ANTIFAZ CROSSFOX 10-15 MARCA   EG LIDER PIDE CHRISTIAN CALL   CENTER",0,0,0,0,0,0,0,{"$f":"+IFERROR(HYPERLINK(VLOOKUP(C1581,FOTOGRAFICO!C:E,3,FALSE),C1581),\"\")","v":""}]
[null,null,"SAN595","ANTIFAZ","ANTIFAZ COFRE GM SPARK 11-16   MARCA SANCHEZ",188.1,4,2,6,2,3,4,{"$f":"+IFERROR(HYPERLINK(VLOOKUP(C1582,FOTOGRAFICO!C:E,3,FALSE),C1582),\"\")","v":"SAN595"}]
[null,null,"NAGI10","ANTIFAZ","ANTIFAZ COFRE GRAND I10 NACION AL PIDE RAUL",111.55,0,0,0,0,0,0,{"$f":"+IFERROR(HYPERLINK(VLOOKUP(C1583,FOTOGRAFICO!C:E,3,FALSE),C1583),\"\")","v":""}]
[null,null,"ANTIFAZ517-C","ANTIFAZ","ANTIFAZ COMPLETO PLATINA       MARCA SANCHEZ PEDIDO JORGE DIA",392.88,0,0,0,0,0,0,{"$f":"+IFERROR(HYPERLINK(VLOOKUP(C1584,FOTOGRAFICO!C:E,3,FALSE),C1584),\"\")","v":""}]
[null,null,"214-0911-02","ANTIMPACTO","ANTIMPACTO DELAN JOURNEY 09-10 MARCA RADEC PIDE JAVIER        214-0911-02",1029.43,0,0,0,0,0,0,{"$f":"+IFERROR(HYPERLINK(VLOOKUP(C1585,FOTOGRAFICO!C:E,3,FALSE),C1585),\"\")","v":""}]
[null,null,"CGNN0152","ANTIMPACTO","ANTIMPACT TRAS TSURU III 92-11 VA DENTRO DE LA FACIA          ES DE UNICEL",183.33,1,0,0,0,0,0,{"$f":"+IFERROR(HYPERLINK(VLOOKUP(C1586,FOTOGRAFICO!C:E,3,FALSE),C1586),\"\")","v":"CGNN0152"}]
[null,null,"AM7001","ARANDELA","ARANDELAS P/ METAL CENTRO CLIO KANGOO 1.6L PLATINA APRIO 1.6L 01-10 MARCA MORESA",41.44,0,1,0,0,0,0,{"$f":"+IFERROR(HYPERLINK(VLOOKUP(C1587,FOTOGRAFICO!C:E,3,FALSE),C1587),\"\")","v":"AM7001"}]
[null,null,"1300100QAB-KB","ARBOL","ARBOL LEVAS ESCAPE PLATINA 02- 09 1.6 CLIO 02-09 1.6 16 VALV  MARCA KABUTO",657.8,2,2,2,0,1,1,{"$f":"+IFERROR(HYPERLINK(VLOOKUP(C1588,FOTOGRAFICO!C:E,3,FALSE),C1588),\"\")","v":""}]
[null,null,"1302000QAB-KB","ARBOL","ARBOL LEVAS ADMISION PLATINA   02-09 1.6 CLIO 1.6 02-09 16 V  MARCA KABUTO",657.8,2,2,2,1,1,1,{"$f":"+IFERROR(HYPERLINK(VLOOKUP(C1589,FOTOGRAFICO!C:E,3,FALSE),C1589),\"\")","v":""}]
[null,null,"92244916-KB","ARBOL","ARBOL LEVAS CHEVY MONZA 1.6    LEVA LARGA MARCA KABUTO",530.48,1,1,3,1,1,0,{"$f":"+IFERROR(HYPERLINK(VLOOKUP(C1590,FOTOGRAFICO!C:E,3,FALSE),C1590),\"\")","v":""}]
[null,null,"93219507-KB","ARBOL","ARBOL LEVAS CHEVY MONZA 1.4    LEVA CORTA MARCA KABUTO",530.48,0,2,2,2,1,1,{"$f":"+IFERROR(HYPERLINK(VLOOKUP(C1591,FOTOGRAFICO!C:E,3,FALSE),C1591),\"\")","v":"93219507-KB"}]
[null,null,"93338425-A","ARBOL","ARBOL LEVAS GM CORSA 03-05 1.8 CON SENSOR LEVAS ALTAS VALVULA 1 RANURA MARCA TOP ENGINE",820.06,6,0,0,0,1,5,{"$f":"+IFERROR(HYPERLINK(VLOOKUP(C1592,FOTOGRAFICO!C:E,3,FALSE),C1592),\"\")","v":"93338425-A"}]
[null,null,"93338425-B","ARBOL","ARBOL LEVAS GM CORSA 06-10 1.8 CON SENSOR LEVAS BAJAS VALVLS  DE 3 RANURAS MCA: TOP ENGINE",693.9,3,0,0,0,0,0,{"$f":"+IFERROR(HYPERLINK(VLOOKUP(C1593,FOTOGRAFICO!C:E,3,FALSE),C1593),\"\")","v":"93338425-B"}]
[null,null,"96182606-KB","ARBOL","ARBOL LEVAS AVEO 1.6 08-17     PONTIAC G3 07-10 MARCA KABUTO",0,0,0,0,0,0,0,{"$f":"+IFERROR(HYPERLINK(VLOOKUP(C1594,FOTOGRAFICO!C:E,3,FALSE),C1594),\"\")","v":""}]
[null,null,"96666394-KB","ARBOL","ARBOL DE LEVAS MATIZ 04-15     1.0 1.1 MARCA KABUTO",636.58000000000004,2,1,0,3,1,2,{"$f":"+IFERROR(HYPERLINK(VLOOKUP(C1595,FOTOGRAFICO!C:E,3,FALSE),C1595),\"\")","v":""}]
[null,null,"AL0975","ARBOL","ARBOL LEVAS CHEVY MONZA 1.4L   LEVA CORTA MARCA MORESA",906.9,4,2,0,8,2,2,{"$f":"+IFERROR(HYPERLINK(VLOOKUP(C1596,FOTOGRAFICO!C:E,3,FALSE),C1596),\"\")","v":"AL0975"}]
[null,null,"AL0976","ARBOL","ARBOL LEVAS CHEVY MONZA 1.6L   LEVA LARGA MARCA MORESA",867.26,8,8,15,10,5,5,{"$f":"+IFERROR(HYPERLINK(VLOOKUP(C1597,FOTOGRAFICO!C:E,3,FALSE),C1597),\"\")","v":"AL0976"}]
[null,null,"AL4024","ARBOL","ARBOL LEVA ADMISION URVAN 2.4L 01-07 PICK UP D22 X-TERRA 2.4L FRONTIER MARCA MORESA LEVAS",1503.28,0,0,0,4,0,1,{"$f":"+IFERROR(HYPERLINK(VLOOKUP(C1598,FOTOGRAFICO!C:E,3,FALSE),C1598),\"\")","v":"AL4024"}]
[null,null,"AL4025","ARBOL","ARBOL LEVAS ESCAPE URVAN 2.4L  01-07 PICK UP D22 X-TERRA 2.4L FRONTIER MARCA MORESA",1503.28,0,0,0,2,0,1,{"$f":"+IFERROR(HYPERLINK(VLOOKUP(C1599,FOTOGRAFICO!C:E,3,FALSE),C1599),\"\")","v":"AL4025"}]
[null,null,"AL4028","ARBOL","ARBOL LEVAS ADMISION PLATINA   00-10 1.6L CLIO 1.6L 02-10 16V MARCA MORESA ORIGINAL",1347.13,3,1,2,4,2,2,{"$f":"+IFERROR(HYPERLINK(VLOOKUP(C1600,FOTOGRAFICO!C:E,3,FALSE),C1600),\"\")","v":"AL4028"}]
[null,null,"AL4029","ARBOL","ARBOL LEVAS ESCAPE PLATINA 02- 10 1.6L CLIO 02-10 1.6L 16 VAL MARCA MORESA ORIGINAL",1347.13,3,1,1,2,2,2,{"$f":"+IFERROR(HYPERLINK(VLOOKUP(C1601,FOTOGRAFICO!C:E,3,FALSE),C1601),\"\")","v":"AL4029"}]
[null,null,"AL4031","ARBOL","ARBOL DE LEVAS GM MATIZ 04-15  1.0 Y 1.1 G1 Y G2              MARCA MORESA ORIGINAL",1078.06,3,0,4,4,2,2,{"$f":"+IFERROR(HYPERLINK(VLOOKUP(C1602,FOTOGRAFICO!C:E,3,FALSE),C1602),\"\")","v":"AL4031"}]
[null,null,"EGP92244916","ARBOL","ARBOL LEVAS CHEVY 1.6 EGP      LEVA LARGA                     IMPORTADO HECHO EN CHINA",886.6,13,0,0,7,4,7,{"$f":"+IFERROR(HYPERLINK(VLOOKUP(C1603,FOTOGRAFICO!C:E,3,FALSE),C1603),\"\")","v":""}]
[null,null,"EGP93219507","ARBOL","ARBOL LEVAS CHEVY 1.4 EGP      LEVA CORTA CHEVY/MONZA 1.4     IMPORTADO TOP ENGINE CHINA",656.87,3,9,5,8,0,2,{"$f":"+IFERROR(HYPERLINK(VLOOKUP(C1604,FOTOGRAFICO!C:E,3,FALSE),C1604),\"\")","v":""}]
[null,null,"MXS6E6250BB","ARBOL","ARBOL LEVAS FIESTA IKON 01-09  1.6L CURIER 1.6L MOT. SOHC 8VA L KA 1.6L MCA: TOP ENGINE",2056.36,0,0,0,1,0,0,{"$f":"+IFERROR(HYPERLINK(VLOOKUP(C1605,FOTOGRAFICO!C:E,3,FALSE),C1605),\"\")","v":"MXS6E6250BB"}]
[null,null,"AL4037","ARBOL","ARBOL DE LEVAS AVEO 1.6 09-17  PONTIAC G3 1.6 09-10 MARCA     MORESA AL4037",1054.1199999999999,0,3,0,0,1,0,{"$f":"+IFERROR(HYPERLINK(VLOOKUP(C1606,FOTOGRAFICO!C:E,3,FALSE),C1606),\"\")","v":"AL4037"}]
[null,null,"AL4092","ARBOL","ARBOL DE LEVAS SONIC 1.6 ESCAP MARCA MORESA PIDE FRANCISCO    ADRIAN ESTANDAR",1068.03,0,0,0,0,0,0,{"$f":"+IFERROR(HYPERLINK(VLOOKUP(C1607,FOTOGRAFICO!C:E,3,FALSE),C1607),\"\")","v":""}]
[null,null,"AL4051","ARBOL","ARBOL LEVAS SENTRA 93-00 TSURU 93-13 TSUBAME 93-04 MARCA MORE SA PEDIDI YASMANI",684.06,0,0,0,0,0,0,{"$f":"+IFERROR(HYPERLINK(VLOOKUP(C1608,FOTOGRAFICO!C:E,3,FALSE),C1608),\"\")","v":""}]
[null,null,"C197002Q0","ARBOL","ARBOL LEVAS ITALIKA CS125 13-  18 DS125 05-20 DS150 05-24     D150 19-24 WS150 08-25 QUMO",138.94999999999999,0,0,0,1,1,0,{"$f":"+IFERROR(HYPERLINK(VLOOKUP(C1609,FOTOGRAFICO!C:E,3,FALSE),C1609),\"\")","v":""}]
[null,null,"C197003Q0","ARBOL","ARBOL LEVAS ITALIKA FT125 12-  25 FT150 11-25 FT200 14-24     FORZA 125 05-12 MARCA QUMO",165.52,0,0,0,1,1,0,{"$f":"+IFERROR(HYPERLINK(VLOOKUP(C1610,FOTOGRAFICO!C:E,3,FALSE),C1610),\"\")","v":""}]
[null,null,"BRU55561747","ARBOL LEVA","ARBOL LEVAS AVEO 09 1.6 G3 06- 10 1.6 ASTRA 00-05 2.4 CRUZE   10-16 1.8 ADMISION MARCA BRUCK",1291.71,1,1,1,1,1,1,{"$f":"+IFERROR(HYPERLINK(VLOOKUP(C1611,FOTOGRAFICO!C:E,3,FALSE),C1611),\"\")","v":""}]
[null,null,"BRU55561748","ARBOL LEVA","ARBOL LEVAS AVEO 09 1.6 G3 06- 10 1.6 ASTRA 00-05 2.4 CRUZE   10-16 1.8 ESCAPE MARCA BRUCK",1136.57,1,1,1,1,1,1,{"$f":"+IFERROR(HYPERLINK(VLOOKUP(C1612,FOTOGRAFICO!C:E,3,FALSE),C1612),\"\")","v":""}]
[null,null,"BRU55568390","ARBOL LEVA","ARBOL LEVAS SONIC 12-17 1.6 G3 06-10 1.6 CRUZE 10-16 1.8 TRAX 13-19 1.8 ADMISION ECOTEC II",973.19,1,1,1,1,1,1,{"$f":"+IFERROR(HYPERLINK(VLOOKUP(C1613,FOTOGRAFICO!C:E,3,FALSE),C1613),\"\")","v":"BRU55568390"}]
[null,null,"BRU96182606","ARBOL LEVA","ARBOL LEVAS AVEO 08-18 1.6     OPTRA 06-10 2.0 CRUZE 10-16    1.8 MARCA BRUCK GERMANY 961826",809.83,1,1,1,3,1,1,{"$f":"+IFERROR(HYPERLINK(VLOOKUP(C1614,FOTOGRAFICO!C:E,3,FALSE),C1614),\"\")","v":""}]
[null,null,"ECOARILLO","ARILLO","ARILLO CLAXON VW               ARILLO CLAXON",40.659999999999997,23,0,4,2,4,3,{"$f":"+IFERROR(HYPERLINK(VLOOKUP(C1615,FOTOGRAFICO!C:E,3,FALSE),C1615),\"\")","v":"ECOARILLO"}]
[null,null,"ORI321419660","ARILLO","ARILLO CLAXON VW MOD/NUEVO",40.65,11,16,0,0,0,0,{"$f":"+IFERROR(HYPERLINK(VLOOKUP(C1616,FOTOGRAFICO!C:E,3,FALSE),C1616),\"\")","v":"ORI321419660"}]
[null,null,"GM95375692","ARILLO","ARILLO SEGURO BOMBA GAS BEAT   1.2 18-20 SPARK 1.2 11-17      MARCA GM PIDE DAVID CALL",178.9,0,0,0,0,0,0,{"$f":"+IFERROR(HYPERLINK(VLOOKUP(C1617,FOTOGRAFICO!C:E,3,FALSE),C1617),\"\")","v":""}]
[null,null,"026111111KB","ARNES","ARNES ENCE ELECT GOLF JETTA A2 A3 DERBY VW SEDAN COMBI 1800   7 PTS D PASTILLA A DISTR KABUT",84.87,1,1,1,0,1,0,{"$f":"+IFERROR(HYPERLINK(VLOOKUP(C1618,FOTOGRAFICO!C:E,3,FALSE),C1618),\"\")","v":""}]
[null,null,"27-0012","ARNES","ARNES RELEVADOR DE 1 A 5 PUNTA S NACIONAL",19.09,19,14,65,43,11,39,{"$f":"+IFERROR(HYPERLINK(VLOOKUP(C1619,FOTOGRAFICO!C:E,3,FALSE),C1619),\"\")","v":"27-0012"}]
[null,null,"27-0025","ARNES","ARNES BOBINA CUADRADA CHEVY 94 -2000                          MARCA: NACIONAL",45.65,3,0,1,2,0,1,{"$f":"+IFERROR(HYPERLINK(VLOOKUP(C1620,FOTOGRAFICO!C:E,3,FALSE),C1620),\"\")","v":"27-0025"}]
[null,null,"28-0008","ARNES","ARNES SENSOR TPS CHEVY 94-12   AVEO 1.6 08-18 CORSA 1.8 03-05 MERIVA 1.8 04-05 G3 07-09 HB",30.41,14,0,0,0,0,0,{"$f":"+IFERROR(HYPERLINK(VLOOKUP(C1621,FOTOGRAFICO!C:E,3,FALSE),C1621),\"\")","v":"28-0008"}]
[null,null,"AMD-53","ARNES","ARNES P/BOBINA CHEVY C2 3 PINS MATIZ CORSA TODOS MODELO       MARCA: NACIONAL",33.14,12,0,7,12,9,2,{"$f":"+IFERROR(HYPERLINK(VLOOKUP(C1622,FOTOGRAFICO!C:E,3,FALSE),C1622),\"\")","v":"AMD-53"}]
[null,null,"AMD-85","ARNES","ARNES P/BOBINA D CHEVY 00-05   ES PARA BOBINA REDONDA 4 PINS",45.66,2,3,0,2,3,3,{"$f":"+IFERROR(HYPERLINK(VLOOKUP(C1623,FOTOGRAFICO!C:E,3,FALSE),C1623),\"\")","v":"AMD-85"}]
[null,null,"ARNES","ARNES","ARNES BULBO RADIADOR CARIBE    ATLANTIC 77-87 GOLF JETTA A2   S/AIRE 2 PATAS",13.77,9,0,7,0,0,0,{"$f":"+IFERROR(HYPERLINK(VLOOKUP(C1624,FOTOGRAFICO!C:E,3,FALSE),C1624),\"\")","v":"ARNES"}]
[null,null,"BSH9237040011","ARNES","ARNES PASTILLA ARRANQUE VW SED TODOS",49.86,17,0,0,0,1,1,{"$f":"+IFERROR(HYPERLINK(VLOOKUP(C1625,FOTOGRAFICO!C:E,3,FALSE),C1625),\"\")","v":"BSH9237040011"}]
[null,null,"ECO80A030","ARNES","ARNES PALANCA LIMPIADORES PLAS TICO VW SEDAN COMBI GOLF JETTA A2 Y DIRECCIONALES 1 PZ",59.42,15,0,0,0,1,0,{"$f":"+IFERROR(HYPERLINK(VLOOKUP(C1626,FOTOGRAFICO!C:E,3,FALSE),C1626),\"\")","v":"ECO80A030"}]
[null,null,"ECO80A040","ARNES","ARNES INYECTOR VW TODOS FUEL   INYECTION [--] SENSOR BLANCO   BULBO AZUL TEMPERATURA CABEZA",32.200000000000003,31,0,10,21,7,3,{"$f":"+IFERROR(HYPERLINK(VLOOKUP(C1627,FOTOGRAFICO!C:E,3,FALSE),C1627),\"\")","v":"ECO80A040"}]
[null,null,"ECO80A080","ARNES","ARNES MOTOVENTILADOR CARIBE    ATLANTIC 77-87 GOLF JETTA A2   2 PATAS",24.22,5,0,0,6,0,1,{"$f":"+IFERROR(HYPERLINK(VLOOKUP(C1628,FOTOGRAFICO!C:E,3,FALSE),C1628),\"\")","v":"ECO80A080"}]
[null,null,"GM0001","ARNES","ARNES BULBO RADIADOR COMBI 1.8 GOLF JETTA A2 3 PATAS EN LINEA",44.02,17,0,3,0,0,0,{"$f":"+IFERROR(HYPERLINK(VLOOKUP(C1629,FOTOGRAFICO!C:E,3,FALSE),C1629),\"\")","v":""}]
[null,null,"GMARNES-12","ARNES","ARNES BULBO RADIADOR/MOTOVENTI CHEVY TODOS 2 PATAS",34.81,16,7,24,33,8,20,{"$f":"+IFERROR(HYPERLINK(VLOOKUP(C1630,FOTOGRAFICO!C:E,3,FALSE),C1630),\"\")","v":""}]
[null,null,"GMARNES-17","ARNES","ARNES MOTOVENTILADOR CHEVY     TODOS MODELOS",41.43,17,12,12,20,13,6,{"$f":"+IFERROR(HYPERLINK(VLOOKUP(C1631,FOTOGRAFICO!C:E,3,FALSE),C1631),\"\")","v":""}]
[null,null,"NISARNES002","ARNES","ARNES BOMBA GASOLINA TSURU III CHEVY URVAN 2.4 POINTER CORSA  ATOS PARA BSH0580453407NI",54.81,5,0,5,4,10,5,{"$f":"+IFERROR(HYPERLINK(VLOOKUP(C1632,FOTOGRAFICO!C:E,3,FALSE),C1632),\"\")","v":""}]
[null,null,"ORI040903161C","ARNES","ARNES MOTOVENTILADOR TSURU III BULBO MOTOVENTILADO TSURU II   ARNES BOMBA GASOLINA TSURU III",49.77,7,0,8,17,8,2,{"$f":"+IFERROR(HYPERLINK(VLOOKUP(C1633,FOTOGRAFICO!C:E,3,FALSE),C1633),\"\")","v":"ORI040903161C"}]
[null,null,"ORIARNES12","ARNES","ARNES TRASMISOR IMPULSOS DISTR IBUIDOR VW TODOS",34.56,13,0,5,0,0,0,{"$f":"+IFERROR(HYPERLINK(VLOOKUP(C1634,FOTOGRAFICO!C:E,3,FALSE),C1634),\"\")","v":""}]
[null,null,"ORIARNES16","ARNES","ARNES BOTON TECLA LUCES VW SED AN COMBI GOLF JETTA A2",52.47,5,0,0,7,0,2,{"$f":"+IFERROR(HYPERLINK(VLOOKUP(C1635,FOTOGRAFICO!C:E,3,FALSE),C1635),\"\")","v":""}]
[null,null,"ORIARNES17","ARNES","ARNES BOTON TECLA INTERMITENTE S VW SEDAN COMBI GOLF JETTA A2",52.47,14,0,0,0,0,0,{"$f":"+IFERROR(HYPERLINK(VLOOKUP(C1636,FOTOGRAFICO!C:E,3,FALSE),C1636),\"\")","v":""}]
[null,null,"ORIARNES19","ARNES","ARNES BOBINA VW SEDAN COMBI FU EL INYECTION GOLF JETTA A3     EUROVAN DERBY",34.56,13,4,0,8,0,1,{"$f":"+IFERROR(HYPERLINK(VLOOKUP(C1637,FOTOGRAFICO!C:E,3,FALSE),C1637),\"\")","v":""}]
[null,null,"ORIARNES21","ARNES","ARNES MOTOVENTILADOR GOLF JETT A A2 A3 3 PATAS EN LINEA",45.65,0,0,0,1,0,5,{"$f":"+IFERROR(HYPERLINK(VLOOKUP(C1638,FOTOGRAFICO!C:E,3,FALSE),C1638),\"\")","v":""}]
[null,null,"ORIARNES23","ARNES","ARNES BULBO RADIADOR POINTER   PARA BULBO 2 Y 3 PATAS",41.43,18,5,9,10,6,5,{"$f":"+IFERROR(HYPERLINK(VLOOKUP(C1639,FOTOGRAFICO!C:E,3,FALSE),C1639),\"\")","v":""}]
[null,null,"ORIARNES24","ARNES","ARNES PASTILLA ARRANQUE EUROVA N 00-05 GOLF JETTA A3 POINTER  97-",29,4,0,0,0,14,1,{"$f":"+IFERROR(HYPERLINK(VLOOKUP(C1640,FOTOGRAFICO!C:E,3,FALSE),C1640),\"\")","v":""}]
[null,null,"ORIARNES25","ARNES","ARNES PASTILLA ARRANQUE CHEVY  PARA PASTILLA CHICA CHEVY",30.56,0,0,0,0,1,0,{"$f":"+IFERROR(HYPERLINK(VLOOKUP(C1641,FOTOGRAFICO!C:E,3,FALSE),C1641),\"\")","v":""}]
[null,null,"ORIARNES81","ARNES","ARNES BULBO RADIADOR EUROVAN   00-05, GOLF JETTA A3 DEL 93-99 BULBO 3 PATAS",30.06,2,0,0,0,0,0,{"$f":"+IFERROR(HYPERLINK(VLOOKUP(C1642,FOTOGRAFICO!C:E,3,FALSE),C1642),\"\")","v":""}]
[null,null,"ORIARNES90","ARNES","ARNES MOTOVENTIL POINTER BOMBA GAS VW SEDAN F.I.",44.02,21,5,12,12,3,5,{"$f":"+IFERROR(HYPERLINK(VLOOKUP(C1643,FOTOGRAFICO!C:E,3,FALSE),C1643),\"\")","v":""}]
[null,null,"ORIBAA971131A","ARNES","ARNES ENCE ELECT GOLF JETTA A2 A3 DERBY VW SEDAN COMBI 1800   7 PTS D PASTILLA A DISTR NIKKO",102.85,19,6,8,11,28,7,{"$f":"+IFERROR(HYPERLINK(VLOOKUP(C1644,FOTOGRAFICO!C:E,3,FALSE),C1644),\"\")","v":""}]
[null,null,"ORIBAC971131","ARNES","ARNES ENCE ELECT GOLF JETTA A2 A3 DERBY VW SEDAN COMBI 1800   7 PTS D PASTILLA A DISTR BRUCK",203.33,1,2,3,16,4,3,{"$f":"+IFERROR(HYPERLINK(VLOOKUP(C1645,FOTOGRAFICO!C:E,3,FALSE),C1645),\"\")","v":""}]
[null,null,"RO38512","ARNES","ARNES SENSOR MAP CHEVY VERDE   3 TERMINALES MACHO MCA ROI     PEDIDO VICTOR LONDAIZ",25.41,0,0,0,0,0,0,{"$f":"+IFERROR(HYPERLINK(VLOOKUP(C1646,FOTOGRAFICO!C:E,3,FALSE),C1646),\"\")","v":""}]
[null,null,"USA07328","ARNES","ARNES BOTON LUCES CHEVY C1 C2  C3 C4 CORSA TORNADO MCA: ROI   SWITCH LUCES",36.46,5,1,1,2,1,1,{"$f":"+IFERROR(HYPERLINK(VLOOKUP(C1647,FOTOGRAFICO!C:E,3,FALSE),C1647),\"\")","v":"USA07328"}]
[null,null,"USA07677","ARNES","ARNES VALVULA RELENTI RALENTI  POINTER CHEVY 4 PUNTAS TODOS   MODELOS  MCA. R.O.",16.57,20,0,4,11,1,3,{"$f":"+IFERROR(HYPERLINK(VLOOKUP(C1648,FOTOGRAFICO!C:E,3,FALSE),C1648),\"\")","v":"USA07677"}]
[null,null,"USA38499","ARNES","ARNES CALAVERA CHEVY C2 6 PUNT AS MCA: ROI",34.01,2,0,0,0,0,0,{"$f":"+IFERROR(HYPERLINK(VLOOKUP(C1649,FOTOGRAFICO!C:E,3,FALSE),C1649),\"\")","v":"USA38499"}]
[null,null,"INJ38968","ARNES","ARNES BULBO TEMP PLATINA 02-10 CLIO 02-10 KANGOO 07-13 3 PIN  MARCA TOTALPARTS PIDE OSVALDO",20.39,0,0,0,0,0,0,{"$f":"+IFERROR(HYPERLINK(VLOOKUP(C1650,FOTOGRAFICO!C:E,3,FALSE),C1650),\"\")","v":""}]
[null,null,"TOT39771","ARNES","ARNES SENSOR CIG CHEVY C2      MARCA TOTAL PARTS PIDE RAUL",22.68,0,0,16,0,0,0,{"$f":"+IFERROR(HYPERLINK(VLOOKUP(C1651,FOTOGRAFICO!C:E,3,FALSE),C1651),\"\")","v":""}]
[null,null,"ARNESH4","ARNES","ARNES DE FOCO H4",0,0,0,0,0,0,0,{"$f":"+IFERROR(HYPERLINK(VLOOKUP(C1652,FOTOGRAFICO!C:E,3,FALSE),C1652),\"\")","v":""}]
[null,null,"TOT38502","ARNES","ARNES MODULO DISTRIBUIDOR      NISSAN 2 TERMINALES MARCA      TOTAL PIDE JUAN GARCIA",23.97,0,0,0,0,0,0,{"$f":"+IFERROR(HYPERLINK(VLOOKUP(C1653,FOTOGRAFICO!C:E,3,FALSE),C1653),\"\")","v":""}]
[null,null,"CHRFM135F","ARO","ARO DENTADO CLUTCH FIESTA 01-  11 135 DIENTES MARCA CHROMITE  PIDE GERARDO CALL CENTER",322.26,0,0,0,0,0,0,{"$f":"+IFERROR(HYPERLINK(VLOOKUP(C1654,FOTOGRAFICO!C:E,3,FALSE),C1654),\"\")","v":""}]
[null,null,"AR-001","AROMA","AROMA CHICA FRESA BOTELLA 250M 250ML",48.01,0,0,0,0,0,0,{"$f":"+IFERROR(HYPERLINK(VLOOKUP(C1655,FOTOGRAFICO!C:E,3,FALSE),C1655),\"\")","v":"AR-001"}]
[null,null,"AR-003","AROMA","AROMA COCO NUTS BOTELLA 250ML",48.01,1,3,3,0,0,0,{"$f":"+IFERROR(HYPERLINK(VLOOKUP(C1656,FOTOGRAFICO!C:E,3,FALSE),C1656),\"\")","v":"AR-003"}]
[null,null,"AR058A","AROMA","AROMATIZANTE LATA CALIFORNIA",49.38,54,45,0,208,113,0,{"$f":"+IFERROR(HYPERLINK(VLOOKUP(C1657,FOTOGRAFICO!C:E,3,FALSE),C1657),\"\")","v":"AR058A"}]
[null,null,"AR-CFLGRA","AROMA","AROMA CHICA FRESA BOTELLA 260  ML ATOMIZADOR NACIONAL",46.78,0,0,1,0,1,0,{"$f":"+IFERROR(HYPERLINK(VLOOKUP(C1658,FOTOGRAFICO!C:E,3,FALSE),C1658),\"\")","v":"AR-CFLGRA"}]
[null,null,"AR-CFLMED","AROMA","AROMA CHICA FRESA BOTELLA 130  ML ATOMIZADOR NACIONAL",34.159999999999997,0,0,0,0,0,0,{"$f":"+IFERROR(HYPERLINK(VLOOKUP(C1659,FOTOGRAFICO!C:E,3,FALSE),C1659),\"\")","v":"AR-CFLMED"}]
[null,null,"AR-CFLMINI","AROMA","AROMA CHICA FRESA BOTELLA 65   ML ATOMIZADOR NACIONAL",29.71,1,1,0,0,1,8,{"$f":"+IFERROR(HYPERLINK(VLOOKUP(C1660,FOTOGRAFICO!C:E,3,FALSE),C1660),\"\")","v":""}]
[null,null,"AR-DP393","AROMA","AROMA VENTANILLA VARIOS MODELO",20.92,0,15,0,0,0,0,{"$f":"+IFERROR(HYPERLINK(VLOOKUP(C1661,FOTOGRAFICO!C:E,3,FALSE),C1661),\"\")","v":"AR-DP393"}]
[null,null,"AROMA","AROMA","AROMATIZANTE V AROMAS /PINO",22.04,162,93,156,13,103,38,{"$f":"+IFERROR(HYPERLINK(VLOOKUP(C1662,FOTOGRAFICO!C:E,3,FALSE),C1662),\"\")","v":"AROMA"}]
[null,null,"AW-BR500","AROMA","AROMA CORAZON VARIOS",51.22,0,0,9,0,0,0,{"$f":"+IFERROR(HYPERLINK(VLOOKUP(C1663,FOTOGRAFICO!C:E,3,FALSE),C1663),\"\")","v":"AW-BR500"}]
[null,null,"CTK-52733","AROMA","AROMATIZANTE VENTANILLA WRAP   NEW CAR PARA REJILLA 4 PZAS    MARCA LITTLE TREES",72.11,1,9,0,1,0,0,{"$f":"+IFERROR(HYPERLINK(VLOOKUP(C1664,FOTOGRAFICO!C:E,3,FALSE),C1664),\"\")","v":""}]
[null,null,"DEO11F","AROMA","AROMA VENTANA LIQUIDO FRESA",25.66,8,2,0,1,8,4,{"$f":"+IFERROR(HYPERLINK(VLOOKUP(C1665,FOTOGRAFICO!C:E,3,FALSE),C1665),\"\")","v":"DEO11F"}]
[null,null,"DEO11L","AROMA","AROMA VENTANA LIQUIDO LAVANDA",25.66,4,1,0,0,6,0,{"$f":"+IFERROR(HYPERLINK(VLOOKUP(C1666,FOTOGRAFICO!C:E,3,FALSE),C1666),\"\")","v":"DEO11L"}]
[null,null,"DEO11N","AROMA","AROMA VENTANA LIQUIDO NEW CAR",25.66,2,4,0,2,4,3,{"$f":"+IFERROR(HYPERLINK(VLOOKUP(C1667,FOTOGRAFICO!C:E,3,FALSE),C1667),\"\")","v":"DEO11N"}]
[null,null,"DEO11V","AROMA","AROMA VENTANA LIQUIDO VAINILLA",25.66,22,1,0,0,3,0,{"$f":"+IFERROR(HYPERLINK(VLOOKUP(C1668,FOTOGRAFICO!C:E,3,FALSE),C1668),\"\")","v":"DEO11V"}]
[null,null,"DEO-25C","AROMA","AROMA LIQUIDO COCO",20.63,2,3,4,2,2,2,{"$f":"+IFERROR(HYPERLINK(VLOOKUP(C1669,FOTOGRAFICO!C:E,3,FALSE),C1669),\"\")","v":""}]
[null,null,"DEO-25F","AROMA","AROMA LIQUIDO FRESA",20.63,6,1,0,4,4,3,{"$f":"+IFERROR(HYPERLINK(VLOOKUP(C1670,FOTOGRAFICO!C:E,3,FALSE),C1670),\"\")","v":""}]
[null,null,"DEO-25L","AROMA","AROMA LIQUIDO LAVANDA",20.63,1,4,1,0,5,0,{"$f":"+IFERROR(HYPERLINK(VLOOKUP(C1671,FOTOGRAFICO!C:E,3,FALSE),C1671),\"\")","v":""}]
[null,null,"DEO-25N","AROMA","AROMA LIQUIDO CARRO NUEVO",20.63,6,6,4,4,4,1,{"$f":"+IFERROR(HYPERLINK(VLOOKUP(C1672,FOTOGRAFICO!C:E,3,FALSE),C1672),\"\")","v":""}]
[null,null,"DEO-25P","AROMA","AROMA LIQUIDO PINO",21.51,0,0,0,7,0,2,{"$f":"+IFERROR(HYPERLINK(VLOOKUP(C1673,FOTOGRAFICO!C:E,3,FALSE),C1673),\"\")","v":""}]
[null,null,"DEO-25V","AROMA","AROMA LIQUIDO VAINILLA",21.51,1,3,2,0,0,0,{"$f":"+IFERROR(HYPERLINK(VLOOKUP(C1674,FOTOGRAFICO!C:E,3,FALSE),C1674),\"\")","v":""}]
[null,null,"DEO53L","AROMA","AROMA TENIS LILIS LILA",25.45,1,0,3,0,5,9,{"$f":"+IFERROR(HYPERLINK(VLOOKUP(C1675,FOTOGRAFICO!C:E,3,FALSE),C1675),\"\")","v":"DEO53L"}]
[null,null,"DEO53N","AROMA","AROMA TENIS CARRO NUEVO AZUL",32.54,64,5,9,0,6,0,{"$f":"+IFERROR(HYPERLINK(VLOOKUP(C1676,FOTOGRAFICO!C:E,3,FALSE),C1676),\"\")","v":"DEO53N"}]
[null,null,"DEO53S","AROMA","AROMA TENIS DEPORTIVO ROJO",23.25,11,7,7,17,9,20,{"$f":"+IFERROR(HYPERLINK(VLOOKUP(C1677,FOTOGRAFICO!C:E,3,FALSE),C1677),\"\")","v":"DEO53S"}]
[null,null,"DEOAS72","AROMA","AROMA AREON CARITAS DRYSMILE   VARIOS AROMAS PIDE LUIS MIRAND DISPLAY 36 PIEZAS",17.64,33,100,26,1,66,101,{"$f":"+IFERROR(HYPERLINK(VLOOKUP(C1678,FOTOGRAFICO!C:E,3,FALSE),C1678),\"\")","v":""}]
[null,null,"F101","AROMA","AROMATIZANTE EN PERLAS FRUTOS  ROJOS 20 GRAMOS MARCA FRESCO   AROMA NACIONAL",31.94,10,6,6,6,10,23,{"$f":"+IFERROR(HYPERLINK(VLOOKUP(C1679,FOTOGRAFICO!C:E,3,FALSE),C1679),\"\")","v":"F101"}]
[null,null,"F102","AROMA","AROMATIZANTE EN PERLAS AUTO    NUEVO 20 GRAMOS MARCA FRESCO   AROMA NACIONAL",31.94,4,3,1,0,21,18,{"$f":"+IFERROR(HYPERLINK(VLOOKUP(C1680,FOTOGRAFICO!C:E,3,FALSE),C1680),\"\")","v":"F102"}]
[null,null,"F103","AROMA","AROMATIZANTE EN PERLAS AGUA DE MAR 20 GRAMOS MARCA FRESCO     AROMA NACIONAL",31.94,7,14,4,7,6,9,{"$f":"+IFERROR(HYPERLINK(VLOOKUP(C1681,FOTOGRAFICO!C:E,3,FALSE),C1681),\"\")","v":"F103"}]
[null,null,"F104","AROMA","AROMATIZANTE EN PERLAS HIELO   NEGRO 20 GRAMOS MARCA FRECO    AROMA NACIONAL",31.94,8,4,7,4,6,23,{"$f":"+IFERROR(HYPERLINK(VLOOKUP(C1682,FOTOGRAFICO!C:E,3,FALSE),C1682),\"\")","v":"F104"}]
[null,null,"F105","AROMA","AROMATIZANTE PERLAS VIDA ROSA  20 GRAMOS MARCA FRESCO AROMA   NACIONAL",31.93,5,3,4,3,8,7,{"$f":"+IFERROR(HYPERLINK(VLOOKUP(C1683,FOTOGRAFICO!C:E,3,FALSE),C1683),\"\")","v":"F105"}]
[null,null,"F106","AROMA","AROMATIZANTE EN PERLAS PERLA   BLANCA 20 GRAMOS MARCA FRESCO  AROMA NACIONAL",31.93,6,5,5,6,21,3,{"$f":"+IFERROR(HYPERLINK(VLOOKUP(C1684,FOTOGRAFICO!C:E,3,FALSE),C1684),\"\")","v":"F106"}]
[null,null,"F107","AROMA","AROMATIZANTE EN PERLAS ECLIPSE 20 GRAMOS MARCA FRESCO AROMA   NACIONAL",31.94,6,3,8,0,3,24,{"$f":"+IFERROR(HYPERLINK(VLOOKUP(C1685,FOTOGRAFICO!C:E,3,FALSE),C1685),\"\")","v":"F107"}]
[null,null,"F108","AROMA","AROMATIZANTE EN PERLAS OCEANO  20 GRAMOS MARCA FRESCO AROMA   NACIONAL",31.94,5,3,12,4,9,6,{"$f":"+IFERROR(HYPERLINK(VLOOKUP(C1686,FOTOGRAFICO!C:E,3,FALSE),C1686),\"\")","v":"F108"}]
[null,null,"F109","AROMA","AROMATIZANTE EN PERLAS MANZANA CANELA 20 GRAMOS MARCA FRESCO  AROMA NACIONAL",31.94,7,2,7,2,2,5,{"$f":"+IFERROR(HYPERLINK(VLOOKUP(C1687,FOTOGRAFICO!C:E,3,FALSE),C1687),\"\")","v":"F109"}]
[null,null,"F110","AROMA","AROMATIZANTE EN PERLAS LIMA    LIMON 20 GRAMOS MARCA FRESCO   AROMA NACIONAL",31.94,5,5,1,0,3,8,{"$f":"+IFERROR(HYPERLINK(VLOOKUP(C1688,FOTOGRAFICO!C:E,3,FALSE),C1688),\"\")","v":"F110"}]
[null,null,"F201","AROMA","AROMATIZANTE EN PERLAS MORAS   20 GRAMOS MARCA FRECO AROMA    NACIONAL",31.94,5,4,6,3,2,12,{"$f":"+IFERROR(HYPERLINK(VLOOKUP(C1689,FOTOGRAFICO!C:E,3,FALSE),C1689),\"\")","v":"F201"}]
[null,null,"F202","AROMA","AROMATIZAN EN PERLAS CHOCOLATE 20 GRAMOS MARCA FRESCO AROMA   NACIONAL",31.94,1,4,3,0,3,5,{"$f":"+IFERROR(HYPERLINK(VLOOKUP(C1690,FOTOGRAFICO!C:E,3,FALSE),C1690),\"\")","v":"F202"}]
[null,null,"F203","AROMA","AROMATIZANTE EN PERLAS FRUTOS  TROPICALES 20 GRAMOS MARCA     FRESCO AROMA NACIONAL",31.94,4,1,4,1,4,8,{"$f":"+IFERROR(HYPERLINK(VLOOKUP(C1691,FOTOGRAFICO!C:E,3,FALSE),C1691),\"\")","v":"F203"}]
[null,null,"F401","AROMA","AROMATIZANTE EN PERLAS CHICLE  DE PLATANO 20 GRAMOS MARCA     FRESCO AROMA NACIONAL",31.94,5,2,3,0,6,8,{"$f":"+IFERROR(HYPERLINK(VLOOKUP(C1692,FOTOGRAFICO!C:E,3,FALSE),C1692),\"\")","v":"F401"}]
[null,null,"F402","AROMA","AROMATIZANTE EN PERLAS FRESITA PERLITA 20 GRAMOS MARCA FRESCO AROMA NACIONAL",31.94,3,1,1,3,4,5,{"$f":"+IFERROR(HYPERLINK(VLOOKUP(C1693,FOTOGRAFICO!C:E,3,FALSE),C1693),\"\")","v":"F402"}]
[null,null,"F403","AROMA","AROMATIZANTE EN PERLAS FRESCA  CEREZA 20 GRAMOS MARCA FRESCO  AROMA NACIONAL",31.94,2,2,1,2,1,3,{"$f":"+IFERROR(HYPERLINK(VLOOKUP(C1694,FOTOGRAFICO!C:E,3,FALSE),C1694),\"\")","v":"F403"}]
[null,null,"F404","AROMA","AROMATIZAN EN PERLAS FRAMBUESA 20 GRAMOS MARCA FRESCO AROMA   NACIONAL",31.93,9,7,4,10,8,8,{"$f":"+IFERROR(HYPERLINK(VLOOKUP(C1695,FOTOGRAFICO!C:E,3,FALSE),C1695),\"\")","v":"F404"}]
[null,null,"F405","AROMA","AROMATIZANTE EN PERLAS PARAISO 20 GRAMOS MARCA FRESCO AROMA   NACIONAL",31.94,1,1,1,1,3,17,{"$f":"+IFERROR(HYPERLINK(VLOOKUP(C1696,FOTOGRAFICO!C:E,3,FALSE),C1696),\"\")","v":"F405"}]
[null,null,"FST-24","AROMA","AROMA RHIN CROMADO             DESODORANTE",28.9,1,31,220,0,6,0,{"$f":"+IFERROR(HYPERLINK(VLOOKUP(C1697,FOTOGRAFICO!C:E,3,FALSE),C1697),\"\")","v":""}]
[null,null,"LTBLACKICE","AROMA","AROMA LATA BLACK ICE LITTLE    TREES FIBER CAN 30 GR",70.290000000000006,1,3,2,0,2,1,{"$f":"+IFERROR(HYPERLINK(VLOOKUP(C1698,FOTOGRAFICO!C:E,3,FALSE),C1698),\"\")","v":""}]
[null,null,"LTNEWCAR","AROMA","AROMA LATA NEW CAR LITTLE      TREES FIBER CAN 30 GR",70.290000000000006,0,1,1,0,7,0,{"$f":"+IFERROR(HYPERLINK(VLOOKUP(C1699,FOTOGRAFICO!C:E,3,FALSE),C1699),\"\")","v":"LTNEWCAR"}]
[null,null,"MINION","AROMA","AROMA MINION",0,0,0,0,0,0,0,{"$f":"+IFERROR(HYPERLINK(VLOOKUP(C1700,FOTOGRAFICO!C:E,3,FALSE),C1700),\"\")","v":""}]
[null,null,"NAFRESCA","AROMA","AROMA FRESCARON CANELA",26.73,0,0,0,31,42,13,{"$f":"+IFERROR(HYPERLINK(VLOOKUP(C1701,FOTOGRAFICO!C:E,3,FALSE),C1701),\"\")","v":"NAFRESCA"}]
[null,null,"NALG","AROMA","AROMATIZANTE LIQUIDO GUARANA   250 ML",42.33,2,2,2,1,1,3,{"$f":"+IFERROR(HYPERLINK(VLOOKUP(C1702,FOTOGRAFICO!C:E,3,FALSE),C1702),\"\")","v":""}]
[null,null,"NBAAN","AROMA","BOTELLITA AROMA AUTO NUEVO 6.5 ML",53.33,2,3,0,2,1,1,{"$f":"+IFERROR(HYPERLINK(VLOOKUP(C1703,FOTOGRAFICO!C:E,3,FALSE),C1703),\"\")","v":"NBAAN"}]
[null,null,"NBABLI","AROMA","BOTELLITA AROMATIZANTE BLACK   ICE 6.5 ML",51.99,0,2,0,3,1,1,{"$f":"+IFERROR(HYPERLINK(VLOOKUP(C1704,FOTOGRAFICO!C:E,3,FALSE),C1704),\"\")","v":"NBABLI"}]
[null,null,"NBABOU","AROMA","BOTELLITA AROMATIZANTE BOUQUET 6.5 ML",51.98,19,0,0,0,1,0,{"$f":"+IFERROR(HYPERLINK(VLOOKUP(C1705,FOTOGRAFICO!C:E,3,FALSE),C1705),\"\")","v":"NBABOU"}]
[null,null,"NBACA","AROMA","BOTELLITA AROMATIZANTE CANELA  6.5 ML",53.33,2,0,0,4,8,0,{"$f":"+IFERROR(HYPERLINK(VLOOKUP(C1706,FOTOGRAFICO!C:E,3,FALSE),C1706),\"\")","v":"NBACA"}]
[null,null,"NBACE","AROMA","BOTELLITA AROMATIZANTE CEREZA  6.5 ML",53.33,0,6,0,1,2,0,{"$f":"+IFERROR(HYPERLINK(VLOOKUP(C1707,FOTOGRAFICO!C:E,3,FALSE),C1707),\"\")","v":"NBACE"}]
[null,null,"NBACI","AROMA","BOTELLITA AROMATIZANTE CITRICO 6.5 ML",53.33,1,1,0,3,2,0,{"$f":"+IFERROR(HYPERLINK(VLOOKUP(C1708,FOTOGRAFICO!C:E,3,FALSE),C1708),\"\")","v":"NBACI"}]
[null,null,"NBACO","AROMA","BOTELLITA AROMATIZANTE COCO    6.5 ML",53.33,7,6,0,0,1,3,{"$f":"+IFERROR(HYPERLINK(VLOOKUP(C1709,FOTOGRAFICO!C:E,3,FALSE),C1709),\"\")","v":"NBACO"}]
[null,null,"NBAEX","AROMA","BOTELLITA AROMATIZANTE EXOTIC  6.5 ML",51.99,0,9,3,0,10,1,{"$f":"+IFERROR(HYPERLINK(VLOOKUP(C1710,FOTOGRAFICO!C:E,3,FALSE),C1710),\"\")","v":"NBAEX"}]
[null,null,"NBAFRE","AROMA","BOTELLITA AROMATIZANTE FRESA   6.5 ML",53.33,10,1,0,7,2,0,{"$f":"+IFERROR(HYPERLINK(VLOOKUP(C1711,FOTOGRAFICO!C:E,3,FALSE),C1711),\"\")","v":"NBAFRE"}]
[null,null,"NBAMC","AROMA","BOTELLITA AROMATIZANTE MANZANA CANELA 6.5 ML",53.33,14,4,0,1,0,0,{"$f":"+IFERROR(HYPERLINK(VLOOKUP(C1712,FOTOGRAFICO!C:E,3,FALSE),C1712),\"\")","v":"NBAMC"}]
[null,null,"NBAR","AROMA","BOTELLITA AROMATIZANTE REFRESH 6.5 ML",53.33,6,0,0,2,8,0,{"$f":"+IFERROR(HYPERLINK(VLOOKUP(C1713,FOTOGRAFICO!C:E,3,FALSE),C1713),\"\")","v":"NBAR"}]
[null,null,"NBASAN","AROMA","BOTELLITA AROMATIZANTE SANDIA  6.5 ML",51.99,0,0,0,6,0,0,{"$f":"+IFERROR(HYPERLINK(VLOOKUP(C1714,FOTOGRAFICO!C:E,3,FALSE),C1714),\"\")","v":""}]
[null,null,"NLAPAMX2","AROMA","AROMA LATA PARADISE 42 GR      VARIOS AROMAS $ VENTA POR PZA  MARCA PARADISE IMPORTADO",42.66,0,0,0,0,0,0,{"$f":"+IFERROR(HYPERLINK(VLOOKUP(C1715,FOTOGRAFICO!C:E,3,FALSE),C1715),\"\")","v":"NLAPAMX2"}]
[null,null,"PYG0006","AROMA","AROMATIZANTE FERRARY",44.13,6,2,4,95,4,3,{"$f":"+IFERROR(HYPERLINK(VLOOKUP(C1716,FOTOGRAFICO!C:E,3,FALSE),C1716),\"\")","v":"PYG0006"}]
[null,null,"SONNETI","AROMA","AROMA SONNETI VARIOS AROMAS    70ML PAOLO ENWE INMORTALITY    CAROL HUGOS DRACCO LIONS",28.22,0,11,0,0,0,0,{"$f":"+IFERROR(HYPERLINK(VLOOKUP(C1717,FOTOGRAFICO!C:E,3,FALSE),C1717),\"\")","v":""}]
[null,null,"VEN","AROMA","AROMA CHICA FRESA",23.98,54,90,41,44,36,28,{"$f":"+IFERROR(HYPERLINK(VLOOKUP(C1718,FOTOGRAFICO!C:E,3,FALSE),C1718),\"\")","v":"VEN"}]
[null,null,"1299990103","AROMA","AROMA 42G LATA",43.04,0,0,0,0,0,0,{"$f":"+IFERROR(HYPERLINK(VLOOKUP(C1719,FOTOGRAFICO!C:E,3,FALSE),C1719),\"\")","v":"1299990103"}]
[null,null,"A-GLADE","AROMA","AROMA GLEDE CON RECARGA        DIFERENTES AROMAS",49.81,0,0,0,0,0,0,{"$f":"+IFERROR(HYPERLINK(VLOOKUP(C1720,FOTOGRAFICO!C:E,3,FALSE),C1720),\"\")","v":""}]
[null,null,"AREON-957106","AROMA","AROMATIZANTE FRESCO APPLE CINN AMON",103.96,0,0,0,0,0,0,{"$f":"+IFERROR(HYPERLINK(VLOOKUP(C1721,FOTOGRAFICO!C:E,3,FALSE),C1721),\"\")","v":"AREON-957106"}]
[null,null,"AREON-958912","AROMA","AROMATIZANTE VENT 7 OXIGENO",51.98,0,0,0,0,0,0,{"$f":"+IFERROR(HYPERLINK(VLOOKUP(C1722,FOTOGRAFICO!C:E,3,FALSE),C1722),\"\")","v":"AREON-958912"}]
[null,null,"AREON-962667","AROMA","AROMATIZANT AREON SMILE CHICLE",16.329999999999998,0,0,0,0,0,0,{"$f":"+IFERROR(HYPERLINK(VLOOKUP(C1723,FOTOGRAFICO!C:E,3,FALSE),C1723),\"\")","v":"AREON-962667"}]
[null,null,"AREON-967426","AROMA","AROMATIZANT AREON LILY OF THE  VALLEY",16.329999999999998,0,0,0,0,0,0,{"$f":"+IFERROR(HYPERLINK(VLOOKUP(C1724,FOTOGRAFICO!C:E,3,FALSE),C1724),\"\")","v":"AREON-967426"}]
[null,null,"AREON-967464","AROMA","AROMATIZANTE PERLAS BLACK CRYS TAL",51.98,0,0,0,0,0,0,{"$f":"+IFERROR(HYPERLINK(VLOOKUP(C1725,FOTOGRAFICO!C:E,3,FALSE),C1725),\"\")","v":"AREON-967464"}]
[null,null,"CUP3-005","AROMA","AROMA EN LATA DE GEL VARIOS",29.88,0,0,0,0,0,0,{"$f":"+IFERROR(HYPERLINK(VLOOKUP(C1726,FOTOGRAFICO!C:E,3,FALSE),C1726),\"\")","v":""}]
[null,null,"AROMA-COMBI","AROMA","AROMATIZANTE VARIOS AROMAS     FORMA RIN",17.940000000000001,0,0,0,0,25,0,{"$f":"+IFERROR(HYPERLINK(VLOOKUP(C1727,FOTOGRAFICO!C:E,3,FALSE),C1727),\"\")","v":""}]
[null,null,"AROMA-RIN","AROMA","AROMATIZANTE VARIOS AROMAS     FORMA RIN",17.940000000000001,0,0,0,0,50,0,{"$f":"+IFERROR(HYPERLINK(VLOOKUP(C1728,FOTOGRAFICO!C:E,3,FALSE),C1728),\"\")","v":""}]
[null,null,"BAR16111","ARRANCADOR","ARRANCADOR BARDAHL 310ML       INSTANTANEO CAJA = 30 PZAS.",65.69,61,26,29,30,25,23,{"$f":"+IFERROR(HYPERLINK(VLOOKUP(C1729,FOTOGRAFICO!C:E,3,FALSE),C1729),\"\")","v":"BAR16111"}]
[null,null,"GON-1021403","ARRANCADOR","ARRANCADOR GRANDE MARCA GONHER ARRANCADOR PARA MOTOR A DIESEL GASOLINA O GAS 550ML",77.58,32,12,75,119,168,90,{"$f":"+IFERROR(HYPERLINK(VLOOKUP(C1730,FOTOGRAFICO!C:E,3,FALSE),C1730),\"\")","v":""}]
[null,null,"BOTANA-106","ARROZ","ARROZ CON LECHE LALA 15 GRAMOS",18.940000000000001,0,0,0,1,0,0,{"$f":"+IFERROR(HYPERLINK(VLOOKUP(C1731,FOTOGRAFICO!C:E,3,FALSE),C1731),\"\")","v":""}]
[null,null,"BG5.M5138.00/05","ASIENTO","ASIENTO Y AGUJA CARBURA VW1600 CARBURADOR SEDAN COMBI 1600    MARCA KISHIO",116.4,4,2,0,0,2,0,{"$f":"+IFERROR(HYPERLINK(VLOOKUP(C1732,FOTOGRAFICO!C:E,3,FALSE),C1732),\"\")","v":"BG5.M5138.00/05"}]
[null,null,"EAR-966","AUDIFONOS","AUDIFONOS MANOS LIBRES COLORES CON MICROFONO UNIVERSAL        MARCA IMPORTADO",21.34,92,0,0,0,55,3,{"$f":"+IFERROR(HYPERLINK(VLOOKUP(C1733,FOTOGRAFICO!C:E,3,FALSE),C1733),\"\")","v":"EAR-966"}]
[null,null,"EAR-B016","AUDIFONOS","AUDIFONOS MANOS LIBRES COLORES CON MICROFONO UNIVERSAL        MARCA IMPORTADO",21.34,9,0,7,0,1,118,{"$f":"+IFERROR(HYPERLINK(VLOOKUP(C1734,FOTOGRAFICO!C:E,3,FALSE),C1734),\"\")","v":"EAR-B016"}]
[null,null,"EAR-FX620","AUDIFONOS","AUDIFONOS DIADEMA AJUSTABLE    BLUETOOTH ENTRADA AUX BOTONES  DE CONTROL MARCA IMPORTADO",213.49,3,1,0,4,9,15,{"$f":"+IFERROR(HYPERLINK(VLOOKUP(C1735,FOTOGRAFICO!C:E,3,FALSE),C1735),\"\")","v":"EAR-FX620"}]
[null,null,"EAR-H05","AUDIFONOS","AUDIFONOS MANOS LIBRES COLORES CON MICROFONO UNIVERSAL        MARCA IMPORTADO",21.34,53,0,89,0,28,41,{"$f":"+IFERROR(HYPERLINK(VLOOKUP(C1736,FOTOGRAFICO!C:E,3,FALSE),C1736),\"\")","v":"EAR-H05"}]
[null,null,"EAR-P17","AUDIFONOS","AUDIFONOS MANOS LIBRES COLORES CON MICROFONO UNIVERSAL        MARCA IMPORTADO",28.46,60,10,50,54,50,49,{"$f":"+IFERROR(HYPERLINK(VLOOKUP(C1737,FOTOGRAFICO!C:E,3,FALSE),C1737),\"\")","v":"EAR-P17"}]
[null,null,"HEADSET","AUDIFONOS","AUDIFONO CON MICROFONO BLUTOOH INCLUYE CON CABLE PARA CARGAR  MARCA IMPORTADO",269,0,0,0,0,0,2,{"$f":"+IFERROR(HYPERLINK(VLOOKUP(C1738,FOTOGRAFICO!C:E,3,FALSE),C1738),\"\")","v":""}]
[null,null,"AM-02-ROJO","AUDIFONOS","AUDIFONOS MANOS LIBRES CON     MICROFONO COLOR ROJO CON BLANC",37,0,0,0,0,0,0,{"$f":"+IFERROR(HYPERLINK(VLOOKUP(C1739,FOTOGRAFICO!C:E,3,FALSE),C1739),\"\")","v":""}]
[null,null,"EAR-B65","AUDIFONOS","AUDIFONOS DIADEMA AJUSTABLE    BLUETOOTH ENTRADA AUX BOTONES  DE CONTROL MARCA IMPORTADO",213.49,0,0,0,0,0,0,{"$f":"+IFERROR(HYPERLINK(VLOOKUP(C1740,FOTOGRAFICO!C:E,3,FALSE),C1740),\"\")","v":""}]
[null,null,"21-0150","AUMENTO","AUMENTO BUJIA FIESTA RC12Y 5/8 9PYP 14 MM LARGO Y DELGADO     MARCA HB NACIONAL",24.23,63,14,29,31,8,18,{"$f":"+IFERROR(HYPERLINK(VLOOKUP(C1741,FOTOGRAFICO!C:E,3,FALSE),C1741),\"\")","v":"21-0150"}]
[null,null,"AMTCN14","AUMENTO","AUMENTO BUJIA CARIBE GOLF JETT A COMBI 1800 LARGO",28.37,35,19,11,32,8,5,{"$f":"+IFERROR(HYPERLINK(VLOOKUP(C1742,FOTOGRAFICO!C:E,3,FALSE),C1742),\"\")","v":"AMTCN14"}]
[null,null,"AMTSL92","AUMENTO","AUMENTO BUJIA VW SEDAN 1600    CORTO",27.12,24,0,0,0,4,0,{"$f":"+IFERROR(HYPERLINK(VLOOKUP(C1743,FOTOGRAFICO!C:E,3,FALSE),C1743),\"\")","v":"AMTSL92"}]
[null,null,"AUMENTO1","AUMENTO","AUMENTO RESORTE VALVULA CHICO",34.36,0,0,0,0,8,0,{"$f":"+IFERROR(HYPERLINK(VLOOKUP(C1744,FOTOGRAFICO!C:E,3,FALSE),C1744),\"\")","v":"AUMENTO1"}]
[null,null,"AUMENTO2","AUMENTO","AUMENTO RESORTE VALVULA GRANDE",0.51,0,0,0,0,37,0,{"$f":"+IFERROR(HYPERLINK(VLOOKUP(C1745,FOTOGRAFICO!C:E,3,FALSE),C1745),\"\")","v":"AUMENTO2"}]
[null,null,"AUMR21B","AUMENTO","AUMENTO BUJIA CHABL15Y NOVA",19.5,16,0,0,0,0,0,{"$f":"+IFERROR(HYPERLINK(VLOOKUP(C1746,FOTOGRAFICO!C:E,3,FALSE),C1746),\"\")","v":"AUMR21B"}]
[null,null,"CARBON-903B","AUTOESTERE","AUTO ESTEREO,CON CONTROL REMOT TIPO CAMALEON,RECEPTOR 1 DIN,  64GB USB,EQ,RADIO, BLUETOOTH.",626.25,0,12,4,0,3,5,{"$f":"+IFERROR(HYPERLINK(VLOOKUP(C1747,FOTOGRAFICO!C:E,3,FALSE),C1747),\"\")","v":"CARBON-903B"}]
[null,null,"CARBON-407","AUTOESTERE","AUTO ESTEREO CON PANTALLA CON  CONTROL COLOR CAMALEON CON     CAMARA DE REVERSA LUZ NOCTURNA",1707.97,0,0,0,0,0,0,{"$f":"+IFERROR(HYPERLINK(VLOOKUP(C1748,FOTOGRAFICO!C:E,3,FALSE),C1748),\"\")","v":""}]
[null,null,"CARBON-702MPK","AUTOESTERE","AUTOESTEREO CON PANTALLA,PUERT USB, OPERACION TOUCH. INCLUYE  CAMARA DE REVERSA, PAR BOCINAS",2704.29,0,0,0,0,0,0,{"$f":"+IFERROR(HYPERLINK(VLOOKUP(C1749,FOTOGRAFICO!C:E,3,FALSE),C1749),\"\")","v":""}]
[null,null,"VM-715B","AUTOESTERE","AUTOESTEREO CON ESTRADA USB    BLUETOOTH CON LUZ AZUL",711.65,0,0,0,0,0,0,{"$f":"+IFERROR(HYPERLINK(VLOOKUP(C1750,FOTOGRAFICO!C:E,3,FALSE),C1750),\"\")","v":"VM-715B"}]
[null,null,"BSH9330043502","AUTOMATICO","AUTOMATICO F000SH0180 GOLF MAR CHA JETTA COMBI CARIBE 1800    TOTAL PARTS C/3 PERNOS NACIONA",340.85,3,0,0,0,0,0,{"$f":"+IFERROR(HYPERLINK(VLOOKUP(C1751,FOTOGRAFICO!C:E,3,FALSE),C1751),\"\")","v":"BSH9330043502"}]
[null,null,"BSHF000SH0137","AUTOMATICO","AUTOMATICO MARCHA POINTER TODO S MODELOS                      MARCA BOSCH MEX",537.88,1,0,3,1,0,1,{"$f":"+IFERROR(HYPERLINK(VLOOKUP(C1752,FOTOGRAFICO!C:E,3,FALSE),C1752),\"\")","v":"BSHF000SH0137"}]
[null,null,"BSHF000SH0177","AUTOMATICO","AUTOMATICO MARCHA TSURU CHEVY  TSUBAME CORSA S10 BLAZER       3 HOYOS CON CUADRO MARCA BOSCH",886.67,1,0,2,1,0,1,{"$f":"+IFERROR(HYPERLINK(VLOOKUP(C1753,FOTOGRAFICO!C:E,3,FALSE),C1753),\"\")","v":"BSHF000SH0177"}]
[null,null,"USA38698","AUTOMATICO","AUTOMATICO MARCHA CHEVY TSURU  III GS TSUBAME CORSA S10 BLAZE R MCA TOTALPARTS 3 HOYOS",324.75,0,0,0,0,3,1,{"$f":"+IFERROR(HYPERLINK(VLOOKUP(C1754,FOTOGRAFICO!C:E,3,FALSE),C1754),\"\")","v":"USA38698"}]
[null,null,"94580144-K","BALANCIN","BALANCIN MATIZ G2 04-16 1 PZA  MOT 1.0L MARCA ORIGINAL COREA",149.47,0,0,0,0,0,2,{"$f":"+IFERROR(HYPERLINK(VLOOKUP(C1755,FOTOGRAFICO!C:E,3,FALSE),C1755),\"\")","v":""}]
[null,null,"BRU90398840","BALANCIN","BALANCIN CHEVY 1 PZA BRUCK-GER CORSA MERIVA TORNADO 03-05 1.8 L EL MOTOR LLEVA 8 BALANCINES",61.24,19,18,15,0,0,0,{"$f":"+IFERROR(HYPERLINK(VLOOKUP(C1756,FOTOGRAFICO!C:E,3,FALSE),C1756),\"\")","v":"BRU90398840"}]
[null,null,"MORB200H","BALANCIN","BALANCIN ADM DER CHRYSLER 3.2  Y 3.5                          SOBRE PEDIDO X PABLO",175.97,0,0,0,0,0,0,{"$f":"+IFERROR(HYPERLINK(VLOOKUP(C1757,FOTOGRAFICO!C:E,3,FALSE),C1757),\"\")","v":""}]
[null,null,"MORB201H","BALANCIN","BALANCIN ADM IZQ CHRYSLER 3.2  Y 3.5                          SOBRE PEDIDO X PABLO",175.97,0,0,0,0,0,0,{"$f":"+IFERROR(HYPERLINK(VLOOKUP(C1758,FOTOGRAFICO!C:E,3,FALSE),C1758),\"\")","v":""}]
[null,null,"MORB207H","BALANCIN","BALANCIN CHEVY 1 PZA MORESA    CORSA MERIVA TORNADO 03-05 1.8 L EL MOTOR LLEVA 8 BALANCINES",38.43,54,22,115,206,96,43,{"$f":"+IFERROR(HYPERLINK(VLOOKUP(C1759,FOTOGRAFICO!C:E,3,FALSE),C1759),\"\")","v":"MORB207H"}]
[null,null,"04491-26180NK","BALATA","BALATA DEL TOYOTA HIACE 06-19  4 CIL 2.7L MARCA FP IMPORTADO  = FRIM7Y30 = 8455-D1344",155.74,7,5,29,4,10,4,{"$f":"+IFERROR(HYPERLINK(VLOOKUP(C1760,FOTOGRAFICO!C:E,3,FALSE),C1760),\"\")","v":"04491-26180NK"}]
[null,null,"1399S574KB","BALATA","BALATA TRAS URVAN NV350 00-23  NISSAN PICK UP 90-97 D21 86-94 PROMASTER 3.6 14-14 KABUTO",233.41,1,0,0,1,3,1,{"$f":"+IFERROR(HYPERLINK(VLOOKUP(C1761,FOTOGRAFICO!C:E,3,FALSE),C1761),\"\")","v":""}]
[null,null,"1399S574SM","BALATA","BALATA TRAS URVAN NV350 00-23  NISSAN PICK UP 90-97 D21 86-94 PROMASTER 3.6 14-14 RAYBESTOS",418.35,0,0,0,0,0,0,{"$f":"+IFERROR(HYPERLINK(VLOOKUP(C1762,FOTOGRAFICO!C:E,3,FALSE),C1762),\"\")","v":"1399S574SM"}]
[null,null,"1438-S638","BALATA","BALATA TRAS TSURU III 92-17    TSUBAME 93-04 SENTRA 91-99     TAMBOR MARCA FRICRAFT IMPORTAD",166.38,1,6,1,2,3,3,{"$f":"+IFERROR(HYPERLINK(VLOOKUP(C1763,FOTOGRAFICO!C:E,3,FALSE),C1763),\"\")","v":"1438-S638"}]
[null,null,"1438S638KB","BALATA","BALATA TRAS TSURU III 92-17    TSUBAME 93-04 SENTRA 91-99     TAMBOR MARCA KABUTO",106.09,1,0,0,1,1,0,{"$f":"+IFERROR(HYPERLINK(VLOOKUP(C1764,FOTOGRAFICO!C:E,3,FALSE),C1764),\"\")","v":""}]
[null,null,"1450A-S662-KB","BALATA","BALATA TRAS GOL 10-14 POLO 03- 07 CROSSFOX 07-13 GOLF JETTA   A2 A3 87-99 TAMBO KABUTO ANCHA",181.07,1,3,3,0,1,1,{"$f":"+IFERROR(HYPERLINK(VLOOKUP(C1765,FOTOGRAFICO!C:E,3,FALSE),C1765),\"\")","v":"1450A-S662-KB"}]
[null,null,"1547-S814","BALATA","BALATA TRAS AVEO 1.6 08-17     SPARK 1.2 1.4 11-21 BEAT 1.2   18-21 TAMBOR FP IMPORTADO",204.33,7,11,5,10,7,5,{"$f":"+IFERROR(HYPERLINK(VLOOKUP(C1766,FOTOGRAFICO!C:E,3,FALSE),C1766),\"\")","v":"1547-S814"}]
[null,null,"1547S814KB","BALATA","BALATA TRAS AVEO 1.6 08-17     SPARK 1.2 1.4 11-21 BEAT 1.2   18-21 TAMBOR KABUTO",0,0,0,0,0,0,0,{"$f":"+IFERROR(HYPERLINK(VLOOKUP(C1767,FOTOGRAFICO!C:E,3,FALSE),C1767),\"\")","v":""}]
[null,null,"15Y2S810KB","BALATA","BALATA TRAS VENTO 13-18 PT     CRUISER 04-09 FRENO DE TAMBOR  MARCA KABUTO",0,0,0,0,0,0,0,{"$f":"+IFERROR(HYPERLINK(VLOOKUP(C1768,FOTOGRAFICO!C:E,3,FALSE),C1768),\"\")","v":""}]
[null,null,"1616-S1021","BALATA","BALATA TRAS ATTITUDE 12-14     GRAND I10 15-23 ELANTRA 1.4    1.6 2.0 17-20 TAMBOR FRICRAFT",252.81,1,6,1,2,1,1,{"$f":"+IFERROR(HYPERLINK(VLOOKUP(C1769,FOTOGRAFICO!C:E,3,FALSE),C1769),\"\")","v":"1616-S1021"}]
[null,null,"1616-S1021FP","BALATA","BALATA TRAS GRAND i10 15-20     ATTITUDE 12-14 OW-1616-Z1V    SEMIMETALICA MARCA FP",237.24,2,0,2,0,2,0,{"$f":"+IFERROR(HYPERLINK(VLOOKUP(C1770,FOTOGRAFICO!C:E,3,FALSE),C1770),\"\")","v":"1616-S1021FP"}]
[null,null,"1624-S924","BALATA","BALATA TRAS ATTITUDE 15-23     TIIDA 07-18 MIRAGE G4 17-21    TAMBOR FRICRAF = 44060-ED026NK",180.58,4,3,3,0,0,0,{"$f":"+IFERROR(HYPERLINK(VLOOKUP(C1771,FOTOGRAFICO!C:E,3,FALSE),C1771),\"\")","v":"1624-S924"}]
[null,null,"1624S924KB","BALATA","BALATA TRAS ATTITUDE 15-23     TIIDA 07-18 MIRAGE G4 17-21    TAMBOR MCA KABUTO= 1624-S924",159.13999999999999,1,1,0,1,1,0,{"$f":"+IFERROR(HYPERLINK(VLOOKUP(C1772,FOTOGRAFICO!C:E,3,FALSE),C1772),\"\")","v":""}]
[null,null,"1665S994KB","BALATA","BALATA TRAS CHEVY 94-12 CORSA  02-08 FRENO DE TAMBOR MARCA    KABUTO OW-13X0-ZV S994",0,0,0,0,0,0,0,{"$f":"+IFERROR(HYPERLINK(VLOOKUP(C1773,FOTOGRAFICO!C:E,3,FALSE),C1773),\"\")","v":""}]
[null,null,"1689-S1020-KB","BALATA","BALATA TRAS VERSA 1.6 12-19    V-DRIVE 1.6 20-23 MARCH 1.6    12-23 TAMBOR MARCA KABUTO",159.13999999999999,1,1,2,1,2,2,{"$f":"+IFERROR(HYPERLINK(VLOOKUP(C1774,FOTOGRAFICO!C:E,3,FALSE),C1774),\"\")","v":"1689-S1020-KB"}]
[null,null,"19322807","BALATA","BALATA DEL AVEO 1.6 08-17 G3   PONTIAC 1.6 07-10 OPTRA 2.0 04 -10 ACDELCO SEMIMETALICA",711.61,2,3,2,2,2,2,{"$f":"+IFERROR(HYPERLINK(VLOOKUP(C1775,FOTOGRAFICO!C:E,3,FALSE),C1775),\"\")","v":"19322807"}]
[null,null,"1Y15-F034","BALATA","BALATA TRAS AVANZA 2007-2021   MCA: FRICRAFT JGO 4 PZAS",210.75,1,1,1,1,1,2,{"$f":"+IFERROR(HYPERLINK(VLOOKUP(C1776,FOTOGRAFICO!C:E,3,FALSE),C1776),\"\")","v":"1Y15-F034"}]
[null,null,"1Y21ZVKB","BALATA","BALATA TRAS VERSA II 1.6 20-23 KICKS 1.6 17-23 TAMBOR MARCA   KABUTO = OW1Y21ZV",0,0,0,0,0,0,0,{"$f":"+IFERROR(HYPERLINK(VLOOKUP(C1777,FOTOGRAFICO!C:E,3,FALSE),C1777),\"\")","v":""}]
[null,null,"2180-S704","BALATA","BALATA TAMBOR FORD RANGER 6 CI 97-05 MAZDA B2300 B3000 B4000  95-04 MARCA FP NIKKO",192.61,0,0,0,0,0,0,{"$f":"+IFERROR(HYPERLINK(VLOOKUP(C1778,FOTOGRAFICO!C:E,3,FALSE),C1778),\"\")","v":""}]
[null,null,"23817816FP","BALATA","BALATA DISCO DEL AVEO 23-24    785YF596 SEMIMETALICA MARCA FP",272.89,1,2,2,2,2,2,{"$f":"+IFERROR(HYPERLINK(VLOOKUP(C1779,FOTOGRAFICO!C:E,3,FALSE),C1779),\"\")","v":""}]
[null,null,"23947911FP","BALATA","BALATA DISCO TRAS AVEO 23-24   SEMIMETALICA MARCA FP 95X3Z",259.18,2,2,2,2,2,2,{"$f":"+IFERROR(HYPERLINK(VLOOKUP(C1780,FOTOGRAFICO!C:E,3,FALSE),C1780),\"\")","v":""}]
[null,null,"26276619FP","BALATA","BALATA TRAS TAMBOR ONIX 1.0    1.2 1.3 21-24 MARCA FP         IMPORTADO 17X7-ZV FT131",368.89,2,2,4,2,2,2,{"$f":"+IFERROR(HYPERLINK(VLOOKUP(C1781,FOTOGRAFICO!C:E,3,FALSE),C1781),\"\")","v":"26276619FP"}]
[null,null,"26312031CFP","BALATA","BALATA DEL ONIX 1.0 1.2 1.3 21 -23 CERAMIC MARCA FP IMPORTADO 78Y1-Z F565 = CMD23859611",410.03,2,3,5,3,4,2,{"$f":"+IFERROR(HYPERLINK(VLOOKUP(C1782,FOTOGRAFICO!C:E,3,FALSE),C1782),\"\")","v":"26312031CFP"}]
[null,null,"26312031FP","BALATA","BALATA DEL ONIX 1.0 1.2 1.3 21 -23 SEMIMETALICA MARCA FP      78Y1-Z F565 = 9611-D2385SM",355.17,2,2,4,6,2,2,{"$f":"+IFERROR(HYPERLINK(VLOOKUP(C1783,FOTOGRAFICO!C:E,3,FALSE),C1783),\"\")","v":"26312031FP"}]
[null,null,"41060-00QAB","BALATA","BALATA DEL PLATINA 02-10 APRIO 08-10 SANDERO 10-17 STEPWAY 10 -17 SIN SENSOR MARCA FP IMPORT",185.13,12,5,11,20,7,5,{"$f":"+IFERROR(HYPERLINK(VLOOKUP(C1784,FOTOGRAFICO!C:E,3,FALSE),C1784),\"\")","v":"41060-00QAB"}]
[null,null,"41060-27N91M","BALATA","BALATA DELANT NISSAN PICK UP D 21 Y D22 FRONTIER ESTAQUITAS   XTERRA =7228-D333 MARCA FP",145.6,0,0,0,0,0,0,{"$f":"+IFERROR(HYPERLINK(VLOOKUP(C1785,FOTOGRAFICO!C:E,3,FALSE),C1785),\"\")","v":"41060-27N91M"}]
[null,null,"41060-50Y93","BALATA","BALATA DEL TSURU III 92-17     TSUBAME 93-04 SENTRA 91-94     FRICRAFT SEMIMETALICA",99.83,6,38,4,3,6,4,{"$f":"+IFERROR(HYPERLINK(VLOOKUP(C1786,FOTOGRAFICO!C:E,3,FALSE),C1786),\"\")","v":"41060-50Y93"}]
[null,null,"41060-AX085CFP","BALATA","BALATA DEL TIIDA 07-18 MARCA   FP CERAMICA = SPCS7Y93         = BA1345 = FRIFTX7Y93F302",190.61,9,14,5,4,6,2,{"$f":"+IFERROR(HYPERLINK(VLOOKUP(C1787,FOTOGRAFICO!C:E,3,FALSE),C1787),\"\")","v":"41060-AX085CFP"}]
[null,null,"41080-1HL0ACFP","BALATA","BALATA DEL VERSA 1.6 12-19     V-DRIVE 1.6 20-23 MARCH 1.6    12-23 MARCA FP CERAMICA",190.61,13,27,15,5,27,4,{"$f":"+IFERROR(HYPERLINK(VLOOKUP(C1788,FOTOGRAFICO!C:E,3,FALSE),C1788),\"\")","v":"41080-1HL0ACFP"}]
[null,null,"6RU-698-151BCFP","BALATA","BALATA DEL VENTO 13-23 POLO    15-23 MARCA FP CERAMICA        = TMK9006-D1776 = M8Y03F464",218.04,3,12,2,2,0,2,{"$f":"+IFERROR(HYPERLINK(VLOOKUP(C1789,FOTOGRAFICO!C:E,3,FALSE),C1789),\"\")","v":""}]
[null,null,"6RU-698-525A","BALATA","BALATA TRAS VENTO 13-23 PT     CRUISER 04-09 FRENO DE TAMBOR  MARCA FP IMPORTADO",259.18,4,7,28,6,10,4,{"$f":"+IFERROR(HYPERLINK(VLOOKUP(C1790,FOTOGRAFICO!C:E,3,FALSE),C1790),\"\")","v":"6RU-698-525A"}]
[null,null,"7143-D227","BALATA","BALATA DEL GOLF A2 86-92 JETTA A2 90-90 119.4 MM GRUESA DISCO SOLIDO C/SEGURO MARCA GONHER",278.82,9,0,0,0,0,2,{"$f":"+IFERROR(HYPERLINK(VLOOKUP(C1791,FOTOGRAFICO!C:E,3,FALSE),C1791),\"\")","v":"7143-D227"}]
[null,null,"7335-D340","BALATA","BALATA TRAS JETTA CLAS.11-15   JETTA A4 00-13 JETTA A6 11-18  IBIZA 01-16 GONHER FRENO DISCO",262.77999999999997,4,0,0,0,0,0,{"$f":"+IFERROR(HYPERLINK(VLOOKUP(C1792,FOTOGRAFICO!C:E,3,FALSE),C1792),\"\")","v":"7335-D340"}]
[null,null,"7389-D510","BALATA","BALATA DEL TSURU III 92-17     TSUBAME 93-04 SENTRA 91-94     MARCA GONHER SEMIMETALICA",266.19,0,0,0,0,4,0,{"$f":"+IFERROR(HYPERLINK(VLOOKUP(C1793,FOTOGRAFICO!C:E,3,FALSE),C1793),\"\")","v":"7389-D510"}]
[null,null,"7389D510KB","BALATA","BALATA DEL TSURU III 92-17     TSUBAME 93-04 SENTRA 91-94     MARCA KABUTO SEMIMETALICA",84.87,1,1,0,1,1,1,{"$f":"+IFERROR(HYPERLINK(VLOOKUP(C1794,FOTOGRAFICO!C:E,3,FALSE),C1794),\"\")","v":""}]
[null,null,"743XZF140KB","BALATA","BALATA DEL POINTER,PICKUP 99-  10 VAGON.CHEVY PICKUP 99-05 CO RTA 104X53.5 MM C/GRAPA KABUTO",0,0,0,0,0,0,0,{"$f":"+IFERROR(HYPERLINK(VLOOKUP(C1795,FOTOGRAFICO!C:E,3,FALSE),C1795),\"\")","v":""}]
[null,null,"7528-D648","BALATA","BALATA DEL MYSTIQUE 94-00      CONTOUR 95-00 COUGAR 99-02     C/MEDIA LUNA GONHER MEXICO",246.26,0,0,0,0,9,0,{"$f":"+IFERROR(HYPERLINK(VLOOKUP(C1796,FOTOGRAFICO!C:E,3,FALSE),C1796),\"\")","v":"7528-D648"}]
[null,null,"7563D688KB","BALATA","BALATA DEL CHEVY 94-12 CON     OJILLO MARCA KABUTO            SEMIMETALICA = ACD19106077",122.01,1,1,0,1,1,0,{"$f":"+IFERROR(HYPERLINK(VLOOKUP(C1797,FOTOGRAFICO!C:E,3,FALSE),C1797),\"\")","v":""}]
[null,null,"7635-D768","BALATA","BALATA DEL LUPO 05-09 BEETLE   98-98 TIPO VAMPIRO SIN SENSOR  MARCA GONHER = FRIM7635Z",289.85000000000002,2,0,0,0,0,0,{"$f":"+IFERROR(HYPERLINK(VLOOKUP(C1798,FOTOGRAFICO!C:E,3,FALSE),C1798),\"\")","v":"7635-D768"}]
[null,null,"7706-D833EG","BALATA","BALATA DEL FORD EXPLORER 03-08 RANGER 2WD 02-05 7794-D833     MARCA FP NIKKO",145.6,0,0,0,0,0,0,{"$f":"+IFERROR(HYPERLINK(VLOOKUP(C1799,FOTOGRAFICO!C:E,3,FALSE),C1799),\"\")","v":""}]
[null,null,"776XF198KB","BALATA","BALATA DEL URVAN NV350 02-23   2.4 2.5 3.0 MARCA KABUTO       SEMIMETALICA 8310-Z D1191",137.91999999999999,1,0,2,0,5,1,{"$f":"+IFERROR(HYPERLINK(VLOOKUP(C1800,FOTOGRAFICO!C:E,3,FALSE),C1800),\"\")","v":""}]
[null,null,"7779-D1035EG","BALATA","BALATA DEL AVEO 1.6 08-17 G3   PONTIAC 1.6 07-10 OPTRA 2.0 04 -10 MARCA FP SEMIMETALICA",154.96,15,51,9,6,8,10,{"$f":"+IFERROR(HYPERLINK(VLOOKUP(C1801,FOTOGRAFICO!C:E,3,FALSE),C1801),\"\")","v":"7779-D1035EG"}]
[null,null,"7779D1035KB","BALATA","BALATA DEL AVEO 1.6 08-17 G3   PONTIAC 1.6 07-10 OPTRA 2.0 04 -10 MARCA KABUTO CERAMICA",0,0,0,0,0,0,0,{"$f":"+IFERROR(HYPERLINK(VLOOKUP(C1802,FOTOGRAFICO!C:E,3,FALSE),C1802),\"\")","v":""}]
[null,null,"7902-D1001NK","BALATA","BALATA DELAN MITSUBISHI LANCER 07--                           MARCA NIKKO",191.46,0,0,0,0,0,0,{"$f":"+IFERROR(HYPERLINK(VLOOKUP(C1803,FOTOGRAFICO!C:E,3,FALSE),C1803),\"\")","v":""}]
[null,null,"7940-D1037EG","BALATA","BALATA TRASE MITSUBISHI LANCER OUTLANDER 04- JEEP COMPASS 07- CALIBER AVENGER 07 MARCA FP",123.82,0,0,0,0,0,0,{"$f":"+IFERROR(HYPERLINK(VLOOKUP(C1804,FOTOGRAFICO!C:E,3,FALSE),C1804),\"\")","v":""}]
[null,null,"7955-D1051NK","BALATA","BALATA TRAS DISCO RAV-4 04-05  M-7955-Z MARCA FP PIDE TELLITU",149.47,0,0,0,0,0,0,{"$f":"+IFERROR(HYPERLINK(VLOOKUP(C1805,FOTOGRAFICO!C:E,3,FALSE),C1805),\"\")","v":""}]
[null,null,"7Y09-F197","BALATA","BALATA DEL ECOSPORT 04-12 FIES TA IKON 13-15 CON CEJA Y MEDIA LUNA MARCA FRICRAFT IMPORTADO",180.58,2,1,2,1,2,1,{"$f":"+IFERROR(HYPERLINK(VLOOKUP(C1806,FOTOGRAFICO!C:E,3,FALSE),C1806),\"\")","v":"7Y09-F197"}]
[null,null,"7Y45Z-F319","BALATA","BALATA DEL I10 12-14 MARCA FP  IMPORTADO SPC-7Y45-Z F319      = S7Y455319 = FRIS7Y45",181.01,12,4,5,4,5,2,{"$f":"+IFERROR(HYPERLINK(VLOOKUP(C1807,FOTOGRAFICO!C:E,3,FALSE),C1807),\"\")","v":"7Y45Z-F319"}]
[null,null,"7Y93Z-F300","BALATA","BALATA DEL TIIDA 07-18 MARCA   FRICRAFT TMK SPC-7Y93-Z F302   D1345",168.99,1,6,5,1,0,2,{"$f":"+IFERROR(HYPERLINK(VLOOKUP(C1808,FOTOGRAFICO!C:E,3,FALSE),C1808),\"\")","v":"7Y93Z-F300"}]
[null,null,"7Y93Z-F300NK","BALATA","BALATA DEL TIIDA 07-18 MARCA   FP SEMIMETALICA = SPCS7Y93     = BA1345 = FRIFTX7Y93F302",163.19,19,7,8,8,5,5,{"$f":"+IFERROR(HYPERLINK(VLOOKUP(C1809,FOTOGRAFICO!C:E,3,FALSE),C1809),\"\")","v":"7Y93Z-F300NK"}]
[null,null,"8253D1142KB","BALATA","BALATA DEL ATOS 02-12 GRANDE   MARCA KABUTO                   = FRIM7Y02Z = FRIFTX7Y02",106.09,1,1,0,0,1,1,{"$f":"+IFERROR(HYPERLINK(VLOOKUP(C1810,FOTOGRAFICO!C:E,3,FALSE),C1810),\"\")","v":""}]
[null,null,"8256D1146KB","BALATA","BALATA DEL PLATINA 02-10 APRIO 08-10 SANDERO 10-17 STEPWAY 10 -17 SIN SENSOR MARCA KABUTO",0,0,0,0,0,0,0,{"$f":"+IFERROR(HYPERLINK(VLOOKUP(C1811,FOTOGRAFICO!C:E,3,FALSE),C1811),\"\")","v":""}]
[null,null,"8290D1176KB","BALATA","BALATA DEL CORSA 02-08 TORNADO 04-18 MARCA KABUTO             = BA1176 = FRISPC7Y03",0,0,0,0,0,0,0,{"$f":"+IFERROR(HYPERLINK(VLOOKUP(C1812,FOTOGRAFICO!C:E,3,FALSE),C1812),\"\")","v":""}]
[null,null,"8385-D1269","BALATA","BALATA DEL PONTIAC G3 07-10    SPARK 2011 MARCA FP SEMIMETALI = 8385-D1269SM = SPCS8385",174.16,0,12,0,0,0,2,{"$f":"+IFERROR(HYPERLINK(VLOOKUP(C1813,FOTOGRAFICO!C:E,3,FALSE),C1813),\"\")","v":"8385-D1269"}]
[null,null,"8385-D1269CFP","BALATA","BALATA DEL PONTIAC G3 07-10    SPARK 2011 MARCA FP CERAMICA   = 8385-D1269SM = SPCS8385",185.13,0,7,0,0,2,5,{"$f":"+IFERROR(HYPERLINK(VLOOKUP(C1814,FOTOGRAFICO!C:E,3,FALSE),C1814),\"\")","v":"8385-D1269CFP"}]
[null,null,"8385-D1269SM","BALATA","BALATA DEL PONTIAC G3 07-10    SPARK 2011 MARCA FRICRAFT      SEMIMETALICA = 8385-D1269SM",157.19999999999999,1,1,12,1,0,1,{"$f":"+IFERROR(HYPERLINK(VLOOKUP(C1815,FOTOGRAFICO!C:E,3,FALSE),C1815),\"\")","v":"8385-D1269SM"}]
[null,null,"8455D1344KB","BALATA","BALATA DEL TOYOTA HIACE 06-19  2.7L 4 CIL. MARCA KABUTO       = FRIM7Y30 = 8455-D1344",137.91999999999999,1,0,1,1,3,1,{"$f":"+IFERROR(HYPERLINK(VLOOKUP(C1816,FOTOGRAFICO!C:E,3,FALSE),C1816),\"\")","v":""}]
[null,null,"8456D1345KB","BALATA","BALATA DEL TIIDA 07-18 MARCA   KABUTO = SPCS7Y93              = BA1345 = FRIFTX7Y93F302",0,0,0,0,0,0,0,{"$f":"+IFERROR(HYPERLINK(VLOOKUP(C1817,FOTOGRAFICO!C:E,3,FALSE),C1817),\"\")","v":""}]
[null,null,"8502-D1394CFP","BALATA","BALATA DELANTERA CITY 10-22    FIT 09-20 CR-Z 11-15 CERAMICA  MARCA FP 8502-D1394 = SPCS8502",204.33,0,0,0,5,0,1,{"$f":"+IFERROR(HYPERLINK(VLOOKUP(C1818,FOTOGRAFICO!C:E,3,FALSE),C1818),\"\")","v":""}]
[null,null,"8653-D1454-C","BALATA","BALATA DEL FIESTA 11-17 MAZDA  2 11-15 SWIFT GLX 1.4 1.6 13-  18 MARCA L&S IMPORTADA",143.57,0,16,0,0,2,2,{"$f":"+IFERROR(HYPERLINK(VLOOKUP(C1819,FOTOGRAFICO!C:E,3,FALSE),C1819),\"\")","v":""}]
[null,null,"8653-D1454FP","BALATA","BALATA DEL FIGO 16-21 FIESTA   11-19 SEMIMETALICA MARCA FP",182.38,1,2,1,5,2,1,{"$f":"+IFERROR(HYPERLINK(VLOOKUP(C1820,FOTOGRAFICO!C:E,3,FALSE),C1820),\"\")","v":"8653-D1454FP"}]
[null,null,"8653-D1454SM","BALATA","BALATA DEL FIESTA 11-17 MAZDA  2 11-15 SWIFT GLX 1.4 1.6 13-  18 MARCA FP = S8653D1454",154.77000000000001,1,1,3,1,0,1,{"$f":"+IFERROR(HYPERLINK(VLOOKUP(C1821,FOTOGRAFICO!C:E,3,FALSE),C1821),\"\")","v":"8653-D1454SM"}]
[null,null,"8658-D1458FP","BALATA","BALATA TRAS PEUGEOT 206 01-09  306 97-02 MEGANE 01-03 FRENO   DISCO SEMIMETALICA MARCA FP",164.56,1,0,0,0,0,0,{"$f":"+IFERROR(HYPERLINK(VLOOKUP(C1822,FOTOGRAFICO!C:E,3,FALSE),C1822),\"\")","v":""}]
[null,null,"8671-D1471CFP","BALATA","BALATA DEL AVANZA 07-18 MARCA  FP CERAMICA = D14718671",212.55,5,0,2,0,1,0,{"$f":"+IFERROR(HYPERLINK(VLOOKUP(C1823,FOTOGRAFICO!C:E,3,FALSE),C1823),\"\")","v":"8671-D1471CFP"}]
[null,null,"8768-D1556","BALATA","BALATA DEL GOL C/ABS 10-14 SAV EIRO 10-11 DERBY 94-99 JETTA   A2 89-92 LARGA 142MM FRICRAFT",194.12,0,7,2,1,0,1,{"$f":"+IFERROR(HYPERLINK(VLOOKUP(C1824,FOTOGRAFICO!C:E,3,FALSE),C1824),\"\")","v":"8768-D1556"}]
[null,null,"8768Z-D1556FP","BALATA","BALATA DEL GOL C/ABS 10-14 SAV EIRO 10-11 DERBY 94-99 JETTA   A2 89-92 LARGA 142MM FP IMPORT",207.07,2,3,1,2,0,1,{"$f":"+IFERROR(HYPERLINK(VLOOKUP(C1825,FOTOGRAFICO!C:E,3,FALSE),C1825),\"\")","v":"8768Z-D1556FP"}]
[null,null,"8801-D1590FP","BALATA","BALATA DEL SPARK 1.2 11-17     BEAT 1.2 18-21 MARCA FP        SEMIMETALICA = TMK8801-D1590",143.31,8,35,12,23,26,30,{"$f":"+IFERROR(HYPERLINK(VLOOKUP(C1826,FOTOGRAFICO!C:E,3,FALSE),C1826),\"\")","v":"8801-D1590FP"}]
[null,null,"8801D1590KB","BALATA","BALATA DEL SPARK 1.2 11-17     BEAT 1.2 18-21 MARCA KABUTO    SEMIMETALICA = TMK8801-D1590",0,0,0,0,0,0,0,{"$f":"+IFERROR(HYPERLINK(VLOOKUP(C1827,FOTOGRAFICO!C:E,3,FALSE),C1827),\"\")","v":""}]
[null,null,"8804-D1592-KB","BALATA","BALATA DEL VERSA 1.6 12-19     V-DRIVE 1.6 20-23 MARCH 1.6    12-23 KABUTO SEMIMETALICA",143.22999999999999,1,3,1,1,2,5,{"$f":"+IFERROR(HYPERLINK(VLOOKUP(C1828,FOTOGRAFICO!C:E,3,FALSE),C1828),\"\")","v":"8804-D1592-KB"}]
[null,null,"8806-D1593SM","BALATA","BALATA DEL ATTITUDE 1.4 1.6    12-14 KIA RIO 1.6 12-20 ACCENT 1.6 12-22 FRICRAFT SEMIMETALIC",277.31,0,0,0,0,0,0,{"$f":"+IFERROR(HYPERLINK(VLOOKUP(C1829,FOTOGRAFICO!C:E,3,FALSE),C1829),\"\")","v":""}]
[null,null,"882-S315","BALATA","BALATAS TRASERA VW SEDAN TODOS MOD Y DELANTERA AMBAS D TAMBOR JUEGO 4 PIEZAS MARCA FRICRAFT",216.32,9,3,2,13,3,3,{"$f":"+IFERROR(HYPERLINK(VLOOKUP(C1830,FOTOGRAFICO!C:E,3,FALSE),C1830),\"\")","v":"882-S315"}]
[null,null,"8868-D1641FP","BALATA","BALATA DEL GOL 12-20 UP 16-18  SAVEIRO 12-20 MARCA FP NIKKO   CHINA = SPCS8868-D1641",241.35,3,4,0,1,3,1,{"$f":"+IFERROR(HYPERLINK(VLOOKUP(C1831,FOTOGRAFICO!C:E,3,FALSE),C1831),\"\")","v":"8868-D1641FP"}]
[null,null,"8868-D1641-KB","BALATA","BALATA DEL GOL 12-20 UP 16-18  SAVEIRO 12-20 MARCA KABUTO     = SPCS8868-D1641",214.31,1,1,4,2,1,2,{"$f":"+IFERROR(HYPERLINK(VLOOKUP(C1832,FOTOGRAFICO!C:E,3,FALSE),C1832),\"\")","v":"8868-D1641-KB"}]
[null,null,"8926-D1702CFP","BALATA","BALATA DEL SONIC 11-17 MARCA   FP CERAMICA M-7Y72-Z F404      = TMK8926-D1702SM = S7Y72F404",245.47,6,2,7,5,0,2,{"$f":"+IFERROR(HYPERLINK(VLOOKUP(C1833,FOTOGRAFICO!C:E,3,FALSE),C1833),\"\")","v":""}]
[null,null,"8989-D1760SM","BALATA","BALATA DEL JETTA 19-22 GOLF 19 -20 MARCA FRICRAFT PIDE JAVIER",255.12,1,0,0,0,0,0,{"$f":"+IFERROR(HYPERLINK(VLOOKUP(C1834,FOTOGRAFICO!C:E,3,FALSE),C1834),\"\")","v":""}]
[null,null,"8990-D1761SM","BALATA","BALATA TRAS JETTA 19-22 GOLF   19-20 MARCA FRICRAFT PIDE JAVI SEAT ATECA 17-20 TIGUAN 18-",204.1,0,0,0,0,0,0,{"$f":"+IFERROR(HYPERLINK(VLOOKUP(C1835,FOTOGRAFICO!C:E,3,FALSE),C1835),\"\")","v":""}]
[null,null,"8X65-F467SM","BALATA","BALATA DEL GRAND I10 15-20 MCA FRICRAFT HYUNDAI GRAND I10     =FRIS8X65",249.58,2,3,1,1,2,2,{"$f":"+IFERROR(HYPERLINK(VLOOKUP(C1836,FOTOGRAFICO!C:E,3,FALSE),C1836),\"\")","v":"8X65-F467SM"}]
[null,null,"8Y03-ZF464","BALATA","BALATA DEL VENTO 13-23 POLO    15-23 MARCA FP SEMIMETALICA    = TMK9006-D1776 = M8Y03F464",190.61,2,6,3,5,6,2,{"$f":"+IFERROR(HYPERLINK(VLOOKUP(C1837,FOTOGRAFICO!C:E,3,FALSE),C1837),\"\")","v":"8Y03-ZF464"}]
[null,null,"9006-D1776-C","BALATA","BALATA DEL VENTO 13-23 POLO    15-23 MARCA L&S IMPORTADO      = TMK9006-D1776 = M8Y03F464",150.05000000000001,209,5,61,0,0,2,{"$f":"+IFERROR(HYPERLINK(VLOOKUP(C1838,FOTOGRAFICO!C:E,3,FALSE),C1838),\"\")","v":"9006-D1776-C"}]
[null,null,"9041435FP","BALATA","BALATA TRAS AVEO 1.5 18-23     TAMBOR MARCA FP IMPORTADO      = 19376793 = TMK1737-S1090",297.58,0,0,0,0,0,0,{"$f":"+IFERROR(HYPERLINK(VLOOKUP(C1839,FOTOGRAFICO!C:E,3,FALSE),C1839),\"\")","v":""}]
[null,null,"9061-D1830","BALATA","BALATA DEL LOGAN 15-19 SANDERO 17-19 MARCA FRICRAFT IMPORTADO M-9061-Z",232.94,1,5,2,2,1,2,{"$f":"+IFERROR(HYPERLINK(VLOOKUP(C1840,FOTOGRAFICO!C:E,3,FALSE),C1840),\"\")","v":"9061-D1830"}]
[null,null,"9061-D1830CFP","BALATA","BALATA DEL RENAULT LOGAN 15-19 CERAMICA MARCA FP",259.18,0,2,2,3,2,4,{"$f":"+IFERROR(HYPERLINK(VLOOKUP(C1841,FOTOGRAFICO!C:E,3,FALSE),C1841),\"\")","v":""}]
[null,null,"90921493CFP","BALATA","BALATA DEL AVEO 1.5 18-23      MARCA FP CERAMICA              9167-Z D1942 = PO9167-D1942",249.58,3,30,21,11,6,5,{"$f":"+IFERROR(HYPERLINK(VLOOKUP(C1842,FOTOGRAFICO!C:E,3,FALSE),C1842),\"\")","v":"90921493CFP"}]
[null,null,"90921493FP","BALATA","BALATA DEL AVEO 1.5 18-23      MARCA FP SEMIMETALICA          9167-Z D1942 = PO9167-D1942",264.67,3,6,7,2,2,2,{"$f":"+IFERROR(HYPERLINK(VLOOKUP(C1843,FOTOGRAFICO!C:E,3,FALSE),C1843),\"\")","v":"90921493FP"}]
[null,null,"9159-D1935FP","BALATA","BALATA DEL GRAND I10 15-20     MARCA FP NIKKO CHINA           = SPC-8X65-Z F467",204.33,3,6,8,3,8,13,{"$f":"+IFERROR(HYPERLINK(VLOOKUP(C1844,FOTOGRAFICO!C:E,3,FALSE),C1844),\"\")","v":"9159-D1935FP"}]
[null,null,"9167-D1942","BALATA","BALATA DEL AVEO 1.5 18-23      MARCA FRICRAFT SEMIMETALICA    9167-Z D1942 = 90921493FP",255.12,1,6,12,1,1,5,{"$f":"+IFERROR(HYPERLINK(VLOOKUP(C1845,FOTOGRAFICO!C:E,3,FALSE),C1845),\"\")","v":"9167-D1942"}]
[null,null,"9167D1942KB","BALATA","BALATA DEL AVEO 1.5 18-23      MARCA KABUTO CERAMICA          9167-Z D1942 = PO9167-D1942",180.36,1,1,1,1,1,1,{"$f":"+IFERROR(HYPERLINK(VLOOKUP(C1846,FOTOGRAFICO!C:E,3,FALSE),C1846),\"\")","v":""}]
[null,null,"9167D1942SG","BALATA","BALATA DEL AVEO 1.5 18-23      MARCA RAYBESTOS CERAMICA       9167-Z D1942 = CMD19529167",375.5,1,10,4,10,2,2,{"$f":"+IFERROR(HYPERLINK(VLOOKUP(C1847,FOTOGRAFICO!C:E,3,FALSE),C1847),\"\")","v":"9167D1942SG"}]
[null,null,"9254-D2024","BALATA","BALATA DEL SPARK 1.4 16-21 LTZ PREMIER MARCA FRICRAFT         SEMIMETALICA = PO9254-D2024",200.11,1,0,1,2,0,3,{"$f":"+IFERROR(HYPERLINK(VLOOKUP(C1848,FOTOGRAFICO!C:E,3,FALSE),C1848),\"\")","v":"9254-D2024"}]
[null,null,"9265-D2031CFP","BALATA","BALATA DISCO DEL MG ZS 1.5     21-23 CERAMICA MARCA FP",396.31,0,2,2,0,2,0,{"$f":"+IFERROR(HYPERLINK(VLOOKUP(C1849,FOTOGRAFICO!C:E,3,FALSE),C1849),\"\")","v":""}]
[null,null,"9265-D2031FP","BALATA","BALATA DISCO DEL MG ZS 1.5     21-23 SEMIMETALICA MARCA FP",314.02999999999997,0,2,2,0,2,0,{"$f":"+IFERROR(HYPERLINK(VLOOKUP(C1850,FOTOGRAFICO!C:E,3,FALSE),C1850),\"\")","v":""}]
[null,null,"9269-D2038SM","BALATA","BALATA DEL VERSA II 20-23      KICKS 1.6 17-23 FRICRAFT       SEMIMETALICA = SPC9269-D2038",288.39999999999998,3,5,1,1,2,1,{"$f":"+IFERROR(HYPERLINK(VLOOKUP(C1851,FOTOGRAFICO!C:E,3,FALSE),C1851),\"\")","v":"9269-D2038SM"}]
[null,null,"93370275EG","BALATA","BALATA DEL CORSA 02-08 TORNADO 04-18 MARCA FP IMPORTADO       = BA1176 = FRISPC7Y03",176.9,8,4,3,2,4,3,{"$f":"+IFERROR(HYPERLINK(VLOOKUP(C1852,FOTOGRAFICO!C:E,3,FALSE),C1852),\"\")","v":"93370275EG"}]
[null,null,"95017074","BALATA","BALATA TRAS SONIC 11-17 FRENO  DE TAMBOR MARCA FP IMPORTADO   1480-ZV S814",231.75,4,3,9,4,0,3,{"$f":"+IFERROR(HYPERLINK(VLOOKUP(C1853,FOTOGRAFICO!C:E,3,FALSE),C1853),\"\")","v":"95017074"}]
[null,null,"95231012","BALATA","BALATA DEL SONIC 11-17 MARCA   FP SEMIMETALICA M-7Y72-Z F404  = TMK8926-D1702SM = S7Y72F404",186.5,0,2,5,6,0,1,{"$f":"+IFERROR(HYPERLINK(VLOOKUP(C1854,FOTOGRAFICO!C:E,3,FALSE),C1854),\"\")","v":"95231012"}]
[null,null,"9611-D2385SM","BALATA","BALATA DEL ONIX 20-22 1.0 1.1  = SPC78Y1Z MARCA FRICRAFT",332.77,1,0,4,1,1,1,{"$f":"+IFERROR(HYPERLINK(VLOOKUP(C1855,FOTOGRAFICO!C:E,3,FALSE),C1855),\"\")","v":"9611-D2385SM"}]
[null,null,"96316582NK","BALATA","BALATA DEL MATIZ 04-15 MARCA   FP IMPORTADO = FRIM74X7-F139   = FRIS74X7 = D00012040",122.04,16,11,20,19,6,3,{"$f":"+IFERROR(HYPERLINK(VLOOKUP(C1856,FOTOGRAFICO!C:E,3,FALSE),C1856),\"\")","v":"96316582NK"}]
[null,null,"96475176CFP","BALATA","BALATA DEL AVEO 1.6 08-17 G3   PONTIAC 1.6 07-10 OPTRA 2.0 04 -10 MARCA FP CERAMICA",171.41,2,46,24,12,8,10,{"$f":"+IFERROR(HYPERLINK(VLOOKUP(C1857,FOTOGRAFICO!C:E,3,FALSE),C1857),\"\")","v":"96475176CFP"}]
[null,null,"A903","BALATA","BALATA TRAS VERSA 1.6 12-19    V-DRIVE 1.6 20-23 MARCH 1.6    12-23 TAMBOR FP IMPORTADO",263.29000000000002,0,4,5,4,5,3,{"$f":"+IFERROR(HYPERLINK(VLOOKUP(C1858,FOTOGRAFICO!C:E,3,FALSE),C1858),\"\")","v":"A903"}]
[null,null,"ACD19106077","BALATA","BALATA DEL CHEVY 94-12 CON     OJILLO MARCA ACDELCO M-7563-Z  = BA0688 = BBRC0100 = SPC7563",345.3,6,4,3,4,3,5,{"$f":"+IFERROR(HYPERLINK(VLOOKUP(C1859,FOTOGRAFICO!C:E,3,FALSE),C1859),\"\")","v":"ACD19106077"}]
[null,null,"BA0688","BALATA","BALATA DEL CHEVY 94-12 CON     OJILLO MARCA L&S   M-7563-Z    = ACD19106077 = 7563-D688",142.37,2,5,1,1,7,3,{"$f":"+IFERROR(HYPERLINK(VLOOKUP(C1860,FOTOGRAFICO!C:E,3,FALSE),C1860),\"\")","v":"BA0688"}]
[null,null,"BBRC0100","BALATA","BALATA DEL CHEVY 94-12 CON     OJILLO MARCA FP IMPORTADO      = ACD19106077 = BA0688",143.99,21,3,5,9,6,4,{"$f":"+IFERROR(HYPERLINK(VLOOKUP(C1861,FOTOGRAFICO!C:E,3,FALSE),C1861),\"\")","v":"BBRC0100"}]
[null,null,"BBRN0960","BALATA","BALATA TRAS TAMBOR VERSA 1.6   20-24 KICKS 17-24 ORGANICA     MARCA YOKOMITSU PIDE ROA",223.51,0,1,4,1,3,1,{"$f":"+IFERROR(HYPERLINK(VLOOKUP(C1862,FOTOGRAFICO!C:E,3,FALSE),C1862),\"\")","v":"BBRN0960"}]
[null,null,"BRA8253-1142","BALATA","BALATA DEL ATOS 02-12 GRANDE   MARCA FP IMPORTADO             = FRIM7Y02Z = FRIFTX7Y02",128.9,43,12,98,39,36,4,{"$f":"+IFERROR(HYPERLINK(VLOOKUP(C1863,FOTOGRAFICO!C:E,3,FALSE),C1863),\"\")","v":"BRA8253-1142"}]
[null,null,"BRUEE5K0698451AC","BALATA","BALATA TRAS FRENO DISCO JETTA  A6 2.5 11-18 BEETLE 2.0 TURBO  11-19 GOLF A7 1.4 15-19 BRUCK",238.59,0,3,2,2,1,2,{"$f":"+IFERROR(HYPERLINK(VLOOKUP(C1864,FOTOGRAFICO!C:E,3,FALSE),C1864),\"\")","v":"BRUEE5K0698451AC"}]
[null,null,"BRUEE6RU698151AC","BALATA","BALATA DELANTERA VENTO 1.6 14- 19 POLO 1.6 13-19 CERAMICA 17  MM CON SEGURO MARCA BRUCK",331.45,0,3,5,2,2,2,{"$f":"+IFERROR(HYPERLINK(VLOOKUP(C1865,FOTOGRAFICO!C:E,3,FALSE),C1865),\"\")","v":"BRUEE6RU698151AC"}]
[null,null,"BRUEE7318D815CER","BALATA","BALATA DEL SENTRA 2.0 13-19    SENTRA B16 2.0 06-12 ALTIMA    3.5 07-12 JUKE 1.6 BRUCK",324.39,3,1,8,2,3,0,{"$f":"+IFERROR(HYPERLINK(VLOOKUP(C1866,FOTOGRAFICO!C:E,3,FALSE),C1866),\"\")","v":"BRUEE7318D815CER"}]
[null,null,"BRUEE7779D1035CE","BALATA","BALATA DELANTERA AVEO 1.6 04-  10 OPTRA 2.0 06-10 G3 1.6 06-  10 CERAMICA 17.5MM DISCO BRUCK",333.82,1,1,3,1,1,4,{"$f":"+IFERROR(HYPERLINK(VLOOKUP(C1867,FOTOGRAFICO!C:E,3,FALSE),C1867),\"\")","v":"BRUEE7779D1035CE"}]
[null,null,"BRUEE8212D1107CE","BALATA","BALATA DELANTERA JETTA A6 2.0  TURBO 2.5 11-18 BORA 2.5 FSI   05-10 PASSAT 2.0T 05-11 BRUCK",488.96,1,1,1,1,1,1,{"$f":"+IFERROR(HYPERLINK(VLOOKUP(C1868,FOTOGRAFICO!C:E,3,FALSE),C1868),\"\")","v":"BRUEE8212D1107CE"}]
[null,null,"BRUEE-8455D1344","BALATA","BALATA DELANTERA HIACE 2.7 05- 19 SEMIMETALICA 15.5MM MARCA   BRUCK GERMANY EE-8455D1344",270.33999999999997,1,0,1,2,2,2,{"$f":"+IFERROR(HYPERLINK(VLOOKUP(C1869,FOTOGRAFICO!C:E,3,FALSE),C1869),\"\")","v":"BRUEE-8455D1344"}]
[null,null,"BRUEE8456D1345CE","BALATA","BALATA DELANTERA TIIDA 1.8 06- 10 CERAMICA 14MM MARCA BRUCK   GERMANY EE-8456D1345-CER",340.84,2,1,3,1,1,1,{"$f":"+IFERROR(HYPERLINK(VLOOKUP(C1870,FOTOGRAFICO!C:E,3,FALSE),C1870),\"\")","v":"BRUEE8456D1345CE"}]
[null,null,"BRUEE8668D1468CE","BALATA","BALATA TRAS FRENO DISCO CRUZE  1.8 10-16 SONIC 1.6 13 TRAX    1.8 13-19 VOLT 1.4 11-15 BRUCK",303.25,0,2,4,0,0,1,{"$f":"+IFERROR(HYPERLINK(VLOOKUP(C1871,FOTOGRAFICO!C:E,3,FALSE),C1871),\"\")","v":""}]
[null,null,"BRUEE8697D1522CE","BALATA","BALATA DELANTERA CRUZE 1.8 10- 16 SONIC 1.4 TURBO 12-17       CERAMICA 18.1MM MARCA BRUCK",320.87,3,4,3,3,2,2,{"$f":"+IFERROR(HYPERLINK(VLOOKUP(C1872,FOTOGRAFICO!C:E,3,FALSE),C1872),\"\")","v":""}]
[null,null,"BRUEE8V0698151CE","BALATA","BALATA DELANTERA GOLF A7 1.4   TSI 15-19 AUDI A3 1.4 TURBO 13 -20 LEON 1.4 TSI 14-20 BRUCK",471.31,2,3,2,2,1,2,{"$f":"+IFERROR(HYPERLINK(VLOOKUP(C1873,FOTOGRAFICO!C:E,3,FALSE),C1873),\"\")","v":""}]
[null,null,"BRUEE95231012CER","BALATA","BALATA DELANTERA SONIC 1.6 12- 17 CERAMICA 16.7MM MARCA BRUCK GERMANY EE-95231012-CER",369.07,1,1,1,2,1,1,{"$f":"+IFERROR(HYPERLINK(VLOOKUP(C1874,FOTOGRAFICO!C:E,3,FALSE),C1874),\"\")","v":"BRUEE95231012CER"}]
[null,null,"C-049401M3","BALATA","BALATA TRASERA ITALIKA FT150   JGO BALATAS FRENO TAMBOR MOTO  ENBAF-1301-002",63.25,4,2,0,0,3,6,{"$f":"+IFERROR(HYPERLINK(VLOOKUP(C1875,FOTOGRAFICO!C:E,3,FALSE),C1875),\"\")","v":""}]
[null,null,"C-049404M3","BALATA","BALATA TRASERA GS125 SUZUKI    JGO BALATAS FRENO TAMBOR MOTO  ENBAF-1301-006",63.35,1,0,0,2,0,1,{"$f":"+IFERROR(HYPERLINK(VLOOKUP(C1876,FOTOGRAFICO!C:E,3,FALSE),C1876),\"\")","v":""}]
[null,null,"C-049405M3","BALATA","BALATA TRASERA YAMAHA RS125    JGO BALATAS FRENO TAMBOR MOTO  ENBAF-1301-008",58.48,0,0,0,0,0,2,{"$f":"+IFERROR(HYPERLINK(VLOOKUP(C1877,FOTOGRAFICO!C:E,3,FALSE),C1877),\"\")","v":""}]
[null,null,"C-049407M3","BALATA","BALATA MOTO SUZUKI GN125 GS125 FRENO DISCO JGO ENBAF-1301-101 DELANTERA",28.24,0,0,0,0,8,0,{"$f":"+IFERROR(HYPERLINK(VLOOKUP(C1878,FOTOGRAFICO!C:E,3,FALSE),C1878),\"\")","v":""}]
[null,null,"C-049409M3","BALATA","BALATA MOT ITALIKA FT150,HONDA FRENO DISCO JGO ENBAF-1301-103 DELANTERA MOTO TITA",30.43,3,0,4,0,3,4,{"$f":"+IFERROR(HYPERLINK(VLOOKUP(C1879,FOTOGRAFICO!C:E,3,FALSE),C1879),\"\")","v":""}]
[null,null,"C-049410M3","BALATA","BALATA MOT ITALIKA DS150/DS125 FRENO DISCO JGO ENBAF-1301-104 DELANTERA MOTO",25.9,3,0,2,2,2,0,{"$f":"+IFERROR(HYPERLINK(VLOOKUP(C1880,FOTOGRAFICO!C:E,3,FALSE),C1880),\"\")","v":""}]
[null,null,"C-049411M3","BALATA","BALATA SUZUKI FT150,INVICTA    FRENO DISCO JGO ENBAF-1301-108 DELANTERA MOTO",32.590000000000003,0,0,0,2,2,2,{"$f":"+IFERROR(HYPERLINK(VLOOKUP(C1881,FOTOGRAFICO!C:E,3,FALSE),C1881),\"\")","v":""}]
[null,null,"C-049412M3","BALATA","BALATA YAMAHA NOUVO 125CC      FRENO DISCO JGO ENBAF-1301-108 DELANTERA MOTO TC250",32.590000000000003,2,0,0,7,2,3,{"$f":"+IFERROR(HYPERLINK(VLOOKUP(C1882,FOTOGRAFICO!C:E,3,FALSE),C1882),\"\")","v":""}]
[null,null,"C-049414M3","BALATA","BALATA MOTO BAJAJ PULSAR 180   FRENO DISCO JGO ENBAF-1301-114 DELANTERA",32.590000000000003,0,4,3,0,3,2,{"$f":"+IFERROR(HYPERLINK(VLOOKUP(C1883,FOTOGRAFICO!C:E,3,FALSE),C1883),\"\")","v":""}]
[null,null,"C-049416M3","BALATA","BALATA MOTO ITALIKA ATV150     FRENO DISCO JGO ENBAF-1301-123 DELANTERA ATV-150",27.56,4,0,0,0,5,0,{"$f":"+IFERROR(HYPERLINK(VLOOKUP(C1884,FOTOGRAFICO!C:E,3,FALSE),C1884),\"\")","v":""}]
[null,null,"C-049571Q0","BALATA","BALATA TRASERA ITALIKA FT125   TAMBOR PASTA VERDE JUEGO MOTO",64.59,2,0,0,1,2,2,{"$f":"+IFERROR(HYPERLINK(VLOOKUP(C1885,FOTOGRAFICO!C:E,3,FALSE),C1885),\"\")","v":""}]
[null,null,"CMD00012160","BALATA","BALATA DEL GRAND I10 15-21     MARCA FAG CERAMICA = FRIS8X65",551.48,1,2,1,1,1,0,{"$f":"+IFERROR(HYPERLINK(VLOOKUP(C1886,FOTOGRAFICO!C:E,3,FALSE),C1886),\"\")","v":""}]
[null,null,"CMD10357779","BALATA","BALATA DEL AVEO 1.6 08-17 G3   PONTIAC 1.6 07-10 OPTRA 2.0 04 -10 FAG CERAMICA = WD1035",366.49,1,1,1,3,1,4,{"$f":"+IFERROR(HYPERLINK(VLOOKUP(C1887,FOTOGRAFICO!C:E,3,FALSE),C1887),\"\")","v":""}]
[null,null,"CMD11078212","BALATA","BALATA DEL JETTA A4 TRDL.05-10 BICENTENARIO 10-11 IBIZA 09-16 C/CEJA C/SENSOR FAG CERAMICA",458.22,0,3,1,1,0,1,{"$f":"+IFERROR(HYPERLINK(VLOOKUP(C1888,FOTOGRAFICO!C:E,3,FALSE),C1888),\"\")","v":""}]
[null,null,"CMD11428253","BALATA","BALATA DEL ATOS 02-12 GRANDE   MARCA FAG CERAMICA             = BRA8253-1142",357.88,0,0,0,1,0,0,{"$f":"+IFERROR(HYPERLINK(VLOOKUP(C1889,FOTOGRAFICO!C:E,3,FALSE),C1889),\"\")","v":"CMD11428253"}]
[null,null,"CMD11468256","BALATA","BALATA DEL PLATINA 02-10 APRIO 08-10 SANDERO 10-17 STEPWAY 10 -17 S/SENSOR FAG CERAMICA",371.18,1,1,2,2,1,2,{"$f":"+IFERROR(HYPERLINK(VLOOKUP(C1890,FOTOGRAFICO!C:E,3,FALSE),C1890),\"\")","v":""}]
[null,null,"CMD11568266","BALATA","BALATA DEL ATTITUDE 06-11 JAC  J4 1.5 18-21 MARCA FAG         CERAMICA = MIZK1100",391.82,1,1,1,1,0,1,{"$f":"+IFERROR(HYPERLINK(VLOOKUP(C1891,FOTOGRAFICO!C:E,3,FALSE),C1891),\"\")","v":""}]
[null,null,"CMD11738284","BALATA","BALATA DEL POINTER,PICKUP 99-  10 VAGON.CHEVY PICKUP 99-05 CO RTA 104X53.5GRAPA FAG CERAMICA",346.62,1,0,1,1,1,2,{"$f":"+IFERROR(HYPERLINK(VLOOKUP(C1892,FOTOGRAFICO!C:E,3,FALSE),C1892),\"\")","v":"CMD11738284"}]
[null,null,"CMD11768290","BALATA","BALATA DEL CORSA 02-08 TORNADO 04-18 MARCA FAG CERAMICA       = 8290-D1176 = 93370275EG",404.05,0,1,1,1,0,1,{"$f":"+IFERROR(HYPERLINK(VLOOKUP(C1893,FOTOGRAFICO!C:E,3,FALSE),C1893),\"\")","v":""}]
[null,null,"CMD13218433","BALATA","BALATA DEL MATIZ 04-15 MARCA   FAG CERAMICA = WX1321          = FRIM74X7-F139",308.72000000000003,1,0,2,1,1,1,{"$f":"+IFERROR(HYPERLINK(VLOOKUP(C1894,FOTOGRAFICO!C:E,3,FALSE),C1894),\"\")","v":""}]
[null,null,"CMD13458456","BALATA","BALATA DEL TIIDA 07-18 MARCA   FAG CERAMICA = FRIFTX7Y93F302  = FRIFTX7Y93F302",374.35,1,6,4,1,1,2,{"$f":"+IFERROR(HYPERLINK(VLOOKUP(C1895,FOTOGRAFICO!C:E,3,FALSE),C1895),\"\")","v":"CMD13458456"}]
[null,null,"CMD14548653","BALATA","BALATA DEL FIESTA 11-17 MAZDA  2 11-15 SWIFT GLX 1.4 1.6 13-  18 MARCA FAG CERAMICA",400.87,1,0,1,1,0,1,{"$f":"+IFERROR(HYPERLINK(VLOOKUP(C1896,FOTOGRAFICO!C:E,3,FALSE),C1896),\"\")","v":""}]
[null,null,"CMD14718671","BALATA","BALATA DEL AVANZA 07-18 MARCA  FAG CERAMICA                   SPC-7Y44-Z F318 D1471",435.72,1,2,2,1,1,0,{"$f":"+IFERROR(HYPERLINK(VLOOKUP(C1897,FOTOGRAFICO!C:E,3,FALSE),C1897),\"\")","v":"CMD14718671"}]
[null,null,"CMD15908801","BALATA","BALATA DEL SPARK 1.2 11-17     BEAT 1.2 18-21 MARCA FAG       CERAMICA = WC1590",366.49,1,2,2,2,2,0,{"$f":"+IFERROR(HYPERLINK(VLOOKUP(C1898,FOTOGRAFICO!C:E,3,FALSE),C1898),\"\")","v":""}]
[null,null,"CMD15928804","BALATA","BALATA DEL VERSA 1.6 12-19     V-DRIVE 1.6 20-23 MARCH 1.6    12-23 MARCA FAG CERAMICA",313.45999999999998,3,5,7,9,4,6,{"$f":"+IFERROR(HYPERLINK(VLOOKUP(C1899,FOTOGRAFICO!C:E,3,FALSE),C1899),\"\")","v":"CMD15928804"}]
[null,null,"CMD15938806","BALATA","BALATA DEL ATTITUDE 1.4 1.6    12-14 KIA RIO 1.6 12-20 ACCENT 1.6 12-22 FAG CERAMICA",420.27,0,0,2,0,1,1,{"$f":"+IFERROR(HYPERLINK(VLOOKUP(C1900,FOTOGRAFICO!C:E,3,FALSE),C1900),\"\")","v":"CMD15938806"}]
[null,null,"CMD16018815","BALATA","BALATA DEL I10 12-14 MARCA     FAG CERAMICA = S7Y455319       = 7Y45Z-F319 = S7Y455319",371.84,1,0,1,2,1,1,{"$f":"+IFERROR(HYPERLINK(VLOOKUP(C1901,FOTOGRAFICO!C:E,3,FALSE),C1901),\"\")","v":""}]
[null,null,"CMD16418868","BALATA","BALATA DEL GOL 12-18 UP 16-18  SAVEIRO 12-17 MARCA FAG        CERAMICA = D16418868",408.69,2,1,1,2,1,3,{"$f":"+IFERROR(HYPERLINK(VLOOKUP(C1902,FOTOGRAFICO!C:E,3,FALSE),C1902),\"\")","v":""}]
[null,null,"CMD17028926","BALATA","BALATA DEL SONIC 11-17 MARCA   FAG CERAMICA = TMK8926-D1702SM = 95231012",456.66,1,1,2,1,1,2,{"$f":"+IFERROR(HYPERLINK(VLOOKUP(C1903,FOTOGRAFICO!C:E,3,FALSE),C1903),\"\")","v":"CMD17028926"}]
[null,null,"CMD17318956","BALATA","BALATA DEL ATTITUDE 15-23      MIRAGE 14-23 MARCA FAG         CERAMICA = WC1731",485.31,0,1,2,2,1,1,{"$f":"+IFERROR(HYPERLINK(VLOOKUP(C1904,FOTOGRAFICO!C:E,3,FALSE),C1904),\"\")","v":""}]
[null,null,"CMD17769006","BALATA","BALATA DEL VENTO 13-23 POLO    15-23 MARCA FAG CEREMICA       = TMK9006-D1776 = M8Y03F464",471.56,1,2,1,1,1,3,{"$f":"+IFERROR(HYPERLINK(VLOOKUP(C1905,FOTOGRAFICO!C:E,3,FALSE),C1905),\"\")","v":""}]
[null,null,"CMD19529167","BALATA","BALATA DEL AVEO 1.5 18-23      MARCA FAG CERAMICA             9167-Z D1942 = 9167D1942SG",461.92,1,0,3,1,3,2,{"$f":"+IFERROR(HYPERLINK(VLOOKUP(C1906,FOTOGRAFICO!C:E,3,FALSE),C1906),\"\")","v":""}]
[null,null,"CMD20249254","BALATA","BALATA DEL SPARK 1.4 16-21 LTZ PREMIER MARCA FAG CERAMICA     = FRIS9254D2024",366.41,1,2,1,2,2,1,{"$f":"+IFERROR(HYPERLINK(VLOOKUP(C1907,FOTOGRAFICO!C:E,3,FALSE),C1907),\"\")","v":""}]
[null,null,"CMD20389269","BALATA","BALATA DEL VERSA II 20-23      KICKS 1.6 17-23 FAG CERAMICA   = SPC9269-D2038",383.75,1,1,1,1,2,2,{"$f":"+IFERROR(HYPERLINK(VLOOKUP(C1908,FOTOGRAFICO!C:E,3,FALSE),C1908),\"\")","v":"CMD20389269"}]
[null,null,"CMD23859611","BALATA","BALATA DEL ONIX 1.0 1.1 20-22  MARCA FAG CERAMICA             = 9611-D2385SM",506.55,1,1,1,2,1,1,{"$f":"+IFERROR(HYPERLINK(VLOOKUP(C1909,FOTOGRAFICO!C:E,3,FALSE),C1909),\"\")","v":""}]
[null,null,"CMD34073350","BALATA","BALATA TRAS JETTA CLAS.11-15   JETTA A4 00-13 JETTA A6 11-18  IBIZA 01-16 FAG CERAMICA DISCO",299.52999999999997,1,0,3,2,1,1,{"$f":"+IFERROR(HYPERLINK(VLOOKUP(C1910,FOTOGRAFICO!C:E,3,FALSE),C1910),\"\")","v":""}]
[null,null,"CMD51073890","BALATA","BALATA DEL TSURU III 92-17     TSUBAME 93-04 SENTRA 91-94     MARCA FAG CERAMICA",228.64,1,6,2,2,2,2,{"$f":"+IFERROR(HYPERLINK(VLOOKUP(C1911,FOTOGRAFICO!C:E,3,FALSE),C1911),\"\")","v":"CMD51073890"}]
[null,null,"CMD68875630","BALATA","BALATA DEL CHEVY 94-12 CON     OJILLO MARCA FAG CERAMICA      = ACD19106077 = BA0688",263.61,2,1,5,2,3,0,{"$f":"+IFERROR(HYPERLINK(VLOOKUP(C1912,FOTOGRAFICO!C:E,3,FALSE),C1912),\"\")","v":""}]
[null,null,"CMD76877090","BALATA","BALATA DEL JETTA CLAS.08-15    IBIZA 09-14 BEETLE 2.5 14-18   S/SENSOR CERAMICA MARCA FAG",412.91,2,2,2,2,1,2,{"$f":"+IFERROR(HYPERLINK(VLOOKUP(C1913,FOTOGRAFICO!C:E,3,FALSE),C1913),\"\")","v":""}]
[null,null,"D00010040","BALATA","BALATA DEL FIESTA 00-10 FIESTA IKON 02-07 COURIER 01-09 KA 01 -08 LARGA SEMIMETALICA FAG",342.07,2,0,3,3,3,1,{"$f":"+IFERROR(HYPERLINK(VLOOKUP(C1914,FOTOGRAFICO!C:E,3,FALSE),C1914),\"\")","v":""}]
[null,null,"D0001104A","BALATA","BALATA DEL URVAN NV350 02-23   2.4 2.5 3.0 MARCA FAG          SEMIMETALICA 8310-Z D1191",388.66,20,2,9,10,8,4,{"$f":"+IFERROR(HYPERLINK(VLOOKUP(C1915,FOTOGRAFICO!C:E,3,FALSE),C1915),\"\")","v":""}]
[null,null,"D00012010","BALATA","BALATA DEL ATOS 00-01 CHICA    MARCA FAG SEMIMETALICA         = FRIM7X37Z = SPC7X37",362.53,1,0,1,1,1,1,{"$f":"+IFERROR(HYPERLINK(VLOOKUP(C1916,FOTOGRAFICO!C:E,3,FALSE),C1916),\"\")","v":""}]
[null,null,"D00012020","BALATA","BALATA DEL ATOS 02-12 GRANDE   MARCA FAG SEMIMETALICA         10.45X4.7 CM = FRIM7Y02Z",349.69,1,3,0,1,2,1,{"$f":"+IFERROR(HYPERLINK(VLOOKUP(C1917,FOTOGRAFICO!C:E,3,FALSE),C1917),\"\")","v":"D00012020"}]
[null,null,"D00012040","BALATA","BALATA DEL MATIZ 04-15 MARCA   FAG SEMIMETALICA = WX1321      = FRIM74X7-F139",285.64,1,1,1,1,0,3,{"$f":"+IFERROR(HYPERLINK(VLOOKUP(C1918,FOTOGRAFICO!C:E,3,FALSE),C1918),\"\")","v":""}]
[null,null,"D0001305A","BALATA","BALATA DEL POINTER 99-09 LARGA DELGADA DISCO VENTILADO MARCA  FAG SEMIMETALICA = FRIM77X7Z",301.81,1,1,3,1,2,1,{"$f":"+IFERROR(HYPERLINK(VLOOKUP(C1919,FOTOGRAFICO!C:E,3,FALSE),C1919),\"\")","v":"D0001305A"}]
[null,null,"D00013090","BALATA","BALATA DEL POINTER,PICKUP 99-  10 VAGON.CHEVY PICKUP 99-05 CO RTA 104X53.5 MM GRAPA RUVILLE",333.41,3,1,5,4,0,2,{"$f":"+IFERROR(HYPERLINK(VLOOKUP(C1920,FOTOGRAFICO!C:E,3,FALSE),C1920),\"\")","v":""}]
[null,null,"D00013160","BALATA","BALATA DEL PLATINA 02-10 APRIO 08-10 SANDERO 10-17 STEPWAY 10 -17 S/SENSOR MARCA RUVILLE HYB",394.04,1,2,1,0,2,1,{"$f":"+IFERROR(HYPERLINK(VLOOKUP(C1921,FOTOGRAFICO!C:E,3,FALSE),C1921),\"\")","v":""}]
[null,null,"D00013210","BALATA","BALATA DEL CORSA 02-08 TORNADO 04-18 MARCA RUVILLE HYBRIDA    = FRISPC7Y03 = 8290-D1176",353.93,1,1,1,1,1,1,{"$f":"+IFERROR(HYPERLINK(VLOOKUP(C1922,FOTOGRAFICO!C:E,3,FALSE),C1922),\"\")","v":""}]
[null,null,"D02107550","BALATA","BALATA DELANTER VW SEDAN VOCHO 95-04 BRASILIA 74-83 DISCO     MARCA FAG SEMIMETALICA",118.64,0,2,0,2,0,3,{"$f":"+IFERROR(HYPERLINK(VLOOKUP(C1923,FOTOGRAFICO!C:E,3,FALSE),C1923),\"\")","v":""}]
[null,null,"D10357779","BALATA","BALATA DEL AVEO 1.6 08-17 G3   PONTIAC 1.6 07-10 OPTRA 2.0 04 -10 FAG SEMIMETALICA",315.02,1,0,5,2,1,1,{"$f":"+IFERROR(HYPERLINK(VLOOKUP(C1924,FOTOGRAFICO!C:E,3,FALSE),C1924),\"\")","v":"D10357779"}]
[null,null,"D1060-5RB0BCFP","BALATA","BALATA DEL VERSA II 20-23      KICKS 1.6 17-23 MARCA FP       CERAMICA = SPC9269-D2038",264.67,2,4,4,11,2,1,{"$f":"+IFERROR(HYPERLINK(VLOOKUP(C1925,FOTOGRAFICO!C:E,3,FALSE),C1925),\"\")","v":"D1060-5RB0BCFP"}]
[null,null,"D11738284","BALATA","BALATA DEL POINTER,PICKUP 99-  10 VAGON.CHEVY PICKUP 99-05 CO RTA 104X53.5 GRAPA FAG SEMIMET",290.32,2,0,2,1,1,2,{"$f":"+IFERROR(HYPERLINK(VLOOKUP(C1926,FOTOGRAFICO!C:E,3,FALSE),C1926),\"\")","v":"D11738284"}]
[null,null,"D13268438","BALATA","BALATA TRAS JOURNEY 09-11      RUVILLE                        PEDIDO DANIEL",401.8,0,0,0,0,0,0,{"$f":"+IFERROR(HYPERLINK(VLOOKUP(C1927,FOTOGRAFICO!C:E,3,FALSE),C1927),\"\")","v":""}]
[null,null,"D13278481","BALATA","BALATA DEL JOURNEY 09-11 RUVIL LE                             PEDIDO DANIEL",551.29999999999995,0,0,0,0,0,0,{"$f":"+IFERROR(HYPERLINK(VLOOKUP(C1928,FOTOGRAFICO!C:E,3,FALSE),C1928),\"\")","v":""}]
[null,null,"D14348552","BALATA","BALATA DEL TOYOTA HIACE 06-19  MARCA FAG SEMIMETALICA         = 04491-26180NK",335.15,0,0,1,2,1,2,{"$f":"+IFERROR(HYPERLINK(VLOOKUP(C1929,FOTOGRAFICO!C:E,3,FALSE),C1929),\"\")","v":"D14348552"}]
[null,null,"D15908801","BALATA","BALATA DEL SPARK 1.2 11-17     BEAT 1.2 18-21 MARCA FAG       SEMIMETALICA = S8801D1590",324.13,2,1,1,1,2,1,{"$f":"+IFERROR(HYPERLINK(VLOOKUP(C1930,FOTOGRAFICO!C:E,3,FALSE),C1930),\"\")","v":"D15908801"}]
[null,null,"D16418868","BALATA","BALATA DEL GOL 12-18 UP 16-18  SAVEIRO 12-17 MARCA RUVILLE    = SPCS8868-D1641",491.1,1,1,1,1,0,1,{"$f":"+IFERROR(HYPERLINK(VLOOKUP(C1931,FOTOGRAFICO!C:E,3,FALSE),C1931),\"\")","v":""}]
[null,null,"D23371550","BALATA","BALATA DEL TSURU I II 84-91    SENTRA 85-90 MARCA FAG         SEMIMETALICA = FRIM7155Z",155.27000000000001,1,0,1,1,0,0,{"$f":"+IFERROR(HYPERLINK(VLOOKUP(C1932,FOTOGRAFICO!C:E,3,FALSE),C1932),\"\")","v":""}]
[null,null,"D4060-5RB0AFP","BALATA","BALATA TRAS VERSA II 1.6 20-23 KICKS 1.6 17-23 TAMBOR MARCA   FP IMPORTADO = OW1Y21ZV",239.98,0,0,0,0,2,2,{"$f":"+IFERROR(HYPERLINK(VLOOKUP(C1933,FOTOGRAFICO!C:E,3,FALSE),C1933),\"\")","v":"D4060-5RB0AFP"}]
[null,null,"D51073890","BALATA","BALATA DEL TSURU III 92-17     TSUBAME 93-04 SENTRA 91-94     MARCA FAG SEMIMETALICA",189.74,8,8,6,3,4,3,{"$f":"+IFERROR(HYPERLINK(VLOOKUP(C1934,FOTOGRAFICO!C:E,3,FALSE),C1934),\"\")","v":""}]
[null,null,"D510-7389F","BALATA","BALATA DEL TSURU III 92-17     TSUBAME 93-04 SENTRA 91-94     MARCA FP SEMIMETALICA",90.57,78,43,74,28,21,24,{"$f":"+IFERROR(HYPERLINK(VLOOKUP(C1935,FOTOGRAFICO!C:E,3,FALSE),C1935),\"\")","v":""}]
[null,null,"D5917470A","BALATA","BALATA DEL VOYAGER 96-03 CARAV AN 96-00 GRAND VOYAGER 96-00   INTREPID 93-97 FAG SEMIMETALIC",283.62,0,0,3,2,1,1,{"$f":"+IFERROR(HYPERLINK(VLOOKUP(C1936,FOTOGRAFICO!C:E,3,FALSE),C1936),\"\")","v":""}]
[null,null,"D66875460","BALATA","BALATA DEL SENTRA 1.6 95-99    200SX 95-98 TIPO VAMPIRO MARCA FAG SEMIMETALICA",274.66000000000003,1,0,1,1,0,1,{"$f":"+IFERROR(HYPERLINK(VLOOKUP(C1937,FOTOGRAFICO!C:E,3,FALSE),C1937),\"\")","v":""}]
[null,null,"D68875630","BALATA","BALATA DEL CHEVY 94-03 SIN     OJILLO MARCA FAG SEMIMETALICA  14.02X4.8 CM",224.36,1,2,2,3,4,1,{"$f":"+IFERROR(HYPERLINK(VLOOKUP(C1938,FOTOGRAFICO!C:E,3,FALSE),C1938),\"\")","v":""}]
[null,null,"D69475690","BALATA","BALATA DEL GOL SIN ABS 09-11   LEON 02-08 GOLF A3 96-98 JETTA A3 96-96 VAMPIRO GRUESA RUVILL",374.18,0,0,0,0,0,2,{"$f":"+IFERROR(HYPERLINK(VLOOKUP(C1939,FOTOGRAFICO!C:E,3,FALSE),C1939),\"\")","v":""}]
[null,null,"D69975740","BALATA","BALATA DEL VENTURE 97-04 GRAND PRIX 97-01 MARCA RUVILLE       PEDIDO LONDAIZ",428.08,0,0,0,0,0,0,{"$f":"+IFERROR(HYPERLINK(VLOOKUP(C1940,FOTOGRAFICO!C:E,3,FALSE),C1940),\"\")","v":""}]
[null,null,"D70475780","BALATA","BALATA DEL IBIZA STELLA 01-03  CORDOBA 01-03 JETTA A3 98-99   DERBY 00-09 C/SEG.ARRI.FAG",365.65,0,0,0,3,0,2,{"$f":"+IFERROR(HYPERLINK(VLOOKUP(C1941,FOTOGRAFICO!C:E,3,FALSE),C1941),\"\")","v":""}]
[null,null,"D76877090","BALATA","BALATA DEL JETTA CLAS.08-15    IBIZA 09-14 BEETLE 2.5 14-18   VAMPIRO S/SENSOR MARCA FAG",542.16,1,0,0,2,0,0,{"$f":"+IFERROR(HYPERLINK(VLOOKUP(C1942,FOTOGRAFICO!C:E,3,FALSE),C1942),\"\")","v":""}]
[null,null,"DAIBBRN0350","BALATA","BALATA TRAS PLATINA 02-10 CLIO 01-10 VISION 15-18 FIAT UNO 14 -17 FRENO TAMBOR DAIWA IMPORTA",401.95,1,0,0,0,0,0,{"$f":"+IFERROR(HYPERLINK(VLOOKUP(C1943,FOTOGRAFICO!C:E,3,FALSE),C1943),\"\")","v":""}]
[null,null,"DNK410602596LM","BALATA","BALATA DEL KWID 1.0 19-21      MARCA DYNAMIK LOW MET          82Y2-F564",453.85,2,13,2,1,0,1,{"$f":"+IFERROR(HYPERLINK(VLOOKUP(C1944,FOTOGRAFICO!C:E,3,FALSE),C1944),\"\")","v":"DNK410602596LM"}]
[null,null,"DNK7147D233","BALATA","BALATA DEL TSURU I II 84-91    SENTRA 85-90 MARCA DYNAMIK     SEMIMETALICA",383.54,0,0,5,0,6,4,{"$f":"+IFERROR(HYPERLINK(VLOOKUP(C1945,FOTOGRAFICO!C:E,3,FALSE),C1945),\"\")","v":"DNK7147D233"}]
[null,null,"DNK7155D275","BALATA","BALATA DEL TSURU I II 84-91    SENTRA 85-90 MARCA DYNAMIK     SEMIMETALICA = FRIM7155Z",230.69,0,0,5,0,16,0,{"$f":"+IFERROR(HYPERLINK(VLOOKUP(C1946,FOTOGRAFICO!C:E,3,FALSE),C1946),\"\")","v":"DNK7155D275"}]
[null,null,"DNK7228D333","BALATA","BALATA DEL NP300 09-17 PICKUP  D21 86-10 URVAN 00-01 FRONTIER 98-04 DYNAMIK SEMIMETALICA",258.93,1,0,0,2,2,4,{"$f":"+IFERROR(HYPERLINK(VLOOKUP(C1947,FOTOGRAFICO!C:E,3,FALSE),C1947),\"\")","v":"DNK7228D333"}]
[null,null,"DNK7242D350","BALATA","BALATA DEL POINTER 98-07 LARGA GRUESA DISCO SOLIDO MARCA      DYNAMIK SEMIMETALICA",376.93,0,5,0,1,2,2,{"$f":"+IFERROR(HYPERLINK(VLOOKUP(C1948,FOTOGRAFICO!C:E,3,FALSE),C1948),\"\")","v":"DNK7242D350"}]
[null,null,"DNK7389D510","BALATA","BALATA DEL TSURU III 92-17     TSUBAME 93-04 SENTRA 91-94     DYNAMIK LOW MET",201.01,0,3,7,5,4,1,{"$f":"+IFERROR(HYPERLINK(VLOOKUP(C1949,FOTOGRAFICO!C:E,3,FALSE),C1949),\"\")","v":""}]
[null,null,"DNK7389D510SD","BALATA","BALATA DEL TSURU III 92-17     TSUBAME 93-04 SENTRA 91-94     DYNAMIK CERAMICA",287.06,3,0,0,0,0,0,{"$f":"+IFERROR(HYPERLINK(VLOOKUP(C1950,FOTOGRAFICO!C:E,3,FALSE),C1950),\"\")","v":"DNK7389D510SD"}]
[null,null,"DNK7418D1086K","BALATA","BALATA TRAS ACCORD 10-11 CR-V  07-16 CROOSTOUR 10-15 FRENO DE DISCO DYNAMIK CERAMICA",378,1,0,0,0,0,0,{"$f":"+IFERROR(HYPERLINK(VLOOKUP(C1951,FOTOGRAFICO!C:E,3,FALSE),C1951),\"\")","v":""}]
[null,null,"DNK7532D652","BALATA","BALATA DELANTERA EXPLORER 95-  01 RANGER 95-03 RANGER         10-11 DYNAMIK SEMIMETALICA",323.08999999999997,3,2,2,2,0,1,{"$f":"+IFERROR(HYPERLINK(VLOOKUP(C1952,FOTOGRAFICO!C:E,3,FALSE),C1952),\"\")","v":""}]
[null,null,"DNK7563D688","BALATA","BALATA DEL CHEVY 94-12 CON     OJILLO MARCA DYNAMIK LOW MET   = ACD19106077 = BA0688",268.62,6,0,2,1,3,2,{"$f":"+IFERROR(HYPERLINK(VLOOKUP(C1953,FOTOGRAFICO!C:E,3,FALSE),C1953),\"\")","v":"DNK7563D688"}]
[null,null,"DNK7614D709","BALATA","BALATA TRASERA CATERA 97-01    MARCA DYNAMIK LOW MET          7614-D709",315.85000000000002,0,0,0,0,0,0,{"$f":"+IFERROR(HYPERLINK(VLOOKUP(C1954,FOTOGRAFICO!C:E,3,FALSE),C1954),\"\")","v":""}]
[null,null,"DNK7779D1035","BALATA","BALATA DEL AVEO 1.6 08-17 G3   PONTIAC 1.6 07-10 OPTRA 2.0 04 -10 DYNAMIK SEMIMETALICA",369.48,5,4,2,1,0,4,{"$f":"+IFERROR(HYPERLINK(VLOOKUP(C1955,FOTOGRAFICO!C:E,3,FALSE),C1955),\"\")","v":"DNK7779D1035"}]
[null,null,"DNK7789D910","BALATA","BALATA DEL MONDEO 01-07 MARCA  DYNAMIK SEMIMETALICA           7789-D910",534.69000000000005,0,0,0,0,0,0,{"$f":"+IFERROR(HYPERLINK(VLOOKUP(C1956,FOTOGRAFICO!C:E,3,FALSE),C1956),\"\")","v":""}]
[null,null,"DNK7790D911","BALATA","BALATA TRASERA MONDEO CORE     TREND GUIA I4 V6 01-06 MARCA   DYNAMIK SEMIMETALICA 7790-D911",470.06,0,0,0,0,0,0,{"$f":"+IFERROR(HYPERLINK(VLOOKUP(C1957,FOTOGRAFICO!C:E,3,FALSE),C1957),\"\")","v":""}]
[null,null,"DNK8200D1094","BALATA","BALATA DELANTERA FRONTIER 05-  14 PATHFINDER 05-12 XTERRA 06- 13 LEAF 11-14 DYNAMIK LOW MET",566.89,0,0,0,0,1,0,{"$f":"+IFERROR(HYPERLINK(VLOOKUP(C1958,FOTOGRAFICO!C:E,3,FALSE),C1958),\"\")","v":""}]
[null,null,"DNK8213D1108","BALATA","BALATA TRAS ALTEA 06-13 LEON   08-14 IBIZA 11-15 TOLEDO 06-16 BORA 2.5 06-10 DYNAMIK LOW MET",384.21,1,0,0,0,0,0,{"$f":"+IFERROR(HYPERLINK(VLOOKUP(C1959,FOTOGRAFICO!C:E,3,FALSE),C1959),\"\")","v":""}]
[null,null,"DNK8213D1108K","BALATA","BALATA TRAS ALTEA 06-13 LEON   08-14 IBIZA 11-15 TOLEDO 06-16 BORA 2.5 06-10 DYNAMIK CERAMIC",513.78,4,0,0,0,1,0,{"$f":"+IFERROR(HYPERLINK(VLOOKUP(C1960,FOTOGRAFICO!C:E,3,FALSE),C1960),\"\")","v":""}]
[null,null,"DNK8252D1141","BALATA","BALATA DELANTERA ASTRA 2.2 2.4 C/ABS 07-08 STATION WAGON      ZAFIRA 01-06 PASTILLA GRANDE",435.42,0,0,0,0,1,0,{"$f":"+IFERROR(HYPERLINK(VLOOKUP(C1961,FOTOGRAFICO!C:E,3,FALSE),C1961),\"\")","v":""}]
[null,null,"DNK8253D1142","BALATA","BALATA DEL ATOS 02-12 GRANDE   MARCA DYNAMIK SEMIMETALICA     10.45X4.7 CM = FRIM7Y02Z",266.72000000000003,2,1,10,1,5,0,{"$f":"+IFERROR(HYPERLINK(VLOOKUP(C1962,FOTOGRAFICO!C:E,3,FALSE),C1962),\"\")","v":"DNK8253D1142"}]
[null,null,"DNK8284D1173","BALATA","BALATA DEL POINTER PICKUP 99-  10 VAGON.CHEVY PICKUP 99-05 CO RTA 104X53.5 GRAPA DYNAMIK",362.88,0,0,0,0,11,3,{"$f":"+IFERROR(HYPERLINK(VLOOKUP(C1963,FOTOGRAFICO!C:E,3,FALSE),C1963),\"\")","v":""}]
[null,null,"DNK8288D350V","BALATA","BALATA DEL POINTER 99-09 LARGA DELGADA DISCO SOLIDO MARCA     DYNAMIK SEMIMETALICA",397.7,0,1,0,0,0,0,{"$f":"+IFERROR(HYPERLINK(VLOOKUP(C1964,FOTOGRAFICO!C:E,3,FALSE),C1964),\"\")","v":"DNK8288D350V"}]
[null,null,"DNK8310D1191SD","BALATA","BALATA DEL URVAN NV350 02-23   2.4 2.5 3.0 MARCA DYNAMIK      CERAMIC 8310-Z D1191",419.74,6,0,3,3,2,0,{"$f":"+IFERROR(HYPERLINK(VLOOKUP(C1965,FOTOGRAFICO!C:E,3,FALSE),C1965),\"\")","v":"DNK8310D1191SD"}]
[null,null,"DNK8385D1269","BALATA","BALATA DEL PONTIAC G3 07-10    SPARK 2011 MARCA DYNAMIK SEMIM = 8385-D1269SM = SPCS8385",334.01,0,2,0,0,0,0,{"$f":"+IFERROR(HYPERLINK(VLOOKUP(C1966,FOTOGRAFICO!C:E,3,FALSE),C1966),\"\")","v":"DNK8385D1269"}]
[null,null,"DNK8433D1321","BALATA","BALATA DELANTERA MATIZ 03-14   MARCA DYNAMIK LOW MET          8433-D1321",287.92,0,1,10,2,0,0,{"$f":"+IFERROR(HYPERLINK(VLOOKUP(C1967,FOTOGRAFICO!C:E,3,FALSE),C1967),\"\")","v":"DNK8433D1321"}]
[null,null,"DNK8438D1326","BALATA","BALATA TRAS JOURNEY 2.4 09-12  ROUTAN 3.6 3.8 09-12 DISCO     MARCA DYNAMIK SEMIMETALICA",502.27,2,0,0,0,0,0,{"$f":"+IFERROR(HYPERLINK(VLOOKUP(C1968,FOTOGRAFICO!C:E,3,FALSE),C1968),\"\")","v":""}]
[null,null,"DNK8455D1344SD","BALATA","BALATA DEL TOYOTA HIACE 06-19  2.7L 4 CIL. MARCA DYNAMIK      CERAMICA = 8455-D1344",411.53,1,0,9,2,0,2,{"$f":"+IFERROR(HYPERLINK(VLOOKUP(C1969,FOTOGRAFICO!C:E,3,FALSE),C1969),\"\")","v":""}]
[null,null,"DNK8470D1361CK","BALATA","BALATA DELANTERA ASTRA SEDAN   1.8 08 MERIVA ZAFIRA SATURN    ASTRA 00-09 MARCA DYNAMIK",751.62,0,0,0,0,1,0,{"$f":"+IFERROR(HYPERLINK(VLOOKUP(C1970,FOTOGRAFICO!C:E,3,FALSE),C1970),\"\")","v":""}]
[null,null,"DNK8471D1362","BALATA","BALATA DELANTERA ASTRA 1.8 00- 03 ASTRA 1.8 SEDAN 08-08 ASTRA 2.0 04-06 ASTRA 2.4 01-06",253.73,0,0,0,0,1,0,{"$f":"+IFERROR(HYPERLINK(VLOOKUP(C1971,FOTOGRAFICO!C:E,3,FALSE),C1971),\"\")","v":""}]
[null,null,"DNK8552D1434SD","BALATA","BALATA DEL TOYOTA HIACE 06-19  MARCA DYNAMIK CERAMICA         = 04491-26180NK",610.41,0,0,7,2,0,0,{"$f":"+IFERROR(HYPERLINK(VLOOKUP(C1972,FOTOGRAFICO!C:E,3,FALSE),C1972),\"\")","v":"DNK8552D1434SD"}]
[null,null,"DNK8653D1454","BALATA","BALATA DEL FIESTA 11-17 MAZDA  2 11-15 SWIFT GLX 1.4 1.6 13-  18 MARCA DYNAMIK SEMIMETALICA",386.11,0,2,0,0,0,0,{"$f":"+IFERROR(HYPERLINK(VLOOKUP(C1973,FOTOGRAFICO!C:E,3,FALSE),C1973),\"\")","v":"DNK8653D1454"}]
[null,null,"DNK8661D1461","BALATA","BALATA TRASERA ASTRA 2.2 1.8   00-03 ASTRA 2.0 1.8 07-08      ASTRA ZAFIRA MERIVA TRAIL",417.01,0,0,0,0,1,0,{"$f":"+IFERROR(HYPERLINK(VLOOKUP(C1974,FOTOGRAFICO!C:E,3,FALSE),C1974),\"\")","v":""}]
[null,null,"DNK8671D1471","BALATA","BALATA DEL AVANZA 07-18 MARCA  DYNAMIK LOW MET                SPC-7Y44-Z F318 D1471",401.59,3,0,0,0,0,0,{"$f":"+IFERROR(HYPERLINK(VLOOKUP(C1975,FOTOGRAFICO!C:E,3,FALSE),C1975),\"\")","v":"DNK8671D1471"}]
[null,null,"DNK8697D1497","BALATA","BALATA DEL CRUZE 1.8 12-15     CRUZE 1.4 14-15 SONIC 1.4 15-  16 DYNAMIK SEMIMETALICA",565.26,0,0,0,0,12,0,{"$f":"+IFERROR(HYPERLINK(VLOOKUP(C1976,FOTOGRAFICO!C:E,3,FALSE),C1976),\"\")","v":"DNK8697D1497"}]
[null,null,"DNK8738D1454","BALATA","BALATA DEL FIESTA 11-17 MAZDA  2 11-15 SWIFT GLX 1.4 1.6 13-  18 MARCA DYNAMIK LOW MET",467.65,1,0,0,0,0,0,{"$f":"+IFERROR(HYPERLINK(VLOOKUP(C1977,FOTOGRAFICO!C:E,3,FALSE),C1977),\"\")","v":""}]
[null,null,"DNK8741D1532","BALATA","BALATA DELANTERA ASTRA 1.8 2.0 STATION WAGON 1.8 2.0 00-08    PASTILLA CHICA MARCA DYNAMIK",550.33000000000004,1,0,0,0,0,0,{"$f":"+IFERROR(HYPERLINK(VLOOKUP(C1978,FOTOGRAFICO!C:E,3,FALSE),C1978),\"\")","v":""}]
[null,null,"DNK8742D1533","BALATA","BALATA DELANTERA CORSA 00-00   TIGRA 04-04 ASTRA 00-05 MARCA  DYNAMIK SEMIMETALICA",357.17,0,0,0,0,0,0,{"$f":"+IFERROR(HYPERLINK(VLOOKUP(C1979,FOTOGRAFICO!C:E,3,FALSE),C1979),\"\")","v":""}]
[null,null,"DNK8800D1589SD","BALATA","BALATA DELANTERA TOWN COUNTRY  12-16 GRAND CARAVAN 12-17      JOURNEY 12-17 DYNAMIK CERAMICA",758.79,0,0,0,0,2,0,{"$f":"+IFERROR(HYPERLINK(VLOOKUP(C1980,FOTOGRAFICO!C:E,3,FALSE),C1980),\"\")","v":""}]
[null,null,"DNK8801D1590","BALATA","BALATA DEL SPARK 1.2 11-17     BEAT 1.2 18-21 MARCA DYNAMIK   SEMIMETALICA = S8801D1590",409.7,0,0,1,10,6,3,{"$f":"+IFERROR(HYPERLINK(VLOOKUP(C1981,FOTOGRAFICO!C:E,3,FALSE),C1981),\"\")","v":"DNK8801D1590"}]
[null,null,"DNK8804D1592","BALATA","BALATA DEL VERSA 1.6 12-19     V-DRIVE 1.6 20-23 MARCH 1.6    12-23 MARCA DYNAMIK LOW MET",316.62,5,6,2,1,3,2,{"$f":"+IFERROR(HYPERLINK(VLOOKUP(C1982,FOTOGRAFICO!C:E,3,FALSE),C1982),\"\")","v":"DNK8804D1592"}]
[null,null,"DNK8804D1592SD","BALATA","BALATA DEL VERSA 1.6 12-19     V-DRIVE 1.6 20-23 MARCH 1.6    12-23 MARCA DYNAMIK CERAMICA",393.53,0,13,1,2,2,5,{"$f":"+IFERROR(HYPERLINK(VLOOKUP(C1983,FOTOGRAFICO!C:E,3,FALSE),C1983),\"\")","v":"DNK8804D1592SD"}]
[null,null,"DNK8815D1601","BALATA","BALATA DEL I10 12-14 MARCA     DYNAMIK LOW MET = S7Y455319    = 7Y45Z-F319 = S7Y455319",376.79,0,2,4,0,0,0,{"$f":"+IFERROR(HYPERLINK(VLOOKUP(C1984,FOTOGRAFICO!C:E,3,FALSE),C1984),\"\")","v":"DNK8815D1601"}]
[null,null,"DNK8815D1601CK","BALATA","BALATA DEL I10 12-14 MARCA     DYNAMIK CERAMICA = S7Y455319   = 7Y45Z-F319 = S7Y455319",525.71,0,6,1,0,0,0,{"$f":"+IFERROR(HYPERLINK(VLOOKUP(C1985,FOTOGRAFICO!C:E,3,FALSE),C1985),\"\")","v":"DNK8815D1601CK"}]
[null,null,"DNK8836D1623K","BALATA","BALATA DELANTERA MAZDA CX-5 13 -19 MARCA DYNAMIK CERAMICA     8836 D1623",579.61,0,0,0,0,1,0,{"$f":"+IFERROR(HYPERLINK(VLOOKUP(C1986,FOTOGRAFICO!C:E,3,FALSE),C1986),\"\")","v":""}]
[null,null,"DNK8837D1624K","BALATA","BALATA TRASERA MAZDA CX-5 13-  16 CX-3 19-19 MARCA DYNAMIK    CERAMICA 8837 D1624",561.42999999999995,0,0,0,0,1,0,{"$f":"+IFERROR(HYPERLINK(VLOOKUP(C1987,FOTOGRAFICO!C:E,3,FALSE),C1987),\"\")","v":""}]
[null,null,"DNK8913D1684","BALATA","BALATA DELANTERA I10 12-14     MARCA DYNAMIK SEMIMETALICA     8913-D1684",531.64,0,0,1,0,0,0,{"$f":"+IFERROR(HYPERLINK(VLOOKUP(C1988,FOTOGRAFICO!C:E,3,FALSE),C1988),\"\")","v":"DNK8913D1684"}]
[null,null,"DNK8926D1702","BALATA","BALATA DEL SONIC 11-17 MARCA   DYNAMIK LOW MET = 95231012     = TMK8926-D1702SM",395.08,2,3,0,1,0,2,{"$f":"+IFERROR(HYPERLINK(VLOOKUP(C1989,FOTOGRAFICO!C:E,3,FALSE),C1989),\"\")","v":"DNK8926D1702"}]
[null,null,"DNK8953D1729CK","BALATA","BALATA TRASERA MAZDA 3 14-16   MARCA DYNAMIK CERAMICA         8953 D1729",340.4,1,0,0,0,0,0,{"$f":"+IFERROR(HYPERLINK(VLOOKUP(C1990,FOTOGRAFICO!C:E,3,FALSE),C1990),\"\")","v":""}]
[null,null,"DNK8956D1731SD","BALATA","BALATA DEL ATTITUDE 15-23      MIRAGE 14-23 MARCA DYNAMIK     CERAMICA = WC1731",404.68,2,28,1,2,0,1,{"$f":"+IFERROR(HYPERLINK(VLOOKUP(C1991,FOTOGRAFICO!C:E,3,FALSE),C1991),\"\")","v":"DNK8956D1731SD"}]
[null,null,"DNK9006D1776","BALATA","BALATA DELANTERA VENTO 13-18   POLO 15-18 MARCA DYNAMIK LOW   MET 9006-D1776",375.75,1,12,4,2,0,2,{"$f":"+IFERROR(HYPERLINK(VLOOKUP(C1992,FOTOGRAFICO!C:E,3,FALSE),C1992),\"\")","v":"DNK9006D1776"}]
[null,null,"DNK9061D1830CK","BALATA","BALATA DEL LOGAN 15-19         SANDERO 17-19 CERAMICA         MARCA DYNAMIK",501.65,1,17,1,2,0,2,{"$f":"+IFERROR(HYPERLINK(VLOOKUP(C1993,FOTOGRAFICO!C:E,3,FALSE),C1993),\"\")","v":""}]
[null,null,"DNK9141D1911","BALATA","BALATA DEL NP300 15-20         FRONTIER 15-21 MARCA DYNAMIK   SEMIMETALICA 165.5 MM",695.39,1,0,0,0,0,0,{"$f":"+IFERROR(HYPERLINK(VLOOKUP(C1994,FOTOGRAFICO!C:E,3,FALSE),C1994),\"\")","v":"DNK9141D1911"}]
[null,null,"DNK9159D1935CK","BALATA","BALATA DELANTERA GRAND I10 15- 18 MARCA DYNAMIK CERAMICA      9159-D1935",514.47,3,6,2,1,0,1,{"$f":"+IFERROR(HYPERLINK(VLOOKUP(C1995,FOTOGRAFICO!C:E,3,FALSE),C1995),\"\")","v":"DNK9159D1935CK"}]
[null,null,"DNK9159D1935LM","BALATA","BALATA DELANTERA GRAND I10 12- 22 MARCA DYNAMIK LOW MET       9159-D1935",416.2,0,2,5,0,5,0,{"$f":"+IFERROR(HYPERLINK(VLOOKUP(C1996,FOTOGRAFICO!C:E,3,FALSE),C1996),\"\")","v":"DNK9159D1935LM"}]
[null,null,"DNK9167D1942LM","BALATA","BALATA DEL AVEO 1.5 18-23      MARCA DYNAMIK SEMIMETALICA     9167-Z D1942 = PO9167-D1942",462.52,9,27,4,2,0,2,{"$f":"+IFERROR(HYPERLINK(VLOOKUP(C1997,FOTOGRAFICO!C:E,3,FALSE),C1997),\"\")","v":"DNK9167D1942LM"}]
[null,null,"DNK9254D2024LM","BALATA","BALATA DEL SPARK 1.4 16-21 LTZ PREMIER MARCA DYNAMIK SEMIMET  = PO9254-D2024",365.24,0,0,5,0,12,2,{"$f":"+IFERROR(HYPERLINK(VLOOKUP(C1998,FOTOGRAFICO!C:E,3,FALSE),C1998),\"\")","v":"DNK9254D2024LM"}]
[null,null,"DNK9269D2038CK","BALATA","BALATA DEL VERSA II 20-23      KICKS 1.6 17-23 DYNAMIK        CERAMICA = SPC9269-D2038",458.44,1,3,1,2,1,1,{"$f":"+IFERROR(HYPERLINK(VLOOKUP(C1999,FOTOGRAFICO!C:E,3,FALSE),C1999),\"\")","v":"DNK9269D2038CK"}]
[null,null,"DNK9269D2038SM","BALATA","BALATA DEL VERSA II 20-23      KICKS 1.6 17-23 DYNAMIK        SEMIMETALICA = SPC9269-D2038",350.65,1,1,1,0,0,0,{"$f":"+IFERROR(HYPERLINK(VLOOKUP(C2000,FOTOGRAFICO!C:E,3,FALSE),C2000),\"\")","v":"DNK9269D2038SM"}]
[null,null,"EGP3X0-698-151","BALATA","BALATA DEL POINTER,PICKUP 99-  10 VAGON.CHEVY PICKUP 99-05 CO RTA 104X53.5 MM C/GRAPA FP",167.3,21,3,7,11,4,4,{"$f":"+IFERROR(HYPERLINK(VLOOKUP(C2007,FOTOGRAFICO!C:E,3,FALSE),C2007),\"\")","v":""}]
[null,null,"EGPBP-FD03EG","BALATA","BALATA DEL FIESTA 00-02 CON    CEJA Y MEDIA LUNA MARCA FP     IMPORTADO = D00010020",224.9,0,0,0,2,0,5,{"$f":"+IFERROR(HYPERLINK(VLOOKUP(C2014,FOTOGRAFICO!C:E,3,FALSE),C2014),\"\")","v":""}]
[null,null,"FRIFTX7Y93F302","BALATA","BALATA DEL TIIDA 07-18 MARCA   FRITEC CAJA GRIS FRITAXI HECHO EN MEXICO = BA1345 = SPCS7Y93",335.2,3,4,3,2,3,3,{"$f":"+IFERROR(HYPERLINK(VLOOKUP(C2026,FOTOGRAFICO!C:E,3,FALSE),C2026),\"\")","v":""}]
[null,null,"FRIJ1N41450ZITR","BALATA","BALATA TRAS GOL 10-14 POLO 03- 07 CROSSFOX 07-13 GOLF JETTA   A2A3 87-99 TAMBOR FRITEC ANCHA",379.08,5,2,6,8,1,1,{"$f":"+IFERROR(HYPERLINK(VLOOKUP(C2030,FOTOGRAFICO!C:E,3,FALSE),C2030),\"\")","v":""}]
[null,null,"FRIM7228Z","BALATA","BALATA DEL NP300 09-17 PICKUP  D21 86-10 URVAN 00-01 FRONTIER 98-04 FRITEC SEMIMETALICA AZUL",272.64,2,0,2,5,0,3,{"$f":"+IFERROR(HYPERLINK(VLOOKUP(C2046,FOTOGRAFICO!C:E,3,FALSE),C2046),\"\")","v":""}]
[null,null,"FRIM7293","BALATA","BALATA DEL VERNA 04-06 STELLAR 87-87 MARCA FRITEC CAJA AZUL   HECHO EN MEXICO M-7293-Z D404",267.5,2,0,2,5,4,2,{"$f":"+IFERROR(HYPERLINK(VLOOKUP(C2049,FOTOGRAFICO!C:E,3,FALSE),C2049),\"\")","v":""}]
[null,null,"FRIM743XZ","BALATA","BALATA DEL POINTER,PICKUP 99-  10 VAGON.CHEVY PICKUP 99-05 CO RTA 104X53.5 GRAPA FRITEC AZUL",290.51,6,3,5,5,2,4,{"$f":"+IFERROR(HYPERLINK(VLOOKUP(C2059,FOTOGRAFICO!C:E,3,FALSE),C2059),\"\")","v":""}]
[null,null,"FRIM7569Z","BALATA","BALATA DEL GOL SIN ABS 09-11   LEON 02-08 GOLF A3 96-98 JETTA A3 96-96 VAMPIRO GRUESA FRITEC",271.70999999999998,3,3,4,2,3,0,{"$f":"+IFERROR(HYPERLINK(VLOOKUP(C2069,FOTOGRAFICO!C:E,3,FALSE),C2069),\"\")","v":""}]
[null,null,"FRIM766Y","BALATA","BALATA DEL MERIVA 03-08 MARCA  FRITEC CAJA AZUL HECHO EN      MEXICO M-766Y-Z F231 D1189",404.88,2,0,1,1,0,2,{"$f":"+IFERROR(HYPERLINK(VLOOKUP(C2076,FOTOGRAFICO!C:E,3,FALSE),C2076),\"\")","v":""}]
[null,null,"FRIM7X71","BALATA","BALATA DEL JETTA A3 93-99 GOLF A2 A3 86-99 DERBY 00-09 DELGAD DIS.VENT.C/SEGURO FRITEC AZUL",262.95999999999998,2,1,4,1,0,1,{"$f":"+IFERROR(HYPERLINK(VLOOKUP(C2088,FOTOGRAFICO!C:E,3,FALSE),C2088),\"\")","v":""}]
[null,null,"FRIS7576","BALATA","BALATA DEL LOBO 97-04 F150 00- 04 F250 97-99 EXPEDITION 96-02 MARCA FRITEC NARANJA MEXICO",461.39,2,0,0,0,0,0,{"$f":"+IFERROR(HYPERLINK(VLOOKUP(C2101,FOTOGRAFICO!C:E,3,FALSE),C2101),\"\")","v":""}]
[null,null,"FRIS8777","BALATA","BALATAS DEL FIAT 500 LARGA     SOBRE PEDIDO",432.03,0,0,0,0,0,0,{"$f":"+IFERROR(HYPERLINK(VLOOKUP(C2108,FOTOGRAFICO!C:E,3,FALSE),C2108),\"\")","v":""}]
[null,null,"FRIS9167D1942","BALATA","BALATA DEL AVEO 1.5 18-23      MARCA FRITEC CERAMICA CAJA     NARANJA = CMD19529167",462.19,7,32,11,24,10,7,{"$f":"+IFERROR(HYPERLINK(VLOOKUP(C2117,FOTOGRAFICO!C:E,3,FALSE),C2117),\"\")","v":""}]
[null,null,"FRISHD8507Z","BALATA","BALATA DEL RAM 2500 3500 09-15 RAM 4000 09-17 MARCA FRITEC    CAJA ROJA CERAMIC HD MEXICO",662.92,0,0,0,0,0,0,{"$f":"+IFERROR(HYPERLINK(VLOOKUP(C2124,FOTOGRAFICO!C:E,3,FALSE),C2124),\"\")","v":""}]
[null,null,"LC755M","BALATA","BALATA DELANTER VW SEDAN VOCHO 95-04 BRASILIA 74-83 FRENO DIS CO MARCA RAYBESTOS 4 PIEZAS",211.99,0,1,0,0,0,0,{"$f":"+IFERROR(HYPERLINK(VLOOKUP(C2131,FOTOGRAFICO!C:E,3,FALSE),C2131),\"\")","v":""}]
[null,null,"LYS8455-D1344","BALATA","BALATA DEL TOYOTA HIACE 06-19  2.7L 4 CIL MARCA LYS IMPORTADA = BA1550.51 = 04491-26180NK",154.88,14,0,0,6,0,0,{"$f":"+IFERROR(HYPERLINK(VLOOKUP(C2143,FOTOGRAFICO!C:E,3,FALSE),C2143),\"\")","v":""}]
[null,null,"MOU107B2500","BALATA","BALATA TRAS TSURU III 92-17    TSUBAME 93-04 SENTRA 91-99     TAMBOR MARCA FP IMPORTADO",130.27000000000001,26,24,21,25,7,20,{"$f":"+IFERROR(HYPERLINK(VLOOKUP(C2156,FOTOGRAFICO!C:E,3,FALSE),C2156),\"\")","v":"MOU107B2500"}]
[null,null,"ORI515B0500","BALATA","BALATA DEL GOL SIN ABS 09-11   LEON 02-08 GOLF A3 96-98 JETTA A3 96-96 VAMPIRO GRUESA FP IMP",230.38,0,0,2,0,0,0,{"$f":"+IFERROR(HYPERLINK(VLOOKUP(C2163,FOTOGRAFICO!C:E,3,FALSE),C2163),\"\")","v":""}]
[null,null,"OW-1668-ZV","BALATA","BALATA TRAS AVANZA 2007-2021   MARCA: FRITEC JGO 4 PZAS",339.39,4,3,1,2,1,1,{"$f":"+IFERROR(HYPERLINK(VLOOKUP(C2175,FOTOGRAFICO!C:E,3,FALSE),C2175),\"\")","v":"OW-1668-ZV"}]
[null,null,"PO7709-D768","BALATA","BALATA DEL JETTA CLAS.08-15    IBIZA 09-14 BEETLE 14-18 2.5L  VAMPIRO S/SENSOR MARCA PRO ONE",229.74,11,2,6,12,7,2,{"$f":"+IFERROR(HYPERLINK(VLOOKUP(C2185,FOTOGRAFICO!C:E,3,FALSE),C2185),\"\")","v":"PO7709-D768"}]
[null,null,"PO8815-D1601","BALATA","BALATA DEL HYUNDAI I10 12-14   MARCA PRO ONE SEMI METALICA    = FRIS7Y45 = 7Y45Z-F319",229.74,9,2,22,10,11,8,{"$f":"+IFERROR(HYPERLINK(VLOOKUP(C2195,FOTOGRAFICO!C:E,3,FALSE),C2195),\"\")","v":"PO8815-D1601"}]
[null,null,"PO9159-D1935","BALATA","BALATA DEL GRAND I10 15-20     MARCA PRO ONE SEMI METALICA    = SPC-8X65-Z F467",246.25,22,48,21,13,7,5,{"$f":"+IFERROR(HYPERLINK(VLOOKUP(C2202,FOTOGRAFICO!C:E,3,FALSE),C2202),\"\")","v":"PO9159-D1935"}]
[null,null,"RBBZBB1471","BALATA","BALATA DEL AVANZA 1.5 07-21    MARCA BOSCH AZUL SEMIMETALICA  = PO8671-D1471 = SPCS7Y44F318",295.49,5,5,3,4,4,1,{"$f":"+IFERROR(HYPERLINK(VLOOKUP(C2214,FOTOGRAFICO!C:E,3,FALSE),C2214),\"\")","v":""}]
[null,null,"RBBZBB1614","BALATA","BALATA DEL SWIFT 1.4 1.5 10-17 CIAZ 1.4 16-23 ERTIGA 1.5 19-  21 BOSCH AZUL SEMIMETALICA",358.65,1,1,0,1,0,0,{"$f":"+IFERROR(HYPERLINK(VLOOKUP(C2218,FOTOGRAFICO!C:E,3,FALSE),C2218),\"\")","v":""}]
[null,null,"RBBZBB688","BALATA","BALATA DEL CHEVY 94-12 CON     OJILLO MARCA BOSCH SEMIMETALIC AZUL = BBRC0100 = FRI7563-D688",200.75,9,5,5,3,3,2,{"$f":"+IFERROR(HYPERLINK(VLOOKUP(C2225,FOTOGRAFICO!C:E,3,FALSE),C2225),\"\")","v":""}]
[null,null,"RBBZBE768","BALATA","BALATA DEL LUPO 05-09 BEETLE   98-98 TIPO VAMPIRO SIN SENSOR  MARCA BOSCH AZUL SEMIMETALICA",264.31,1,0,1,0,1,0,{"$f":"+IFERROR(HYPERLINK(VLOOKUP(C2233,FOTOGRAFICO!C:E,3,FALSE),C2233),\"\")","v":""}]
[null,null,"REC8127-B","BALATA","BALATA TRAS ANCHA PLACA IZQ    GOLF JETTA A2 A3 87-99 POINTER 98-09 GOL 10-14 RECONSTRUIDA",55.81,51,0,0,0,0,0,{"$f":"+IFERROR(HYPERLINK(VLOOKUP(C2250,FOTOGRAFICO!C:E,3,FALSE),C2250),\"\")","v":""}]
[null,null,"REC8130-B","BALATA","BALATA TRAS CHEVY 94-12 CORSA  02-08 FRENO DE TAMBOR SIN      ANCLA RECONSTRUIDA X PZA",48.84,7,0,0,0,1,2,{"$f":"+IFERROR(HYPERLINK(VLOOKUP(C2257,FOTOGRAFICO!C:E,3,FALSE),C2257),\"\")","v":""}]
[null,null,"S10291695","BALATA","BALATA TRAS PLATINA 02-10 CLIO 01-10 VISION 15-18 FIAT UNO 14 -17 FRENO TAMBOR FAG",322.11,1,0,1,1,1,1,{"$f":"+IFERROR(HYPERLINK(VLOOKUP(C2269,FOTOGRAFICO!C:E,3,FALSE),C2269),\"\")","v":"S10291695"}]
[null,null,"S63814380","BALATA","BALATA TRAS TSURU III 92-17    TSUBAME 93-04 SENTRA 91-99     TAMBOR MARCA FAG",232.14,0,1,2,1,1,1,{"$f":"+IFERROR(HYPERLINK(VLOOKUP(C2272,FOTOGRAFICO!C:E,3,FALSE),C2272),\"\")","v":"S63814380"}]
[null,null,"S8330-D1210","BALATA","BALATA DEL TOYOTA RAV 06-08    2.4 COROLLA 01-13 PRIUSV 12-14 FRITEC PEDIDA DANIEL CASTILLO",582.25,0,0,0,0,0,0,{"$f":"+IFERROR(HYPERLINK(VLOOKUP(C2280,FOTOGRAFICO!C:E,3,FALSE),C2280),\"\")","v":""}]
[null,null,"S92416240","BALATA","BALATA TRAS ATTITUDE 15-23     TIIDA 07-18 MIRAGE G4 17-21    TAMBOR FAG = FRIOW1624ZV",338.22,1,2,1,2,0,0,{"$f":"+IFERROR(HYPERLINK(VLOOKUP(C2292,FOTOGRAFICO!C:E,3,FALSE),C2292),\"\")","v":"S92416240"}]
[null,null,"SPC7183","BALATA","BALATA DEL JETTA A2 87-91 CARI BE ATLANTIC 86-87 CORSAR 86-88 GRUESA DISC.SOLI.FRITEC NARANJ",271.61,2,3,2,3,3,2,{"$f":"+IFERROR(HYPERLINK(VLOOKUP(C2301,FOTOGRAFICO!C:E,3,FALSE),C2301),\"\")","v":""}]
[null,null,"SPC756X-D694","BALATA","BALATA DEL DERBY 00-00 DERBY   VAN 02-09 VAMPIRO CORTA DELGAD A DISCO VENTILADO FRITEC NARAN",349.74,0,0,1,1,0,0,{"$f":"+IFERROR(HYPERLINK(VLOOKUP(C2312,FOTOGRAFICO!C:E,3,FALSE),C2312),\"\")","v":""}]
[null,null,"SPC7Y21","BALATA","BALATA DEL MEGANE II 04-07     SCENIC II 05-08 CORTA MARCA    FRITEC CAJA NARANJA SPECIFIC",378.43,1,0,0,0,0,0,{"$f":"+IFERROR(HYPERLINK(VLOOKUP(C2324,FOTOGRAFICO!C:E,3,FALSE),C2324),\"\")","v":""}]
[null,null,"SPC8849ZD1633","BALATA","BALATA DEL TIGUAN 1.4 18-22    TIGUAN 2.0 18-22 TARRACO 1.4   19-22 FRITEC CERAMICA GMOGLZ",777.86,0,0,0,0,0,0,{"$f":"+IFERROR(HYPERLINK(VLOOKUP(C2330,FOTOGRAFICO!C:E,3,FALSE),C2330),\"\")","v":""}]
[null,null,"SPCS7Y93","BALATA","BALATA DEL TIIDA 07-18 MARCA   FRITEC CAJA NARANJA SPECIFIC   = FRIFTX7Y93F302",374.59,12,24,17,15,8,7,{"$f":"+IFERROR(HYPERLINK(VLOOKUP(C2344,FOTOGRAFICO!C:E,3,FALSE),C2344),\"\")","v":"SPCS7Y93"}]
[null,null,"SPCS8615D1447","BALATA","BALATA DEL KIA SOUL 16-18      SPORTAGE 11 FRENO DE DISCO     PEDIDA DANIEL CASTILLO",431,0,0,0,0,0,0,{"$f":"+IFERROR(HYPERLINK(VLOOKUP(C2351,FOTOGRAFICO!C:E,3,FALSE),C2351),\"\")","v":""}]
[null,null,"TMK7779-D1035","BALATA","BALATA DEL AVEO 1.6 08-17 G3   PONTIAC 1.6 07-10 OPTRA 2.0 04 -10 MARCA FRICRAFT SEMIMETALIC",128.97999999999999,1,12,5,1,1,3,{"$f":"+IFERROR(HYPERLINK(VLOOKUP(C2359,FOTOGRAFICO!C:E,3,FALSE),C2359),\"\")","v":"TMK7779-D1035"}]
[null,null,"WC1454","BALATA","BALATA DEL FIESTA 11-17 MAZDA  2 11-15 SWIFT GLX 1.4 1.6 13-  18 MARCA WAGNER D1454",408.61,0,2,1,2,2,1,{"$f":"+IFERROR(HYPERLINK(VLOOKUP(C2367,FOTOGRAFICO!C:E,3,FALSE),C2367),\"\")","v":""}]
[null,null,"WD1345","BALATA","BALATA DEL TIIDA 07-18 MARCA   WAGNER SPC-7Y93-Z F302 D1345",381.59,6,12,10,7,5,4,{"$f":"+IFERROR(HYPERLINK(VLOOKUP(C2374,FOTOGRAFICO!C:E,3,FALSE),C2374),\"\")","v":""}]
[null,null,"WX280","BALATA","BALATA DEL GOLF JETTA A2 87-91 CARIBE ATLANTIC 86-87 CORSAR   86-88 DISCO SOLIDO MCA WAGNER",233.75,1,0,3,3,2,2,{"$f":"+IFERROR(HYPERLINK(VLOOKUP(C2386,FOTOGRAFICO!C:E,3,FALSE),C2386),\"\")","v":""}]
[null,null,"1J0-698-151CFP","BALATA","BALATA DEL VIRTUS 20-23 JETTA  CLAS.11-15 JETTA A4 99-15 SEAT IBIZA 03-09 C/SENSOR MARCA FP",226.27,0,0,2,0,0,0,{"$f":"+IFERROR(HYPERLINK(VLOOKUP(C2398,FOTOGRAFICO!C:E,3,FALSE),C2398),\"\")","v":""}]
[null,null,"BIO9167-D1942","BALATA","BALATA DEL BIOCERAMIC AVEO 1.5 18-21 CERAMIC LOW-MET MARCA    FRITEC PIDE GARCIA ROA LUIS",362.56,0,0,0,0,0,0,{"$f":"+IFERROR(HYPERLINK(VLOOKUP(C2406,FOTOGRAFICO!C:E,3,FALSE),C2406),\"\")","v":""}]
[null,null,"S8449Z2-D1737","BALATA","BALATA DEL XTRAIL 15-19 ROGUE  15-17 KOLEOS 17-19 MCA FRITEC  2 FILAS ASIENTO PEDIDO RAFAEL",582.88,0,0,0,0,0,0,{"$f":"+IFERROR(HYPERLINK(VLOOKUP(C2418,FOTOGRAFICO!C:E,3,FALSE),C2418),\"\")","v":""}]
[null,null,"SPC8272D1161","BALATA","BALATA TRAS FUSION 06-12 MAZDA 6 06-13 MILAN 06-11 MKZ 07-12  DISCO FRITEC SPECIFIC NARANJA",443.32,0,0,0,0,0,0,{"$f":"+IFERROR(HYPERLINK(VLOOKUP(C2427,FOTOGRAFICO!C:E,3,FALSE),C2427),\"\")","v":""}]
[null,null,"SPC8428D1812","BALATA","BALATA TRAS CRETA 1.6 18-19    KIA SOUL 1.6 2.0 16-20 MARCA   FRITEC NARANJA SPC-8428-Z5",303.75,0,0,0,0,0,0,{"$f":"+IFERROR(HYPERLINK(VLOOKUP(C2429,FOTOGRAFICO!C:E,3,FALSE),C2429),\"\")","v":""}]
[null,null,"7Y44-F318","BALATA","BALATA DEL AVANZA 07-18 MARCA  FRICARFT SOBREPEDIDO EFRAIN",149.82,0,0,0,0,0,0,{"$f":"+IFERROR(HYPERLINK(VLOOKUP(C2441,FOTOGRAFICO!C:E,3,FALSE),C2441),\"\")","v":""}]
[null,null,"DNK8428D1544SD","BALATA","BALATA TRASERA DISCO ATTITUDE  13-17 MARCA DYNAMIK CERAMICA   8428 D1544",385.94,0,0,0,0,0,0,{"$f":"+IFERROR(HYPERLINK(VLOOKUP(C2456,FOTOGRAFICO!C:E,3,FALSE),C2456),\"\")","v":"DNK8428D1544SD"}]
[null,null,"DNK8660D1460","BALATA","BALATA DELANTERA FIESTA 1.6 00 -01 COURIER ECOSPORT IKON 01-  08 PASTILLA CON JOROBA MARCA",421.89,0,0,0,0,1,0,{"$f":"+IFERROR(HYPERLINK(VLOOKUP(C2461,FOTOGRAFICO!C:E,3,FALSE),C2461),\"\")","v":"DNK8660D1460"}]
[null,null,"DNK8768D1556","BALATA","BALATA DELANTERA DERBY 94-99   GOL 10-12 JETTA A2 89-92       SAVEIRO 12-12  MARCA DYNAMIK",457.87,0,1,0,0,16,0,{"$f":"+IFERROR(HYPERLINK(VLOOKUP(C2468,FOTOGRAFICO!C:E,3,FALSE),C2468),\"\")","v":""}]
[null,null,"DNK8989D1760CK","BALATA","BALATA DELANTERA ARONA 1.6 18- 23 ATECA 1.4 17-23 CADDY 16-20 GOLF 17-20 JETTA 1.4 19-21",637.91999999999996,0,0,0,0,1,0,{"$f":"+IFERROR(HYPERLINK(VLOOKUP(C2475,FOTOGRAFICO!C:E,3,FALSE),C2475),\"\")","v":"DNK8989D1760CK"}]
[null,null,"OW16X3ZVFT128","BALATA","BALATA TRAS RENAULT KWID 19-21 MARCA FRITEC",599.20000000000005,0,1,0,0,0,0,{"$f":"+IFERROR(HYPERLINK(VLOOKUP(C2493,FOTOGRAFICO!C:E,3,FALSE),C2493),\"\")","v":""}]
[null,null,"SPC8826D1613","BALATA","BALATA TRAS BMW 228I 228I 2.0  X-DRIVE 14-16 DISCO MARCA      FRITEC CERAMICA PIDE LUIS",454.22,0,0,0,0,0,0,{"$f":"+IFERROR(HYPERLINK(VLOOKUP(C2500,FOTOGRAFICO!C:E,3,FALSE),C2500),\"\")","v":""}]
[null,null,"SPCS8990D1761","BALATA","BALATA TRAS FRENO DISCO TIGUAN 1.4 2.0 18-19 JETTA 1.4 19-20  ARONA 1.6 19-20 NARANJA FRITEC",407.4,0,1,0,0,0,0,{"$f":"+IFERROR(HYPERLINK(VLOOKUP(C2504,FOTOGRAFICO!C:E,3,FALSE),C2504),\"\")","v":""}]
[null,null,"8505-D1397CFP","BALATA","BALATA DELANTERA FORTE 1.6 2.0 19-23 MARCA FP CERAMICA        IMPORTADO 8505-Z D1397",333.23,0,0,0,4,2,6,{"$f":"+IFERROR(HYPERLINK(VLOOKUP(C2520,FOTOGRAFICO!C:E,3,FALSE),C2520),\"\")","v":"8505-D1397CFP"}]
[null,null,"9049-D1815CFP","BALATA","BALATA DEL CRETA 17-20 HYUNDAI SANTA FE 17-20 SANTA FE SPORT  16-20 CERAMICA MARCA FP",314.02999999999997,0,0,0,4,1,4,{"$f":"+IFERROR(HYPERLINK(VLOOKUP(C2523,FOTOGRAFICO!C:E,3,FALSE),C2523),\"\")","v":"9049-D1815CFP"}]
[null,null,"GM26276619","BALATA","BALATA TRAS ONIX 21 MARCA GM   ORIGINAL PIDE EDER",782.32,0,0,0,0,0,0,{"$f":"+IFERROR(HYPERLINK(VLOOKUP(C2535,FOTOGRAFICO!C:E,3,FALSE),C2535),\"\")","v":""}]
[null,null,"TMK7884A-D982","BALATA","BALATA DEL EUROVAN 2.5 02-05   CON SENSOR BALATA DISCO MRCA   FRICRAFT 7884A-D982",255.02,0,0,0,0,0,0,{"$f":"+IFERROR(HYPERLINK(VLOOKUP(C2543,FOTOGRAFICO!C:E,3,FALSE),C2543),\"\")","v":""}]
[null,null,"OW2164ZV","BALATA","BALATA TRAS CAVALIER 85-02     CUTLASS 88-91 SUNFIRE 92-02    FRENO TAMBOR FRITEC ROJA",237.05,0,0,0,0,0,0,{"$f":"+IFERROR(HYPERLINK(VLOOKUP(C2555,FOTOGRAFICO!C:E,3,FALSE),C2555),\"\")","v":"OW2164ZV"}]
[null,null,"WX1500","BALATA","BALATA DEL TRAFIC 08-12        SEMIMETALICA 8699-D1500 MARCA  WAGNER",574.41999999999996,0,0,0,0,0,0,{"$f":"+IFERROR(HYPERLINK(VLOOKUP(C2567,FOTOGRAFICO!C:E,3,FALSE),C2567),\"\")","v":""}]
[null,null,"40210-00QAA","BALERO","BALERO DOBLE DEL VERSA 12-20   MARCH 12-18 LOGAN 15-16 CLIO   PLATINA 02-10 S/ABS MARCA TMK",194.44,11,3,9,7,8,6,{"$f":"+IFERROR(HYPERLINK(VLOOKUP(C2572,FOTOGRAFICO!C:E,3,FALSE),C2572),\"\")","v":"40210-00QAA"}]
[null,null,"402103XA0AKB","BALERO","BALERO DOBLE DEL URVAN NV350   2.5 13-19 S/GRASERA S/ABS      MARCA KABUTO = 40210-3X000",244.02,1,0,1,1,1,1,{"$f":"+IFERROR(HYPERLINK(VLOOKUP(C2578,FOTOGRAFICO!C:E,3,FALSE),C2578),\"\")","v":""}]
[null,null,"532066DAKB","BALERO","BALERO DOBLE DEL AVEO 08-17    SPARK 11-17 BEAT 18-20 SWIFT   05-17 MARCA KABUTO",90.18,0,1,1,0,1,0,{"$f":"+IFERROR(HYPERLINK(VLOOKUP(C2594,FOTOGRAFICO!C:E,3,FALSE),C2594),\"\")","v":""}]
[null,null,"6203NACHI","BALERO","BALERO ALTERNADOR 6203 TSURU   CARIBE GOLF JETTA MARCA NACHI  JAPON = URB6203Z = SKF62032Z",49.3,16,1,11,8,10,4,{"$f":"+IFERROR(HYPERLINK(VLOOKUP(C2601,FOTOGRAFICO!C:E,3,FALSE),C2601),\"\")","v":"6203NACHI"}]
[null,null,"93362342KB","BALERO","BALERO DOBLE DEL CORSA 02-08   TORNADO 04-19 MERIVA 04-06     MATIZ 04-15 KABUTO = TMK803775",100.79,1,0,1,1,1,1,{"$f":"+IFERROR(HYPERLINK(VLOOKUP(C2610,FOTOGRAFICO!C:E,3,FALSE),C2610),\"\")","v":""}]
[null,null,"ANH01A","BALERO","BALERO DOBLE DEL URVAN 02-12   S/GRASERA S/ABS 4 BARRENOS     MARCA AUTOPAR = FAGFW9-000",358.74,0,0,10,8,17,7,{"$f":"+IFERROR(HYPERLINK(VLOOKUP(C2617,FOTOGRAFICO!C:E,3,FALSE),C2617),\"\")","v":"ANH01A"}]
[null,null,"DB3564ENSB","BALERO","BALERO DOBLE DEL ATTITUDE 15-  23 MIRAGE 15-23 MIRAGE G4 19-  23 C/ABS MARCA NSB = TMDB3564E",178.27,3,8,5,4,10,0,{"$f":"+IFERROR(HYPERLINK(VLOOKUP(C2630,FOTOGRAFICO!C:E,3,FALSE),C2630),\"\")","v":""}]
[null,null,"FAG1106222","BALERO","BALERO DOBL DEL POINTER VW GOL 09-13 SAVEIRO 10-15 IKON 03-15 S/ABS MARCA FAG = MIR801663AA",200.92,117,47,41,66,42,24,{"$f":"+IFERROR(HYPERLINK(VLOOKUP(C2642,FOTOGRAFICO!C:E,3,FALSE),C2642),\"\")","v":"FAG1106222"}]
[null,null,"FAG572428","BALERO","BALERO RDA TRAS FIESTA 98-05   IKON 03-07 FORD KA 01-08       CONICO MARCA FAG = SKF329013",150.88999999999999,0,0,8,0,0,0,{"$f":"+IFERROR(HYPERLINK(VLOOKUP(C2649,FOTOGRAFICO!C:E,3,FALSE),C2649),\"\")","v":""}]
[null,null,"FAG580400CA","BALERO","BALERO DOBLE RDA DEL CHEVY 94- 12 MARCA FAG ORIGINA = FAG5391 = GM9044280 = 90447280NSB",214.57,14,15,10,30,8,9,{"$f":"+IFERROR(HYPERLINK(VLOOKUP(C2652,FOTOGRAFICO!C:E,3,FALSE),C2652),\"\")","v":"FAG580400CA"}]
[null,null,"MIR564725AB","BALERO","BALERO DOBLE DEL/TRAS EUROVAN  00-04 GAS TMK = EGP7D0498625   = FAG564725AB = 7D0-498-630",297.54000000000002,2,0,3,2,3,1,{"$f":"+IFERROR(HYPERLINK(VLOOKUP(C2669,FOTOGRAFICO!C:E,3,FALSE),C2669),\"\")","v":""}]
[null,null,"MIR801663AA","BALERO","BALERO DOBL DEL POINTER VW GOL 09-13 SAVEIRO 10-15 IKON 03-15 S/ABS MARCA NSB = ALE803646",121.27,22,12,22,15,9,5,{"$f":"+IFERROR(HYPERLINK(VLOOKUP(C2672,FOTOGRAFICO!C:E,3,FALSE),C2672),\"\")","v":""}]
[null,null,"NIS43210","BALERO","BALERO DOBLE TRAS TSURU II 88- 91 CON SELLOS MARCA NSB        IMPORTADO = 43210-50A00",115.19,6,0,5,5,0,2,{"$f":"+IFERROR(HYPERLINK(VLOOKUP(C2684,FOTOGRAFICO!C:E,3,FALSE),C2684),\"\")","v":""}]
[null,null,"SKF62012Z","BALERO","BALERO ALTERNADOR 6201 COMBI   1800 12X32X10 MM MARCA SKF     ORIGINAL",72.819999999999993,4,0,0,2,0,0,{"$f":"+IFERROR(HYPERLINK(VLOOKUP(C2698,FOTOGRAFICO!C:E,3,FALSE),C2698),\"\")","v":"SKF62012Z"}]
[null,null,"SKFLM67048","BALERO","BALERO RDA DEL INT COMBI 78-01 S10 91-03 EXPLORER 91-94 MARCA SKF = TMKSET6 = MIRLM67048",188.34,0,0,0,0,0,0,{"$f":"+IFERROR(HYPERLINK(VLOOKUP(C2704,FOTOGRAFICO!C:E,3,FALSE),C2704),\"\")","v":"SKFLM67048"}]
[null,null,"TM559494","BALERO","BALERO DOBLE DEL COUNTUR 97                                   SOBRE PEDIDO",206.27,0,0,0,0,0,0,{"$f":"+IFERROR(HYPERLINK(VLOOKUP(C2711,FOTOGRAFICO!C:E,3,FALSE),C2711),\"\")","v":"TM559494"}]
[null,null,"TMDB285848","BALERO","BALERO DOBLE TRAS ATTITUDE 15- 18 MIRAGE 12-16 MARCA TMK",248.63,0,0,0,0,1,0,{"$f":"+IFERROR(HYPERLINK(VLOOKUP(C2717,FOTOGRAFICO!C:E,3,FALSE),C2717),\"\")","v":"TMDB285848"}]
[null,null,"TMKKIT5","BALERO","BALERO RDA TRAS FORD KA 01-08  FIESTA 98-05 IKON 03-07 KIT 2  BALEROS CONICO RETEN GRASA TMK",177.69,16,4,7,14,4,7,{"$f":"+IFERROR(HYPERLINK(VLOOKUP(C2727,FOTOGRAFICO!C:E,3,FALSE),C2727),\"\")","v":"TMKKIT5"}]
[null,null,"URBL68149-11","BALERO","BALERO RDA DEL MATIZ CONICO 04 -15 USA 2 IGUALES MARCA TMK    = SKFKL68149111 = TMKSET17",60.03,28,14,24,54,48,8,{"$f":"+IFERROR(HYPERLINK(VLOOKUP(C2743,FOTOGRAFICO!C:E,3,FALSE),C2743),\"\")","v":"URBL68149-11"}]
[null,null,"URBLM67048","BALERO","BALERO RDA DEL INT COMBI 78-01 S10 91-03 EXPLORER 91-94 MARCA NSB = MIRLM67048 = TMKSET6",42.37,6,8,3,5,5,2,{"$f":"+IFERROR(HYPERLINK(VLOOKUP(C2746,FOTOGRAFICO!C:E,3,FALSE),C2746),\"\")","v":"URBLM67048"}]
[null,null,"48548/10NSB","BALERO","BALERO RDA DEL CONICO INT D21  D22 NP300 86-08 PICK UP 720    MARCA NSB IMPORTADO SET5",50.73,0,0,0,2,1,4,{"$f":"+IFERROR(HYPERLINK(VLOOKUP(C2759,FOTOGRAFICO!C:E,3,FALSE),C2759),\"\")","v":"48548/10NSB"}]
[null,null,"04456516","BANDA","BANDA ALTERNADOR SHADOW 2.2    2.5 88-94 SPIRIT 2.5 89-94     PHANTOM 2.5 87-94 ORIGINAL",103.86,3,0,0,0,1,0,{"$f":"+IFERROR(HYPERLINK(VLOOKUP(C2766,FOTOGRAFICO!C:E,3,FALSE),C2766),\"\")","v":"04456516"}]
[null,null,"ALE037903137E","BANDA","BANDA ANCHA 6K894 S/AA AUSTER  COMBI 1800 FUEL INY GOLF A2 A3 CONTITECH, ALEMANA k060350",216.87,5,3,0,0,0,0,{"$f":"+IFERROR(HYPERLINK(VLOOKUP(C2778,FOTOGRAFICO!C:E,3,FALSE),C2778),\"\")","v":"ALE037903137E"}]
[null,null,"BRU036145933AJ","BANDA","BANDA ALTERNADOR POLO 03-07    1.6 IBIZA 03-08 1.6 IBIZA 09-  17 1.6 CORDOBA 03-09 1.6 BRUCK",109.31,4,1,0,3,1,2,{"$f":"+IFERROR(HYPERLINK(VLOOKUP(C2785,FOTOGRAFICO!C:E,3,FALSE),C2785),\"\")","v":"BRU036145933AJ"}]
[null,null,"BRU07K145933E","BANDA","BANDA ALTERNADOR JETTA A6 11-  18 2.5FSI BORA 05-10 2.5FSI    BEETLE 98-11 2.5 BRUCK",115.2,2,1,1,1,0,1,{"$f":"+IFERROR(HYPERLINK(VLOOKUP(C2798,FOTOGRAFICO!C:E,3,FALSE),C2798),\"\")","v":"BRU07K145933E"}]
[null,null,"BRU117200M200","BANDA","BANDA ALTERNADOR SENTRA B15 00 -06 1.8 S/AIRE ACOND C/DIR     BRUCK GERMANY",86.98,1,1,1,1,2,1,{"$f":"+IFERROR(HYPERLINK(VLOOKUP(C2801,FOTOGRAFICO!C:E,3,FALSE),C2801),\"\")","v":"BRU117200M200"}]
[null,null,"BRU11720F4200","BANDA","BANDA ALTERNADOR TSURU III 92- 17 1.6 16V 4PK910 K040358 SIN  AIRE ACOND C/DIRECCI BRUCK",51.72,7,9,11,0,3,5,{"$f":"+IFERROR(HYPERLINK(VLOOKUP(C2814,FOTOGRAFICO!C:E,3,FALSE),C2814),\"\")","v":"BRU11720F4200"}]
[null,null,"BRU24422964","BANDA","BANDA DISTRIBUCION CRUZE 10-16 1.8 SONIC 12-17 1.6 ASTRA H 06 -08 1.8 MERIVA 06-08 1.8 BRUCK",433.7,0,2,1,2,4,2,{"$f":"+IFERROR(HYPERLINK(VLOOKUP(C2821,FOTOGRAFICO!C:E,3,FALSE),C2821),\"\")","v":"BRU24422964"}]
[null,null,"BRU7D0145933N","BANDA","BANDA ALTERNADOR EUROVAN T4 01 -04 1.9TDI 6PK1345 K060529 SIN AIRE ACONDICIONADO MARCA BRUCK",126.94,0,1,1,2,3,1,{"$f":"+IFERROR(HYPERLINK(VLOOKUP(C2833,FOTOGRAFICO!C:E,3,FALSE),C2833),\"\")","v":"BRU7D0145933N"}]
[null,null,"BRUBE8Z8620A","BANDA","BANDA ALTERNADOR FIESTA 11-17  1.6 CON AIRE ACONDICIONADO     MARCA BRUCK GERMANY BE8Z8620A",286.77,3,2,0,3,3,3,{"$f":"+IFERROR(HYPERLINK(VLOOKUP(C2843,FOTOGRAFICO!C:E,3,FALSE),C2843),\"\")","v":"BRUBE8Z8620A"}]
[null,null,"GAT5PK1236SF","BANDA","BANDA ALTERNADOR GRAND I10 1.2 14-20 CON/AA 5 CANALES 1236MM  TIPO STRETCH MARCA GATES MEX",411.88,2,3,1,3,0,1,{"$f":"+IFERROR(HYPERLINK(VLOOKUP(C2853,FOTOGRAFICO!C:E,3,FALSE),C2853),\"\")","v":"GAT5PK1236SF"}]
[null,null,"GAT6340GS","BANDA","BANDA ALTERNADOR JETTA GLI 87- 92 JETTA 93 1.8 MUSTANG 78-84  V8 5.0 9.5x872",69.78,10,0,0,14,1,1,{"$f":"+IFERROR(HYPERLINK(VLOOKUP(C2860,FOTOGRAFICO!C:E,3,FALSE),C2860),\"\")","v":"GAT6340GS"}]
[null,null,"GAT6433GS","BANDA","BANDA 110.4cm DART K DIRECC    HIDRAULICA MODELOS 82-89 2.2 L MAGNUM,NEW YORKER,PHANTOM 2.2",79.709999999999994,3,0,0,0,0,0,{"$f":"+IFERROR(HYPERLINK(VLOOKUP(C2872,FOTOGRAFICO!C:E,3,FALSE),C2872),\"\")","v":"GAT6433GS"}]
[null,null,"GAT7277GS","BANDA","BANDA DIR HIDRAULI 705 MM GOLF MOTOR 2.0 S/AA C/DH 92-99 DERB PASSAT 94-95 2.0 11.5X69.8cm",61.43,2,0,4,1,0,0,{"$f":"+IFERROR(HYPERLINK(VLOOKUP(C2876,FOTOGRAFICO!C:E,3,FALSE),C2876),\"\")","v":"GAT7277GS"}]
[null,null,"GATK040335","BANDA","BANDA ALTERNADOR TSURU GSR 2.0 NEON 2.0 01-06 STRATUS 2.0 01- 04 D/H 4PK850 4 CANALES GATES",130.79,11,1,5,5,3,3,{"$f":"+IFERROR(HYPERLINK(VLOOKUP(C2892,FOTOGRAFICO!C:E,3,FALSE),C2892),\"\")","v":""}]
[null,null,"GATK040381","BANDA","BANDA ALTERNADOR SHADOW C/DH   S/AA 2.2 88-94 STRATUS D/H V6  2.5 00-01 MARCA GATES",152.4,2,0,0,4,0,1,{"$f":"+IFERROR(HYPERLINK(VLOOKUP(C2901,FOTOGRAFICO!C:E,3,FALSE),C2901),\"\")","v":""}]
[null,null,"GATK050690","BANDA","BANDA ALTERNADOR CORSA 1.8 03- 08 TORNADO 1.8 04-12 MERIVA    1.8 05-08 S/AA MARCA GATES",313.3,3,1,3,3,5,3,{"$f":"+IFERROR(HYPERLINK(VLOOKUP(C2912,FOTOGRAFICO!C:E,3,FALSE),C2912),\"\")","v":""}]
[null,null,"GATK060365","BANDA","BANDA ALTERNADOR COMBI-DERBY   96-2001                        GATES",189.74,13,0,1,2,0,1,{"$f":"+IFERROR(HYPERLINK(VLOOKUP(C2915,FOTOGRAFICO!C:E,3,FALSE),C2915),\"\")","v":""}]
[null,null,"GATK060472","BANDA","BANDA 6PK1200 VW GOL 1.6 TIIDA 1.8 MEGANE 1.6 JETTA 2.0       CROSSFOX GATES MEX LAR 1200 MM",267.43,11,10,6,10,4,5,{"$f":"+IFERROR(HYPERLINK(VLOOKUP(C2927,FOTOGRAFICO!C:E,3,FALSE),C2927),\"\")","v":""}]
[null,null,"GATK060739","BANDA","BANDA ALTERN AVEO PONTIAC G3   SUZUKI SWIFT 1.6L 07-12 C/A    MARCA GATES MEXICO",379.18,9,15,5,12,6,10,{"$f":"+IFERROR(HYPERLINK(VLOOKUP(C2940,FOTOGRAFICO!C:E,3,FALSE),C2940),\"\")","v":""}]
[null,null,"GATK060894","BANDA","BANDA ALTERNADOR POINTER 1.8   C/AA 02-08 POINTER GTI 2.0 02- 06 6 CANALES MARCA GATES",311.85000000000002,3,0,1,3,9,2,{"$f":"+IFERROR(HYPERLINK(VLOOKUP(C2947,FOTOGRAFICO!C:E,3,FALSE),C2947),\"\")","v":""}]
[null,null,"GATK061015","BANDA","BANDA ALTER JOURNEY 2.4 09-20  PATRIOT C/AA 2.4 07-17 AVENGER 2.0 2.4 08-14 MARCA GATES",490.94,1,0,17,2,3,1,{"$f":"+IFERROR(HYPERLINK(VLOOKUP(C2950,FOTOGRAFICO!C:E,3,FALSE),C2950),\"\")","v":""}]
[null,null,"GATT1095","BANDA","BANDA TIEM O DIST PLATINA CLIO 1.6 02-10 STEPWAY 1.6 10-13    SANDERO 132 DIENTES GATES",654.47,9,8,14,16,2,7,{"$f":"+IFERROR(HYPERLINK(VLOOKUP(C2959,FOTOGRAFICO!C:E,3,FALSE),C2959),\"\")","v":""}]
[null,null,"GATT282","BANDA","BANDA TIEM O DISTRIBU ATTITUDE 1.4 1.6 06-11 VERNA 1.6 105    DIENTES MARCA GATES T282",689.18,2,10,3,0,3,1,{"$f":"+IFERROR(HYPERLINK(VLOOKUP(C2970,FOTOGRAFICO!C:E,3,FALSE),C2970),\"\")","v":""}]
[null,null,"INAFB7PK2133","BANDA","BANDA ALTERNADOR URVAN 2.5 09- 12 7 CANALES 24.06X2131MM      MARCA LUK INA 7PK2133",330.2,7,0,20,5,4,2,{"$f":"+IFERROR(HYPERLINK(VLOOKUP(C2986,FOTOGRAFICO!C:E,3,FALSE),C2986),\"\")","v":"INAFB7PK2133"}]
[null,null,"ORI06A109116C","BANDA","BANDA TIEM O DISTRI GOLF JETTA A4 2.0 99-16 CLASIC BEETLE 2.0 POLO 2.0 03-07 138 D.VW ORIGIN",699.31,7,3,3,6,3,1,{"$f":"+IFERROR(HYPERLINK(VLOOKUP(C2988,FOTOGRAFICO!C:E,3,FALSE),C2988),\"\")","v":"ORI06A109116C"}]
[null,null,"PROK040360","BANDA","BANDA ALTERNADOR URVAN 2.4 00- 12 YARIS S/AA 1.5 05-16 AVANZA S/AA 1.5 07-08 MARCA PRO ONE",88.78,16,13,5,3,5,1,{"$f":"+IFERROR(HYPERLINK(VLOOKUP(C3002,FOTOGRAFICO!C:E,3,FALSE),C3002),\"\")","v":""}]
[null,null,"PROK060882","BANDA","BANDA ALTERNADOR FIESTA 01-10  IKON 02-13 COURIER 03-12 KA 01 -07 1.6 C/AA D/H MARCA PRO ONE",218.26,7,10,8,21,8,2,{"$f":"+IFERROR(HYPERLINK(VLOOKUP(C3009,FOTOGRAFICO!C:E,3,FALSE),C3009),\"\")","v":"PROK060882"}]
[null,null,"PROT1570","BANDA","BANDA TIEM O DISTRI MATIZ 1.0  1.1 03-16 109 DIENTES PRO ONE  = GMBANDA",406.24,0,1,8,0,3,0,{"$f":"+IFERROR(HYPERLINK(VLOOKUP(C3017,FOTOGRAFICO!C:E,3,FALSE),C3017),\"\")","v":"PROT1570"}]
[null,null,"074-145-933AJ","BANDA","BANDA ALTERNADOR EUROVAN T4    01-04 SIN AIRE K060667 6PK1695 MARCA TOP ENGINE",182.38,0,0,0,0,0,0,{"$f":"+IFERROR(HYPERLINK(VLOOKUP(C3029,FOTOGRAFICO!C:E,3,FALSE),C3029),\"\")","v":""}]
[null,null,"GATB29","BANDA","BANDA HIPOWER B29 ANCHO 21/32  9 CM LONGITUD 13/32 36 CM MAR  CA GATES PEDIDO OSCAR VEGA",70.7,0,0,0,0,0,0,{"$f":"+IFERROR(HYPERLINK(VLOOKUP(C3041,FOTOGRAFICO!C:E,3,FALSE),C3041),\"\")","v":""}]
[null,null,"GATK060486","BANDA","BANDA ACCESORIOS GRAND I10 15- 20 MOT 1.2L 6PK1234 AVEO       COROLLA STRATUS MARCA GATES",281.58,0,1,0,0,0,0,{"$f":"+IFERROR(HYPERLINK(VLOOKUP(C3044,FOTOGRAFICO!C:E,3,FALSE),C3044),\"\")","v":"GATK060486"}]
[null,null,"REGALIA-050","BANDANA","BANDANA CASTROL MULTIUSOS      OCTEVO VARIOS MODELOS",134.88,0,0,0,2,0,2,{"$f":"+IFERROR(HYPERLINK(VLOOKUP(C3056,FOTOGRAFICO!C:E,3,FALSE),C3056),\"\")","v":""}]
[null,null,"ECOCHUPON","BANDERA","BANDERA CHUPON GRANDE",58.14,4,4,5,5,5,2,{"$f":"+IFERROR(HYPERLINK(VLOOKUP(C3064,FOTOGRAFICO!C:E,3,FALSE),C3064),\"\")","v":"ECOCHUPON"}]
[null,null,"BRABARRADER","BARRA","BARRA TORSION TRAS DER COMBI   74-04 MARCA: ECONOMICA, MEXICO DERECHA",465.13,1,0,0,0,0,0,{"$f":"+IFERROR(HYPERLINK(VLOOKUP(C3076,FOTOGRAFICO!C:E,3,FALSE),C3076),\"\")","v":"BRABARRADER"}]
[null,null,"FAL10","BARRA","BARRA 12 LEDS CON LUPA EXTENDI DA BLANCA Y/O ROJO/AZUL CON    ESTROBO JGO 2 PZAS",221.39,1,24,0,0,2,0,{"$f":"+IFERROR(HYPERLINK(VLOOKUP(C3085,FOTOGRAFICO!C:E,3,FALSE),C3085),\"\")","v":""}]
[null,null,"IOLLBLD110","BARRA","BARRA 20 LEDS 60W 9-30V        6500-7000K 23X6.5X5 CM",230.23,0,1,2,2,3,4,{"$f":"+IFERROR(HYPERLINK(VLOOKUP(C3096,FOTOGRAFICO!C:E,3,FALSE),C3096),\"\")","v":"IOLLBLD110"}]
[null,null,"NBOGTG","BARRA","BARRAS RACING GT OVALADA       UNIVERSALES GRISES",585.22,5,5,3,0,4,0,{"$f":"+IFERROR(HYPERLINK(VLOOKUP(C3103,FOTOGRAFICO!C:E,3,FALSE),C3103),\"\")","v":"NBOGTG"}]
[null,null,"C187002M3","BARRA","BARRA POSAPIES JGO COMPLETA    FT125 ENPOS-1616-1002 MARCA    IMPORTACION DEKKEI",0,0,0,0,0,0,0,{"$f":"+IFERROR(HYPERLINK(VLOOKUP(C3114,FOTOGRAFICO!C:E,3,FALSE),C3114),\"\")","v":""}]
[null,null,"NEGRAS","BARRAS","BARRA PORTA EQUIPAJE SIN CEJA  NEGRA",401.61,13,4,0,0,0,4,{"$f":"+IFERROR(HYPERLINK(VLOOKUP(C3119,FOTOGRAFICO!C:E,3,FALSE),C3119),\"\")","v":""}]
[null,null,"2508031SFT","BASE","BASE AMORTIGU DEL FIESTA 11-19 FIGO 16-20 ECOSPORT 13-20 CON  BALERO MARCA SAFETY",368.89,0,2,1,1,3,0,{"$f":"+IFERROR(HYPERLINK(VLOOKUP(C3135,FOTOGRAFICO!C:E,3,FALSE),C3135),\"\")","v":"2508031SFT"}]
[null,null,"54320-50YNKSFT","BASE","BASE AMORTIGUAD DEL TSURU III  92- SIN BALERO MCA: SAFETY",133.02000000000001,6,35,65,29,22,9,{"$f":"+IFERROR(HYPERLINK(VLOOKUP(C3143,FOTOGRAFICO!C:E,3,FALSE),C3143),\"\")","v":"54320-50YNKSFT"}]
[null,null,"5X0412329KB","BASE","BASE AMORTIGUAD DEL VW POINTER GOL 00-04 POINTER PICKUP 00-08 = 7055 MARCA KABUTO",100.79,1,1,1,1,1,1,{"$f":"+IFERROR(HYPERLINK(VLOOKUP(C3151,FOTOGRAFICO!C:E,3,FALSE),C3151),\"\")","v":""}]
[null,null,"90445207KB","BASE","BASE AMORTIG DEL CHEVY 94-     TODOS MODELOS SUPERIOR MCA.    KABUTO = NIK6760-KIT",72.14,1,1,1,1,1,1,{"$f":"+IFERROR(HYPERLINK(VLOOKUP(C3158,FOTOGRAFICO!C:E,3,FALSE),C3158),\"\")","v":""}]
[null,null,"BRU055129761C","BASE","BASE CARBURADOR CARIBE 1.6 1.7 1 GARGANTA SMIDTD",130.22,4,0,2,1,0,2,{"$f":"+IFERROR(HYPERLINK(VLOOKUP(C3170,FOTOGRAFICO!C:E,3,FALSE),C3170),\"\")","v":"BRU055129761C"}]
[null,null,"BRU543209SB0A","BASE","SOPORTE BASE AMORT SENTRA 13-  19 2.0 JUKE 11-17 1.6T         DELANTERO DERECHO BRUCK",571.22,2,1,1,6,3,4,{"$f":"+IFERROR(HYPERLINK(VLOOKUP(C3182,FOTOGRAFICO!C:E,3,FALSE),C3182),\"\")","v":"BRU543209SB0A"}]
[null,null,"BRU5Q0412249E","BASE","SOPORTE BASE AMORT GOLF A7 15- 19 1.4 TSI LEON 14-20 1.4 TSI  SOLO BALERO DELANTERO BRUCK",327.93,2,2,8,2,2,2,{"$f":"+IFERROR(HYPERLINK(VLOOKUP(C3190,FOTOGRAFICO!C:E,3,FALSE),C3190),\"\")","v":"BRU5Q0412249E"}]
[null,null,"BRU5U0915331B","BASE","BASE BATERIA GOL 09-20 1.6     SAVEIRO 09-21 1.6 CROSSFOX 06- 17 1.6 LUPO 05-09 1.6 BRUCK",440.76,2,3,1,3,2,1,{"$f":"+IFERROR(HYPERLINK(VLOOKUP(C3193,FOTOGRAFICO!C:E,3,FALSE),C3193),\"\")","v":"BRU5U0915331B"}]
[null,null,"BRU95022484","BASE","SOPORTE BASE AMORT SONIC 12-17 1.4T CRUZE 10-16 1.8 TRAX 13-  19 1.8 C/PLATO DELANTERO BRUCK",333.8,5,7,4,11,6,5,{"$f":"+IFERROR(HYPERLINK(VLOOKUP(C3201,FOTOGRAFICO!C:E,3,FALSE),C3201),\"\")","v":"BRU95022484"}]
[null,null,"ECO191199221A","BASE","BASE SOPORTE FRONTAL GOLF A2   JETTA 87-92 P/SOPORTE REDONDO  RC1982 NO INCLUYE BUJE BRUCK",213.96,7,0,0,2,0,5,{"$f":"+IFERROR(HYPERLINK(VLOOKUP(C3213,FOTOGRAFICO!C:E,3,FALSE),C3213),\"\")","v":"ECO191199221A"}]
[null,null,"MEX847","BASE","BASE AMORTIGUADOR TRAS TSURU   III 92- =RC6718                MARCA BUFALO AHM",250,9,0,4,0,0,0,{"$f":"+IFERROR(HYPERLINK(VLOOKUP(C3220,FOTOGRAFICO!C:E,3,FALSE),C3220),\"\")","v":""}]
[null,null,"NIS5432500QAA","BASE","BASE AMORTIGUADOR DEL PLATINA  CLIO KANGOO 00-12 CON RONDANA  SIN BALERO MCA NIKKO",153.59,4,17,2,10,9,6,{"$f":"+IFERROR(HYPERLINK(VLOOKUP(C3230,FOTOGRAFICO!C:E,3,FALSE),C3230),\"\")","v":""}]
[null,null,"RC7357","BASE","BASE AMORTIG DEL DER TIIDA 06- 18 CUBE 09-14 SIN BALERO MARCA DAI = NIK54320-EL00A",462.05,3,3,1,0,4,3,{"$f":"+IFERROR(HYPERLINK(VLOOKUP(C3245,FOTOGRAFICO!C:E,3,FALSE),C3245),\"\")","v":""}]
[null,null,"SYD2526004","BASE","BASE AMORT TRASERO POINTER     GOL, PICK UP MODELOS 97-2008   MARCA: SYD IMPORTADO + CALIDAD",77.989999999999995,5,4,8,0,6,0,{"$f":"+IFERROR(HYPERLINK(VLOOKUP(C3252,FOTOGRAFICO!C:E,3,FALSE),C3252),\"\")","v":""}]
[null,null,"GM96852492","BASE","BASE SOPORTE DER SONIC 1.6 12- 16 MARCA GM PEDIDO ALEJANDRO",869.48,0,0,0,0,0,0,{"$f":"+IFERROR(HYPERLINK(VLOOKUP(C3259,FOTOGRAFICO!C:E,3,FALSE),C3259),\"\")","v":""}]
[null,null,"RC7214","BASE","BASE AMORTIGUADOR DEL CORDOBA  03-08 IBIZA 03-09 POLO 05-09   MARCA DAI PIDE PEDRO",384.15,0,0,0,0,0,0,{"$f":"+IFERROR(HYPERLINK(VLOOKUP(C3268,FOTOGRAFICO!C:E,3,FALSE),C3268),\"\")","v":""}]
[null,null,"G151R","BATERIA","BATERIA GONHER 450 AMP CA GP#1 AMPER=360 FRIO LGO=18.8CM ANCH O=12.3 ALTO=22.6CM MATIZ 04-15",2047.11,1,1,2,3,2,1,{"$f":"+IFERROR(HYPERLINK(VLOOKUP(C3284,FOTOGRAFICO!C:E,3,FALSE),C3284),\"\")","v":"G151R"}]
[null,null,"G24ROJA","BATERIA","BATERIA GONHER 688 AM CA GP#3  LARG=27.8CM ANCH=17.2CM ALT=22 .7CM 550 AMPS CCA (-/+)",2439.42,2,8,1,5,0,0,{"$f":"+IFERROR(HYPERLINK(VLOOKUP(C3288,FOTOGRAFICO!C:E,3,FALSE),C3288),\"\")","v":"G24ROJA"}]
[null,null,"G41","BATERIA","BATERIA GONHER 825 AM CA GP#3  LARGO = 29.2 CM ANCHO =17.5 CM ALTO=17.7CM 660 AMPS CCA (-/+)",2591.56,2,1,1,4,4,2,{"$f":"+IFERROR(HYPERLINK(VLOOKUP(C3295,FOTOGRAFICO!C:E,3,FALSE),C3295),\"\")","v":"G41"}]
[null,null,"LABUENA-34","BATERIA","BATERIA 34 SPIRTI CHRYSLE GP#3 LARGO = 27.8 CM ANCHO =17.4 CM ALTO = 19.8 CM AMPER = 600",2455.69,1,0,2,2,2,0,{"$f":"+IFERROR(HYPERLINK(VLOOKUP(C3307,FOTOGRAFICO!C:E,3,FALSE),C3307),\"\")","v":"LABUENA-34"}]
[null,null,"LTH-42","BATERIA","BATERIA LTH 42 CHICA GP#2      LARGO = 25.6 CM ANCHO =17.4 CM ALTO = 17.4 CM AMPER = 400",2333.9699999999998,3,1,1,3,2,3,{"$f":"+IFERROR(HYPERLINK(VLOOKUP(C3319,FOTOGRAFICO!C:E,3,FALSE),C3319),\"\")","v":"LTH-42"}]
[null,null,"XTREME34","BATERIA","BATERIA XTREME 750 AMP CA GP#3 LGO=27.9CM ANCH=16.9CM ALT=20. 6CM 600 AMPS CCA (+/-)",2205.1999999999998,13,0,7,16,2,3,{"$f":"+IFERROR(HYPERLINK(VLOOKUP(C3327,FOTOGRAFICO!C:E,3,FALSE),C3327),\"\")","v":"XTREME34"}]
[null,null,"LTH-94R","BATERIA","BATERIA LTH 94R 800 AMP GP#4   LARGO 31 CM ANCHO 17 CM        ALTO 19 CM",3661.35,0,0,0,0,0,0,{"$f":"+IFERROR(HYPERLINK(VLOOKUP(C3339,FOTOGRAFICO!C:E,3,FALSE),C3339),\"\")","v":""}]
[null,null,"C047230Q0","BATERIA","BATERIA GEL MOTO 12V 6AH 170   CCA YB6L-BS MARCA DEKKEI",451.59,0,0,0,2,2,0,{"$f":"+IFERROR(HYPERLINK(VLOOKUP(C3346,FOTOGRAFICO!C:E,3,FALSE),C3346),\"\")","v":""}]
[null,null,"C047235Q0","BATERIA","BATERIA GEL MOTO 12V 4AH 140   CCA YT4L-BS MARCA DEKKEI",305.91000000000003,0,0,0,4,2,0,{"$f":"+IFERROR(HYPERLINK(VLOOKUP(C3356,FOTOGRAFICO!C:E,3,FALSE),C3356),\"\")","v":""}]
[null,null,"G31R-925","BATERIA","BATERIA GONHER 925 AM CA GP#5  LARGO =32.9CM ANCHO =17.1 CM   ALTO =24.4CM 925 AMPS CCA (+/-",1930.21,0,0,0,0,0,0,{"$f":"+IFERROR(HYPERLINK(VLOOKUP(C3362,FOTOGRAFICO!C:E,3,FALSE),C3362),\"\")","v":""}]
[null,null,"027115611C-A","BAYONETA","BAYONETA ACEITE GOLF JETTA 1.8 A2-A3 87-99 1800CC             MARCA BRUCK GERMANY",49.37,5,1,4,0,0,0,{"$f":"+IFERROR(HYPERLINK(VLOOKUP(C3369,FOTOGRAFICO!C:E,3,FALSE),C3369),\"\")","v":"027115611C-A"}]
[null,null,"BRU03C115611AD","BAYONETA","BAYONETA ACEITE POLO 13-19 1.4 TSI AUDI A1 10-19 1.4 TSI      TIGUAN 08-17 1.4 TSI BRUCK",70.53,1,2,1,2,1,3,{"$f":"+IFERROR(HYPERLINK(VLOOKUP(C3385,FOTOGRAFICO!C:E,3,FALSE),C3385),\"\")","v":"BRU03C115611AD"}]
[null,null,"GM96416289","BAYONETA","BAYONETA ACEITE BEAT 18-20     SPARK 11-17 MARCA GM           PIDE YASMAN",141.68,0,0,0,0,0,0,{"$f":"+IFERROR(HYPERLINK(VLOOKUP(C3394,FOTOGRAFICO!C:E,3,FALSE),C3394),\"\")","v":""}]
[null,null,"XS6E6750A1D","BAYONETA","BAYONETA ACEITE FIESTA 1.6 03- 08 KA IKON COURIER ACERO BRUCK",97.73,5,0,3,10,3,3,{"$f":"+IFERROR(HYPERLINK(VLOOKUP(C3401,FOTOGRAFICO!C:E,3,FALSE),C3401),\"\")","v":"XS6E6750A1D"}]
[null,null,"BSH9001042021","BENDIX","BENDIX MARCHA VW SEDAN -92     CARBURADO",295.55,1,0,0,0,0,0,{"$f":"+IFERROR(HYPERLINK(VLOOKUP(C3414,FOTOGRAFICO!C:E,3,FALSE),C3414),\"\")","v":"BSH9001042021"}]
[null,null,"G04B","BIRLO","BIRLO RUEDA COMBI DEL LARGO    BIRLO RUEDA DELANTERA",29.26,17,0,0,0,0,0,{"$f":"+IFERROR(HYPERLINK(VLOOKUP(C3421,FOTOGRAFICO!C:E,3,FALSE),C3421),\"\")","v":"G04B"}]
[null,null,"47142SD","BIRLO","BIRLO DE SEGURIDAD GORILA      12*1.25",775.63,0,0,0,0,3,0,{"$f":"+IFERROR(HYPERLINK(VLOOKUP(C3433,FOTOGRAFICO!C:E,3,FALSE),C3433),\"\")","v":"47142SD"}]
[null,null,"96648218","BISAGRA","BISAGRA PUERTA TOMA GAS AVEO   ORIGINAL AC DELCO",73.900000000000006,5,2,0,1,0,0,{"$f":"+IFERROR(HYPERLINK(VLOOKUP(C3436,FOTOGRAFICO!C:E,3,FALSE),C3436),\"\")","v":"96648218"}]
[null,null,"BI655I","BISEL","BISEL FARO CUADRADO CARIBE IZQ",25.67,4,4,1,2,1,1,{"$f":"+IFERROR(HYPERLINK(VLOOKUP(C3443,FOTOGRAFICO!C:E,3,FALSE),C3443),\"\")","v":"BI655I"}]
[null,null,"NIS62654","BISEL","BISEL FARO TSURU 94- DER GRIS  O IMPORTADO",76.069999999999993,0,3,1,1,0,1,{"$f":"+IFERROR(HYPERLINK(VLOOKUP(C3456,FOTOGRAFICO!C:E,3,FALSE),C3456),\"\")","v":""}]
[null,null,"036905715A","BOBINA","BOBINA VENTO 1.6 14-22 IBIZA   1.4 12-13 POLO 1.6 13-22 LEON  1.8 09-13 BRUCK GER TIPO LAPIZ",405.5,33,5,5,14,4,5,{"$f":"+IFERROR(HYPERLINK(VLOOKUP(C3468,FOTOGRAFICO!C:E,3,FALSE),C3468),\"\")","v":"036905715A"}]
[null,null,"10239858VM","BOBINA","BOBINA MG ZS MG5 1.5 21-24     3 TERMINALES MARCA VOLTMAX     IC-1301",286.61,0,2,2,0,2,0,{"$f":"+IFERROR(HYPERLINK(VLOOKUP(C3472,FOTOGRAFICO!C:E,3,FALSE),C3472),\"\")","v":""}]
[null,null,"25186687KB","BOBINA","BOBINA SONIC 1.6 12-18 TRAX    1.8 13-19 PONTIAC G3 1.6 08-09 AVEO 1.6 09-11 7 PIN KABUTO",1007.92,0,2,2,1,1,1,{"$f":"+IFERROR(HYPERLINK(VLOOKUP(C3488,FOTOGRAFICO!C:E,3,FALSE),C3488),\"\")","v":""}]
[null,null,"754-ZSE003","BOBINA","BOBINA GOLF JETTA A4 A6 2.0 99 -16 CLASICO VW GOL 1.6 09-18   LUPO 1.6 05-09 4 PINES BERU",1396.98,5,4,2,2,2,0,{"$f":"+IFERROR(HYPERLINK(VLOOKUP(C3495,FOTOGRAFICO!C:E,3,FALSE),C3495),\"\")","v":"754-ZSE003"}]
[null,null,"9091902248KB","BOBINA","BOBINA HIACE 2.7 06-19 HILUX   2.7 04-22 TACOMA 4.0 06-15     CAMRY 2.4 07-11 MARCA KABUTO",233.41,1,0,1,1,1,0,{"$f":"+IFERROR(HYPERLINK(VLOOKUP(C3501,FOTOGRAFICO!C:E,3,FALSE),C3501),\"\")","v":""}]
[null,null,"ALE06A905097","BOBINA","BOBINA GOLF JETTA A4 2.0 03-06 BEETLE 2.0 98-11 4 ENTRADAS EN LINEA 6 PINES MARCA MULTITOP",1104.72,2,0,0,0,0,0,{"$f":"+IFERROR(HYPERLINK(VLOOKUP(C3511,FOTOGRAFICO!C:E,3,FALSE),C3511),\"\")","v":"ALE06A905097"}]
[null,null,"BRU06B905116J","BOBINA","BOBINA GOLF GTI JETTA A4 1.8   TURBO 01-05 BEETLE 1.8 01-05   LAPIZ CAPUCHON CROMA BRUCK GER",438.41,10,6,16,6,1,3,{"$f":"+IFERROR(HYPERLINK(VLOOKUP(C3518,FOTOGRAFICO!C:E,3,FALSE),C3518),\"\")","v":"BRU06B905116J"}]
[null,null,"BRU377905105D","BOBINA","BOBINA POINTER 1.8 2.0 98-03   CHICA SMIDTD        = PO-54    = 986MG2801 = BSHF000ZS0105",272.39,5,0,0,2,0,1,{"$f":"+IFERROR(HYPERLINK(VLOOKUP(C3530,FOTOGRAFICO!C:E,3,FALSE),C3530),\"\")","v":"BRU377905105D"}]
[null,null,"BSH9224771000","BOBINA","BOBINA VW SEDAN 1.6 88-92 GOLF JETTA A2 1.8 87-92 ENCEN.ELECT USE S/RESIS.EXT BOSCH",394.66,0,0,1,0,0,0,{"$f":"+IFERROR(HYPERLINK(VLOOKUP(C3538,FOTOGRAFICO!C:E,3,FALSE),C3538),\"\")","v":"BSH9224771000"}]
[null,null,"DQ-6033","BOBINA","BOBINA POINTER 1.8 04-09 DERBY 1.8 06-09 4 PUNTAS CUADRADA    S/DISTRIBUIDOR MULTITOP",353.32,0,2,0,3,2,1,{"$f":"+IFERROR(HYPERLINK(VLOOKUP(C3550,FOTOGRAFICO!C:E,3,FALSE),C3550),\"\")","v":""}]
[null,null,"DQ-8055","BOBINA","BOBINA CAVALIER 2.2 90-02 Z24  3.1 90-94 S10 2.2 94 AZTEK 3.4 01-05 MARCA MULTITOP",196.43,1,0,0,0,3,0,{"$f":"+IFERROR(HYPERLINK(VLOOKUP(C3562,FOTOGRAFICO!C:E,3,FALSE),C3562),\"\")","v":""}]
[null,null,"EBNT0400","BOBINA","BOBINA HIACE 05/11 HILUX TOYOT A MCA MIZUMO",606.97,0,0,5,0,0,0,{"$f":"+IFERROR(HYPERLINK(VLOOKUP(C3569,FOTOGRAFICO!C:E,3,FALSE),C3569),\"\")","v":""}]
[null,null,"IEAP510","BOBINA","BOBINA VW SEDAN 1.5 1.6 65-87  COMBI 1.6 1.8 72-88 ENCEN.NORM USE S/RESIS.EXT.PRESTOLITE",167.47,10,10,6,5,2,3,{"$f":"+IFERROR(HYPERLINK(VLOOKUP(C3582,FOTOGRAFICO!C:E,3,FALSE),C3582),\"\")","v":""}]
[null,null,"IEAP511","BOBINA","BOBINA TSURU I II 1.5 1.6 84-  90 USESE C/RESISTENCIA EXT.    ENCEN.NORMAL MARCA PRESTOLITE",169.13,3,0,1,2,0,1,{"$f":"+IFERROR(HYPERLINK(VLOOKUP(C3585,FOTOGRAFICO!C:E,3,FALSE),C3585),\"\")","v":""}]
[null,null,"INJ39027","BOBINA","BOBINA CHEVY 1.6 00-03 OPTRA   2.0 06-07 REDONDA 4 PINES      MARCA INJEKTION = BS3001",731.04,1,2,0,0,0,0,{"$f":"+IFERROR(HYPERLINK(VLOOKUP(C3598,FOTOGRAFICO!C:E,3,FALSE),C3598),\"\")","v":""}]
[null,null,"INJ40751","BOBINA","BOBINA GOLF JETTA VR6 2.8 02   -05 4 PINES TIPO LAPIZ MARCA   INJETECH 40751",434.14,0,0,0,0,5,0,{"$f":"+IFERROR(HYPERLINK(VLOOKUP(C3605,FOTOGRAFICO!C:E,3,FALSE),C3605),\"\")","v":"INJ40751"}]
[null,null,"INJ43243","BOBINA","BOBINA SPARK 1.2 11-15 TIPO    LAPIZ MARCA INJETECH 43243",587.47,1,0,0,0,0,0,{"$f":"+IFERROR(HYPERLINK(VLOOKUP(C3612,FOTOGRAFICO!C:E,3,FALSE),C3612),\"\")","v":""}]
[null,null,"PO-116","BOBINA","BOBINA TSURU III 97-17 NP300   2.4 09-15 D21 2.4 98-08 INTERN MARCA PRO ONE = BRU224330M200",149.13,21,2,8,2,3,2,{"$f":"+IFERROR(HYPERLINK(VLOOKUP(C3627,FOTOGRAFICO!C:E,3,FALSE),C3627),\"\")","v":""}]
[null,null,"PO-89","BOBINA","BOBINA ATTITUDE 1.6L 06-11     ATTITUDE 1.4L 12-14 ACCENT 1.6 L 06-11 LAPIZ MARCA PRO ONE",211.8,28,9,5,14,21,8,{"$f":"+IFERROR(HYPERLINK(VLOOKUP(C3637,FOTOGRAFICO!C:E,3,FALSE),C3637),\"\")","v":""}]
[null,null,"ZSE056BM","BOBINA","BOBINA TIIDA 1.8 07-18 SENTRA  2.0 07-12 FLUENCE 2.0 11-14    MARCA BERU = 22448-ED800",657.26,0,4,0,3,2,0,{"$f":"+IFERROR(HYPERLINK(VLOOKUP(C3644,FOTOGRAFICO!C:E,3,FALSE),C3644),\"\")","v":"ZSE056BM"}]
[null,null,"INJ38984","BOBINA","BOBINA CHEROKEE 4.0 00-01      GRAND CHEROKEE 4.0 00-04 6 CIL LINEA INJETECH PEDIDO JORGE D.",1794.52,0,0,0,0,0,0,{"$f":"+IFERROR(HYPERLINK(VLOOKUP(C3656,FOTOGRAFICO!C:E,3,FALSE),C3656),\"\")","v":""}]
[null,null,"INJ39018","BOBINA","BOBINA EXPEDITION 97-99        CONTOUR 95-99 MARCA INJETECH   SOLICITADO EDGAR",509.41,0,0,0,0,0,0,{"$f":"+IFERROR(HYPERLINK(VLOOKUP(C3660,FOTOGRAFICO!C:E,3,FALSE),C3660),\"\")","v":""}]
[null,null,"INJ14112","BOBINA","BOBINA RAM 2500 5.7 06-22      GRAND CHEROKEE 5.7 06-21 RAM   1500 5.7 20-21 MARCA INJETECH",402.49,0,0,0,0,0,0,{"$f":"+IFERROR(HYPERLINK(VLOOKUP(C3667,FOTOGRAFICO!C:E,3,FALSE),C3667),\"\")","v":""}]
[null,null,"DUB369","BOCINAS","BOCINAS PARA AUTO DUO BY       AUDIOBAHN 6X9 3 VIAS 1000W",674.65,0,0,0,0,0,0,{"$f":"+IFERROR(HYPERLINK(VLOOKUP(C3685,FOTOGRAFICO!C:E,3,FALSE),C3685),\"\")","v":"DUB369"}]
[null,null,"ECO-CH","BOLSA","BOLSA ECOLOGICA CHICA",8.5299999999999994,0,0,0,0,4,0,{"$f":"+IFERROR(HYPERLINK(VLOOKUP(C3687,FOTOGRAFICO!C:E,3,FALSE),C3687),\"\")","v":""}]
[null,null,"BRU6N0145157","BOMBA","BOMBA DIR HID JETTA A3 93-99   1.8 GOLF A3 93-99 1.8 DERBY 95 -09 1.8 PRESION 90 BARES BRUCK",1363.39,2,0,0,2,5,1,{"$f":"+IFERROR(HYPERLINK(VLOOKUP(C3699,FOTOGRAFICO!C:E,3,FALSE),C3699),\"\")","v":"BRU6N0145157"}]
[null,null,"90329438SFT","BOMBA","BOMBA DIRECCION CHEVY 94-12    S/POLEA S/DEPOSITO MARCA       SAFETY PIDE OSCAR CHAVEZ",1487.2,0,0,0,0,0,0,{"$f":"+IFERROR(HYPERLINK(VLOOKUP(C3711,FOTOGRAFICO!C:E,3,FALSE),C3711),\"\")","v":""}]
[null,null,"C049575Q0","BOMBA","BOMBA FRENO ITALIKA FT150      22148 MARCA QUMO",128.13,0,0,0,1,1,0,{"$f":"+IFERROR(HYPERLINK(VLOOKUP(C3714,FOTOGRAFICO!C:E,3,FALSE),C3714),\"\")","v":""}]
[null,null,"25100-02512P","BOMBA AGUA","BOMBA AGUA ATOS 1.0 1.1 99-12  2 TORNILLOS ABAJO BEST COOLING = ILSUB972 = MBA05972",259.18,5,4,18,14,19,5,{"$f":"+IFERROR(HYPERLINK(VLOOKUP(C3731,FOTOGRAFICO!C:E,3,FALSE),C3731),\"\")","v":"25100-02512P"}]
[null,null,"BRAUB627","BOMBA AGUA","BOMBA AGUA REPUESTO GOLF JETTA A2 A3 1.8 2.0 85-99 POINTER    1.8 98-09 BRIDA CHICA IMPORTAD",297.16000000000003,11,0,0,4,2,1,{"$f":"+IFERROR(HYPERLINK(VLOOKUP(C3738,FOTOGRAFICO!C:E,3,FALSE),C3738),\"\")","v":"BRAUB627"}]
[null,null,"BRU04E121121A","BOMBA AGUA","BOMBA AGUA GOLF A6 13-14 1.4   TSI GOLF A7 15-21 1.4TSI POLO  13-19 1.4TSI BRUCK GERMANY",1545.59,3,4,0,3,2,2,{"$f":"+IFERROR(HYPERLINK(VLOOKUP(C3743,FOTOGRAFICO!C:E,3,FALSE),C3743),\"\")","v":""}]
[null,null,"BRUB10103HC0A","BOMBA AGUA","BOMBA AGUA VERSA 11-19 1.6     MARCH 11-19 1.6 NOTE 13-19 1.6 MARCA BRUCK GERMANY B10103HC0A",344.39,6,0,3,0,0,0,{"$f":"+IFERROR(HYPERLINK(VLOOKUP(C3754,FOTOGRAFICO!C:E,3,FALSE),C3754),\"\")","v":"BRUB10103HC0A"}]
[null,null,"EGP21010-86G001","BOMBA AGUA","BOMBA AGUA URVAN 2.4 00-07     NP300 2.4 10-15 FRONTIER 2.4   98-14 BEST COOLING IMPORTADO",281.12,0,0,4,5,1,2,{"$f":"+IFERROR(HYPERLINK(VLOOKUP(C3761,FOTOGRAFICO!C:E,3,FALSE),C3761),\"\")","v":""}]
[null,null,"LYS12-513S","BOMBA AGUA","BOMBA AGUA COMPLETA GOLF JETTA A2 A3 1.8 2.0 85-99 POINTER    1.8 BRIDA CHICA LYS IMPORTADO",0,0,0,0,0,0,0,{"$f":"+IFERROR(HYPERLINK(VLOOKUP(C3772,FOTOGRAFICO!C:E,3,FALSE),C3772),\"\")","v":""}]
[null,null,"MBA05911","BOMBA AGUA","BOMBA AGUA VOYAGER 00-00       CARAVAN 88-89 96-00 LE BARON   90-95 MOT 3.0 V6 24 VAL.MORESA",571.89,3,0,0,0,2,0,{"$f":"+IFERROR(HYPERLINK(VLOOKUP(C3786,FOTOGRAFICO!C:E,3,FALSE),C3786),\"\")","v":"MBA05911"}]
[null,null,"MBA08545","BOMBA AGUA","BOMBA AGUA FIESTA 1.3 98-01    8 VALVULAS MORESA",495.66,1,0,2,1,0,2,{"$f":"+IFERROR(HYPERLINK(VLOOKUP(C3793,FOTOGRAFICO!C:E,3,FALSE),C3793),\"\")","v":"MBA08545"}]
[null,null,"MBA08982","BOMBA AGUA","BOMBA AGUA WINDSTAR 3.8 95-03  F-150 4.2 06-08 FREESTAR 3.9   4.2 04-07 V6 MORESA",833.5,2,0,3,0,2,0,{"$f":"+IFERROR(HYPERLINK(VLOOKUP(C3801,FOTOGRAFICO!C:E,3,FALSE),C3801),\"\")","v":"MBA08982"}]
[null,null,"MBA09860","BOMBA AGUA","BOMBA AGUA CAVALIER 2.0 2.2 87 -02 SUNFIRE 2.2 95-02 LUV 2.2  97-98 S10 2.2 94-03 MORESA",451.89,4,0,0,0,1,0,{"$f":"+IFERROR(HYPERLINK(VLOOKUP(C3813,FOTOGRAFICO!C:E,3,FALSE),C3813),\"\")","v":"MBA09860"}]
[null,null,"MBA099014","BOMBA AGUA","BOMBA AGUA SPARK 1.2 12-15 SIN BASE 16 VALVULAS MORESA        = 25186130",658.37,6,14,11,17,9,9,{"$f":"+IFERROR(HYPERLINK(VLOOKUP(C3816,FOTOGRAFICO!C:E,3,FALSE),C3816),\"\")","v":""}]
[null,null,"MBA209022","BOMBA AGUA","BOMBA AGUA SENTRA 1.8 13-15    CON POLEA MOTOR MRA8DE FE-S    FE-SV S SL SR SV 16 VAL.MORESA",634.04999999999995,1,0,0,0,2,0,{"$f":"+IFERROR(HYPERLINK(VLOOKUP(C3828,FOTOGRAFICO!C:E,3,FALSE),C3828),\"\")","v":""}]
[null,null,"MBA282067","BOMBA AGUA","BOMBA AGUA GOLF 2.5 10-14      JETTA 2.5 06-14 BEETLE 2.5 06- 12 BORA 2.5 05-09 5 CIL.MORESA",707.55,2,0,4,6,0,2,{"$f":"+IFERROR(HYPERLINK(VLOOKUP(C3840,FOTOGRAFICO!C:E,3,FALSE),C3840),\"\")","v":""}]
[null,null,"NIS210101-00QAA","BOMBA AGUA","BOMBA AGUA PLATINA CLIO 02-09  APRIO 08-09 KANGOO 04-09 MOTOR 1.6 16 VALV.BEST COOLING IMPOR",362.03,0,0,3,4,4,6,{"$f":"+IFERROR(HYPERLINK(VLOOKUP(C3848,FOTOGRAFICO!C:E,3,FALSE),C3848),\"\")","v":""}]
[null,null,"P1633-KB","BOMBA AGUA","BOMBA AGUA AVEO 1.6 04-08 19   DIENTES ALTURA 30 MM MARCA     KABUTO = MBA094027 = MANC9900",254.63,2,11,1,7,1,3,{"$f":"+IFERROR(HYPERLINK(VLOOKUP(C3855,FOTOGRAFICO!C:E,3,FALSE),C3855),\"\")","v":"P1633-KB"}]
[null,null,"P546-KB","BOMBA AGUA","BOMBA AGUA FIESTA IKON 00-11   KA 00-08 COURIER 00-09 MOTOR   1.6 8 VALVULAS KABUTO",233.41,1,4,1,1,1,1,{"$f":"+IFERROR(HYPERLINK(VLOOKUP(C3869,FOTOGRAFICO!C:E,3,FALSE),C3869),\"\")","v":"P546-KB"}]
[null,null,"PO-2190","BOMBA AGUA","BOMBA AGUA REPUESTO GOLF JETTA A2 A3 1.8 2.0 85-99 POINTER    1.8 98-09 BRIDA CHICA PRO ONE",301.95999999999998,58,0,4,4,5,1,{"$f":"+IFERROR(HYPERLINK(VLOOKUP(C3880,FOTOGRAFICO!C:E,3,FALSE),C3880),\"\")","v":"PO-2190"}]
[null,null,"19200P0A003BC","BOMBA AGUA","BOMBA AGUA ACCORD 2.2 90-97    ODYSSEY 2.2 95-97 MBA102346    MARCA BEST COOLING",314.02999999999997,0,0,0,0,0,0,{"$f":"+IFERROR(HYPERLINK(VLOOKUP(C3887,FOTOGRAFICO!C:E,3,FALSE),C3887),\"\")","v":""}]
[null,null,"MBA05842","BOMBA AGUA","BOMBA AGUA ATTITUDE 04-11      VERNA 04-06 MARCA MORESA PIDE  AXEL",452.97,0,0,0,0,2,0,{"$f":"+IFERROR(HYPERLINK(VLOOKUP(C3898,FOTOGRAFICO!C:E,3,FALSE),C3898),\"\")","v":""}]
[null,null,"13592601","BOMBA GAS","BOMBA GAS SPARK 11-17 COMPLETA BEAT 1.2 18-20 C/FLOTADOR      SMIDTD = EGNC0810",2212.39,3,0,0,0,0,0,{"$f":"+IFERROR(HYPERLINK(VLOOKUP(C3903,FOTOGRAFICO!C:E,3,FALSE),C3903),\"\")","v":"13592601"}]
[null,null,"17040CH000","BOMBA GAS","BOMBA GAS TIIDA 1.8 06-18      COMPLETA CON                   FLOTADOR BRUCK = 17042-CH000",1532.07,0,2,2,1,1,2,{"$f":"+IFERROR(HYPERLINK(VLOOKUP(C3910,FOTOGRAFICO!C:E,3,FALSE),C3910),\"\")","v":"17040CH000"}]
[null,null,"5U0919051-REP","BOMBA GAS","BOMBA GAS VW GOL 09-18 POINTER 06-09 SAVEIRO 10-18 TORNADO 11 -15 REPUESTO C/CEDAZO BRUCK GE",494.81,2,3,4,6,0,6,{"$f":"+IFERROR(HYPERLINK(VLOOKUP(C3927,FOTOGRAFICO!C:E,3,FALSE),C3927),\"\")","v":"5U0919051-REP"}]
[null,null,"6R0919051-REP","BOMBA GAS","BOMBA GAS IBIZA 1.6 2.0 09-17  IBIZA TURBO 1.2 1.4 13-17 POLO TSI 1.2 13-17 REPUESTO BRUCK",981.42,3,0,0,0,0,0,{"$f":"+IFERROR(HYPERLINK(VLOOKUP(C3930,FOTOGRAFICO!C:E,3,FALSE),C3930),\"\")","v":"6R0919051-REP"}]
[null,null,"BAR-129-025B","BOMBA GAS","BOMBA GAS GOLF JETTA A2 1.8 87 -92 MECANICA ENTRADA ARRIBA    MARCA VOLTMAX = BOCPE528",281.12,0,0,0,0,0,0,{"$f":"+IFERROR(HYPERLINK(VLOOKUP(C3942,FOTOGRAFICO!C:E,3,FALSE),C3942),\"\")","v":"BAR-129-025B"}]
[null,null,"BRU170405JJ1A","BOMBA GAS","BOMBA GAS NP300 09-20 2.5      COMPLETA MARCA BRUCK GERMANY   170405JJ1A",1122.46,0,0,0,6,4,0,{"$f":"+IFERROR(HYPERLINK(VLOOKUP(C3954,FOTOGRAFICO!C:E,3,FALSE),C3954),\"\")","v":"BRU170405JJ1A"}]
[null,null,"BRU17040CH000","BOMBA GAS","BOMBA GAS TIIDA 1.8 06-18      COMPLETA CON                   FLOTADOR BRUCK = 17042-CH000",1366.92,2,4,3,3,4,2,{"$f":"+IFERROR(HYPERLINK(VLOOKUP(C3956,FOTOGRAFICO!C:E,3,FALSE),C3956),\"\")","v":"BRU17040CH000"}]
[null,null,"BRU28267905","BOMBA GAS","BOMBA GAS VERSA 11-19 1.6      MARCH 11-20 1.6 CONECTOR       TRAPEZOIDAL COMPLETA BRUCK",1083.67,2,2,2,2,3,0,{"$f":"+IFERROR(HYPERLINK(VLOOKUP(C3965,FOTOGRAFICO!C:E,3,FALSE),C3965),\"\")","v":"BRU28267905"}]
[null,null,"BRU96447644-REP","BOMBA GAS","BOMBA GAS AVEO 08-18 1.6       INCLUYE MANGUERA Y SEDAZO      REPUESTO MARCA BRUCK GERMANY",325.57,2,7,4,12,11,4,{"$f":"+IFERROR(HYPERLINK(VLOOKUP(C3977,FOTOGRAFICO!C:E,3,FALSE),C3977),\"\")","v":"BRU96447644-REP"}]
[null,null,"EGNC0800","BOMBA GAS","BOMBA GAS SPARK 11-17 REPUESTO BEAT 1.2 18-20 C/ARNES CEDAZO  MARCA DIFORZA = 13592601-REP",209.36,3,1,1,4,2,1,{"$f":"+IFERROR(HYPERLINK(VLOOKUP(C3985,FOTOGRAFICO!C:E,3,FALSE),C3985),\"\")","v":""}]
[null,null,"EGP17042-00QAA","BOMBA GAS","BOMBA GAS PLATINA CLIO 02-10   COMPLETA CON FLOTADOR MARCA    VOLTMAX IMPORTADO 5201-E",899.6,2,3,0,1,4,2,{"$f":"+IFERROR(HYPERLINK(VLOOKUP(C3997,FOTOGRAFICO!C:E,3,FALSE),C3997),\"\")","v":""}]
[null,null,"EGPEFP-FD05","BOMBA GAS","BOMBA GAS F150 F250 F350 87-89 CARBURADO BAJA PRESION REPUEST C/CEDAZO MARCA VOLTMAX 313-E",242.54,0,0,0,0,1,0,{"$f":"+IFERROR(HYPERLINK(VLOOKUP(C4004,FOTOGRAFICO!C:E,3,FALSE),C4004),\"\")","v":""}]
[null,null,"INJ13936","BOMBA GAS","BOMBA GAS S10 2.2 4.3 1996     MODULO COMPLETO MARCA INJETECH PIDE VICTOR LONDAIZ",1190.75,0,0,0,0,0,0,{"$f":"+IFERROR(HYPERLINK(VLOOKUP(C4014,FOTOGRAFICO!C:E,3,FALSE),C4014),\"\")","v":""}]
[null,null,"INJBEMPG001","BOMBA GAS","BOMBA GAS PEUGEOT 206 00-07    307 03-08 406 00-05 TAPA GRAND MARCA INJETECH PEDIDO LONDAIZ",1111.3800000000001,0,0,0,0,0,0,{"$f":"+IFERROR(HYPERLINK(VLOOKUP(C4029,FOTOGRAFICO!C:E,3,FALSE),C4029),\"\")","v":""}]
[null,null,"MIZ214M2520","BOMBA GAS","BOMBA GAS CHEVY MPFI 00-12     CORSA 02-08 ASTRA 00-07 MERIVA 03-09 TORNADO 04-07 DIFORZA",280.08999999999997,0,0,5,0,3,0,{"$f":"+IFERROR(HYPERLINK(VLOOKUP(C4036,FOTOGRAFICO!C:E,3,FALSE),C4036),\"\")","v":""}]
[null,null,"MP360402G","BOMBA GAS","BOMBA GAS REPUESTO MALIBU 98-9 8 2.4 3.1 CAVALIER 95-99 S10   96-99 2.2 4.3 MULTITOP",295.32,1,0,0,0,1,0,{"$f":"+IFERROR(HYPERLINK(VLOOKUP(C4043,FOTOGRAFICO!C:E,3,FALSE),C4043),\"\")","v":"MP360402G"}]
[null,null,"MP431601G","BOMBA GAS","BOMBA GAS CHEVY TBI 98-03      NEGRA REPUES C/CEDAZO MULTITOP = BRA9126201R = USA07389",224.08,4,1,2,1,2,1,{"$f":"+IFERROR(HYPERLINK(VLOOKUP(C4056,FOTOGRAFICO!C:E,3,FALSE),C4056),\"\")","v":"MP431601G"}]
[null,null,"MTR5508CK","BOMBA GAS","BOMBA GAS CHEVY TBI 95-97      ENCHUFE CHICO REPUESTO CON     CEDAZO MARCA MULTITOP 903-05",326.74,3,1,0,0,0,0,{"$f":"+IFERROR(HYPERLINK(VLOOKUP(C4059,FOTOGRAFICO!C:E,3,FALSE),C4059),\"\")","v":"MTR5508CK"}]
[null,null,"PO-60506","BOMBA GAS","BOMBA GAS EXPLORER 4.0 4.6 02- 02 EXPEDITION 4.6 5.4 97-01    REPUESTO MARCA PRO ONE",438.62,3,3,3,1,6,3,{"$f":"+IFERROR(HYPERLINK(VLOOKUP(C4072,FOTOGRAFICO!C:E,3,FALSE),C4072),\"\")","v":"PO-60506"}]
[null,null,"R376919051KB","BOMBA GAS","BOMBA GAS POINTER 1.8 WAGON 98 -05 CHEVY PICKUP 99-03 REPUEST C/ARNES CEDAZO KABUTO",0,0,0,0,0,0,0,{"$f":"+IFERROR(HYPERLINK(VLOOKUP(C4079,FOTOGRAFICO!C:E,3,FALSE),C4079),\"\")","v":""}]
[null,null,"EGNC0200","BOMBA GAS","BOMBA GAS COMPLETA CORSA 1.8   03-08 TORNADO 1.8 04-07 C/TAPA MARCA DIFORZA 6233-E",987.41,0,0,1,0,0,0,{"$f":"+IFERROR(HYPERLINK(VLOOKUP(C4091,FOTOGRAFICO!C:E,3,FALSE),C4091),\"\")","v":""}]
[null,null,"BEMGM042","BOMBA GAS","BOMBA GAS COMPLETA CORSA 03-08 TORNADO 04-07 MARCA INJETECH   PEDIDO YAZMAN CALL",1435.81,0,0,0,0,0,0,{"$f":"+IFERROR(HYPERLINK(VLOOKUP(C4103,FOTOGRAFICO!C:E,3,FALSE),C4103),\"\")","v":""}]
[null,null,"INJ06730","BOMBA GAS","BOMBA GAS REPUESTO D21 86-98   MARCA INJETECH",642.17999999999995,0,0,0,0,0,0,{"$f":"+IFERROR(HYPERLINK(VLOOKUP(C4111,FOTOGRAFICO!C:E,3,FALSE),C4111),\"\")","v":""}]
[null,null,"INJ42056","BOMBA GAS","BOMBA GAS COMPLETA HIACE 2.7   08-13 MARCA INJETECH 4851-E",1411.57,0,0,0,0,0,0,{"$f":"+IFERROR(HYPERLINK(VLOOKUP(C4114,FOTOGRAFICO!C:E,3,FALSE),C4114),\"\")","v":""}]
[null,null,"BRU027115105C","BOMBA OIL","BOMBA ACEITE GOLF JETTA A2 1.8 87-92 COMBI 1.8 ATLANTIC 77-86 C/ROMPE OLAS EJE PALETA BRUCK",439.57,1,0,3,3,0,1,{"$f":"+IFERROR(HYPERLINK(VLOOKUP(C4130,FOTOGRAFICO!C:E,3,FALSE),C4130),\"\")","v":"BRU027115105C"}]
[null,null,"EGP13500-53Y00","BOMBA OIL","BOMBA ACEITE TSURU III 92-17   TSUBAME 92-04 SENTRA 91-00     MOTOR 16 VALVULAS TOP ENGINE",988.74,10,0,5,0,6,1,{"$f":"+IFERROR(HYPERLINK(VLOOKUP(C4140,FOTOGRAFICO!C:E,3,FALSE),C4140),\"\")","v":""}]
[null,null,"MA300","BOMBA OIL","BOMBA ACEITE ATOS 1.0 1.1 99-  12 MARCA MORESA                = MIZMBNK0100 = 21310-025500",875.06,1,0,9,5,4,5,{"$f":"+IFERROR(HYPERLINK(VLOOKUP(C4146,FOTOGRAFICO!C:E,3,FALSE),C4146),\"\")","v":""}]
[null,null,"MA6077","BOMBA OIL","BOMBA ACEITE JETTA A4 CLASICO  1.8 2.0 99-15 GOLF A4 1.8 00-  06 MARC MORESA = ALE06A115105B",641.42999999999995,3,7,8,7,3,4,{"$f":"+IFERROR(HYPERLINK(VLOOKUP(C4153,FOTOGRAFICO!C:E,3,FALSE),C4153),\"\")","v":""}]
[null,null,"MA8006","BOMBA OIL","BOMBA ACEITE SONIC 1.8 12-14   CRUZE 1.8 11-14 TRAX 1.8 13-14 MARCA MORESA PIDE JOSHUA",2016.79,0,0,0,0,0,0,{"$f":"+IFERROR(HYPERLINK(VLOOKUP(C4169,FOTOGRAFICO!C:E,3,FALSE),C4169),\"\")","v":""}]
[null,null,"NIS47210-F4205","BOSTER","BOOSTER FRENO TSURU III 92-17  MARCA FP IMPORTADO",780.29,5,6,8,4,4,6,{"$f":"+IFERROR(HYPERLINK(VLOOKUP(C4178,FOTOGRAFICO!C:E,3,FALSE),C4178),\"\")","v":"NIS47210-F4205"}]
[null,null,"BOTACHEVY2","BOTAAGUAS","BOTAAGUAS CHEVY 2 PUERTA 94-08 JUEGO D 2 PIEZAS",267.36,1,0,7,0,1,3,{"$f":"+IFERROR(HYPERLINK(VLOOKUP(C4185,FOTOGRAFICO!C:E,3,FALSE),C4185),\"\")","v":"BOTACHEVY2"}]
[null,null,"BOTAGOL","BOTAAGUAS","BOTAAGUAS GOL JUEGO 2 PIEZAS   MARCA BOS NACIONAL",282.20999999999998,0,3,0,0,0,0,{"$f":"+IFERROR(HYPERLINK(VLOOKUP(C4188,FOTOGRAFICO!C:E,3,FALSE),C4188),\"\")","v":"BOTAGOL"}]
[null,null,"ECO193","BOTAAGUAS","BOTAAGUAS CARIBE IZQ DER 2 PZA",118.75,3,0,0,0,9,0,{"$f":"+IFERROR(HYPERLINK(VLOOKUP(C4205,FOTOGRAFICO!C:E,3,FALSE),C4205),\"\")","v":"ECO193"}]
[null,null,"EX-TIID","BOTAAGUAS","BOTAAGUAS TIIDA GRANDE         06-17 2PZ 20CM",550.32000000000005,0,0,0,0,0,0,{"$f":"+IFERROR(HYPERLINK(VLOOKUP(C4208,FOTOGRAFICO!C:E,3,FALSE),C4208),\"\")","v":""}]
[null,null,"NBGOLA","BOTAAGUAS","BOTAAGUAS GOLFJETTA A3 MEDIANO 93-98 2PZ 13CM",338.65,0,0,0,0,0,0,{"$f":"+IFERROR(HYPERLINK(VLOOKUP(C4220,FOTOGRAFICO!C:E,3,FALSE),C4220),\"\")","v":""}]
[null,null,"NBPLAA","BOTAAGUAS","BOTAAGUAS PLATINA MEDIANO      02-10 2 PZ 13CM",338.65,2,0,0,0,0,0,{"$f":"+IFERROR(HYPERLINK(VLOOKUP(C4227,FOTOGRAFICO!C:E,3,FALSE),C4227),\"\")","v":""}]
[null,null,"NBAVEN18-22","BOTAAGUAS","BOTAAGUAS AVEO NORMAL 18-22    MARCA NACIONAL PIDE RAUL FABIL",297.06,0,0,4,0,0,0,{"$f":"+IFERROR(HYPERLINK(VLOOKUP(C4240,FOTOGRAFICO!C:E,3,FALSE),C4240),\"\")","v":""}]
[null,null,"NBATTA1214","BOTAAGUAS","BOTAAGUAS ATTITUDE 12-14 ANCHO IMPORTADO",395.6,0,0,0,0,0,0,{"$f":"+IFERROR(HYPERLINK(VLOOKUP(C4247,FOTOGRAFICO!C:E,3,FALSE),C4247),\"\")","v":""}]
[null,null,"BOTANA-CALL39","BOTELLA","BOTELLA AGUA SKARCH 600 ML",5.69,0,0,0,0,0,0,{"$f":"+IFERROR(HYPERLINK(VLOOKUP(C4256,FOTOGRAFICO!C:E,3,FALSE),C4256),\"\")","v":""}]
[null,null,"202005661","BOTON","BOTON ELEVADOR ELECTRICO AVEO  G3 BOTON DE 5 PINES DEL/TRA    BRUCK  VIDRIO ELECTRICO",117.79,4,2,0,0,2,0,{"$f":"+IFERROR(HYPERLINK(VLOOKUP(C4263,FOTOGRAFICO!C:E,3,FALSE),C4263),\"\")","v":"202005661"}]
[null,null,"BCK1600","BRACK","BRACK DEFENSA VW SEDAN 1600    NOTA: DELANTERO Y TRASERO      2 BRAK X DEFENSA",66.86,202,78,12,34,7,8,{"$f":"+IFERROR(HYPERLINK(VLOOKUP(C4279,FOTOGRAFICO!C:E,3,FALSE),C4279),\"\")","v":"BCK1600"}]
[null,null,"21-0166-L","BRAZO","BRAZO LIMP CHEVY TODOS IZQUIER MARCA NACIONAL",143.12,5,1,10,10,5,3,{"$f":"+IFERROR(HYPERLINK(VLOOKUP(C4285,FOTOGRAFICO!C:E,3,FALSE),C4285),\"\")","v":"21-0166-L"}]
[null,null,"BSPC","BRAZO","BRAZO SUPERIOR PTA CORREDIZA   GUIA SUPERIOR COMBI",42.22,8,0,0,0,0,0,{"$f":"+IFERROR(HYPERLINK(VLOOKUP(C4295,FOTOGRAFICO!C:E,3,FALSE),C4295),\"\")","v":"BSPC"}]
[null,null,"USA21","BRAZO","BRAZO SUSP SUP COMBI S/ROTULA  RECONSTRUIDO SIN ROTULA",441.87,3,0,0,0,0,0,{"$f":"+IFERROR(HYPERLINK(VLOOKUP(C4302,FOTOGRAFICO!C:E,3,FALSE),C4302),\"\")","v":"USA21"}]
[null,null,"BOTANA-CALL20","BUBULUBU","MALVAVISCO RELLENO FRESA BUBU  LUBU 20 GRAMOS",3.9,0,0,0,0,0,0,{"$f":"+IFERROR(HYPERLINK(VLOOKUP(C4314,FOTOGRAFICO!C:E,3,FALSE),C4314),\"\")","v":""}]
[null,null,"1403024SFT","BUJE","BUJE HORQUILLA CHICO AVEO 08-  17 PONTIAC G3 06-09 MAR SAFETY = 96535087 = 1403024",23.31,37,28,13,21,8,16,{"$f":"+IFERROR(HYPERLINK(VLOOKUP(C4322,FOTOGRAFICO!C:E,3,FALSE),C4322),\"\")","v":"1403024SFT"}]
[null,null,"1403117SFT","BUJE","BUJE HORQUILLA GRANDE GM SPARK 1.4L 16-20 CON SOPORTE MARCA   SAFETY = 2725081 = 1403117",163.19,0,6,2,4,7,7,{"$f":"+IFERROR(HYPERLINK(VLOOKUP(C4334,FOTOGRAFICO!C:E,3,FALSE),C4334),\"\")","v":"1403117SFT"}]
[null,null,"1406013KB","BUJE","BUJE HORQUILLA GRANDE ATOS 00- 12 CASITA MARCA KABUTO         = 1406013 = ORI54555-02000",57.29,1,1,1,1,1,1,{"$f":"+IFERROR(HYPERLINK(VLOOKUP(C4337,FOTOGRAFICO!C:E,3,FALSE),C4337),\"\")","v":""}]
[null,null,"1416009KB","BUJE","BUJE HORQUILLA GRANDE TIIDA 06 -18 MICRA 05-08 CUBE 09-14     KABUTO = 54570ED00A",53.04,1,0,1,1,1,1,{"$f":"+IFERROR(HYPERLINK(VLOOKUP(C4353,FOTOGRAFICO!C:E,3,FALSE),C4353),\"\")","v":""}]
[null,null,"1416042KB","BUJE","BUJE HORQUILLA CHICO VERSA 12  -18 NOTE 12-18 MARCH 11-18     KICKS 17-18 MARCA KABUTO",45.62,1,3,1,0,1,1,{"$f":"+IFERROR(HYPERLINK(VLOOKUP(C4357,FOTOGRAFICO!C:E,3,FALSE),C4357),\"\")","v":""}]
[null,null,"1J0407181RKB","BUJE","BUJE HORQUILLA GRANDE VENTO 14 -19 GOLF A4 98-07 JETTA A4 98- 15 RELLENADO S/CEJA KABUTO",43.5,1,1,1,1,1,1,{"$f":"+IFERROR(HYPERLINK(VLOOKUP(C4373,FOTOGRAFICO!C:E,3,FALSE),C4373),\"\")","v":""}]
[null,null,"45200-84000BSFT","BUJE","BUJE HORQUILLA CHICO SPARK     11-15 BEAT 18- MARCA SAFETY    IMPORTADO = 1403075",50.73,10,13,3,8,16,3,{"$f":"+IFERROR(HYPERLINK(VLOOKUP(C4382,FOTOGRAFICO!C:E,3,FALSE),C4382),\"\")","v":"45200-84000BSFT"}]
[null,null,"54560-1HK0ASFT","BUJE","BUJE HORQUILLA CHICO VERSA 12  -18 NOTE 12-18 MARCH 11-18     KICKS 17-18 MARCA SAFETY",54.85,45,17,5,32,6,19,{"$f":"+IFERROR(HYPERLINK(VLOOKUP(C4389,FOTOGRAFICO!C:E,3,FALSE),C4389),\"\")","v":"54560-1HK0ASFT"}]
[null,null,"545701HK0A","BUJE","BUJE HORQUILLA GRANDE VERSA 12 -18 NOTE 12-18 MARCH 11-18     KICKS 17-18 MARCA KISHIO",119.59,11,21,0,7,0,3,{"$f":"+IFERROR(HYPERLINK(VLOOKUP(C4396,FOTOGRAFICO!C:E,3,FALSE),C4396),\"\")","v":"545701HK0A"}]
[null,null,"7H0501132A","BUJE","BUJE BRAZO OSCILANTE TRASERO   EUROVAN 2005-2012 DIESEL",132.15,0,0,0,0,1,0,{"$f":"+IFERROR(HYPERLINK(VLOOKUP(C4411,FOTOGRAFICO!C:E,3,FALSE),C4411),\"\")","v":"7H0501132A"}]
[null,null,"811407181A","BUJE","BUJE HORQUILLA POINTER 97-09   POINTER PICKUP 97-10 LLEVA 2   BUJES BRUCK GERMANY",41.13,28,8,8,72,18,26,{"$f":"+IFERROR(HYPERLINK(VLOOKUP(C4412,FOTOGRAFICO!C:E,3,FALSE),C4412),\"\")","v":"811407181A"}]
[null,null,"ALE701407077","BUJE","BUJE HORQUILLA EUROVAN MEDIANO HORQUILLA SUP DEL MEDIANO      BARRIL DE GOMA",41.13,0,1,0,8,4,2,{"$f":"+IFERROR(HYPERLINK(VLOOKUP(C4428,FOTOGRAFICO!C:E,3,FALSE),C4428),\"\")","v":"ALE701407077"}]
[null,null,"ALE701407183","BUJE","BUJE HORQUILLA EUROVAN MEDIANO HORQUILLA INF DEL MEDIANO      BARRIL DE GOMA REFORZADO",28.83,0,0,0,0,1,0,{"$f":"+IFERROR(HYPERLINK(VLOOKUP(C4430,FOTOGRAFICO!C:E,3,FALSE),C4430),\"\")","v":"ALE701407183"}]
[null,null,"BUJ2170","BUJE","BUJE SUSP COMBI GRUESO PLASTIC",20.32,63,0,10,0,0,0,{"$f":"+IFERROR(HYPERLINK(VLOOKUP(C4448,FOTOGRAFICO!C:E,3,FALSE),C4448),\"\")","v":""}]
[null,null,"BUJE0123","BUJE","BUJE AMORTIGUADOR EUROVAN",75,9,0,0,0,0,0,{"$f":"+IFERROR(HYPERLINK(VLOOKUP(C4451,FOTOGRAFICO!C:E,3,FALSE),C4451),\"\")","v":""}]
[null,null,"CLV431","BUJE","BUJES BIELA SEDAN JGO 4 PZAS   SE VENDE POR CAJA 4 PIEZAS     VW 1600 MCA CLEMEX/MORESA",116.59,6,3,0,2,0,2,{"$f":"+IFERROR(HYPERLINK(VLOOKUP(C4459,FOTOGRAFICO!C:E,3,FALSE),C4459),\"\")","v":""}]
[null,null,"ECO7D0407140","BUJE","BUJE HORQUILLA EUROVAN COMPLET HORQUILLA INF TRAS COMPLETO    ALUMINIO",150,9,0,2,4,1,1,{"$f":"+IFERROR(HYPERLINK(VLOOKUP(C4471,FOTOGRAFICO!C:E,3,FALSE),C4471),\"\")","v":""}]
[null,null,"NIK48815-26380","BUJE","BUJE BARRA ESTABILIZADOR HIACE TOYOTA TODOS MODELOS NIKKO",51.4,3,0,0,0,0,0,{"$f":"+IFERROR(HYPERLINK(VLOOKUP(C4483,FOTOGRAFICO!C:E,3,FALSE),C4483),\"\")","v":""}]
[null,null,"NIS54560-50A00","BUJE","BUJE HORQUILLA CHICO TSURU II  III 88-17 SENTRA 87-00 TSUBAME 92-04 LUCINO 96-00 BARR SAFETY",35.65,25,0,36,19,0,10,{"$f":"+IFERROR(HYPERLINK(VLOOKUP(C4486,FOTOGRAFICO!C:E,3,FALSE),C4486),\"\")","v":""}]
[null,null,"ORI54555-02000","BUJE","BUJE HORQUILLA GRANDE ATOS 00- 12 CASITA MARCA SAFETY         IMPORTADO = 1406013",67.19,1,5,32,22,2,6,{"$f":"+IFERROR(HYPERLINK(VLOOKUP(C4498,FOTOGRAFICO!C:E,3,FALSE),C4498),\"\")","v":""}]
[null,null,"SAN172","BUJE","BUJE CALIPER GOLF JETTA A2 JGO P/CALIPER CON BALATA 7183",19.63,46,0,0,0,0,0,{"$f":"+IFERROR(HYPERLINK(VLOOKUP(C4506,FOTOGRAFICO!C:E,3,FALSE),C4506),\"\")","v":""}]
[null,null,"SYD5272250","BUJE","BUJE INF GRANDE NEON 00-05 PT  CRUISER 01-10 MARCA SYD",172.71,0,0,0,0,0,0,{"$f":"+IFERROR(HYPERLINK(VLOOKUP(C4522,FOTOGRAFICO!C:E,3,FALSE),C4522),\"\")","v":""}]
[null,null,"Z96FB3A262AD","BUJE","BUJE HORQUILLA GRANDE FIESTA   IKON 98-2011 MARCA BRUCK GERMA ES PARA HORQUILLA SHNF0301/2",82.27,4,0,5,16,12,9,{"$f":"+IFERROR(HYPERLINK(VLOOKUP(C4527,FOTOGRAFICO!C:E,3,FALSE),C4527),\"\")","v":"Z96FB3A262AD"}]
[null,null,"RC1416004","BUJE","BUJE HORQUILLA GRANDE ALMERA   01-06 SENTRA 01-06 SCALA 10-13 MARCA DAI PIDE JORGE",100.31,0,0,0,0,0,0,{"$f":"+IFERROR(HYPERLINK(VLOOKUP(C4538,FOTOGRAFICO!C:E,3,FALSE),C4538),\"\")","v":""}]
[null,null,"OP-1413001","BUJE","BUJE INF GRANDE MAZDA 5 03-15  MARCA OP PIDE EDGAR",335.5,0,0,0,0,0,0,{"$f":"+IFERROR(HYPERLINK(VLOOKUP(C4545,FOTOGRAFICO!C:E,3,FALSE),C4545),\"\")","v":""}]
[null,null,"D64853","BUJES","BUJES EJE TRASERO BORA 06-10   JETTA 06-20 ATECA 16-20 LEON   06-20 MARCA DAI PIDE EDGAR",475.12,0,0,0,0,0,0,{"$f":"+IFERROR(HYPERLINK(VLOOKUP(C4556,FOTOGRAFICO!C:E,3,FALSE),C4556),\"\")","v":""}]
[null,null,"ACR44LTSM","BUJIA","BUJIA ACDELCO CAVALIER CUTLASS CELEBRITY 14MM CUERDA          5/8 TUERCA",38.729999999999997,72,27,19,52,4,44,{"$f":"+IFERROR(HYPERLINK(VLOOKUP(C4565,FOTOGRAFICO!C:E,3,FALSE),C4565),\"\")","v":"ACR44LTSM"}]
[null,null,"BSHHR9BP","BUJIA","BUJIA 4007 BOSCH PLATINO BL15Y CHEVROLET PLATINO =BL15Y       4007  CAJA = 10 PZAS",86.07,10,13,0,7,1,4,{"$f":"+IFERROR(HYPERLINK(VLOOKUP(C4577,FOTOGRAFICO!C:E,3,FALSE),C4577),\"\")","v":"BSHHR9BP"}]
[null,null,"C-010606D3","BUJIA","BUJIA AUTOLITE MOTOS 4302 BMW  HONDA,KAWASAKI,SUZUKI,YAMAHA   MOTOCICLETA",51.27,0,0,0,3,4,6,{"$f":"+IFERROR(HYPERLINK(VLOOKUP(C4585,FOTOGRAFICO!C:E,3,FALSE),C4585),\"\")","v":""}]
[null,null,"CHABN12Y","BUJIA","BUJIA BN12Y FORD 4 CIL,6 CIL   TOPAZ EXPLORER NICKEL",21.02,112,12,39,29,42,41,{"$f":"+IFERROR(HYPERLINK(VLOOKUP(C4597,FOTOGRAFICO!C:E,3,FALSE),C4597),\"\")","v":"CHABN12Y"}]
[null,null,"CHAKC8ZPYPB4","BUJIA","BUJIA DOBLE PLATINO VW BORA    GOLF 2.5 JETTA 2.5 10-18 VENTO SAVEIRO 1.6L 10-18 CHAMPION",70.78,81,88,105,104,56,39,{"$f":"+IFERROR(HYPERLINK(VLOOKUP(C4600,FOTOGRAFICO!C:E,3,FALSE),C4600),\"\")","v":"CHAKC8ZPYPB4"}]
[null,null,"CHARC9YC","BUJIA","BUJIA RC9YC4 STRATUS NEON 95-  AVEO FAW F1 G3 VERNA COBRE",21.35,12,6,15,17,24,16,{"$f":"+IFERROR(HYPERLINK(VLOOKUP(C4612,FOTOGRAFICO!C:E,3,FALSE),C4612),\"\")","v":"CHARC9YC"}]
[null,null,"FR8DPP33X","BUJIA","BUJIA BOSCH DOBLE PLATINO ATOS 1.0L 1.1L ATTITUDE 1.4L 1.6L   I10 1.1L 12-14 STRATUS 2.4L",105.34,4,0,0,20,11,1,{"$f":"+IFERROR(HYPERLINK(VLOOKUP(C4624,FOTOGRAFICO!C:E,3,FALSE),C4624),\"\")","v":""}]
[null,null,"IXUH22","BUJIA","BUJIA IRIDIUM GRAND I10 1.2L   14-19 JOURNEY 3.6 14-17 MINI-  COOPER 08-12 OUTLANDER 08-11",183,27,66,57,84,59,24,{"$f":"+IFERROR(HYPERLINK(VLOOKUP(C4632,FOTOGRAFICO!C:E,3,FALSE),C4632),\"\")","v":""}]
[null,null,"MAGSF52C","BUJIA","BUJIA BN12Y NORMAL MOTORCRAFT  BUJIA= SP-442 MOTORCRAFT",42.86,83,0,10,51,0,28,{"$f":"+IFERROR(HYPERLINK(VLOOKUP(C4639,FOTOGRAFICO!C:E,3,FALSE),C4639),\"\")","v":""}]
[null,null,"NGKBP5ET","BUJIA","BUJIA COBRE GOLF JETTA A3 1.8  93-99 POINTER 1.8 2.0 01-04    3 ELECTRODOS MARCA NGK BP5ET",51.73,21,32,91,53,42,22,{"$f":"+IFERROR(HYPERLINK(VLOOKUP(C4653,FOTOGRAFICO!C:E,3,FALSE),C4653),\"\")","v":""}]
[null,null,"NGKBPR5EGP","BUJIA","BUJIA PLATINO GOLF JETTA A2    1.8 87-92 POINTER 1.8 98-00    VW SEDAN 1.6 93-04 NGK BPR5EGP",42.03,276,143,244,302,92,88,{"$f":"+IFERROR(HYPERLINK(VLOOKUP(C4655,FOTOGRAFICO!C:E,3,FALSE),C4655),\"\")","v":""}]
[null,null,"NGKLZTR4A11","BUJIA","BUJIA COBRE CIRRUS 2.4 2.5 01- 06 STRATUS 2.0 2.4 01-06 RAM   2500 5.7 03-08 V-POWER NGK",25.91,75,8,50,17,23,16,{"$f":"+IFERROR(HYPERLINK(VLOOKUP(C4671,FOTOGRAFICO!C:E,3,FALSE),C4671),\"\")","v":""}]
[null,null,"NGKLZTR4AGP","BUJIA","BUJIA PLATINO CIRRUS 2.4 2.5   01-06 STRATUS 2.0 2.4 01-06    RAM 2500 5.7 03-08 G-POWER NGK",42.03,41,35,46,75,22,8,{"$f":"+IFERROR(HYPERLINK(VLOOKUP(C4672,FOTOGRAFICO!C:E,3,FALSE),C4672),\"\")","v":""}]
[null,null,"NGKZFR5F","BUJIA","BUJIA NGK DODGE JOURNEY        CALIBER                        ZFR5F",40.380000000000003,80,52,24,58,39,14,{"$f":"+IFERROR(HYPERLINK(VLOOKUP(C4682,FOTOGRAFICO!C:E,3,FALSE),C4682),\"\")","v":""}]
[null,null,"POC-N12YC","BUJIA","BUJIA COBRE PRO ONE JGO 4 PZAS GRUESA POINTER 1.8 98-00 GOLF  JETTA 87-92 VW SEDAN 1.6 93-04",86.33,2,14,61,0,4,5,{"$f":"+IFERROR(HYPERLINK(VLOOKUP(C4694,FOTOGRAFICO!C:E,3,FALSE),C4694),\"\")","v":"POC-N12YC"}]
[null,null,"PW16TT","BUJIA","BUJIA PLATIN GOLF 1.8 TSURU 8V CARIBE VW F.I A2 A3 COMBI FUEL DENSO JAPON =N12Y LARGA",38.090000000000003,0,1,0,0,1,0,{"$f":"+IFERROR(HYPERLINK(VLOOKUP(C4701,FOTOGRAFICO!C:E,3,FALSE),C4701),\"\")","v":"PW16TT"}]
[null,null,"FM-MASF-42P","BUJIA","BUJIA MOTORCRAFT CHEYENNE 5.7                                 SOBRE PEDIDO RAFAEL",47.15,0,0,0,0,0,0,{"$f":"+IFERROR(HYPERLINK(VLOOKUP(C4714,FOTOGRAFICO!C:E,3,FALSE),C4714),\"\")","v":""}]
[null,null,"NGKBPM64","BUJIA","BUJIA KIA OPTIMA 01-04 MIRAGE  93-02 MARCA NGK PIDE PEDRO",25.05,0,0,0,0,0,0,{"$f":"+IFERROR(HYPERLINK(VLOOKUP(C4726,FOTOGRAFICO!C:E,3,FALSE),C4726),\"\")","v":""}]
[null,null,"AC23615233","BUJIA","BUJIA ACDELCO AVEO 24 GROOVW   22 TORNADO VAN 20-24 PIDE EDER",357.44,0,0,0,0,4,0,{"$f":"+IFERROR(HYPERLINK(VLOOKUP(C4729,FOTOGRAFICO!C:E,3,FALSE),C4729),\"\")","v":"AC23615233"}]
[null,null,"06A-919-081A","BULBO","BULBO ACEITE GOLF JETTA A4     COLOR NEGRO 1 POLO SMIDTD      ALTA CALIDAD",47.28,5,2,2,2,1,4,{"$f":"+IFERROR(HYPERLINK(VLOOKUP(C4740,FOTOGRAFICO!C:E,3,FALSE),C4740),\"\")","v":"06A-919-081A"}]
[null,null,"251919372A","BULBO","BULBO DEPOSITO COMBI 92- 1800  CON COSTILLA, SENSOR DEPOSITO  ANTICONG MARCA BRUCK GERMANY",35.270000000000003,0,3,11,4,0,6,{"$f":"+IFERROR(HYPERLINK(VLOOKUP(C4749,FOTOGRAFICO!C:E,3,FALSE),C4749),\"\")","v":"251919372A"}]
[null,null,"3200500QAA","BULBO","BULBO REVERSA PLATINA CLIO 1.6 SANDERO, KANGOO FLUENCE MEGANE             MARCA KISHIO",53.34,3,2,4,2,3,2,{"$f":"+IFERROR(HYPERLINK(VLOOKUP(C4756,FOTOGRAFICO!C:E,3,FALSE),C4756),\"\")","v":"3200500QAA"}]
[null,null,"90482454","BULBO","BULBO REVERSA CHEVY 1.4 1.6 94 -12 ASTRA 1.8 00-02 CORSA 1.8  CONEC.RED.2 PATA EURO ESPANA",44.66,5,5,18,16,6,2,{"$f":"+IFERROR(HYPERLINK(VLOOKUP(C4769,FOTOGRAFICO!C:E,3,FALSE),C4769),\"\")","v":"90482454"}]
[null,null,"ALE191945515","BULBO","BULBO FRENO STOP GOLF JETTA A2 A3 87-99 POINTER 1.8 2.0 97-05 2 PATAS MARCA BRUCK GERMANY",41.13,16,0,0,6,0,7,{"$f":"+IFERROR(HYPERLINK(VLOOKUP(C4781,FOTOGRAFICO!C:E,3,FALSE),C4781),\"\")","v":"ALE191945515"}]
[null,null,"ALE601790","BULBO","BULBO RADIADOR GOLF JETTA A3   1.8 2.0 2.8 93-99 C/AIRE 3 PTA TRIANGULO 87-92 *C MARCA HELLA",277.35000000000002,3,0,4,0,2,0,{"$f":"+IFERROR(HYPERLINK(VLOOKUP(C4788,FOTOGRAFICO!C:E,3,FALSE),C4788),\"\")","v":"ALE601790"}]
[null,null,"BRA547959481A","BULBO","BULBO RADIADOR POINTER 1.8 2.0 98-09 C/AIRE 3 PATAS 95-102 *C HELLA = 754-ST605",309.63,2,0,3,3,4,1,{"$f":"+IFERROR(HYPERLINK(VLOOKUP(C4798,FOTOGRAFICO!C:E,3,FALSE),C4798),\"\")","v":"BRA547959481A"}]
[null,null,"BRU25320AX00C","BULBO","BULBO FRENO STOP TIIDA 07-18   1.8 VERSA 11-19 1.6 SENTRA 06- 12 2.0 ALTIMA 13-18 2.5 BRUCK",50.56,3,0,4,2,0,0,{"$f":"+IFERROR(HYPERLINK(VLOOKUP(C4804,FOTOGRAFICO!C:E,3,FALSE),C4804),\"\")","v":"BRU25320AX00C"}]
[null,null,"GM90510183","BULBO","BULBO TEMPERATURA CTS CORSA    1.8 02-08 TORNADO 1.8 04-10    ARNE CUADR.2 PINES EURO ESPANA",68.16,2,0,6,11,8,17,{"$f":"+IFERROR(HYPERLINK(VLOOKUP(C4820,FOTOGRAFICO!C:E,3,FALSE),C4820),\"\")","v":""}]
[null,null,"NIS111M1200","BULBO","BULBO TEMPER TSURU III 1.6 96- 17 TSUBAME 1.6 93-96 CHICO TIP CLAVO 1 PATA MARCA EURO ESPANA",30.55,11,14,10,17,13,15,{"$f":"+IFERROR(HYPERLINK(VLOOKUP(C4827,FOTOGRAFICO!C:E,3,FALSE),C4827),\"\")","v":""}]
[null,null,"NIS25240-1M300","BULBO","BULBO ACEITE TSURU III 1.6 01- 17 URVAN 2.4 00-08 VERSA 1.6   12-19 ENTR.REDO 1 POLO VOLTMAX",37.020000000000003,14,13,0,2,6,3,{"$f":"+IFERROR(HYPERLINK(VLOOKUP(C4831,FOTOGRAFICO!C:E,3,FALSE),C4831),\"\")","v":""}]
[null,null,"ORI113906161099","BULBO","BULBO TEMPER CTS VW SEDAN F.I. 1.6 93-04 ASTRA 2.4 04-05 VA   EN CABEZA BLANCO MTE THOMSON",99.23,6,13,1,2,0,7,{"$f":"+IFERROR(HYPERLINK(VLOOKUP(C4843,FOTOGRAFICO!C:E,3,FALSE),C4843),\"\")","v":""}]
[null,null,"GM55591401","BULBO","BULBO TEMP CTS SONIC 1.6 12-17 SONIC RS 1.4 14-16 CRUZE 1.8   10-16 TRAX 1.8 13-20 MARCA GM",513.59,0,0,0,0,0,0,{"$f":"+IFERROR(HYPERLINK(VLOOKUP(C4856,FOTOGRAFICO!C:E,3,FALSE),C4856),\"\")","v":""}]
[null,null,"24105459-Z","BULBO","BULBO ACEITE CAVALIER 1.5 18-  23 AVEO II 1.5 18-23 MCA Z-PRO",111.07,0,4,0,0,1,6,{"$f":"+IFERROR(HYPERLINK(VLOOKUP(C4863,FOTOGRAFICO!C:E,3,FALSE),C4863),\"\")","v":"24105459-Z"}]
[null,null,"OP98AB92278AA","BULBO","BULBO ACEITE FIESTA 1.6 03-10  6MM 1 TERMINAL MARCA OEP       IMPORTADO PIDE EDGAR",0,0,0,0,0,0,0,{"$f":"+IFERROR(HYPERLINK(VLOOKUP(C4875,FOTOGRAFICO!C:E,3,FALSE),C4875),\"\")","v":""}]
[null,null,"MORH335","BUZO","BUZO CHEVY 1.4 1.6 TODOS 1 PZA NOTA: MOTOR LLEVA 8 BUZOS      CORSA TORNADO MERIVA 03-05 1.8",68.459999999999994,151,51,144,157,46,39,{"$f":"+IFERROR(HYPERLINK(VLOOKUP(C4882,FOTOGRAFICO!C:E,3,FALSE),C4882),\"\")","v":"MORH335"}]
[null,null,"CABB22T","CABLE","CABLE BOCINA XMETRO CALIBRE 22 TRANSPARENTE",1.57,198,155,196,112,188,75,{"$f":"+IFERROR(HYPERLINK(VLOOKUP(C4895,FOTOGRAFICO!C:E,3,FALSE),C4895),\"\")","v":"CABB22T"}]
[null,null,"ECO110CM","CABLE","CABLE BATERIA 110 CM ROJO CON  TERMINAL NACIONAL",106.7,0,3,3,2,0,4,{"$f":"+IFERROR(HYPERLINK(VLOOKUP(C4898,FOTOGRAFICO!C:E,3,FALSE),C4898),\"\")","v":"ECO110CM"}]
[null,null,"ECO80CM","CABLE","CABLE BATERIA 80 CM ROJO CON   TERMINAL NACIONAL",89.11,4,0,6,0,0,5,{"$f":"+IFERROR(HYPERLINK(VLOOKUP(C4905,FOTOGRAFICO!C:E,3,FALSE),C4905),\"\")","v":"ECO80CM"}]
[null,null,"032-905-430K","CABLES","CABLES BUJIAS POLO LUPO 1.6 02 CROSS FOX GOL 1.6 IBIZA 1.6L   MARCA KODAECS HECHO EN COREA",325,0,14,0,6,0,49,{"$f":"+IFERROR(HYPERLINK(VLOOKUP(C4914,FOTOGRAFICO!C:E,3,FALSE),C4914),\"\")","v":"032-905-430K"}]
[null,null,"96288956K","CABLES","CABLES BUJIAS MATIZ 1.0 04-15  MARCA KODAECS KOREA = HYPB5910 = GMM16H7001 = PO-C-P7GMATIZ",170.04,9,4,14,3,10,14,{"$f":"+IFERROR(HYPERLINK(VLOOKUP(C4930,FOTOGRAFICO!C:E,3,FALSE),C4930),\"\")","v":"96288956K"}]
[null,null,"986MG0309","CABLES","CABLES BUJIA POINTER 1.8 05-09 PICK UP 4 CABLES MARCA BOSCH   = 2.0POINT = HYPB59149W4",760.02,2,1,4,6,2,1,{"$f":"+IFERROR(HYPERLINK(VLOOKUP(C4937,FOTOGRAFICO!C:E,3,FALSE),C4937),\"\")","v":"986MG0309"}]
[null,null,"ALE900998031","CABLES","CABLES BUJIAS GOLF JETTA COMBI CARIBE 1800 ENC/ELEC ALEMANES  MARCA: BERU",608.79999999999995,6,0,0,2,3,0,{"$f":"+IFERROR(HYPERLINK(VLOOKUP(C4943,FOTOGRAFICO!C:E,3,FALSE),C4943),\"\")","v":"ALE900998031"}]
[null,null,"BSH040102","CABLES","CABLES BUJIAS VW SEDAN FUEL    INJECTION COMBI 1600 93-03     MARCA BOSCH = 5SED94",319.12,3,4,3,4,9,1,{"$f":"+IFERROR(HYPERLINK(VLOOKUP(C4957,FOTOGRAFICO!C:E,3,FALSE),C4957),\"\")","v":"BSH040102"}]
[null,null,"EME9360","CABLES","CABLES BUJIAS GOLF JETTA COMBI CARIBE 1800 ENC/ELECTRONIC",184.67,10,2,9,5,10,1,{"$f":"+IFERROR(HYPERLINK(VLOOKUP(C4969,FOTOGRAFICO!C:E,3,FALSE),C4969),\"\")","v":""}]
[null,null,"GMM16H7001","CABLES","CABLES BUJIAS MATIZ 1.0 04-15  MARCA ACDELCO ORIGINAL         = HYPB5910 = 96288956K",530.61,6,10,3,6,3,3,{"$f":"+IFERROR(HYPERLINK(VLOOKUP(C4972,FOTOGRAFICO!C:E,3,FALSE),C4972),\"\")","v":""}]
[null,null,"HYPB5402","CABLES","CABLES BUJIAS TSURU III 92-93  8 VALV. ENCENDIDO ELEC. MARCA  HY POWER",217.21,1,0,2,1,1,1,{"$f":"+IFERROR(HYPERLINK(VLOOKUP(C4980,FOTOGRAFICO!C:E,3,FALSE),C4980),\"\")","v":""}]
[null,null,"HYPB5913F4","CABLES","CABLES BUJIAS FOCUS ZETEC 2.0  00-05 ESCAPE 2.0 01-05 CONTOUR MYSTIQUE 2.0 99-00 HY POWER",216.02,4,0,0,2,0,1,{"$f":"+IFERROR(HYPERLINK(VLOOKUP(C4992,FOTOGRAFICO!C:E,3,FALSE),C4992),\"\")","v":""}]
[null,null,"L-3086VM","CABLES","CABLES BUJIAS GRAND I10 1.2 15 -20 MARCA VOLTMAX IMPORTADO    L-3086",167.3,5,0,0,0,1,0,{"$f":"+IFERROR(HYPERLINK(VLOOKUP(C5004,FOTOGRAFICO!C:E,3,FALSE),C5004),\"\")","v":""}]
[null,null,"PASA","CABLES","CABLES PASA CORRIENTE SENCILLO LARGO 240 CM",59.3,23,54,15,24,28,9,{"$f":"+IFERROR(HYPERLINK(VLOOKUP(C5011,FOTOGRAFICO!C:E,3,FALSE),C5011),\"\")","v":""}]
[null,null,"PO-VW-7VW1800CM","CABLES","CABLES BUJIAS GOLF JETTA 89-94 DERBY 95-04 COMBI 88-92 POINTE R 98-05 CAPUCHON PLASTICO",342.05,14,6,7,11,6,4,{"$f":"+IFERROR(HYPERLINK(VLOOKUP(C5024,FOTOGRAFICO!C:E,3,FALSE),C5024),\"\")","v":"PO-VW-7VW1800CM"}]
[null,null,"L-1190","CABLES","CABLES BUJIA POINTER 1.8 98-03 POINTER PICK UP 1.8 99-03 7 MM C/BRINCADOR EPDM MARCA LANCER",549.79999999999995,0,0,0,0,0,0,{"$f":"+IFERROR(HYPERLINK(VLOOKUP(C5031,FOTOGRAFICO!C:E,3,FALSE),C5031),\"\")","v":""}]
[null,null,"L-4110","CABLES","CABLES BUJIA CAVALIER 2.8 90-  94 CAVALIER Z24 3.1 91-94      MARCA LANCER PIDE CALL CENTER",260.89,0,0,0,0,0,0,{"$f":"+IFERROR(HYPERLINK(VLOOKUP(C5040,FOTOGRAFICO!C:E,3,FALSE),C5040),\"\")","v":""}]
[null,null,"2106021SFT","CACAHUATE","CACAHUATE DEL IZQ ATTITUDE 06- 11 TORNILLO ESTABILIZADOR      MARCA SAFETY IMPORTADO 2106021",108.33,0,0,0,0,0,0,{"$f":"+IFERROR(HYPERLINK(VLOOKUP(C5047,FOTOGRAFICO!C:E,3,FALSE),C5047),\"\")","v":""}]
[null,null,"2116039","CACAHUATE","CACAHUATE DEL IZQ URVAN NV350  13-20 FRONTIER 05-18 X-TERRA   05-15 PATHFINDER 05-12 SYD",328.7,5,0,8,7,3,2,{"$f":"+IFERROR(HYPERLINK(VLOOKUP(C5054,FOTOGRAFICO!C:E,3,FALSE),C5054),\"\")","v":"2116039"}]
[null,null,"54618-50Y00","CACAHUATE","CACAHUATE DEL TSURU II III 88- 17 TSUBAME 92-04 SENTRA 96-06  SCALA 10-13 MARCA NACIONAL",55.03,0,6,3,0,0,7,{"$f":"+IFERROR(HYPERLINK(VLOOKUP(C5069,FOTOGRAFICO!C:E,3,FALSE),C5069),\"\")","v":"54618-50Y00"}]
[null,null,"54618JX00AKB","CACAHUATE","CACAHUATE DEL TIIDA 06-18      VERSA 12-22 MARCH 11-19 CUBE   09-14 KICKS 17-18 KABUTO",63.65,0,2,1,1,1,1,{"$f":"+IFERROR(HYPERLINK(VLOOKUP(C5074,FOTOGRAFICO!C:E,3,FALSE),C5074),\"\")","v":""}]
[null,null,"6Q0411315KB","CACAHUATE","CACAHUATE DEL VENTO 14-22 GOL  09-21 IBIZA 03-22 CORDOBA 03-  09 TOLEDO 13-19 MARCA KABUTO",68.959999999999994,1,2,1,1,1,0,{"$f":"+IFERROR(HYPERLINK(VLOOKUP(C5086,FOTOGRAFICO!C:E,3,FALSE),C5086),\"\")","v":""}]
[null,null,"95994977-EURO","CACAHUATE","CACAHUATE DEL AVEO 08-17       PONTIAC G3 06-09 TORNILLO      ESTABILIZADOR EURO ESPANA",109.3,41,23,3,46,13,13,{"$f":"+IFERROR(HYPERLINK(VLOOKUP(C5098,FOTOGRAFICO!C:E,3,FALSE),C5098),\"\")","v":"95994977-EURO"}]
[null,null,"BRU5461858Y10EUR","CACAHUATE","CACAHUATE TRAS TSURU III 92-17 1.6 TSURU II 88-91 1.6         TORNILLO ESTABILIZADOR BRUCK",78.75,5,2,6,3,3,0,{"$f":"+IFERROR(HYPERLINK(VLOOKUP(C5106,FOTOGRAFICO!C:E,3,FALSE),C5106),\"\")","v":"BRU5461858Y10EUR"}]
[null,null,"NIS54618-58Y10","CACAHUATE","CACAHUATE TRAS TSURU III 92-17 12 MM TORNILLO ESTABILIZADOR   CON GOMAS = 54618-58Y10CTR",72.680000000000007,0,0,13,15,0,3,{"$f":"+IFERROR(HYPERLINK(VLOOKUP(C5118,FOTOGRAFICO!C:E,3,FALSE),C5118),\"\")","v":""}]
[null,null,"SL-3970-M","CACAHUATE","CACAHUATE DEL HIACE 04-18 CON  TUERCA TORNILLO ESTABILIZADOR  MARCA 555 JAPONESA ORIGINAL",350.12,1,2,0,2,1,2,{"$f":"+IFERROR(HYPERLINK(VLOOKUP(C5121,FOTOGRAFICO!C:E,3,FALSE),C5121),\"\")","v":"SL-3970-M"}]
[null,null,"SYD2126013","CACAHUATE","CACAHUATE DEL EUROVAN 05-19    TRANSPORTER 05-19 TORNILLO     ESTABILIZADOR MARCA SYD",294.17,0,0,0,1,0,1,{"$f":"+IFERROR(HYPERLINK(VLOOKUP(C5137,FOTOGRAFICO!C:E,3,FALSE),C5137),\"\")","v":""}]
[null,null,"SZNN0411","CACAHUATE","CACAHUATE DEL DER URVAN NV350  13-20 FRONTIER 05-18 X-TERRA   05-15 PATHFINDER 05-12 YOKOMIT",79.58,7,0,13,55,14,12,{"$f":"+IFERROR(HYPERLINK(VLOOKUP(C5141,FOTOGRAFICO!C:E,3,FALSE),C5141),\"\")","v":""}]
[null,null,"51320-TF0-003SFT","CACAHUATE","CACAHUATE DEL HONDA FIT 09-14  CITY 10-13 CRUZE 11-14 MARCA   SAFETY PIDE ZAEL",122.22,0,0,2,0,0,0,{"$f":"+IFERROR(HYPERLINK(VLOOKUP(C5148,FOTOGRAFICO!C:E,3,FALSE),C5148),\"\")","v":""}]
[null,null,"SYD2109010","CACAHUATE","CACAHUATE ESTAB TRAS DER CRV   HONDA CRV                      sobre pedido efrain",320.48,0,0,0,0,0,0,{"$f":"+IFERROR(HYPERLINK(VLOOKUP(C5156,FOTOGRAFICO!C:E,3,FALSE),C5156),\"\")","v":""}]
[null,null,"K-7258","CACAHUATE","CACAHUATE TORNILLO ESTABILIZAD CARAVAN VOYAGER 96-07 MARCA    OPS PIDE EDGAR",122.67,0,0,0,0,0,0,{"$f":"+IFERROR(HYPERLINK(VLOOKUP(C5173,FOTOGRAFICO!C:E,3,FALSE),C5173),\"\")","v":""}]
[null,null,"C-189006M3","CADENA","CADENA DE MOTO 428-116L HONDA  CGL125 ITALIKA FT125 DT125     FT110  ENCAD-6502-004",117.31,0,0,2,1,2,0,{"$f":"+IFERROR(HYPERLINK(VLOOKUP(C5180,FOTOGRAFICO!C:E,3,FALSE),C5180),\"\")","v":""}]
[null,null,"24105064-Z","CADENA","CADENA DISTRIB AVEO II 18-23   1.5L GM CAVALIER 18-23 1.5L    MARCA Z-PRO",464.88,0,1,0,1,0,2,{"$f":"+IFERROR(HYPERLINK(VLOOKUP(C5185,FOTOGRAFICO!C:E,3,FALSE),C5185),\"\")","v":""}]
[null,null,"48001-PROMO","CAJA","CAJA DIRECC TSURU III 92-17    CON VARILLAS DIRECCION STD     MARCA NIKKO SAFETY",786.61,0,0,0,0,0,0,{"$f":"+IFERROR(HYPERLINK(VLOOKUP(C5200,FOTOGRAFICO!C:E,3,FALSE),C5200),\"\")","v":"48001-PROMO"}]
[null,null,"4900100QAA-KB","CAJA","CAJA DIRECCION HIDRAUL PLATINA CLIO 02-10 KANGOO 1.6 04-18    C/VARILLAS S/TERMINALES KABUTO",3076.82,2,1,0,2,0,1,{"$f":"+IFERROR(HYPERLINK(VLOOKUP(C5203,FOTOGRAFICO!C:E,3,FALSE),C5203),\"\")","v":""}]
[null,null,"6RU423057M-KB","CAJA","CAJA DIR ELECTRO VENTO 1.6 14- 22 POLO 1.6 16-22 C/VARILLAS   S/TERMINALES MARCA KABUTO",1485.36,0,1,0,1,1,1,{"$f":"+IFERROR(HYPERLINK(VLOOKUP(C5214,FOTOGRAFICO!C:E,3,FALSE),C5214),\"\")","v":""}]
[null,null,"BRU480013SG1A","CAJA","CAJA DIRECCION SENTRA B17 13-  19 2.0 C/BIELETAS S/TERMINALES ELECTROASISTIDA MARCA BRUCK",2125.04,1,0,0,2,0,0,{"$f":"+IFERROR(HYPERLINK(VLOOKUP(C5223,FOTOGRAFICO!C:E,3,FALSE),C5223),\"\")","v":""}]
[null,null,"DMND0500","CAJA","CAJA DIR ELECTROASISTIDA CRETA 1.6 17-20 C/VARILLAS S/TERMINA SELTOS 18-24 MARCA YOKOMITSU",1952.19,1,0,0,0,0,0,{"$f":"+IFERROR(HYPERLINK(VLOOKUP(C5235,FOTOGRAFICO!C:E,3,FALSE),C5235),\"\")","v":""}]
[null,null,"DMNK1100","CAJA","CAJA DIRECC ATTITUDE 1.4, 1.6  ELECTRONICA CON BIELETAS       MCA: OPTIMO",1244.8699999999999,4,2,1,4,1,38,{"$f":"+IFERROR(HYPERLINK(VLOOKUP(C5243,FOTOGRAFICO!C:E,3,FALSE),C5243),\"\")","v":""}]
[null,null,"DMNT0400","CAJA","CAJA DIRECC HIACE TOYOTA 04-17 HIDRAULICA CON VARILLAS        MCA: TECH",3345.11,5,0,0,0,0,0,{"$f":"+IFERROR(HYPERLINK(VLOOKUP(C5255,FOTOGRAFICO!C:E,3,FALSE),C5255),\"\")","v":""}]
[null,null,"HER26083255","CAJA","CAJA DIREC CORSA TORNADO 01-06 DIRECCION MANUAL MECANICA STD  MARCA BRUCK EUROESPANA",1697.2,0,0,0,0,2,4,{"$f":"+IFERROR(HYPERLINK(VLOOKUP(C5267,FOTOGRAFICO!C:E,3,FALSE),C5267),\"\")","v":""}]
[null,null,"ORI422T1100","CAJA","CAJA DIRECCION ATOS 99-04      SINFIN CORTO                   MARCA SFT IMPORTADO",1172.5,3,3,6,9,3,1,{"$f":"+IFERROR(HYPERLINK(VLOOKUP(C5274,FOTOGRAFICO!C:E,3,FALSE),C5274),\"\")","v":"ORI422T1100"}]
[null,null,"113-415-061","CAJA","CAJA DIRECCION SEDAN 56-04     SAFARI 70-81 BRASILIA 73-83    MARCA SYD PIDE RAUL",2891.5,0,0,0,0,0,0,{"$f":"+IFERROR(HYPERLINK(VLOOKUP(C5282,FOTOGRAFICO!C:E,3,FALSE),C5282),\"\")","v":""}]
[null,null,"DMNN0400-PROMO","CAJA","CAJA DIRECC HIDRAULICA URVAN 2 001-2014 C/VARILLAS SIN TERMIN ALES NUEVA YOKOMITZU",2800.97,0,0,0,0,0,0,{"$f":"+IFERROR(HYPERLINK(VLOOKUP(C5290,FOTOGRAFICO!C:E,3,FALSE),C5290),\"\")","v":"DMNN0400-PROMO"}]
[null,null,"GM42604671","CAJA","CAJA DIR ELECTRO BEAST 1.2     18-20 MARCA GM ORIGINAL        PEDIDO OSCAR",3407.59,0,0,0,0,0,0,{"$f":"+IFERROR(HYPERLINK(VLOOKUP(C5297,FOTOGRAFICO!C:E,3,FALSE),C5297),\"\")","v":""}]
[null,null,"4410A498SFT","CAJA","CAJA DIRECCION ATTITUDE 1.2    15-23 MIRAGE 1.2 15-23 ASISTID S/TERMINALES MARCA SAFETY",2096.79,0,0,0,0,0,2,{"$f":"+IFERROR(HYPERLINK(VLOOKUP(C5311,FOTOGRAFICO!C:E,3,FALSE),C5311),\"\")","v":""}]
[null,null,"DMNN0120-OP","CAJA","CAJA DIRECC HIDRAU TSURU 92-17 C/VARILLAS SIN TERMINALES MCA  YOKOMITZU SENTRA <-99 B14",2596.19,0,0,0,0,0,0,{"$f":"+IFERROR(HYPERLINK(VLOOKUP(C5322,FOTOGRAFICO!C:E,3,FALSE),C5322),\"\")","v":"DMNN0120-OP"}]
[null,null,"017-0604-22","CALAVERA","CALAVERA DER AVEO 18-21 LINEA  NUEVA MARCA DEPO PIDE JAVIER   ALEJANDRO",1315.11,0,0,0,0,0,0,{"$f":"+IFERROR(HYPERLINK(VLOOKUP(C5329,FOTOGRAFICO!C:E,3,FALSE),C5329),\"\")","v":""}]
[null,null,"017-0629-03","CALAVERA","CALAVERA IZQ LUV 02-06 C/FOCO  MARCA DEPO IMPORTADO           017-0629-03",364.18,0,0,0,0,0,0,{"$f":"+IFERROR(HYPERLINK(VLOOKUP(C5340,FOTOGRAFICO!C:E,3,FALSE),C5340),\"\")","v":""}]
[null,null,"017-0703-01","CALAVERA","CALAVERA IZQ VOYAGER 96-00     CARAVAN 96-00 DURANGO 97-03    DEPO IMPORTADO",566.51,1,0,0,0,1,0,{"$f":"+IFERROR(HYPERLINK(VLOOKUP(C5349,FOTOGRAFICO!C:E,3,FALSE),C5349),\"\")","v":"017-0703-01"}]
[null,null,"017-0911-07","CALAVERA","CALAVERA IZQ JURNEY 09-10      EXTERIOR",1497.2,0,0,0,0,1,0,{"$f":"+IFERROR(HYPERLINK(VLOOKUP(C5352,FOTOGRAFICO!C:E,3,FALSE),C5352),\"\")","v":""}]
[null,null,"017-1214-35","CALAVERA","CALAVERA IZQ EXPLORER SPORT    TRAC 01-05 S/FOCO MARCA DEPO   PIDE FER PENA",690.33,0,0,0,0,0,0,{"$f":"+IFERROR(HYPERLINK(VLOOKUP(C5369,FOTOGRAFICO!C:E,3,FALSE),C5369),\"\")","v":""}]
[null,null,"017-1215-14","CALAVERA","CALAVERA DER F150 00-04 CAJA   CALIFORNIA MARCA DEPO",691.14,0,0,0,0,0,0,{"$f":"+IFERROR(HYPERLINK(VLOOKUP(C5372,FOTOGRAFICO!C:E,3,FALSE),C5372),\"\")","v":""}]
[null,null,"017-1226-00","CALAVERA","CALAVERA DER F150 F250 LOBO    97-03 DEPO IMPORTADO",526.04,2,0,0,0,0,0,{"$f":"+IFERROR(HYPERLINK(VLOOKUP(C5384,FOTOGRAFICO!C:E,3,FALSE),C5384),\"\")","v":"017-1226-00"}]
[null,null,"017-1230-19","CALAVERA","CALAVERA IZQ RANGER 83-92      MARCA DEPO",404.65,0,0,0,0,0,0,{"$f":"+IFERROR(HYPERLINK(VLOOKUP(C5391,FOTOGRAFICO!C:E,3,FALSE),C5391),\"\")","v":""}]
[null,null,"017-1241-03","CALAVERA","CALAVERA IZQ F-150 F-250 92-96 DEPO IMPORTADO",343.95,1,0,0,0,0,0,{"$f":"+IFERROR(HYPERLINK(VLOOKUP(C5398,FOTOGRAFICO!C:E,3,FALSE),C5398),\"\")","v":""}]
[null,null,"017-2316-03","CALAVERA","CALAVERA IZQ SENTRA 01-03      SIN FOCO MARCA DEPO PIDE       MIGUEL OLEA",809.3,0,0,0,0,0,0,{"$f":"+IFERROR(HYPERLINK(VLOOKUP(C5416,FOTOGRAFICO!C:E,3,FALSE),C5416),\"\")","v":"017-2316-03"}]
[null,null,"017-2318-02","CALAVERA","CALAVERA DER TIIDA 07-18 SEDAN DEPO IMPORTADO                 = FCNN1101",1335.34,1,1,1,2,1,1,{"$f":"+IFERROR(HYPERLINK(VLOOKUP(C5423,FOTOGRAFICO!C:E,3,FALSE),C5423),\"\")","v":"017-2318-02"}]
[null,null,"017-2321-08","CALAVERA","CALAVERA DERECHA TSURU II 90-9 1 MARCA: DEPO                  SOBRE PEDIDO PABLO GAMONEDA",691.95,0,0,0,0,0,0,{"$f":"+IFERROR(HYPERLINK(VLOOKUP(C5427,FOTOGRAFICO!C:E,3,FALSE),C5427),\"\")","v":""}]
[null,null,"017-2601-01","CALAVERA","CALAVERA IZQUIERDA CLIO 02-10  MARCA: DEPO                    SOBRE PEDIDO PABLO GAMONEDA",555.17999999999995,0,0,0,0,0,0,{"$f":"+IFERROR(HYPERLINK(VLOOKUP(C5439,FOTOGRAFICO!C:E,3,FALSE),C5439),\"\")","v":""}]
[null,null,"017-3007-11","CALAVERA","CALAVERA IZQ HILUX 16-20       MARCA DEPO PEDIDO DANIEL CASTI",946.88,0,0,0,0,0,0,{"$f":"+IFERROR(HYPERLINK(VLOOKUP(C5446,FOTOGRAFICO!C:E,3,FALSE),C5446),\"\")","v":""}]
[null,null,"017-3110-17","CALAVERA","CALAVERA IZQ GOL 13-16 5PTAS   CLARA MARCA DEPO               PEDIDO OSCAR",850.57,0,0,0,0,0,0,{"$f":"+IFERROR(HYPERLINK(VLOOKUP(C5456,FOTOGRAFICO!C:E,3,FALSE),C5456),\"\")","v":""}]
[null,null,"017-3115-09","CALAVERA","CALAVERA IZQ POINTER 00-05 SIN FOCO BLANCO/ROJO MCA DEPO      PEDIDO YASMANI",485.58,0,0,0,0,0,0,{"$f":"+IFERROR(HYPERLINK(VLOOKUP(C5466,FOTOGRAFICO!C:E,3,FALSE),C5466),\"\")","v":""}]
[null,null,"215-19J1L","CALAVERA","CALAVERA IZQ URVAN 02-13 CON   ARNES DEPO IMPORTADO           = NIS121F0712 = MIC15",426.56,0,0,4,5,1,1,{"$f":"+IFERROR(HYPERLINK(VLOOKUP(C5478,FOTOGRAFICO!C:E,3,FALSE),C5478),\"\")","v":"215-19J1L"}]
[null,null,"BRA2189","CALAVERA","CALAVERA DER CHEVY 01-03       BURBUJA 3 PUERTAS IAP HECHO EN MEXICO",308.12,1,0,1,4,2,1,{"$f":"+IFERROR(HYPERLINK(VLOOKUP(C5485,FOTOGRAFICO!C:E,3,FALSE),C5485),\"\")","v":"BRA2189"}]
[null,null,"FCHC0201","CALAVERA","CALAVERA DER CORSA SEDAN 03-08 CON ARNES ROJO BLANCO CIB      IMPORTADO = 93363492RH",483.8,4,4,1,3,0,0,{"$f":"+IFERROR(HYPERLINK(VLOOKUP(C5498,FOTOGRAFICO!C:E,3,FALSE),C5498),\"\")","v":""}]
[null,null,"FCHN1312","CALAVERA","CALAVERA IZQ SENTRA 01-03 ROJO BLANCO CON ARNES CIB IMPORTADO",534.73,2,0,0,0,0,1,{"$f":"+IFERROR(HYPERLINK(VLOOKUP(C5501,FOTOGRAFICO!C:E,3,FALSE),C5501),\"\")","v":""}]
[null,null,"FCNC1103","CALAVERA","CALAVERA DER BEAT SEDAN 18-21  S/ARNES 4 PTAS ROJO BLANCO     MARCA DIFORZA",492.29,0,0,0,0,0,0,{"$f":"+IFERROR(HYPERLINK(VLOOKUP(C5517,FOTOGRAFICO!C:E,3,FALSE),C5517),\"\")","v":""}]
[null,null,"FCNC9922","CALAVERA","CALAVERA IZQ AVEO 18-22 CON    ARNES ROJO BLANCO MARCA        DIFORZA",605.46,2,0,0,4,0,1,{"$f":"+IFERROR(HYPERLINK(VLOOKUP(C5524,FOTOGRAFICO!C:E,3,FALSE),C5524),\"\")","v":"FCNC9922"}]
[null,null,"FCNK0122","CALAVERA","CALAVERA IZQ ATOS 05-12 CON    ARNES FORCETEC IMPORTADO       = ORI472F0702",322.52999999999997,3,0,5,1,6,5,{"$f":"+IFERROR(HYPERLINK(VLOOKUP(C5533,FOTOGRAFICO!C:E,3,FALSE),C5533),\"\")","v":""}]
[null,null,"FCNN0152PROMO","CALAVERA","CALAVERA IZQ TSURU III 05-17   FILO ROJO DIRECCIONAL ROJA AL  CENTRO DIFORZA = 017-2321-21",223.51,9,0,0,0,0,0,{"$f":"+IFERROR(HYPERLINK(VLOOKUP(C5540,FOTOGRAFICO!C:E,3,FALSE),C5540),\"\")","v":""}]
[null,null,"FCNT0312","CALAVERA","CALAVERA IZQ YARIS 06-15 4PTAS SEDAN S/ARNES ROJO BLANCO      MARCA DIFORZA PIDE DANIEL CASS",611.12,0,0,0,0,0,0,{"$f":"+IFERROR(HYPERLINK(VLOOKUP(C5553,FOTOGRAFICO!C:E,3,FALSE),C5553),\"\")","v":""}]
[null,null,"FCNV0254","CALAVERA","CALAVERA IZQ POINTER 06-09 5   PUERTAS HUMO MARCA DIFORZA     PEDIDO MIGUEL ROMERO",369.21,0,0,0,0,0,0,{"$f":"+IFERROR(HYPERLINK(VLOOKUP(C5565,FOTOGRAFICO!C:E,3,FALSE),C5565),\"\")","v":""}]
[null,null,"FCNV0654","CALAVERA","CALAVERA IZQ GOL H-BACK 17-21  CLARA ROJO BLANCO MARCA        DIFORZA",611.12,0,0,0,0,0,0,{"$f":"+IFERROR(HYPERLINK(VLOOKUP(C5572,FOTOGRAFICO!C:E,3,FALSE),C5572),\"\")","v":""}]
[null,null,"FCNV0712-PROMO","CALAVERA","CALAVERA IZQ VENTO 16-19 SIN   ARNES ROJO BLANCO DIFORZA",647.9,0,0,0,0,0,0,{"$f":"+IFERROR(HYPERLINK(VLOOKUP(C5582,FOTOGRAFICO!C:E,3,FALSE),C5582),\"\")","v":""}]
[null,null,"H-097A-LH","CALAVERA","CALAVERA RANGER 93-97 IZQUIERD SIN ARNES MCA: NACIONAL",364.88,0,0,5,0,0,1,{"$f":"+IFERROR(HYPERLINK(VLOOKUP(C5592,FOTOGRAFICO!C:E,3,FALSE),C5592),\"\")","v":""}]
[null,null,"H-116PA-RH","CALAVERA","CALAVERA PICK UP DER NISSAN    ESTACA HORIZONTAL TODAS COLOR: BLANCO-ROJO-AMBAR MCA: NACIONA",204.06,3,0,2,2,1,2,{"$f":"+IFERROR(HYPERLINK(VLOOKUP(C5595,FOTOGRAFICO!C:E,3,FALSE),C5595),\"\")","v":""}]
[null,null,"H-564A-RH","CALAVERA","CALAVERA DER CHEVY MONZA C2 04 -08 4 PUERTAS MCA: NACIONAL",360.83,3,4,2,7,2,1,{"$f":"+IFERROR(HYPERLINK(VLOOKUP(C5611,FOTOGRAFICO!C:E,3,FALSE),C5611),\"\")","v":""}]
[null,null,"H-576A-RH","CALAVERA","CALAVERA PICK UP NISSAN DERECH 14-20 MCA: NACIONAL            NISSAN PICK UP NP300",897.33,1,2,1,2,0,2,{"$f":"+IFERROR(HYPERLINK(VLOOKUP(C5615,FOTOGRAFICO!C:E,3,FALSE),C5615),\"\")","v":""}]
[null,null,"MIC106","CALAVERA","CALAVERA IZQ CHEVY SWING       PICKUP 94-00 5 PUERTAS DEPO    IMPORTADO",364.18,1,1,1,2,1,1,{"$f":"+IFERROR(HYPERLINK(VLOOKUP(C5627,FOTOGRAFICO!C:E,3,FALSE),C5627),\"\")","v":""}]
[null,null,"MIC41","CALAVERA","CALAVERA IZQ CARIBE 81- LARGA  MICAS INFANTE RUIZ HECHO EN    MEXICO",243.25,3,0,0,0,0,0,{"$f":"+IFERROR(HYPERLINK(VLOOKUP(C5640,FOTOGRAFICO!C:E,3,FALSE),C5640),\"\")","v":""}]
[null,null,"MIC73","CALAVERA","CALAVERA IZQ EUROVAN 00-04     IPADSA HECHO EN MEXICO         = TAW18285",575.70000000000005,3,0,0,0,0,2,{"$f":"+IFERROR(HYPERLINK(VLOOKUP(C5647,FOTOGRAFICO!C:E,3,FALSE),C5647),\"\")","v":""}]
[null,null,"NIS0301","CALAVERA","CALAVERA DER PLATINA 02-06 SIN ARNES FORCETEC IMPORTADO",379.12,2,0,3,1,0,2,{"$f":"+IFERROR(HYPERLINK(VLOOKUP(C5650,FOTOGRAFICO!C:E,3,FALSE),C5650),\"\")","v":""}]
[null,null,"ORI472F0701","CALAVERA","CALAVERA DER ATOS 05-11 DEPO   IMPORTADO = FCNK0121",606.97,0,0,1,1,1,1,{"$f":"+IFERROR(HYPERLINK(VLOOKUP(C5666,FOTOGRAFICO!C:E,3,FALSE),C5666),\"\")","v":""}]
[null,null,"ORI503F0712","CALAVERA","CALAVERA IZQ JETTA A2 87-92    DEPO IMPORTADO                 = C361PALCS",437.02,2,2,1,1,0,1,{"$f":"+IFERROR(HYPERLINK(VLOOKUP(C5669,FOTOGRAFICO!C:E,3,FALSE),C5669),\"\")","v":""}]
[null,null,"RSCAL1008RWY","CALAVERA","CALAVERA MOTO RECTANGULAR      UNIVERSAL TIPO ROBOT CON LUZ   LED SECUENCIAL STOP DE ESTROBO",394.54,2,2,2,1,1,2,{"$f":"+IFERROR(HYPERLINK(VLOOKUP(C5682,FOTOGRAFICO!C:E,3,FALSE),C5682),\"\")","v":""}]
[null,null,"017-0614-10","CALAVERA","CALAVERA DER CHEVY 04-08 3 PTA C/FOCO MARCA RADEC 017-0614-10",0,0,0,0,0,0,0,{"$f":"+IFERROR(HYPERLINK(VLOOKUP(C5689,FOTOGRAFICO!C:E,3,FALSE),C5689),\"\")","v":""}]
[null,null,"017-0712-03","CALAVERA","CALAVERA IZQ PT CRUISER 06-10  C/FOCO MARCA DEPO IMPORTADO    017-0712-03",774.5,0,0,0,0,0,0,{"$f":"+IFERROR(HYPERLINK(VLOOKUP(C5698,FOTOGRAFICO!C:E,3,FALSE),C5698),\"\")","v":""}]
[null,null,"017-2316-08","CALAVERA","CALAVERA DERECHA SENTRA 04-06  ROJA CON FOCO MARCA DEPO       PIDE RAUL FABILA",748.6,0,0,0,0,0,0,{"$f":"+IFERROR(HYPERLINK(VLOOKUP(C5709,FOTOGRAFICO!C:E,3,FALSE),C5709),\"\")","v":""}]
[null,null,"017-3115-08","CALAVERA","CALAVERA DER POINTER 00-05     BLANCO/ROJO MARCA DEPO",485.58,0,0,0,0,0,0,{"$f":"+IFERROR(HYPERLINK(VLOOKUP(C5721,FOTOGRAFICO!C:E,3,FALSE),C5721),\"\")","v":""}]
[null,null,"FCNC0513","CALAVERA","CALAVERA DER INT ONIX 20-22    ROJO/BLANCO S/ARNES MARCA      DIFORZA PIDE ROA",611.12,0,0,0,0,0,0,{"$f":"+IFERROR(HYPERLINK(VLOOKUP(C5727,FOTOGRAFICO!C:E,3,FALSE),C5727),\"\")","v":""}]
[null,null,"017-0629-04","CALAVERA","CALAVERA LUV 97-06 ESTACAS     C/FOCO LUCID MARCA DEPO        UTP",263.02,0,2,0,0,0,0,{"$f":"+IFERROR(HYPERLINK(VLOOKUP(C5741,FOTOGRAFICO!C:E,3,FALSE),C5741),\"\")","v":""}]
[null,null,"017-0679-04","CALAVERA","CALAVERA DER TRAX 13-21 SIN    FOCO MARCA DEPO PEDIDO OSCAR",1618.6,0,0,0,0,0,0,{"$f":"+IFERROR(HYPERLINK(VLOOKUP(C5744,FOTOGRAFICO!C:E,3,FALSE),C5744),\"\")","v":""}]
[null,null,"017-2316-00","CALAVERA","CALAVERA DER SENTRA 96-09      MARCA DEPO",445.11,0,0,0,0,0,0,{"$f":"+IFERROR(HYPERLINK(VLOOKUP(C5756,FOTOGRAFICO!C:E,3,FALSE),C5756),\"\")","v":""}]
[null,null,"017-3007-08","CALAVERA","CALAVERA DER TOYOTA HILUX 12-  15 SIN FOCO MARCA DEPO PIDE    MOISES",712.18,0,0,0,0,0,0,{"$f":"+IFERROR(HYPERLINK(VLOOKUP(C5764,FOTOGRAFICO!C:E,3,FALSE),C5764),\"\")","v":""}]
[null,null,"017-3408-01","CALAVERA","CALAVERA IZQ GRAND I10 15-17   5 PUERTAS MARCA DEPO",1036.71,0,0,0,0,1,0,{"$f":"+IFERROR(HYPERLINK(VLOOKUP(C5776,FOTOGRAFICO!C:E,3,FALSE),C5776),\"\")","v":""}]
[null,null,"017-0601-24","CALAVERA","CALAVERA DER ASTRA 04-06 4 PTA BLANCO/ROJO MARCA : DEPO       PEDIDO JUAN GARICA",698.69,0,0,0,0,0,0,{"$f":"+IFERROR(HYPERLINK(VLOOKUP(C5783,FOTOGRAFICO!C:E,3,FALSE),C5783),\"\")","v":""}]
[null,null,"017-1304-12","CALAVERA","CALAVERA INF DER HONDA FIT 15- 20 CON LEDS MARCA DEPO",2356.6799999999998,0,0,0,0,0,0,{"$f":"+IFERROR(HYPERLINK(VLOOKUP(C5795,FOTOGRAFICO!C:E,3,FALSE),C5795),\"\")","v":""}]
[null,null,"017-2316-27","CALAVERA","CALAVERA IZQ SENTRA 10-12      CLARA MARCA DEPO PIDE PEDRO",1497.2,0,0,0,0,0,0,{"$f":"+IFERROR(HYPERLINK(VLOOKUP(C5799,FOTOGRAFICO!C:E,3,FALSE),C5799),\"\")","v":""}]
[null,null,"017-3116-15","CALAVERA","CALAVERA IZQ POLO 15-19 MARCA  DEPO PIDE CALL CENTER",3459.76,0,0,0,0,0,0,{"$f":"+IFERROR(HYPERLINK(VLOOKUP(C5815,FOTOGRAFICO!C:E,3,FALSE),C5815),\"\")","v":""}]
[null,null,"FCNN0112PROMO","CALAVERA","CALAVERA IZQ TSURU III 01-04   FILO ROJO ROJO BLANCO BLANCO   DIFORZA = 26555-F4204E",181.07,0,0,0,0,0,3,{"$f":"+IFERROR(HYPERLINK(VLOOKUP(C5824,FOTOGRAFICO!C:E,3,FALSE),C5824),\"\")","v":""}]
[null,null,"017-1303-02","CALAVERA","CALAVERA DER HONDA CR-V 05-06  SIN FOCO MARCA DEPO SOBRE      PEDIDO",1953.65,0,0,0,0,0,0,{"$f":"+IFERROR(HYPERLINK(VLOOKUP(C5831,FOTOGRAFICO!C:E,3,FALSE),C5831),\"\")","v":""}]
[null,null,"017-3102-02","CALAVERA","CALAVERA DER BEETLE 06-11 MARC DEPO",1589.46,0,0,0,0,0,0,{"$f":"+IFERROR(HYPERLINK(VLOOKUP(C5838,FOTOGRAFICO!C:E,3,FALSE),C5838),\"\")","v":""}]
[null,null,"017-1920-00","CALAVERA","CALAVERA EXT DER MAZDA CX-5    13-17 I SPORT I GRAND TOURING  C/FOCO MARCA DEPO 017-1920-00",2549.3000000000002,0,0,0,0,0,0,{"$f":"+IFERROR(HYPERLINK(VLOOKUP(C5853,FOTOGRAFICO!C:E,3,FALSE),C5853),\"\")","v":""}]
[null,null,"CALEURO24","CALCOMANIA","CALCOMANIA EURO 24 IMPORTADA   VARIOS COLORES",111.41,0,36,0,13,1,7,{"$f":"+IFERROR(HYPERLINK(VLOOKUP(C5858,FOTOGRAFICO!C:E,3,FALSE),C5858),\"\")","v":""}]
[null,null,"CALO01","CALIPER","CALIPER NISSAN PICK UP IZQ     TODOS MODELOS SEMINUEVO        s/p jardines",290.70999999999998,0,0,0,1,0,0,{"$f":"+IFERROR(HYPERLINK(VLOOKUP(C5870,FOTOGRAFICO!C:E,3,FALSE),C5870),\"\")","v":""}]
[null,null,"CAM-REVERSA","CAMARA","CAMARA TRASERA DE REVERSA C/CA BLE UNIVERSAL                  MARCA IMPORTADO",106.74,0,0,0,0,0,0,{"$f":"+IFERROR(HYPERLINK(VLOOKUP(C5882,FOTOGRAFICO!C:E,3,FALSE),C5882),\"\")","v":""}]
[null,null,"C185147Q0","CAMARA","CAMARA MOTO HULE ITALIKA DT125 FT110 FT150 2.75/3.00-14 MARCA QUMO",43.63,0,0,0,3,4,0,{"$f":"+IFERROR(HYPERLINK(VLOOKUP(C5890,FOTOGRAFICO!C:E,3,FALSE),C5890),\"\")","v":""}]
[null,null,"ECOC205","CAMPANA","CAMPANA CAJA VELOCC VW SEDAN   TODOS MODELOS DESDE 69-2004    MARCA:NACIONAL, HECHO EN MEXIC",342.5,7,0,0,0,0,0,{"$f":"+IFERROR(HYPERLINK(VLOOKUP(C5893,FOTOGRAFICO!C:E,3,FALSE),C5893),\"\")","v":"ECOC205"}]
[null,null,"017-0614-73","CANCELADO","CALAVERA CHEVY MONZA C3 IZQUIE 09-13 C-3 4 PUERTAS TYC ORIGIN CON CAJUELA LIN 60 COM 5%",229.32,0,0,0,0,0,0,{"$f":"+IFERROR(HYPERLINK(VLOOKUP(C5909,FOTOGRAFICO!C:E,3,FALSE),C5909),\"\")","v":"017-0614-73"}]
[null,null,"017-1210-00","CANCELADO","CALAVERA DER ESCORT 97-98 4    PUERTAS DEPO IMPORTADO",400.6,0,0,0,0,1,0,{"$f":"+IFERROR(HYPERLINK(VLOOKUP(C5911,FOTOGRAFICO!C:E,3,FALSE),C5911),\"\")","v":"017-1210-00"}]
[null,null,"018-1209-02","CANCELADO","ESPEJO DER ESCAPE 2.3 3.0 01-  07 MANUAL NEGRO RADEC",546.27,0,0,0,0,1,0,{"$f":"+IFERROR(HYPERLINK(VLOOKUP(C5925,FOTOGRAFICO!C:E,3,FALSE),C5925),\"\")","v":"018-1209-02"}]
[null,null,"018-3112-03","CANCELADO","ESPEJO IZQ GOLF JETTA A2 88-92 MANUAL NEGRO MARCA RADEC",622.35,0,0,1,0,0,0,{"$f":"+IFERROR(HYPERLINK(VLOOKUP(C5932,FOTOGRAFICO!C:E,3,FALSE),C5932),\"\")","v":"018-3112-03"}]
[null,null,"019-3112-28","CANCELADO","FARO DER JETTA CLASICO 08-15   FONDO CROMADO DEPO IMPORTADO   = FFNV0161",1551.16,0,2,1,0,0,0,{"$f":"+IFERROR(HYPERLINK(VLOOKUP(C5940,FOTOGRAFICO!C:E,3,FALSE),C5940),\"\")","v":"019-3112-28"}]
[null,null,"026906247-KB","CANCELADO","VALVULA RALENTI POINTER 00-09  1.8 2.0 IAC PUNTA PLASTICO     MARCA KABUTO = T84994",106.09,0,3,3,3,1,1,{"$f":"+IFERROR(HYPERLINK(VLOOKUP(C5948,FOTOGRAFICO!C:E,3,FALSE),C5948),\"\")","v":""}]
[null,null,"05069629AA","CANCELADO","BUJE HORQUILLA GRANDE DER ATOS 00-12 CASITA MARCA KIM-MOO     IMPORTADO = 5455622102",56.99,0,0,0,0,0,0,{"$f":"+IFERROR(HYPERLINK(VLOOKUP(C5964,FOTOGRAFICO!C:E,3,FALSE),C5964),\"\")","v":"05069629AA"}]
[null,null,"06-0489","CANCELADO","BALERO DEL CONICO EXTERIOR     NISSAN PICK UP 88-92 1.8L      TIMKEN UNICA PZA",131.81,0,0,0,0,1,0,{"$f":"+IFERROR(HYPERLINK(VLOOKUP(C5969,FOTOGRAFICO!C:E,3,FALSE),C5969),\"\")","v":"06-0489"}]
[null,null,"1014","CANCELADO","JUNTA CUERPO F.I. VW SEDAN",55.82,0,0,0,0,1,0,{"$f":"+IFERROR(HYPERLINK(VLOOKUP(C5984,FOTOGRAFICO!C:E,3,FALSE),C5984),\"\")","v":"1014"}]
[null,null,"10492","CANCELADO","PORTA CELULAR DE MOTO D ARANA  TAMBIEN BICICLETA UNIVERSAL    SUJETA CON ABRASADERA",41.71,0,0,0,0,0,0,{"$f":"+IFERROR(HYPERLINK(VLOOKUP(C5987,FOTOGRAFICO!C:E,3,FALSE),C5987),\"\")","v":"10492"}]
[null,null,"1114017M09","CANCELADO","BAYONETA ACEITE TSURU III 1.6  8 VALVULAS BRUCK",72.87,0,0,0,7,0,4,{"$f":"+IFERROR(HYPERLINK(VLOOKUP(C5998,FOTOGRAFICO!C:E,3,FALSE),C5998),\"\")","v":"1114017M09"}]
[null,null,"120/30","CANCELADO","BRONCE P/ MONOBLOCK 120 X 30",72.72,0,0,0,0,1,0,{"$f":"+IFERROR(HYPERLINK(VLOOKUP(C6007,FOTOGRAFICO!C:E,3,FALSE),C6007),\"\")","v":""}]
[null,null,"12410-MA00DTE","CANCELADO","BOMBA ACEITE URVAN 2.5 NV350   08-15 PARA CARTER CON FLECHAS  BALANCEADORAS MARCA TOP ENGINE",5052.01,0,0,10,0,0,0,{"$f":"+IFERROR(HYPERLINK(VLOOKUP(C6019,FOTOGRAFICO!C:E,3,FALSE),C6019),\"\")","v":""}]
[null,null,"1287-R14","CANCELADO","TAPONES RIN 14 TIPO MARCH GRIS JGO 4 PZA OWC NACIONAL         MODELO 94",250.39,0,2,2,0,2,0,{"$f":"+IFERROR(HYPERLINK(VLOOKUP(C6023,FOTOGRAFICO!C:E,3,FALSE),C6023),\"\")","v":"1287-R14"}]
[null,null,"139-27209-01","CANCELADO","BIRLO RUEDA DEL ATOS 00-12     MARCA HB NACIONAL",21.08,0,0,10,4,0,2,{"$f":"+IFERROR(HYPERLINK(VLOOKUP(C6039,FOTOGRAFICO!C:E,3,FALSE),C6039),\"\")","v":"139-27209-01"}]
[null,null,"1403004","CANCELADO","SOPORTE DER BARRA TENSORA      PUENTE TRASERO CHEVY 94-12     MONZA MARIPOSA MARCA SYD",471.34,0,0,4,3,0,1,{"$f":"+IFERROR(HYPERLINK(VLOOKUP(C6042,FOTOGRAFICO!C:E,3,FALSE),C6042),\"\")","v":"1403004"}]
[null,null,"1654602N01-PROM2","CANCELADO","FILTRO AIRE URVAN NV350 08-18  2.5 3.0 LARGO BASE PLASTICO    DIESEL GASOLINA IMPORTADO",80.930000000000007,0,0,0,0,0,0,{"$f":"+IFERROR(HYPERLINK(VLOOKUP(C6058,FOTOGRAFICO!C:E,3,FALSE),C6058),\"\")","v":""}]
[null,null,"17351","CANCELADO","SONDA LAMBDA IBIZA 1.8 05-08   JETTA A4 1.8 TURBO 99-05 5     CABLES 151 CM ANTES CATA.BOSCH",2442.79,0,0,1,0,1,0,{"$f":"+IFERROR(HYPERLINK(VLOOKUP(C6066,FOTOGRAFICO!C:E,3,FALSE),C6066),\"\")","v":"17351"}]
[null,null,"1972BL","CANCELADO","LAMPARA DE INTERIOR 42 LEDS AZ AZUL",124.8,0,0,0,0,0,0,{"$f":"+IFERROR(HYPERLINK(VLOOKUP(C6074,FOTOGRAFICO!C:E,3,FALSE),C6074),\"\")","v":""}]
[null,null,"1J0949117","CANCELADO","CUARTO DER IZQ GOLF JETTA A4   CORDOBA IBIZA DERBY LATERAL    DE SALPICADERA BLANCO BRUCK",51.71,0,26,17,17,16,13,{"$f":"+IFERROR(HYPERLINK(VLOOKUP(C6081,FOTOGRAFICO!C:E,3,FALSE),C6081),\"\")","v":"1J0949117"}]
[null,null,"203-3005-04","CANCELADO","FACIA DEL HIACE 11-13 CON HOYO CORTA 9 PASAJEROS NEGRA RADEC  IMPORTADA",1416.68,2,0,0,0,1,0,{"$f":"+IFERROR(HYPERLINK(VLOOKUP(C6095,FOTOGRAFICO!C:E,3,FALSE),C6095),\"\")","v":"203-3005-04"}]
[null,null,"2128722","CANCELADO","CANCELADO ITE TRANSIT 7-15 4CI L 2.2L DIESEL PEUGET 206-207 0 01-13 MINI COOPER 1.6L S TURBO",220.13,0,0,0,0,0,0,{"$f":"+IFERROR(HYPERLINK(VLOOKUP(C6101,FOTOGRAFICO!C:E,3,FALSE),C6101),\"\")","v":""}]
[null,null,"23013","CANCELADO","CUBRE PIJAS BOLSA 10 PZAS",21.42,0,0,0,0,0,0,{"$f":"+IFERROR(HYPERLINK(VLOOKUP(C6113,FOTOGRAFICO!C:E,3,FALSE),C6113),\"\")","v":"23013"}]
[null,null,"2508004SFT-PROMO","CANCELADO","BASE AMORTIGU DEL FIESTA 03-12 ECOSPORT 03-12 DELANTE IZQ DER = DAI 7384 5203 MARCA SAFETY",384.42,0,0,24,0,0,0,{"$f":"+IFERROR(HYPERLINK(VLOOKUP(C6124,FOTOGRAFICO!C:E,3,FALSE),C6124),\"\")","v":""}]
[null,null,"25560-VW085","CANCELADO","PALANCA LIMPIADORES URVAN 02-  TODOS MODELOS MCA: NIKKO",313.72000000000003,0,0,0,2,0,0,{"$f":"+IFERROR(HYPERLINK(VLOOKUP(C6133,FOTOGRAFICO!C:E,3,FALSE),C6133),\"\")","v":"25560-VW085"}]
[null,null,"258006392","CANCELADO","SONDA LAMBDA CORDOBA IBIZA 1.6 04-09 4 CABLES LARGO 34 CM     ANTES DE CAT.MARCA BOSCH 16392",1791.72,0,1,0,0,1,0,{"$f":"+IFERROR(HYPERLINK(VLOOKUP(C6136,FOTOGRAFICO!C:E,3,FALSE),C6136),\"\")","v":"258006392"}]
[null,null,"28-A","CANCELADO","CALIBRADOR P BUJIAS D 15 HOJAS Y TAMBIEN PUNTERIAS",61.38,0,6,11,13,10,5,{"$f":"+IFERROR(HYPERLINK(VLOOKUP(C6143,FOTOGRAFICO!C:E,3,FALSE),C6143),\"\")","v":"28-A"}]
[null,null,"323-498-311","CANCELADO","ESPIGA L/RUEDA GOLF JETTA A2   85-92 POINTER 97-09 S/SEGURO   80 MM E22 I30 YOKOMIT = CVV010",285.19,0,1,0,1,3,2,{"$f":"+IFERROR(HYPERLINK(VLOOKUP(C6156,FOTOGRAFICO!C:E,3,FALSE),C6156),\"\")","v":"323-498-311"}]
[null,null,"36195AU","CANCELADO","RADIADOR SONIC 1.6 12-16 ATM   AUTOMATICO SOLDADO MARCA RASA  36195 AU",1642.73,0,0,1,0,0,3,{"$f":"+IFERROR(HYPERLINK(VLOOKUP(C6168,FOTOGRAFICO!C:E,3,FALSE),C6168),\"\")","v":"36195AU"}]
[null,null,"3844","CANCELADO","MANGUERA RADIADOR INF GOLF A2  JETTA A2 1.8 87-92 CON AIRE    MARCA CAUPLAS = TPY521015",80.06,0,0,0,0,0,0,{"$f":"+IFERROR(HYPERLINK(VLOOKUP(C6175,FOTOGRAFICO!C:E,3,FALSE),C6175),\"\")","v":""}]
[null,null,"4020CAMO","CANCELADO","TAPETE 4PZAS NEGRO/CAMOUFLAJE                                 MODELO 62",206.48,0,0,0,0,0,0,{"$f":"+IFERROR(HYPERLINK(VLOOKUP(C6182,FOTOGRAFICO!C:E,3,FALSE),C6182),\"\")","v":"4020CAMO"}]
[null,null,"44060-ED026NK","CANCELADO","BALATA TRAS ATTITUDE 15-23     TIIDA 07-18 MIRAGE G4 17-21    TAMBOR MARCA FP = 1624-S924",198.84,0,10,7,8,0,19,{"$f":"+IFERROR(HYPERLINK(VLOOKUP(C6191,FOTOGRAFICO!C:E,3,FALSE),C6191),\"\")","v":"44060-ED026NK"}]
[null,null,"49110-PROMO","CANCELADO","BOMBA DIRE HID URVAN 2.4 02-07 SIN POLEA SIN DEPOSITO MARCA   SAFETY = BRU49110VW000",1727.94,0,0,0,0,0,0,{"$f":"+IFERROR(HYPERLINK(VLOOKUP(C6207,FOTOGRAFICO!C:E,3,FALSE),C6207),\"\")","v":""}]
[null,null,"53021313AA","CANCELADO","RETEN CIGUENAL DELANT LIBERTI  W RANGER DURANGO NITRO 3.7 4.7",164.55,0,0,0,0,1,0,{"$f":"+IFERROR(HYPERLINK(VLOOKUP(C6211,FOTOGRAFICO!C:E,3,FALSE),C6211),\"\")","v":"53021313AA"}]
[null,null,"545243X-PROMO","CANCELADO","HORQUILLA SUP DER URVAN NV350  2.4 2.5 02-20 REFORZADA SAFETY",1061.68,0,0,0,0,0,0,{"$f":"+IFERROR(HYPERLINK(VLOOKUP(C6218,FOTOGRAFICO!C:E,3,FALSE),C6218),\"\")","v":""}]
[null,null,"56820-0U590CTR","CANCELADO","TERMINAL DIR DER ATTITUDE 12-  14 RIO 12-17 ACCENT 11-17      MARCA CTR IMPORTADO",221.85,0,0,0,0,5,0,{"$f":"+IFERROR(HYPERLINK(VLOOKUP(C6230,FOTOGRAFICO!C:E,3,FALSE),C6230),\"\")","v":"56820-0U590CTR"}]
[null,null,"61621-2K","CANCELADO","CANCELADO SEGURIDAD GORILA 12* 1.25 2 LLAVES",683.54,0,2,3,0,0,0,{"$f":"+IFERROR(HYPERLINK(VLOOKUP(C6240,FOTOGRAFICO!C:E,3,FALSE),C6240),\"\")","v":"61621-2K"}]
[null,null,"6RF-199-851CSFT","CANCELADO","SOPORTE MOTOR TRASERO POLO 1.6 14-18 VENTO 1.6L 14-19 TOLEDO  1.6L 13-18 MARCA SAFETY = 7773",499.17,0,0,0,0,0,0,{"$f":"+IFERROR(HYPERLINK(VLOOKUP(C6250,FOTOGRAFICO!C:E,3,FALSE),C6250),\"\")","v":"6RF-199-851CSFT"}]
[null,null,"93388714","CANCELADO","TAPA PUNTERIAS CORSA 1.8 03-09 TORNADO 1.8 04-21 MARCA        ORIGINAL GM ACDELCO 24582667",517.95000000000005,0,0,0,0,0,0,{"$f":"+IFERROR(HYPERLINK(VLOOKUP(C6262,FOTOGRAFICO!C:E,3,FALSE),C6262),\"\")","v":"93388714"}]
[null,null,"A-519X","CANCELADO","CRUCETA CARDAN URVAN 2.5 NV350 SOLO APLICA DEL 14-17          MCA: AUTOPART MORESA",170.36,0,0,0,0,0,0,{"$f":"+IFERROR(HYPERLINK(VLOOKUP(C6269,FOTOGRAFICO!C:E,3,FALSE),C6269),\"\")","v":"A-519X"}]
[null,null,"ARMOR-VIKING","CANCELADO","PROTECTOR ARMOR ALL VIKING 295 ML BRILLO ORIGINAL",75,0,0,0,0,0,0,{"$f":"+IFERROR(HYPERLINK(VLOOKUP(C6282,FOTOGRAFICO!C:E,3,FALSE),C6282),\"\")","v":"ARMOR-VIKING"}]
[null,null,"AW001BL","CANCELADO","FARO UNIVERSAL AZUL ESTRELLITA X2",128.29,0,0,0,0,0,0,{"$f":"+IFERROR(HYPERLINK(VLOOKUP(C6285,FOTOGRAFICO!C:E,3,FALSE),C6285),\"\")","v":"AW001BL"}]
[null,null,"BD5308DV","CANCELADO","DISCO FRENO DEL CROSSFOX 1.6   05-06 POLO 1.0 02- RIN 14      VENTIL 5 BARRENO 239 MM FREMAX",299.08,0,6,0,0,0,0,{"$f":"+IFERROR(HYPERLINK(VLOOKUP(C6292,FOTOGRAFICO!C:E,3,FALSE),C6292),\"\")","v":"BD5308DV"}]
[null,null,"BRU23731EC00A","CANCELADO","SENSOR CIGUENAL NP300 09-20    2.5 DIESEL CABSTAR 06-18 2.5   DIESEL MARCA BRUCK GERMANY",224.51,0,0,0,4,1,1,{"$f":"+IFERROR(HYPERLINK(VLOOKUP(C6308,FOTOGRAFICO!C:E,3,FALSE),C6308),\"\")","v":""}]
[null,null,"BS-FX238","CANCELADO","BOCINA CON BLUETOOTH ENTRA USB CARGA RAPIDA ENTRADA MICROFONO MEDIDAS 7.5CM X 17CM IMPORTADA",199.26,0,0,0,0,0,0,{"$f":"+IFERROR(HYPERLINK(VLOOKUP(C6317,FOTOGRAFICO!C:E,3,FALSE),C6317),\"\")","v":""}]
[null,null,"BSH9001042263","CANCELADO","BENDIX MARCHA COMBI 1.8 88-92  COMBI 1800 CARBURADA",186.58,0,0,0,0,1,0,{"$f":"+IFERROR(HYPERLINK(VLOOKUP(C6324,FOTOGRAFICO!C:E,3,FALSE),C6324),\"\")","v":"BSH9001042263"}]
[null,null,"BUJ2010","CANCELADO","BUJE SUSP COMBI DELGAD BRONCE",132.02000000000001,0,0,0,0,0,0,{"$f":"+IFERROR(HYPERLINK(VLOOKUP(C6337,FOTOGRAFICO!C:E,3,FALSE),C6337),\"\")","v":""}]
[null,null,"C-036047M3","CANCELADO","SWITCH LLAVE MOTO KIT ITALIKA  MOTO (KIT ITALIKA) CS125",110.76,0,0,0,0,14,0,{"$f":"+IFERROR(HYPERLINK(VLOOKUP(C6340,FOTOGRAFICO!C:E,3,FALSE),C6340),\"\")","v":"C-036047M3"}]
[null,null,"CAR-HUMI","CANCELADO","AROMATIZANTE Y HUMIFICADOR CON CARGADOR",193.57,0,0,0,0,0,2,{"$f":"+IFERROR(HYPERLINK(VLOOKUP(C6356,FOTOGRAFICO!C:E,3,FALSE),C6356),\"\")","v":""}]
[null,null,"CH-137G","CANCELADO","SOPORTE CAJA TRANSMISION URVAN 2.4 99-02 MARCA SAFETY         IMPORTADO 6994 = RC6994",147.34,0,0,0,0,1,0,{"$f":"+IFERROR(HYPERLINK(VLOOKUP(C6366,FOTOGRAFICO!C:E,3,FALSE),C6366),\"\")","v":"CH-137G"}]
[null,null,"CHA7437","CANCELADO","BUJIA CHAMPION DOBLE PLATINO   FIESTA 1.4 98-00 IKON 1.6 01-  10 FIESTA SEDAN 1.6 05-07",57.19,0,0,0,0,2,0,{"$f":"+IFERROR(HYPERLINK(VLOOKUP(C6367,FOTOGRAFICO!C:E,3,FALSE),C6367),\"\")","v":"CHA7437"}]
[null,null,"CUBO","CANCELADO","CUBO DE CARGA CON 2 ENTRADAS   USB. CARGA NORMAL",28.46,0,0,0,0,0,0,{"$f":"+IFERROR(HYPERLINK(VLOOKUP(C6379,FOTOGRAFICO!C:E,3,FALSE),C6379),\"\")","v":""}]
[null,null,"D17769006","CANCELADO","BALATA DEL VENTO 13-23 POLO    15-23 MARCA FAG SEMIMETALICA   = TMK9006-D1776 = M8Y03F464",0,1,0,0,0,0,0,{"$f":"+IFERROR(HYPERLINK(VLOOKUP(C6385,FOTOGRAFICO!C:E,3,FALSE),C6385),\"\")","v":""}]
[null,null,"DNK7529D649","CANCELADO","BALATA DEL FIESTA 00-10 FIESTA IKON 02-07 COURIER 01-09 KA 01 -08 LARGA DYNAMIK LOW MET",320.98,0,0,0,0,1,0,{"$f":"+IFERROR(HYPERLINK(VLOOKUP(C6399,FOTOGRAFICO!C:E,3,FALSE),C6399),\"\")","v":"DNK7529D649"}]
[null,null,"DNK8656D1456","CANCELADO","BALATA TRAS BEETLE 2.0 2.5 12- 15 GTI 2.0 12-13 JETTA 1.8 2.5 10-14 DISCO DYNAMIK LOW MET",365.6,0,0,0,0,0,0,{"$f":"+IFERROR(HYPERLINK(VLOOKUP(C6411,FOTOGRAFICO!C:E,3,FALSE),C6411),\"\")","v":"DNK8656D1456"}]
[null,null,"DNK8952D2275CK","CANCELADO","BALATA DELANTERA MAZDA CX-30   20-21 MARCA DYNAMIK CERAMICA   8952 D2275",539.17999999999995,0,0,0,0,0,0,{"$f":"+IFERROR(HYPERLINK(VLOOKUP(C6420,FOTOGRAFICO!C:E,3,FALSE),C6420),\"\")","v":"DNK8952D2275CK"}]
[null,null,"ECO04-0018","CANCELADO","CRUCETA CALIPER CARIBE ATLANTI C PARA BALATA 7031 77-84",5.98,0,0,0,0,18,0,{"$f":"+IFERROR(HYPERLINK(VLOOKUP(C6431,FOTOGRAFICO!C:E,3,FALSE),C6431),\"\")","v":""}]
[null,null,"ECO091311541","CANCELADO","PALANCA SELECTORA COMBI",59.71,0,0,0,0,5,0,{"$f":"+IFERROR(HYPERLINK(VLOOKUP(C6434,FOTOGRAFICO!C:E,3,FALSE),C6434),\"\")","v":""}]
[null,null,"ECO301","CANCELADO","AJUSTADOR CAJA VEL CARIBE DELG ADO 4VEL",104.65,0,0,0,0,2,0,{"$f":"+IFERROR(HYPERLINK(VLOOKUP(C6441,FOTOGRAFICO!C:E,3,FALSE),C6441),\"\")","v":""}]
[null,null,"ECO-G","CANCELADO","BOLSA ECOLOGICA GRANDE",23.31,0,0,0,0,0,48,{"$f":"+IFERROR(HYPERLINK(VLOOKUP(C6453,FOTOGRAFICO!C:E,3,FALSE),C6453),\"\")","v":""}]
[null,null,"EGP54501-PROMO2","CANCELADO","HORQUILLA SUSP INF IZQ PLATINA 02-10 CLIO 02-10 CON BUJES CON ROTULA SAFETY IMPORTADO",387.28,0,0,0,0,0,0,{"$f":"+IFERROR(HYPERLINK(VLOOKUP(C6466,FOTOGRAFICO!C:E,3,FALSE),C6466),\"\")","v":""}]
[null,null,"EURO28","CANCELADO","CANCELADO A EUROPEO AGUILA",78.44,0,0,0,0,1,0,{"$f":"+IFERROR(HYPERLINK(VLOOKUP(C6473,FOTOGRAFICO!C:E,3,FALSE),C6473),\"\")","v":""}]
[null,null,"FALM29Y","CANCELADO","FARO 12 LED P/MOTO C/ESTROBO   CONTORNO GEL AMBAR JGO 2 PZA",141.1,0,0,0,0,0,0,{"$f":"+IFERROR(HYPERLINK(VLOOKUP(C6482,FOTOGRAFICO!C:E,3,FALSE),C6482),\"\")","v":"FALM29Y"}]
[null,null,"FM3765CPSTD","CANCELADO","METAL BIELA CHEVROLET.         MARCA : FEDERAL MOGUL",141.77000000000001,0,0,0,0,1,0,{"$f":"+IFERROR(HYPERLINK(VLOOKUP(C6493,FOTOGRAFICO!C:E,3,FALSE),C6493),\"\")","v":""}]
[null,null,"FMR130055","CANCELADO","RETEN FM 130055",7.56,0,0,0,0,1,0,{"$f":"+IFERROR(HYPERLINK(VLOOKUP(C6505,FOTOGRAFICO!C:E,3,FALSE),C6505),\"\")","v":""}]
[null,null,"FMR130591","CANCELADO","RETEN R.T. RENAULT",13.18,0,0,0,0,2,0,{"$f":"+IFERROR(HYPERLINK(VLOOKUP(C6511,FOTOGRAFICO!C:E,3,FALSE),C6511),\"\")","v":""}]
[null,null,"FMR471289","CANCELADO","RETEN R.T CHRY.GM.NISS.VAM",25.3,0,0,0,0,2,0,{"$f":"+IFERROR(HYPERLINK(VLOOKUP(C6516,FOTOGRAFICO!C:E,3,FALSE),C6516),\"\")","v":""}]
[null,null,"FMTG2501","CANCELADO","ENGRANE CIG.GMC 6CIL.",65.16,0,0,0,0,1,0,{"$f":"+IFERROR(HYPERLINK(VLOOKUP(C6528,FOTOGRAFICO!C:E,3,FALSE),C6528),\"\")","v":""}]
[null,null,"FMTS506","CANCELADO","ENGRANE F.M.",78.62,0,0,0,0,1,0,{"$f":"+IFERROR(HYPERLINK(VLOOKUP(C6536,FOTOGRAFICO!C:E,3,FALSE),C6536),\"\")","v":""}]
[null,null,"G110","CANCELADO","TORNILLO PUENT SUSP COMBI DELG 8 x 70",2.35,0,0,0,0,15,0,{"$f":"+IFERROR(HYPERLINK(VLOOKUP(C6548,FOTOGRAFICO!C:E,3,FALSE),C6548),\"\")","v":"G110"}]
[null,null,"G99","CANCELADO","TORNILLO BISAGRA VW",2.2000000000000002,0,0,0,0,36,0,{"$f":"+IFERROR(HYPERLINK(VLOOKUP(C6560,FOTOGRAFICO!C:E,3,FALSE),C6560),\"\")","v":""}]
[null,null,"GALON-PINK","CANCELADO","CANCELADO XIQUENSE ROSA GALON",23.33,0,0,0,0,0,0,{"$f":"+IFERROR(HYPERLINK(VLOOKUP(C6567,FOTOGRAFICO!C:E,3,FALSE),C6567),\"\")","v":"GALON-PINK"}]
[null,null,"GM232B1022-PROMO","CANCELADO","MAZA DEL MATIZ 04-15 4 BARRENO MARCA NSB IMPORTADO",256.26,0,0,0,0,0,0,{"$f":"+IFERROR(HYPERLINK(VLOOKUP(C6579,FOTOGRAFICO!C:E,3,FALSE),C6579),\"\")","v":""}]
[null,null,"GRRN0400","CANCELADO","RETEN INTERIOR DE FLECHA DE    DISTRIBUIDOR URVAN 2.4L 2.5L   12MMx19MMx5MM MCA LYO TAIWAN",20.23,0,0,0,0,0,0,{"$f":"+IFERROR(HYPERLINK(VLOOKUP(C6583,FOTOGRAFICO!C:E,3,FALSE),C6583),\"\")","v":""}]
[null,null,"H0761","CANCELADO","REGULADOR ALTERN TSURU GS 94   HITACHI DERECHO 12V BESTTEC",209.98,0,0,0,0,6,0,{"$f":"+IFERROR(HYPERLINK(VLOOKUP(C6590,FOTOGRAFICO!C:E,3,FALSE),C6590),\"\")","v":""}]
[null,null,"HYPB9360","CANCELADO","CABLES BUJIAS CARIBE 7360      CAMBIA A Z-11 o BSH040104",60.9,0,0,0,0,0,0,{"$f":"+IFERROR(HYPERLINK(VLOOKUP(C6608,FOTOGRAFICO!C:E,3,FALSE),C6608),\"\")","v":""}]
[null,null,"IIC00003","CANCELADO","LLAVERO DISCO DE FRENO",62.62,0,0,0,0,0,0,{"$f":"+IFERROR(HYPERLINK(VLOOKUP(C6610,FOTOGRAFICO!C:E,3,FALSE),C6610),\"\")","v":""}]
[null,null,"KB-19MA","CANCELADO","CANCELADO B TSURU III 92- 16V  ALS C/TENSORS ENGR DOBLE Y GUI AS 12 PZAS ZUIKO JAPON SOBRE P",1219.58,0,0,0,0,0,0,{"$f":"+IFERROR(HYPERLINK(VLOOKUP(C6622,FOTOGRAFICO!C:E,3,FALSE),C6622),\"\")","v":""}]
[null,null,"KYB339029","CANCELADO","AMORTIGUADOR DEL DER OPTRA 06- 10 GAS KYB JAPONES             = 96955861K",1754.57,0,0,0,0,1,0,{"$f":"+IFERROR(HYPERLINK(VLOOKUP(C6627,FOTOGRAFICO!C:E,3,FALSE),C6627),\"\")","v":""}]
[null,null,"LTH20W50BOT","CANCELADO","CANCELADO  20W50 945 ML BOTELL API SL",80.22,0,0,0,0,0,0,{"$f":"+IFERROR(HYPERLINK(VLOOKUP(C6642,FOTOGRAFICO!C:E,3,FALSE),C6642),\"\")","v":"LTH20W50BOT"}]
[null,null,"MED3617","CANCELADO","TORNILLO BOMBA ACEITE CARIBE   GOLF JETTA, COMBI 1800 8 X 12",1.68,0,0,0,0,16,0,{"$f":"+IFERROR(HYPERLINK(VLOOKUP(C6654,FOTOGRAFICO!C:E,3,FALSE),C6654),\"\")","v":""}]
[null,null,"MEX830","CANCELADO","BUJE AMORTIGUAD EUROVAN DIESEL JUEGO 2 PZAS SUPERIOR E INFERI OR",68.75,0,0,0,0,1,0,{"$f":"+IFERROR(HYPERLINK(VLOOKUP(C6656,FOTOGRAFICO!C:E,3,FALSE),C6656),\"\")","v":""}]
[null,null,"MOR9711","CANCELADO","VALVULA ADM CHEVY 1.4 94-02    CABEZA ESPANOLA MARCA MORESA",123.12,0,0,0,0,6,0,{"$f":"+IFERROR(HYPERLINK(VLOOKUP(C6665,FOTOGRAFICO!C:E,3,FALSE),C6665),\"\")","v":"MOR9711"}]
[null,null,"N618G","CANCELADO","TAPETE MERCURIO TRASERO GRIS   CORRIDO AHULADO AUTOS          COMPACTOS Y PICK UP MODELO 618",0,0,0,0,0,0,0,{"$f":"+IFERROR(HYPERLINK(VLOOKUP(C6677,FOTOGRAFICO!C:E,3,FALSE),C6677),\"\")","v":""}]
[null,null,"NIS105M1600","CANCELADO","BALANCIN TSURU III 8VAL X PZA  SE VENDE X PIEZA",87.4,0,0,0,0,1,0,{"$f":"+IFERROR(HYPERLINK(VLOOKUP(C6684,FOTOGRAFICO!C:E,3,FALSE),C6684),\"\")","v":""}]
[null,null,"ORI020141733","CANCELADO","RETEN PALANCA SELEC CARIBE 77- GOLF JETTA 87-92 DERBY 96-00   MARCA BRUCK",14.41,0,0,0,0,1,0,{"$f":"+IFERROR(HYPERLINK(VLOOKUP(C6695,FOTOGRAFICO!C:E,3,FALSE),C6695),\"\")","v":""}]
[null,null,"ORI059115721","CANCELADO","BUJE ROSCADO FILTRO ACEITE     CORTO",95.91,0,0,0,0,2,0,{"$f":"+IFERROR(HYPERLINK(VLOOKUP(C6709,FOTOGRAFICO!C:E,3,FALSE),C6709),\"\")","v":"ORI059115721"}]
[null,null,"ORI111823295","CANCELADO","BISAGRA COFRE VW SEDAN TODOS   MODELOS IZQ-DER",121.51,0,0,0,0,0,0,{"$f":"+IFERROR(HYPERLINK(VLOOKUP(C6716,FOTOGRAFICO!C:E,3,FALSE),C6716),\"\")","v":"ORI111823295"}]
[null,null,"ORI113611715A","CANCELADO","SEGURO MANGUERA FRENOS VW COMB SEDAN BRASILA DEL O TRAS",2.95,0,0,0,0,6,0,{"$f":"+IFERROR(HYPERLINK(VLOOKUP(C6724,FOTOGRAFICO!C:E,3,FALSE),C6724),\"\")","v":"ORI113611715A"}]
[null,null,"ORI1980911","CANCELADO","TORNILLO PAL VEL CARIBE",18.899999999999999,0,0,0,0,4,0,{"$f":"+IFERROR(HYPERLINK(VLOOKUP(C6736,FOTOGRAFICO!C:E,3,FALSE),C6736),\"\")","v":""}]
[null,null,"ORI211415409","CANCELADO","BRIDA CAJA DIREC COMBI SUP     NOTA:VA EN EL DEFLECTOR O GOMA DE DIRECCION DE COMBI",134.88,0,0,0,0,8,0,{"$f":"+IFERROR(HYPERLINK(VLOOKUP(C6739,FOTOGRAFICO!C:E,3,FALSE),C6739),\"\")","v":"ORI211415409"}]
[null,null,"ORI60409","CANCELADO","SOPORTE ESCAPE GOLF JETTA A3   JUEGO 5 PZAS 2 ABRAZADERAS",93.35,0,0,0,0,3,0,{"$f":"+IFERROR(HYPERLINK(VLOOKUP(C6753,FOTOGRAFICO!C:E,3,FALSE),C6753),\"\")","v":""}]
[null,null,"ORI823512113","CANCELADO","PLATILLO RESORTE TRAS CARIBE",93.06,0,0,0,0,6,0,{"$f":"+IFERROR(HYPERLINK(VLOOKUP(C6759,FOTOGRAFICO!C:E,3,FALSE),C6759),\"\")","v":""}]
[null,null,"PARASOL","CANCELADO","PARASOL PARABRISAS VARIOS DIBU JOS PEDIR DIBUJO A CLIENTE",35.85,0,0,0,0,0,0,{"$f":"+IFERROR(HYPERLINK(VLOOKUP(C6771,FOTOGRAFICO!C:E,3,FALSE),C6771),\"\")","v":"PARASOL"}]
[null,null,"R1739","CANCELADO","PERNO C/BUJES P/BISAGRA URVAN  EJE DE PTA CRREDIZA LARGO C 2",80.69,0,0,0,0,6,0,{"$f":"+IFERROR(HYPERLINK(VLOOKUP(C6782,FOTOGRAFICO!C:E,3,FALSE),C6782),\"\")","v":""}]
[null,null,"REC1356-A","CANCELADO","BALATA FIESTA ANCLA DER DELGAD RECONSTRUIDA",51.17,0,0,0,0,1,0,{"$f":"+IFERROR(HYPERLINK(VLOOKUP(C6791,FOTOGRAFICO!C:E,3,FALSE),C6791),\"\")","v":""}]
[null,null,"RP137L54","CANCELADO","ACEITE REPSOL ELITE NEO 5W30   SINTETICO GARRAFA 4 LITROS     API SN-RC ILSAC GF-5",0,0,0,0,0,0,0,{"$f":"+IFERROR(HYPERLINK(VLOOKUP(C6803,FOTOGRAFICO!C:E,3,FALSE),C6803),\"\")","v":""}]
[null,null,"SAN104","CANCELADO","GOMA CONTRA CHAPA VW SEDAN     PUERTA NACIONAL",4.3899999999999997,0,0,0,0,1,0,{"$f":"+IFERROR(HYPERLINK(VLOOKUP(C6807,FOTOGRAFICO!C:E,3,FALSE),C6807),\"\")","v":""}]
[null,null,"SAN309","CANCELADO","VARILLA VEL GOLF JETTA A2 ZETA CON BUJES",26.81,0,0,0,0,4,0,{"$f":"+IFERROR(HYPERLINK(VLOOKUP(C6814,FOTOGRAFICO!C:E,3,FALSE),C6814),\"\")","v":""}]
[null,null,"SK429","CANCELADO","BATERIA PORTATIL PASA CORRIENT E PARA AUTOMOVIL MOTOS PLANTAS LANCHAS DE 12VOLTS MARCA IMPOR",908.71,0,0,0,0,0,0,{"$f":"+IFERROR(HYPERLINK(VLOOKUP(C6826,FOTOGRAFICO!C:E,3,FALSE),C6826),\"\")","v":""}]
[null,null,"SP3207KXSTD","CANCELADO","ANILLOS PISTON STD EUROVAN 2.5 BORA 2.5 99-10 GASOLINA 5 CILI CROMADOS MAHLE = C5198-STD",471.35,0,0,0,0,1,0,{"$f":"+IFERROR(HYPERLINK(VLOOKUP(C6833,FOTOGRAFICO!C:E,3,FALSE),C6833),\"\")","v":""}]
[null,null,"T4","CANCELADO","TUERCA 4 MM P/CUARTO CARIBE",0.48,0,0,0,0,46,0,{"$f":"+IFERROR(HYPERLINK(VLOOKUP(C6850,FOTOGRAFICO!C:E,3,FALSE),C6850),\"\")","v":""}]
[null,null,"T48","CANCELADO","ENGRANE DISTRIBUIDOR VW SEDAN",28.65,0,0,0,0,1,0,{"$f":"+IFERROR(HYPERLINK(VLOOKUP(C6853,FOTOGRAFICO!C:E,3,FALSE),C6853),\"\")","v":""}]
[null,null,"TAP-01","CANCELADO","TAPON RIN CENTRO PIEZA SPINNER CROMADO UNIVERSAL",41.59,0,0,0,0,6,0,{"$f":"+IFERROR(HYPERLINK(VLOOKUP(C6865,FOTOGRAFICO!C:E,3,FALSE),C6865),\"\")","v":"TAP-01"}]
[null,null,"TAPETE02","CANCELADO","CANCELADO PACTOS 4 PZAS                                       MODELO 14",380.72,0,0,0,0,2,0,{"$f":"+IFERROR(HYPERLINK(VLOOKUP(C6869,FOTOGRAFICO!C:E,3,FALSE),C6869),\"\")","v":""}]
[null,null,"TFLCA21","CANCELADO","LAINA CABEZA TSURU III 16VALS  VA ENTRE CABEZA Y JUNTA P/COMP ENSAR DESGASTE MCA: TF VICTOR",45.78,0,0,0,0,1,0,{"$f":"+IFERROR(HYPERLINK(VLOOKUP(C6885,FOTOGRAFICO!C:E,3,FALSE),C6885),\"\")","v":"TFLCA21"}]
[null,null,"TFMU41509-E","CANCELADO","JUNTA MULTIPLE ESCAPE FIESTA   1.4 98-00 TF VICTOR HECHO EN   MEXICO",123.63,0,0,0,0,3,0,{"$f":"+IFERROR(HYPERLINK(VLOOKUP(C6888,FOTOGRAFICO!C:E,3,FALSE),C6888),\"\")","v":"TFMU41509-E"}]
[null,null,"TH12792G1","CANCELADO","CANCELADO",186.4,0,0,0,0,0,0,{"$f":"+IFERROR(HYPERLINK(VLOOKUP(C6898,FOTOGRAFICO!C:E,3,FALSE),C6898),\"\")","v":"TH12792G1"}]
[null,null,"U-LH2875","CANCELADO","FARO RECTANGULAR 5PULGADAS     OJO DEMONIO PZ",555.12,0,0,0,0,2,0,{"$f":"+IFERROR(HYPERLINK(VLOOKUP(C6908,FOTOGRAFICO!C:E,3,FALSE),C6908),\"\")","v":"U-LH2875"}]
[null,null,"VAL04BK","CANCELADO","TAPON VALVULA LLANTA PICOS     NEGRO 6 CM JUEGO DE 4 PIEZAS",50.02,0,0,0,0,0,0,{"$f":"+IFERROR(HYPERLINK(VLOOKUP(C6920,FOTOGRAFICO!C:E,3,FALSE),C6920),\"\")","v":""}]
[null,null,"VEL326935","CANCELADO","ESPIGA L/RUEDA CHEVY 1.6 96-05 S/SEGURO DIENTES E22 I28 MARCA VELCON = RR-9413",849.03,0,0,0,0,1,0,{"$f":"+IFERROR(HYPERLINK(VLOOKUP(C6933,FOTOGRAFICO!C:E,3,FALSE),C6933),\"\")","v":"VEL326935"}]
[null,null,"XS6E9K478A2F","CANCELADO","TOMA AGUA FIESTA IKON KA 1.6   COURIER C/SENSOR LIGA TERMOSTA TOMA RECTA PLASTICO LIPSA",350.5,0,0,0,0,0,0,{"$f":"+IFERROR(HYPERLINK(VLOOKUP(C6940,FOTOGRAFICO!C:E,3,FALSE),C6940),\"\")","v":"XS6E9K478A2F"}]
[null,null,"21481-PROMO2","CANCELADO","MOTOVENTILADOR TSURU III 92-17 S/AIRE C/ASPA C/TOLVA 2 TERMIN BEST COOLING = NIS107E1500",402.09,0,0,0,0,0,0,{"$f":"+IFERROR(HYPERLINK(VLOOKUP(C6952,FOTOGRAFICO!C:E,3,FALSE),C6952),\"\")","v":""}]
[null,null,"357919149B","CANCELADO","SENSOR VELOCIMETR JETTA A4 AUT 99-15 2.0 GOLF A4 BEETLE 98-11 2.0 MARCA BRUCK",94.05,0,0,0,0,0,0,{"$f":"+IFERROR(HYPERLINK(VLOOKUP(C6959,FOTOGRAFICO!C:E,3,FALSE),C6959),\"\")","v":""}]
[null,null,"6Q0927803B","CANCELADO","SENSOR ABS POLO 03-07 DEL IZQ  LUPO 05-09 CROSSFOX 06-17 1.6L SPORTVAN 06-10 GOL 09-20 Bruck",338.51,0,0,0,0,0,0,{"$f":"+IFERROR(HYPERLINK(VLOOKUP(C6966,FOTOGRAFICO!C:E,3,FALSE),C6966),\"\")","v":""}]
[null,null,"BRU111103S500","CANCELADO","CANCELADO",827.45,0,0,0,2,0,2,{"$f":"+IFERROR(HYPERLINK(VLOOKUP(C6975,FOTOGRAFICO!C:E,3,FALSE),C6975),\"\")","v":""}]
[null,null,"BRU210104JM0A","CANCELADO","CANCELADO",425.48,0,0,0,5,0,2,{"$f":"+IFERROR(HYPERLINK(VLOOKUP(C6982,FOTOGRAFICO!C:E,3,FALSE),C6982),\"\")","v":""}]
[null,null,"BRU46010VK94B","CANCELADO","CANCELADO",553.59,0,0,0,2,1,1,{"$f":"+IFERROR(HYPERLINK(VLOOKUP(C6995,FOTOGRAFICO!C:E,3,FALSE),C6995),\"\")","v":"BRU46010VK94B"}]
[null,null,"BRU5461801G00EUR","CANCELADO","CANCELADO",62.3,0,0,0,4,0,2,{"$f":"+IFERROR(HYPERLINK(VLOOKUP(C7002,FOTOGRAFICO!C:E,3,FALSE),C7002),\"\")","v":""}]
[null,null,"CSJN0101-PROMO","CANCELADO","SALPICADERA DER TSURU III 92-  17 SIN HOYO GRIS MARCA SIMYI   IMPORTADO 202-2321-02",563.02,0,0,0,0,0,0,{"$f":"+IFERROR(HYPERLINK(VLOOKUP(C7014,FOTOGRAFICO!C:E,3,FALSE),C7014),\"\")","v":""}]
[null,null,"FFVN1302","CANCELADO","FARO IZQ SENTRA 01-03 FONDO    CROMADO MICA AMBAR VISION AUTO LAMPS IMPORTADO = FFYN1302",1054.18,0,0,0,0,0,0,{"$f":"+IFERROR(HYPERLINK(VLOOKUP(C7024,FOTOGRAFICO!C:E,3,FALSE),C7024),\"\")","v":""}]
[null,null,"INJV0701-PROMO","CANCELADO","FACIA DEL VENTO 14-15 CON HOYO PARA FARO SIN REJILLA DIFORZA  NACIONAL",492.29,0,0,0,0,0,0,{"$f":"+IFERROR(HYPERLINK(VLOOKUP(C7034,FOTOGRAFICO!C:E,3,FALSE),C7034),\"\")","v":""}]
[null,null,"LIEPTSU01","CANCELADO","LIENZO TSURU III PUERTA DEL IZ IZQUIERDO                      SOBRE PEDIDO COTIZAR D NUEVO",406.99,0,0,0,0,0,0,{"$f":"+IFERROR(HYPERLINK(VLOOKUP(C7037,FOTOGRAFICO!C:E,3,FALSE),C7037),\"\")","v":""}]
[null,null,"V0281","CANCELADO","VOLANTE DEPORTIVO AZUL/GRIS",368.11,0,0,0,0,0,0,{"$f":"+IFERROR(HYPERLINK(VLOOKUP(C7049,FOTOGRAFICO!C:E,3,FALSE),C7049),\"\")","v":"V0281"}]
[null,null,"92201-0500LH","CANCELADO","CANCELADO AUXILIAR IZQ 05-     NIEBLA HYUNDAI ATOS MCA: NIKKO",274.35000000000002,0,0,0,0,0,0,{"$f":"+IFERROR(HYPERLINK(VLOOKUP(C7057,FOTOGRAFICO!C:E,3,FALSE),C7057),\"\")","v":""}]
[null,null,"FUNDA-P-G","CANCELADO","CANCELADO OLANTE DE PIEL       NEGRO CON GRIS",99.63,0,0,0,0,0,0,{"$f":"+IFERROR(HYPERLINK(VLOOKUP(C7069,FOTOGRAFICO!C:E,3,FALSE),C7069),\"\")","v":"FUNDA-P-G"}]
[null,null,"ITALIOP01BK","CANCELADO","CANCELADO NTE NEGRA ITALIO",0,0,0,0,0,0,0,{"$f":"+IFERROR(HYPERLINK(VLOOKUP(C7076,FOTOGRAFICO!C:E,3,FALSE),C7076),\"\")","v":""}]
[null,null,"TOTATFLITRO","CANCELADO","ACEITE ATF DEXRON III-G BOTELL 946 ML TOTAL MERCON TRANS. AUT DIR.HIDRA. CAJA 12 PIEZAS",91.56,0,0,0,0,0,0,{"$f":"+IFERROR(HYPERLINK(VLOOKUP(C7092,FOTOGRAFICO!C:E,3,FALSE),C7092),\"\")","v":"TOTATFLITRO"}]
[null,null,"BOTANA-73","CANCELADO","CANCELADOREEN LATA 473 ML",35.229999999999997,0,0,0,0,2,0,{"$f":"+IFERROR(HYPERLINK(VLOOKUP(C7101,FOTOGRAFICO!C:E,3,FALSE),C7101),\"\")","v":""}]
[null,null,"PTR-15W40","CANCELADO","ACEITE M5 MAX 15W40 BOTELLA    946 ML PETRONAS API SN         CAJA 12 PIEZAS",88.58,0,0,0,0,0,0,{"$f":"+IFERROR(HYPERLINK(VLOOKUP(C7108,FOTOGRAFICO!C:E,3,FALSE),C7108),\"\")","v":"PTR-15W40"}]
[null,null,"TFRE99077-NT","CANCELADO","RETEN PIERNA FLECHA GOLF JETTA A2 A3 87-98 CARIBE 5 VEL       MARCA TF VICTOR",0,0,0,0,0,0,0,{"$f":"+IFERROR(HYPERLINK(VLOOKUP(C7111,FOTOGRAFICO!C:E,3,FALSE),C7111),\"\")","v":""}]
[null,null,"011-0614-22","CANTONERA","CANTONERA TRAS DER CHEVY C3 09 -13 3/5 PUERTAS P/PINTAR MCA   HUSHAN PEDIDO LONDAIZ",275.16000000000003,0,0,0,1,0,0,{"$f":"+IFERROR(HYPERLINK(VLOOKUP(C7128,FOTOGRAFICO!C:E,3,FALSE),C7128),\"\")","v":"011-0614-22"}]
[null,null,"93218223-PRAI","CANTONERA","CANTONERA DEL IZQ CHEVY MONZA  96-05 PRIMER GRIS MARCA BRUCK  GERMANY PIDE YASMANI",115.88,0,0,0,0,0,0,{"$f":"+IFERROR(HYPERLINK(VLOOKUP(C7131,FOTOGRAFICO!C:E,3,FALSE),C7131),\"\")","v":""}]
[null,null,"CNRC0332PROMO","CANTONERA","CANTONERA CHEVY C2 DELANT IZQU CHEVY MONZA C2 04-08 DELANTERA IZQUIERDA MARCA DIFORZA",138.63,1,0,0,0,0,0,{"$f":"+IFERROR(HYPERLINK(VLOOKUP(C7140,FOTOGRAFICO!C:E,3,FALSE),C7140),\"\")","v":""}]
[null,null,"NCAUN","CANTONERA","CANTONERA UNIVERSAL JGO 4PZAS  MARCA NACIONAL NCAUN PIDE      MOSTRADOR PREGUNTAR DE FAVOR",488.09,0,0,0,0,0,0,{"$f":"+IFERROR(HYPERLINK(VLOOKUP(C7151,FOTOGRAFICO!C:E,3,FALSE),C7151),\"\")","v":""}]
[null,null,"C044809Q0","CAPUCHON","CAPUCHON BUJIA MOTONETA 22305  MARCA QUMO",6,0,0,0,14,19,0,{"$f":"+IFERROR(HYPERLINK(VLOOKUP(C7163,FOTOGRAFICO!C:E,3,FALSE),C7163),\"\")","v":""}]
[null,null,"16010-VW1800A","CARBURADOR","CARBURADOR GOLF JETTA A2 87-92 1800 STD COMBI 1800 2 GARGANTS MARCA EGP CHINA",3128.3,3,0,0,0,2,0,{"$f":"+IFERROR(HYPERLINK(VLOOKUP(C7169,FOTOGRAFICO!C:E,3,FALSE),C7169),\"\")","v":"16010-VW1800A"}]
[null,null,"5Z0905851A","CARCASA","CARCASA PORTA SWITCH GOL 1.6   09-12 SAVEIRO 1.6 09-11 LUPO   1.6 05-09 MARCA BRUCK TELLITUD",331.45,0,0,0,0,1,0,{"$f":"+IFERROR(HYPERLINK(VLOOKUP(C7183,FOTOGRAFICO!C:E,3,FALSE),C7183),\"\")","v":""}]
[null,null,"4870075Y00","CARCASA","CARCASA PORTA SWITCH TSURU III 92-17 1.6 CON 2 LLAVES Y PASTI LLA ARRANQUE MARCA BRUCK",314.99,0,0,0,0,2,0,{"$f":"+IFERROR(HYPERLINK(VLOOKUP(C7186,FOTOGRAFICO!C:E,3,FALSE),C7186),\"\")","v":""}]
[null,null,"TZ-727","CARGADOR","CARGADOR P/ENCENDEDR SIN CABLE ENTRADA USB 1.5-2.4 AMP        IMPORTADOI CON GARANTIA",29.74,0,99,0,0,0,0,{"$f":"+IFERROR(HYPERLINK(VLOOKUP(C7204,FOTOGRAFICO!C:E,3,FALSE),C7204),\"\")","v":""}]
[null,null,"SAN25","CARRETE","CARRETE PEDAL ACEL VW SEDAN",6.78,167,0,0,0,15,0,{"$f":"+IFERROR(HYPERLINK(VLOOKUP(C7206,FOTOGRAFICO!C:E,3,FALSE),C7206),\"\")","v":""}]
[null,null,"BRU313903MX0A","CARTER","CARTER ACEITE VERSA 11-19 1.6  MARCH 11-19 1.6 NOTE 13-19     TRANSMISION AUTOMATICA BRUCK",692.28,4,1,0,4,0,1,{"$f":"+IFERROR(HYPERLINK(VLOOKUP(C7218,FOTOGRAFICO!C:E,3,FALSE),C7218),\"\")","v":"BRU313903MX0A"}]
[null,null,"C-187013Q0","CASCO","CASCO MSD ROSA",204.31,4,0,2,3,1,2,{"$f":"+IFERROR(HYPERLINK(VLOOKUP(C7225,FOTOGRAFICO!C:E,3,FALSE),C7225),\"\")","v":""}]
[null,null,"USA33","CASCO","CASCO CONCHA GRANDE COMBI 1800 SE RECIBE COMPLETA Y NO ROTA O ESTRELLADA",277.58999999999997,3,0,0,0,0,0,{"$f":"+IFERROR(HYPERLINK(VLOOKUP(C7237,FOTOGRAFICO!C:E,3,FALSE),C7237),\"\")","v":"USA33"}]
[null,null,"USA72","CASCO","CASCO BIELA VW1600 UNICAMENTE  SE RECIBE VW1600 Y NO DESBIELA DA Y CON TUERCAS",27.11,584,0,0,0,0,0,{"$f":"+IFERROR(HYPERLINK(VLOOKUP(C7245,FOTOGRAFICO!C:E,3,FALSE),C7245),\"\")","v":""}]
[null,null,"C187041Q0","CASCO","CASCO CERRADO RAPID SOLID      NEGRO MATE TALLA L MARCA QUMO",1078.5,0,0,0,1,1,0,{"$f":"+IFERROR(HYPERLINK(VLOOKUP(C7257,FOTOGRAFICO!C:E,3,FALSE),C7257),\"\")","v":""}]
[null,null,"E0103N","CENTRO","JUEGO CENTRO RIN NISSAN NEGRO",275.68,1,1,1,1,1,1,{"$f":"+IFERROR(HYPERLINK(VLOOKUP(C7266,FOTOGRAFICO!C:E,3,FALSE),C7266),\"\")","v":""}]
[null,null,"SAN4A","CHANGUERA","CHANGUERA TOLDO VW SEDAN NEGRA ASIDERO TOLDO NEGRO",20.37,46,28,0,8,5,15,{"$f":"+IFERROR(HYPERLINK(VLOOKUP(C7277,FOTOGRAFICO!C:E,3,FALSE),C7277),\"\")","v":""}]
[null,null,"002-2321-04","CHAPA","CHAPA PUERTA TSURU III 92-17   JUEGO 2 PZA CILINDRO Y LLAVES  MARCA RADEC",325.06,0,1,5,0,0,1,{"$f":"+IFERROR(HYPERLINK(VLOOKUP(C7280,FOTOGRAFICO!C:E,3,FALSE),C7280),\"\")","v":"002-2321-04"}]
[null,null,"NIS107H0210","CHAPA","CHAPA CAJUELA TSURU III 92-    CHAPA CAJUELA TSURU REDONDA    CON LLAVES",70.5,7,6,5,10,5,4,{"$f":"+IFERROR(HYPERLINK(VLOOKUP(C7295,FOTOGRAFICO!C:E,3,FALSE),C7295),\"\")","v":""}]
[null,null,"ORI327839015TRAS","CHAPA","CHAPA PUERTA TRAS IZQ INT GOLF JETTA A2 87-92 CARIBE ATLAN 77 87 NO LE QUEDA AL A3 93-",76.790000000000006,2,0,0,0,0,0,{"$f":"+IFERROR(HYPERLINK(VLOOKUP(C7300,FOTOGRAFICO!C:E,3,FALSE),C7300),\"\")","v":"ORI327839015TRAS"}]
[null,null,"T44","CHAVETA","CHAVETA CARIBE GOLF JETTA A2 A 3 POINTER DERBY CHEVY 1/8 X 1. 5 PULGADAS",1.61,259,104,84,65,56,80,{"$f":"+IFERROR(HYPERLINK(VLOOKUP(C7312,FOTOGRAFICO!C:E,3,FALSE),C7312),\"\")","v":""}]
[null,null,"25181785","CHICOTE","CHICOTE CLUTCH SPARK 1.2 11-16 MARCA ACDELCO ORIGINAL GM316   = NIK25181785NK = GM316",943.44,0,3,2,2,2,2,{"$f":"+IFERROR(HYPERLINK(VLOOKUP(C7320,FOTOGRAFICO!C:E,3,FALSE),C7320),\"\")","v":"25181785"}]
[null,null,"344133XA6B-KB","CHICOTE","CHICOT SELEC VELOC URVAN NV350 2.5 14-23 2 CABLES 3253/3056MM MARCA KABUTO = 34413-3XA4D",636.58000000000004,0,0,0,0,0,0,{"$f":"+IFERROR(HYPERLINK(VLOOKUP(C7332,FOTOGRAFICO!C:E,3,FALSE),C7332),\"\")","v":""}]
[null,null,"34413-VZ10D","CHICOTE","CHICOTE SELECTOR VELOCID URVAN 07-13 2.5L 2CABLES MARCA NIKKO NO LE QUEDA A 14- NV350 NO",848.86,12,0,8,3,2,2,{"$f":"+IFERROR(HYPERLINK(VLOOKUP(C7335,FOTOGRAFICO!C:E,3,FALSE),C7335),\"\")","v":"34413-VZ10D"}]
[null,null,"41510-B4000-K","CHICOTE","CHICOTE CLUTCH GRAND I10 1.2L  13-20 1162 MM MARCA KOREASTAR  HECHO EN COREA = IERD0300",396.31,0,0,0,0,0,0,{"$f":"+IFERROR(HYPERLINK(VLOOKUP(C7351,FOTOGRAFICO!C:E,3,FALSE),C7351),\"\")","v":"41510-B4000-K"}]
[null,null,"43794-0X001NK","CHICOTE","CHICOTE SELECTOR VELOC I10 1.1 11-14 TRANSMISION ESTANDAR     MARCA CABLEX IMPORTADO",355.17,9,0,7,9,0,2,{"$f":"+IFERROR(HYPERLINK(VLOOKUP(C7353,FOTOGRAFICO!C:E,3,FALSE),C7353),\"\")","v":"43794-0X001NK"}]
[null,null,"ALE435104","CHICOTE","CHICOTE ACELERADOR POINTER 98- 08 993 MM MARCA GEMO ALEMANIA  VW138 = CAHVW138",68.239999999999995,3,3,2,3,1,3,{"$f":"+IFERROR(HYPERLINK(VLOOKUP(C7371,FOTOGRAFICO!C:E,3,FALSE),C7371),\"\")","v":"ALE435104"}]
[null,null,"BRA111957801","CHICOTE","CHICOTE VELOCIM VW SEDAN 55-04 1500 1600 MARCA CABLEX         IMPORTADO VW400 = CAHVW400",49.36,66,33,8,72,22,9,{"$f":"+IFERROR(HYPERLINK(VLOOKUP(C7374,FOTOGRAFICO!C:E,3,FALSE),C7374),\"\")","v":"BRA111957801"}]
[null,null,"BRU34935ED500","CHICOTE","CHICOTE PALANCA VELOCIDADES    TIIDA 07-18 1.6 TRANSMISION    AUTOMATICA MARCA BRUCK GERMANY",338.51,1,1,2,1,1,0,{"$f":"+IFERROR(HYPERLINK(VLOOKUP(C7382,FOTOGRAFICO!C:E,3,FALSE),C7382),\"\")","v":"BRU34935ED500"}]
[null,null,"BRU96590793","CHICOTE","CHICOTE CLUTCH MATIZ G2 1.1 06 -15 BRUCK GERMANY = CAHDW302   = GM96590793 = 25187023K",118.7,3,19,9,19,19,8,{"$f":"+IFERROR(HYPERLINK(VLOOKUP(C7394,FOTOGRAFICO!C:E,3,FALSE),C7394),\"\")","v":"BRU96590793"}]
[null,null,"CAHGM307","CHICOTE","CHICOTE CLUTCH CHEVY 1.4 94-96 SEGURO GANCHO LARGO 726 MM     MARCA CAHSA NACIONAL GM307",169.14,1,0,0,0,0,0,{"$f":"+IFERROR(HYPERLINK(VLOOKUP(C7406,FOTOGRAFICO!C:E,3,FALSE),C7406),\"\")","v":""}]
[null,null,"CAHHY601","CHICOTE","CHICOTE FRENO MANO ATOS 00-12  IZQUIERDO MARCA CAHSA NACIONAL HY601 = 59760-02010",374.26,0,0,1,0,0,0,{"$f":"+IFERROR(HYPERLINK(VLOOKUP(C7411,FOTOGRAFICO!C:E,3,FALSE),C7411),\"\")","v":""}]
[null,null,"CAHVW113","CHICOTE","CHICOTE ACEL GOLF JETTA A2 1.8 87-92 AUTOMATICO PEDAL A CAJA  1040 MM MARCA CAHSA NACIONAL",185.07,2,0,2,0,0,1,{"$f":"+IFERROR(HYPERLINK(VLOOKUP(C7426,FOTOGRAFICO!C:E,3,FALSE),C7426),\"\")","v":""}]
[null,null,"CAHVW133","CHICOTE","CHICOTE ACELERAD GOLF JETTA A3 A3 1.8 93-00 1237 MM MARCA     CAHSA NACIONAL VW133",212.01,5,1,1,3,1,1,{"$f":"+IFERROR(HYPERLINK(VLOOKUP(C7429,FOTOGRAFICO!C:E,3,FALSE),C7429),\"\")","v":""}]
[null,null,"CAHVW404","CHICOTE","CHICOTE VELOCIMETRO CARIBE 1.6 84-88 ATLANTIC 1.8 84-87       ESTANDAR CAHSA NACIONAL VW404",304.16000000000003,0,0,0,1,0,1,{"$f":"+IFERROR(HYPERLINK(VLOOKUP(C7446,FOTOGRAFICO!C:E,3,FALSE),C7446),\"\")","v":""}]
[null,null,"CAHVW602","CHICOTE","CHICOTE FRENO MANO CARIBE 1.6  81-87 ATLANTIC 1.7 1.8 80-87   1695 MM MARCA CAHSA VW602",247.01,1,0,0,0,0,0,{"$f":"+IFERROR(HYPERLINK(VLOOKUP(C7449,FOTOGRAFICO!C:E,3,FALSE),C7449),\"\")","v":""}]
[null,null,"CAHVW709","CHICOTE","CHICOTE COFRE POINTER 1.8 2.0  98-08 CON MANIJA MARCA CAHSA   NACIONAL VW709",123.72,3,1,1,3,6,3,{"$f":"+IFERROR(HYPERLINK(VLOOKUP(C7461,FOTOGRAFICO!C:E,3,FALSE),C7461),\"\")","v":""}]
[null,null,"GM308KB","CHICOTE","CHICOTE CLUTCH CHEVY 1.4 1.6   97-12 LARGO 794 MM KABUTO      GM308 = GM90522447",0,0,0,0,0,0,0,{"$f":"+IFERROR(HYPERLINK(VLOOKUP(C7468,FOTOGRAFICO!C:E,3,FALSE),C7468),\"\")","v":""}]
[null,null,"HY110","CHICOTE","CHICOTE ACELERADOR ATOS 05-12  1620 MM MARCA CAHSA NACIONAL   HY110",259.94,1,0,2,1,2,1,{"$f":"+IFERROR(HYPERLINK(VLOOKUP(C7479,FOTOGRAFICO!C:E,3,FALSE),C7479),\"\")","v":""}]
[null,null,"IERG0100","CHICOTE","CHICOTE CLUTCH MATIZ G2 1.1 06 -15 MARCA YOKOMITSU IMPORTADO  = 96590793 = CAHDW302",181.07,0,1,2,4,0,1,{"$f":"+IFERROR(HYPERLINK(VLOOKUP(C7484,FOTOGRAFICO!C:E,3,FALSE),C7484),\"\")","v":""}]
[null,null,"ORI3279002010K","CHICOTE","CHICOTE ACELERADOR ATOS 00-04  720 MM MARCA HILEX IMPORTADO   HY104 = ORI02010K",57.59,3,2,1,5,3,3,{"$f":"+IFERROR(HYPERLINK(VLOOKUP(C7500,FOTOGRAFICO!C:E,3,FALSE),C7500),\"\")","v":"ORI3279002010K"}]
[null,null,"ORICHIC-4PT","CHICOTE","CHICOTE PTA DEL POINTER 4 PTAS JUEGO 2 PIEZAS NACIONAL",317.45,20,0,3,3,1,3,{"$f":"+IFERROR(HYPERLINK(VLOOKUP(C7508,FOTOGRAFICO!C:E,3,FALSE),C7508),\"\")","v":""}]
[null,null,"VW-735","CHICOTE","CHICOTE COFRE IBIZA 1.6 93-03  MARCA CASHA PEDIDO JOSE",131.18,0,0,0,0,0,0,{"$f":"+IFERROR(HYPERLINK(VLOOKUP(C7520,FOTOGRAFICO!C:E,3,FALSE),C7520),\"\")","v":""}]
[null,null,"96446179K","CHICOTE","CHICOTE SELECTOR VELOCI AVEO   08-18 PONTIAC G3 05-09 MARCA   KOREA TRANSMISION AUTOMATICA",894.11,0,0,0,1,1,2,{"$f":"+IFERROR(HYPERLINK(VLOOKUP(C7523,FOTOGRAFICO!C:E,3,FALSE),C7523),\"\")","v":""}]
[null,null,"CAHVW808","CHICOTE","CHICOTE CABLE SELECTOR DERBY   95-09 TRANSVERSAL MARCA CAHSA  PIDE ENRIQUE",924.95,0,0,0,0,0,0,{"$f":"+IFERROR(HYPERLINK(VLOOKUP(C7537,FOTOGRAFICO!C:E,3,FALSE),C7537),\"\")","v":""}]
[null,null,"CAHVW730","CHICOTE","CHICOTE COFRE B VENTO 1.6 14-  19 POLO 1.6 14-17 1244 MM      MARCA CAHSA PIDE EDER",149.93,0,0,0,0,0,0,{"$f":"+IFERROR(HYPERLINK(VLOOKUP(C7543,FOTOGRAFICO!C:E,3,FALSE),C7543),\"\")","v":""}]
[null,null,"HIRN0100","CHISGUETER","CHISGUETERO LIMPIADOR TSURU    III TODOS 92/12 MCA NIKKO      IMPORTADO",22.84,0,0,0,0,0,0,{"$f":"+IFERROR(HYPERLINK(VLOOKUP(C7555,FOTOGRAFICO!C:E,3,FALSE),C7555),\"\")","v":""}]
[null,null,"BOTANA-23","CHOCOLATE","BARRA BOCADIN 10 GRAMOS",12.12,0,0,43,0,107,0,{"$f":"+IFERROR(HYPERLINK(VLOOKUP(C7562,FOTOGRAFICO!C:E,3,FALSE),C7562),\"\")","v":""}]
[null,null,"24581803","CILINDRO","CILINDRO CLUTCH MAESTRO SONIC  12-17 TRAX 13-17 BUICK ENCORE  14-19 VA EN PEDAL MARCA BRUCK",340.84,6,0,6,10,0,4,{"$f":"+IFERROR(HYPERLINK(VLOOKUP(C7575,FOTOGRAFICO!C:E,3,FALSE),C7575),\"\")","v":"24581803"}]
[null,null,"26250017CP","CILINDRO","CILINDRO MAESTRO AVEO 18-23    1.5L S/DEPOSITO MARCA FP PLUS",574.59,2,1,2,2,2,2,{"$f":"+IFERROR(HYPERLINK(VLOOKUP(C7578,FOTOGRAFICO!C:E,3,FALSE),C7578),\"\")","v":""}]
[null,null,"30620-T800AJ","CILINDRO","CILINDRO CLUTCH ESCLAVO URVAN  2.4 EMPUJA HORQUILLA CORTO 3/4 MARCA NABCO JAPON = TINN0400",633.55999999999995,10,0,3,10,6,2,{"$f":"+IFERROR(HYPERLINK(VLOOKUP(C7591,FOTOGRAFICO!C:E,3,FALSE),C7591),\"\")","v":"30620-T800AJ"}]
[null,null,"4410050C10KB","CILINDRO","CILINDRO RUEDA TRASE TSURU III 93-17 SENTRA 96-00 MARCA       KABUTO = BRU4410050C10",61.53,1,2,1,1,1,1,{"$f":"+IFERROR(HYPERLINK(VLOOKUP(C7598,FOTOGRAFICO!C:E,3,FALSE),C7598),\"\")","v":""}]
[null,null,"6N0611053","CILINDRO","CILINDR RDA TRAS GOLF JETTA A3 VW GOL 09-16 DERBY 95-09 POLO  03-07 BRUCK = BRA3056110514",139.86000000000001,6,10,6,16,0,2,{"$f":"+IFERROR(HYPERLINK(VLOOKUP(C7610,FOTOGRAFICO!C:E,3,FALSE),C7610),\"\")","v":"6N0611053"}]
[null,null,"93289332","CILINDRO","CILINDRO MAESTRO CHEVY PICK UP 00-03 CHEVY C2 04-12 MARCA     SMIDTD = EGPBM0-GM1",562.07000000000005,1,5,2,3,0,1,{"$f":"+IFERROR(HYPERLINK(VLOOKUP(C7617,FOTOGRAFICO!C:E,3,FALSE),C7617),\"\")","v":"93289332"}]
[null,null,"96518606","CILINDRO","CILINDRO RDA TRAS MATIZ G1 G2  04-15 METAL 11/16 MARCA BRUCK  GERMANY = GM96518606",125.75,3,0,14,6,12,4,{"$f":"+IFERROR(HYPERLINK(VLOOKUP(C7624,FOTOGRAFICO!C:E,3,FALSE),C7624),\"\")","v":"96518606"}]
[null,null,"BRA3056110514","CILINDRO","CILINDR RDA TRAS GOLF JETTA A3 VW GOL 09-16 DERBY 95-09 POLO  03-07 MARCA FP = 6N0611053",89.13,5,2,13,7,0,3,{"$f":"+IFERROR(HYPERLINK(VLOOKUP(C7637,FOTOGRAFICO!C:E,3,FALSE),C7637),\"\")","v":"BRA3056110514"}]
[null,null,"BRU113611021C","CILINDRO","CILINDRO MAESTRO VW SEDAN 66-  91 SENCILLO MARCA BRUCK        GERMANY = LC90547",206.85,2,0,1,5,0,4,{"$f":"+IFERROR(HYPERLINK(VLOOKUP(C7649,FOTOGRAFICO!C:E,3,FALSE),C7649),\"\")","v":"BRU113611021C"}]
[null,null,"BRU171611053","CILINDRO","CILINDRO RDA TRAS GOLF JETTA   A2 87-92 POINTER 98-09 CARIBE  ATLANTIC 11/16 BRUCK GERMANY",98.71,8,8,14,29,13,4,{"$f":"+IFERROR(HYPERLINK(VLOOKUP(C7653,FOTOGRAFICO!C:E,3,FALSE),C7653),\"\")","v":"BRU171611053"}]
[null,null,"BRU4410050C10","CILINDRO","CILINDRO RUEDA TRASE TSURU III 93-17 SENTRA 96-00 MARCA BRUCK GERMANY = NIS4410050",88.15,10,12,11,11,4,5,{"$f":"+IFERROR(HYPERLINK(VLOOKUP(C7669,FOTOGRAFICO!C:E,3,FALSE),C7669),\"\")","v":"BRU4410050C10"}]
[null,null,"BRU4601000QAA","CILINDRO","CILINDRO MAESTRO PLATINA CLIO  02-10 APRIO 08-10 13/16 BRUCK  GERMANY = NIS46010-00QAB",562.99,1,0,0,0,1,0,{"$f":"+IFERROR(HYPERLINK(VLOOKUP(C7672,FOTOGRAFICO!C:E,3,FALSE),C7672),\"\")","v":"BRU4601000QAA"}]
[null,null,"BRUD6010EL01B","CILINDRO","CILINDRO FRENO MAESTRO TIIDA   07-18 1.6 S/DEPOSITO ALUMINIO  MARCA BRUCK GERMANY D6010EL01B",872.12,1,2,0,1,2,2,{"$f":"+IFERROR(HYPERLINK(VLOOKUP(C7682,FOTOGRAFICO!C:E,3,FALSE),C7682),\"\")","v":"BRUD6010EL01B"}]
[null,null,"EGP30610-VW017","CILINDRO","CILINDRO CLUTCH URVAN 2.4 02-  07 MAESTRO VA EN PEDAL CLUTCH  MARCA FP = 30610VW017",196.4,28,7,19,55,16,3,{"$f":"+IFERROR(HYPERLINK(VLOOKUP(C7692,FOTOGRAFICO!C:E,3,FALSE),C7692),\"\")","v":""}]
[null,null,"LC35326","CILINDRO","CILINDRO RDA TRAS DER MICROBUS D350 90-93 FORD F200 87-89     F350 84-86 1 1/8 MARCA LUSAC",104.31,2,0,0,0,0,0,{"$f":"+IFERROR(HYPERLINK(VLOOKUP(C7704,FOTOGRAFICO!C:E,3,FALSE),C7704),\"\")","v":""}]
[null,null,"LC39009902","CILINDRO","CILINDRO MAESTRO CHEVY C2 04-  12 CHEVY C2 SEDAN 04-12 CHEVY  PICK UP 99-03 LUSAC",734.09,0,0,0,0,0,0,{"$f":"+IFERROR(HYPERLINK(VLOOKUP(C7707,FOTOGRAFICO!C:E,3,FALSE),C7707),\"\")","v":""}]
[null,null,"NIS46010-00QAB","CILINDRO","CILINDRO MAESTRO PLATINA CLIO  02-10 APRIO 08-10 13/16 MARCA  FP IMPORTADO = BRU4601000QAA",486.82,0,0,0,3,0,0,{"$f":"+IFERROR(HYPERLINK(VLOOKUP(C7724,FOTOGRAFICO!C:E,3,FALSE),C7724),\"\")","v":""}]
[null,null,"NIS46010-VW001","CILINDRO","CILINDRO MAESTRO URVAN 2.4 3.0 02-13 CON DEPOSITO MARCA FP    IMPORTADO = 46010-VW001E",394.4,2,0,9,10,10,5,{"$f":"+IFERROR(HYPERLINK(VLOOKUP(C7727,FOTOGRAFICO!C:E,3,FALSE),C7727),\"\")","v":""}]
[null,null,"WC-FD15","CILINDRO","CILINDRO RUEDA TRAS FIESTA 98- 10 IKON 01-07 KA 01-08 FIAT    PALIO 04-11 MARCA FP IMPORTADO",109.7,20,8,5,9,2,9,{"$f":"+IFERROR(HYPERLINK(VLOOKUP(C7743,FOTOGRAFICO!C:E,3,FALSE),C7743),\"\")","v":""}]
[null,null,"GM94823311","CILINDRO","CILINDRO IZQ PUERTA SPARK 1.2  12-17 MARCA GM PEDIDO RAUL",290.70999999999998,0,0,0,0,0,0,{"$f":"+IFERROR(HYPERLINK(VLOOKUP(C7750,FOTOGRAFICO!C:E,3,FALSE),C7750),\"\")","v":""}]
[null,null,"46010-00Q04/LB","CILINDRO","CILINDRO MAESTRO APRIO 08-10   20.6 MM 13/16 MARCA FP         IMPORTADO BMC10570",663.73,0,2,0,0,0,0,{"$f":"+IFERROR(HYPERLINK(VLOOKUP(C7754,FOTOGRAFICO!C:E,3,FALSE),C7754),\"\")","v":""}]
[null,null,"46010-VK94BFP","CILINDRO","CILINDRO MAESTRO D22 NP300 09- 14 C/DEPOSITO 15/16 23.8 MM    MARCA FP IMPORTADO BMC10529",602.02,0,0,0,0,0,4,{"$f":"+IFERROR(HYPERLINK(VLOOKUP(C7766,FOTOGRAFICO!C:E,3,FALSE),C7766),\"\")","v":""}]
[null,null,"ECOCINCHOC","CINCHO","CINCHO QUITA FILTRO MINI ATOS",63.66,7,16,7,13,9,9,{"$f":"+IFERROR(HYPERLINK(VLOOKUP(C7779,FOTOGRAFICO!C:E,3,FALSE),C7779),\"\")","v":"ECOCINCHOC"}]
[null,null,"CINTA-LARGA","CINTA","CINTAS DE LLAVES GRANDE        DIFERENTE MODELOS",35.58,0,0,0,0,0,0,{"$f":"+IFERROR(HYPERLINK(VLOOKUP(C7786,FOTOGRAFICO!C:E,3,FALSE),C7786),\"\")","v":""}]
[null,null,"G49CA","CLAVO","CLAVO CALIPER VW SEDAN CARIBE  ATLANTIC",13.84,0,0,0,0,0,0,{"$f":"+IFERROR(HYPERLINK(VLOOKUP(C7798,FOTOGRAFICO!C:E,3,FALSE),C7798),\"\")","v":""}]
[null,null,"CLM70N","CLAXON","CLAXON MOTO NEGOR 70 MM        IMPORTADO",20.18,7,10,1,6,0,3,{"$f":"+IFERROR(HYPERLINK(VLOOKUP(C7808,FOTOGRAFICO!C:E,3,FALSE),C7808),\"\")","v":""}]
[null,null,"HEL922196011","CLAXON","CLAXON MINI UNIVERSAL HELLA    SUENA FUERTE                   SOBRE PEDIDO X FRANCISCO",69.290000000000006,0,0,0,0,0,0,{"$f":"+IFERROR(HYPERLINK(VLOOKUP(C7818,FOTOGRAFICO!C:E,3,FALSE),C7818),\"\")","v":""}]
[null,null,"NCFACHE","CODO","CODO P/FILTRO ALTO FLUJO CHEVY",309.62,0,0,0,0,0,0,{"$f":"+IFERROR(HYPERLINK(VLOOKUP(C7821,FOTOGRAFICO!C:E,3,FALSE),C7821),\"\")","v":""}]
[null,null,"201-2330-04","COFRE","COFRE VERSA 20-22 MARCA TYG    PIDE ADAN FLORES",2832.55,0,0,0,0,0,0,{"$f":"+IFERROR(HYPERLINK(VLOOKUP(C7833,FOTOGRAFICO!C:E,3,FALSE),C7833),\"\")","v":""}]
[null,null,"CCJC0800","COFRE","COFRE GM SPARK 11-17           COLOR GRIS MARCA SIMYI         IMPORTADO",1952.19,2,0,3,2,0,1,{"$f":"+IFERROR(HYPERLINK(VLOOKUP(C7841,FOTOGRAFICO!C:E,3,FALSE),C7841),\"\")","v":"CCJC0800"}]
[null,null,"GM90357457AA","COFRE","COFRE CHEVY MONZA 94-04 LINEAS",1629.65,0,0,0,0,0,0,{"$f":"+IFERROR(HYPERLINK(VLOOKUP(C7853,FOTOGRAFICO!C:E,3,FALSE),C7853),\"\")","v":""}]
[null,null,"201-0604-02","COFRE","COFRE AVEO 12-18 MARCA TYG     PIDE VERA CALL",2299.7600000000002,0,0,0,0,0,0,{"$f":"+IFERROR(HYPERLINK(VLOOKUP(C7860,FOTOGRAFICO!C:E,3,FALSE),C7860),\"\")","v":""}]
[null,null,"201-3116-00","COFRE","COFRE POLO 03-07 MARCA TYG     PIDE ALEJANDRO",2498.31,0,0,0,0,0,0,{"$f":"+IFERROR(HYPERLINK(VLOOKUP(C7866,FOTOGRAFICO!C:E,3,FALSE),C7866),\"\")","v":""}]
[null,null,"CCJN0910","COFRE","COFRE VERSA 15-18              COLOR GRIS MARCA SIMYI         IMPORTADO",1642.39,0,4,0,0,0,0,{"$f":"+IFERROR(HYPERLINK(VLOOKUP(C7880,FOTOGRAFICO!C:E,3,FALSE),C7880),\"\")","v":"CCJN0910"}]
[null,null,"CCJV0200","COFRE","COFRE POINTER 00-05 GRIS MARCA SIMYI PIDE MIGUEL",2138.92,0,0,0,0,0,0,{"$f":"+IFERROR(HYPERLINK(VLOOKUP(C7892,FOTOGRAFICO!C:E,3,FALSE),C7892),\"\")","v":""}]
[null,null,"ALMSP100N","COJIN","COJIN APOYA CABEZA MEMORY      FOAMN NEGRO SPARCO",442.61,0,0,0,0,2,0,{"$f":"+IFERROR(HYPERLINK(VLOOKUP(C7895,FOTOGRAFICO!C:E,3,FALSE),C7895),\"\")","v":"ALMSP100N"}]
[null,null,"23265-78B00","COLLARIN","COLLARIN GM SPARK 11-18 1.2L   MATIZ 04-14 1.0 SZ SWIFT 07-11 1.4L MARCA ROTEX",146.72999999999999,3,0,3,0,0,0,{"$f":"+IFERROR(HYPERLINK(VLOOKUP(C7903,FOTOGRAFICO!C:E,3,FALSE),C7903),\"\")","v":"23265-78B00"}]
[null,null,"90251210","COLLARIN","COLLARIN AVEO 1.6L 08-17 G3 04 -08 PONTIAC MARCA: ROTEX",135.76,0,2,9,2,4,2,{"$f":"+IFERROR(HYPERLINK(VLOOKUP(C7915,FOTOGRAFICO!C:E,3,FALSE),C7915),\"\")","v":"90251210"}]
[null,null,"CSC-2006","COLLARIN","COLLARIN HIDRAULICO EXPLORER   RANGER 2.3 93-03 MCA: CHROMITE",784.4,0,0,0,0,0,0,{"$f":"+IFERROR(HYPERLINK(VLOOKUP(C7924,FOTOGRAFICO!C:E,3,FALSE),C7924),\"\")","v":""}]
[null,null,"LUK500053610","COLLARIN","COLLARIN HIACE 2.7 06-18 HILUX 3.0 90-90 TOYOTA PICKUP 2.4 87 -96 MARCA LUK 500 0536 10",693.72,0,0,0,0,0,0,{"$f":"+IFERROR(HYPERLINK(VLOOKUP(C7935,FOTOGRAFICO!C:E,3,FALSE),C7935),\"\")","v":""}]
[null,null,"ZSE-061","COLLARIN","COLLARIN HIDRAULICO TIIDA 1.8L SENTRA 2.0L 07-12, 1.8L 13-16  SENTRA 2.5L 07-10 MARCA ROTEK",533.45000000000005,11,0,9,6,5,4,{"$f":"+IFERROR(HYPERLINK(VLOOKUP(C7947,FOTOGRAFICO!C:E,3,FALSE),C7947),\"\")","v":"ZSE-061"}]
[null,null,"500122010MC","COLLARIN","COLLARIN ATTITUDE 1.4L 06-14   KIA RIO 1.6 16-20 SOUL 1.4 16- 20 MCA MATER CUT MECANICO",176.9,0,4,0,1,1,18,{"$f":"+IFERROR(HYPERLINK(VLOOKUP(C7949,FOTOGRAFICO!C:E,3,FALSE),C7949),\"\")","v":"500122010MC"}]
[null,null,"COMPU-010","COMPUTO","MB ASUS PRIME H510M-K R 2.0    1200 DDR4 MICRO ATX VGA HDMI   900MB1E80-M0EAY0 1 ANO GARANTI",0,0,0,0,0,0,0,{"$f":"+IFERROR(HYPERLINK(VLOOKUP(C7967,FOTOGRAFICO!C:E,3,FALSE),C7967),\"\")","v":""}]
[null,null,"COMPU-013","COMPUTO","BOTELLA TINTA EPSON T534 NEGRA 1 PZ  PARA M1100 M1120 M1180   M2120 M2140 M2170 M3170 M3180",463.97,0,0,0,0,1,0,{"$f":"+IFERROR(HYPERLINK(VLOOKUP(C7970,FOTOGRAFICO!C:E,3,FALSE),C7970),\"\")","v":""}]
[null,null,"KCMVW2","CONDENSADO","CONDENSADOR VW SEDAN 1.6 74-89 COMBI 1.6 1.8 74-88 BRASILIA   1.6 74-82 MARCA KEM PIDE ZAR T",71.97,0,0,0,0,0,0,{"$f":"+IFERROR(HYPERLINK(VLOOKUP(C7978,FOTOGRAFICO!C:E,3,FALSE),C7978),\"\")","v":""}]
[null,null,"MORCM6041600","CONJUNTO","CONJUNTO VW SEDAN 1.6 PLANO    NOTA:4CAMISA 4PERNOS 4PISTONS  8SEGUROS ANILLOS MCA MORESA",2836.21,6,3,4,6,0,2,{"$f":"+IFERROR(HYPERLINK(VLOOKUP(C7990,FOTOGRAFICO!C:E,3,FALSE),C7990),\"\")","v":"MORCM6041600"}]
[null,null,"COP603C","COPETE","COPETE TAXI TRANSPARENTE CON   LEDS BLANCO 2 VISTAS MARCA     TUNIX",165.44,4,2,5,2,3,0,{"$f":"+IFERROR(HYPERLINK(VLOOKUP(C8002,FOTOGRAFICO!C:E,3,FALSE),C8002),\"\")","v":"COP603C"}]
[null,null,"COPETE4","COPETE","COPETE TAXI AZUL C/ESPONJA",50,0,6,0,2,0,3,{"$f":"+IFERROR(HYPERLINK(VLOOKUP(C8009,FOTOGRAFICO!C:E,3,FALSE),C8009),\"\")","v":""}]
[null,null,"ECO805","CORBATA","CORBATA MOTOR VW SEDAN 70-2000",156.06,15,4,0,0,0,0,{"$f":"+IFERROR(HYPERLINK(VLOOKUP(C8021,FOTOGRAFICO!C:E,3,FALSE),C8021),\"\")","v":""}]
[null,null,"NIS38100-VW770","CORONA","CORONA Y PINON URVAN 00/14     2.4L Y 2.5L MARCA NIKKO CHINA  NO EXISTE GARANTIA",2307.0100000000002,10,0,2,0,1,0,{"$f":"+IFERROR(HYPERLINK(VLOOKUP(C8029,FOTOGRAFICO!C:E,3,FALSE),C8029),\"\")","v":""}]
[null,null,"22--3","CORTINA","CORTINA VICERA PARASOL JGO 2PZ",28.29,66,101,0,68,29,40,{"$f":"+IFERROR(HYPERLINK(VLOOKUP(C8041,FOTOGRAFICO!C:E,3,FALSE),C8041),\"\")","v":"22--3"}]
[null,null,"COR-TSURU","CORTINA","CORTINA TSURU III CORTE ESPEJO",43.81,24,16,35,30,18,21,{"$f":"+IFERROR(HYPERLINK(VLOOKUP(C8050,FOTOGRAFICO!C:E,3,FALSE),C8050),\"\")","v":"COR-TSURU"}]
[null,null,"COR-URVANGDE","CORTINA","CORTINA URVAN LATERAL 2 PZAS   2006",43.81,25,27,0,40,27,28,{"$f":"+IFERROR(HYPERLINK(VLOOKUP(C8052,FOTOGRAFICO!C:E,3,FALSE),C8052),\"\")","v":"COR-URVANGDE"}]
[null,null,"48080-50A10","CRUCETA","CRUCETA DIREC STD TSURU III 92 -17 DIR MANUAL P/TSURU-URVAN   ENTRADA CHICO/GRANDE MARCA TMK",135.82,13,6,8,15,4,3,{"$f":"+IFERROR(HYPERLINK(VLOOKUP(C8064,FOTOGRAFICO!C:E,3,FALSE),C8064),\"\")","v":"48080-50A10"}]
[null,null,"ECO798","CRUCETA","CRUCETA PAL VEL VW SEDAN COMBI TODOS",50.62,15,7,0,4,11,4,{"$f":"+IFERROR(HYPERLINK(VLOOKUP(C8075,FOTOGRAFICO!C:E,3,FALSE),C8075),\"\")","v":""}]
[null,null,"NIS106T1510","CRUCETA","CRUCETA DIRECC STD TSURU III   NOTA:CRUCETA P/TSURU-URVAN     SAFETY CHICO Y GRANDE",126.16,34,5,11,24,3,25,{"$f":"+IFERROR(HYPERLINK(VLOOKUP(C8084,FOTOGRAFICO!C:E,3,FALSE),C8084),\"\")","v":""}]
[null,null,"013-0623-06","CUARTO","CUARTO FRONTAL DER EXPRESS VAN 96-02 CARGO SIN FOCO MARCA     DEPO IMPORTADO",131.91,1,0,0,0,0,0,{"$f":"+IFERROR(HYPERLINK(VLOOKUP(C8096,FOTOGRAFICO!C:E,3,FALSE),C8096),\"\")","v":""}]
[null,null,"013-1214-00","CUARTO","CUARTO DER EXPLORER SPORT 01-  05 MARCA DEPO",520.38,0,0,0,0,0,0,{"$f":"+IFERROR(HYPERLINK(VLOOKUP(C8104,FOTOGRAFICO!C:E,3,FALSE),C8104),\"\")","v":""}]
[null,null,"013-1237-03","CUARTO","CUARTO IZQ WINDSTAR 98 AMBAR   MARCA DEPO PEDIDO DANIEL       CASTILLO",209.6,0,0,0,0,0,0,{"$f":"+IFERROR(HYPERLINK(VLOOKUP(C8116,FOTOGRAFICO!C:E,3,FALSE),C8116),\"\")","v":""}]
[null,null,"013-2305-13","CUARTO","CUARTO IZQ D21 02-08 BLANCO    CON FOCO MARCA DEPO PEDIDO     JAVIER",124.63,0,0,0,0,0,0,{"$f":"+IFERROR(HYPERLINK(VLOOKUP(C8119,FOTOGRAFICO!C:E,3,FALSE),C8119),\"\")","v":""}]
[null,null,"013-2704-02","CUARTO","CUARTO DER IBIZA 03-17 CORDOBA 03-09 LEON 04-13 TOLEDO 01-12  MARCA DEPO PEDIDO TELLITUD",144.86000000000001,0,0,0,0,0,0,{"$f":"+IFERROR(HYPERLINK(VLOOKUP(C8126,FOTOGRAFICO!C:E,3,FALSE),C8126),\"\")","v":""}]
[null,null,"80N","CUARTO","CUARTO LATERAL SALPICA PLATINA 02-10 IZQ-DER BLANCO RENAULT   CLIO KANGOO TRAFIC H EN MEX",48.65,7,6,11,8,13,9,{"$f":"+IFERROR(HYPERLINK(VLOOKUP(C8137,FOTOGRAFICO!C:E,3,FALSE),C8137),\"\")","v":"80N"}]
[null,null,"C549PAHT","CUARTO","CUARTO LATERAL IBIZA CORDOBA   LEON JETTA VENTO POLO LEDS     SECUENCIAL 2 PIEZAS HUMO",274.31,0,0,0,1,0,1,{"$f":"+IFERROR(HYPERLINK(VLOOKUP(C8146,FOTOGRAFICO!C:E,3,FALSE),C8146),\"\")","v":""}]
[null,null,"H-551A","CUARTO","CUARTO PLATINA LATERAL BLANCO  CLIO LATERAL SALPICADERA TODOS RENAULT KANGOO TRAFIC",59.47,0,0,0,3,4,1,{"$f":"+IFERROR(HYPERLINK(VLOOKUP(C8158,FOTOGRAFICO!C:E,3,FALSE),C8158),\"\")","v":""}]
[null,null,"H-557A","CUARTO","CUARTO NISSAN PICKUP D-22 LATE RAL ESTAQUITAS LATERAL",85.15,2,1,1,4,0,1,{"$f":"+IFERROR(HYPERLINK(VLOOKUP(C8166,FOTOGRAFICO!C:E,3,FALSE),C8166),\"\")","v":""}]
[null,null,"HEL2BE909001","CUARTO","CUARTO IZQ GOLF JETTA A3 93-99 LATERAL DE FACIA DELANTERA     AMBAR DEPO IMPORTADO = MIC75",76.069999999999993,1,1,1,0,0,1,{"$f":"+IFERROR(HYPERLINK(VLOOKUP(C8178,FOTOGRAFICO!C:E,3,FALSE),C8178),\"\")","v":""}]
[null,null,"MIC22","CUARTO","CUARTO DER URVAN 07-12         TRANSPARENTE AMBAR IAP HECHO   EN MEXICO = NIS215-15A1R",327.04000000000002,10,0,6,26,9,8,{"$f":"+IFERROR(HYPERLINK(VLOOKUP(C8190,FOTOGRAFICO!C:E,3,FALSE),C8190),\"\")","v":"MIC22"}]
[null,null,"MIC32","CUARTO","CUARTO GOLF JETTA A2 DELGADO   P/FACIA ANCHA",32.43,33,7,4,4,0,4,{"$f":"+IFERROR(HYPERLINK(VLOOKUP(C8191,FOTOGRAFICO!C:E,3,FALSE),C8191),\"\")","v":""}]
[null,null,"NIS107F0302","CUARTO","CUARTO IZQ C397PALCT TSURU III 92-93 BLANCO SIN PESTANA       IPADSA HECHO EN MEXICO",74.33,1,6,1,1,0,1,{"$f":"+IFERROR(HYPERLINK(VLOOKUP(C8201,FOTOGRAFICO!C:E,3,FALSE),C8201),\"\")","v":""}]
[null,null,"ORI516F0301","CUARTO","CUARTO PUNTA EUROVAN 00-04 DER AMBAR DERECHO",175.69,2,0,1,3,1,2,{"$f":"+IFERROR(HYPERLINK(VLOOKUP(C8213,FOTOGRAFICO!C:E,3,FALSE),C8213),\"\")","v":""}]
[null,null,"ORI6K5953049AB","CUARTO","CUARTO IZQ DERBY 98-01 BLANCO  DEPO IMPORTADO",202.32,0,0,0,0,0,0,{"$f":"+IFERROR(HYPERLINK(VLOOKUP(C8220,FOTOGRAFICO!C:E,3,FALSE),C8220),\"\")","v":""}]
[null,null,"013-2302-13","CUARTO","CUARTO IZQ FRONTAL ALTIMA 13-  16 4 PUERTAS MARCA DEPO PIDE   RAUL",1964.17,0,0,0,0,0,0,{"$f":"+IFERROR(HYPERLINK(VLOOKUP(C8233,FOTOGRAFICO!C:E,3,FALSE),C8233),\"\")","v":""}]
[null,null,"013-3110-02","CUARTO","CUARTO DER TRAS GOL 13-17      SEDAN REFLEJANTE MARCA TYG     PIDE OSVALDO",323.72000000000003,0,0,0,0,0,0,{"$f":"+IFERROR(HYPERLINK(VLOOKUP(C8245,FOTOGRAFICO!C:E,3,FALSE),C8245),\"\")","v":""}]
[null,null,"013-0614-01","CUARTO","CUARTO IZQ TRAS CHEVY C3 09-12 MARCA DEPO",103.86,0,0,0,0,0,0,{"$f":"+IFERROR(HYPERLINK(VLOOKUP(C8252,FOTOGRAFICO!C:E,3,FALSE),C8252),\"\")","v":""}]
[null,null,"013-2321-28","CUARTO","CUARTO LATERAL TSURU III       92-12 AMBAR MARCA DEPO",80.930000000000007,0,0,0,0,1,0,{"$f":"+IFERROR(HYPERLINK(VLOOKUP(C8263,FOTOGRAFICO!C:E,3,FALSE),C8263),\"\")","v":""}]
[null,null,"013-0611-11","CUARTO","CUARTO IZQ CAVALIER 95-99 SIN  FOCO MARCA DEPO PIDE LUIS",202.32,0,0,0,0,0,0,{"$f":"+IFERROR(HYPERLINK(VLOOKUP(C8272,FOTOGRAFICO!C:E,3,FALSE),C8272),\"\")","v":""}]
[null,null,"013-0902-04","CUARTO","CUARTO LATERAL ATTITUDE 06-11  C/FOCO DER MARCA RADEC",141.62,0,0,0,1,0,0,{"$f":"+IFERROR(HYPERLINK(VLOOKUP(C8275,FOTOGRAFICO!C:E,3,FALSE),C8275),\"\")","v":""}]
[null,null,"013-2322-04","CUARTO","CUARTO DER URVAN 07-13 MARCA   DEPO",465.34,0,0,0,2,0,0,{"$f":"+IFERROR(HYPERLINK(VLOOKUP(C8292,FOTOGRAFICO!C:E,3,FALSE),C8292),\"\")","v":""}]
[null,null,"013-1219-16","CUARTO","CUARTO DER TRAS FOCUS 15-17    5 PUERTAS MARCA DEPO",358.52,0,0,0,0,1,0,{"$f":"+IFERROR(HYPERLINK(VLOOKUP(C8295,FOTOGRAFICO!C:E,3,FALSE),C8295),\"\")","v":"013-1219-16"}]
[null,null,"013-1219-13","CUARTO","CUARTO IZQ FOCUS 09-11 ROJO    BLANCO MARCA DEPO",460.49,0,0,0,0,0,0,{"$f":"+IFERROR(HYPERLINK(VLOOKUP(C8307,FOTOGRAFICO!C:E,3,FALSE),C8307),\"\")","v":""}]
[null,null,"C-187007M3","CUBRE","CUBRE ASIENTO MOTO NEGRO&AZUL  TERMICO 90X51 L ENCA-L2",91.48,4,0,6,1,3,6,{"$f":"+IFERROR(HYPERLINK(VLOOKUP(C8321,FOTOGRAFICO!C:E,3,FALSE),C8321),\"\")","v":""}]
[null,null,"CPMP","CUBRE","CUBRE PLACA MOTO PZA",14.62,0,2,0,0,0,0,{"$f":"+IFERROR(HYPERLINK(VLOOKUP(C8327,FOTOGRAFICO!C:E,3,FALSE),C8327),\"\")","v":""}]
[null,null,"CUBRE-12","CUBRE","CUBRE TABLERO GOLF JETTA A2",102.43,0,0,2,0,0,0,{"$f":"+IFERROR(HYPERLINK(VLOOKUP(C8339,FOTOGRAFICO!C:E,3,FALSE),C8339),\"\")","v":""}]
[null,null,"NCBPVWNA","CUBRE","CUBRE BIRLO PLASTICO NARANJA   SET 20 PIEZAS IMPORTADO",118.83,0,1,5,1,0,3,{"$f":"+IFERROR(HYPERLINK(VLOOKUP(C8346,FOTOGRAFICO!C:E,3,FALSE),C8346),\"\")","v":""}]
[null,null,"SAN35","CUBRE","CUBRE TUERCA EJE LIMP VW SEDAN COMBI TODOS",4.6100000000000003,76,0,0,0,0,0,{"$f":"+IFERROR(HYPERLINK(VLOOKUP(C8350,FOTOGRAFICO!C:E,3,FALSE),C8350),\"\")","v":""}]
[null,null,"CUBREBOCASAZUL","CUBREBOCA","CUBREBOCAS 5PZA AZUL",21.34,0,0,0,0,0,4,{"$f":"+IFERROR(HYPERLINK(VLOOKUP(C8362,FOTOGRAFICO!C:E,3,FALSE),C8362),\"\")","v":""}]
[null,null,"LC114","CUBREPOLVO","CUBREPOLVO CIL RDA TRAS SEDAN",5.01,18,0,0,0,0,0,{"$f":"+IFERROR(HYPERLINK(VLOOKUP(C8375,FOTOGRAFICO!C:E,3,FALSE),C8375),\"\")","v":""}]
[null,null,"MEX832C","CUBREPOLVO","CUBREPOLVO DIRECC CARIBE DER   ATLANTIC TODOS MODELOS         MARCA. GOMAS GOMEZ, MEXICO",50,2,2,0,4,0,1,{"$f":"+IFERROR(HYPERLINK(VLOOKUP(C8382,FOTOGRAFICO!C:E,3,FALSE),C8382),\"\")","v":""}]
[null,null,"MEX841","CUBREPOLVO","CUBREPOLVO DIRECC POINTER TODO TODOS DIR HID O STD",50,8,0,0,0,0,0,{"$f":"+IFERROR(HYPERLINK(VLOOKUP(C8389,FOTOGRAFICO!C:E,3,FALSE),C8389),\"\")","v":""}]
[null,null,"25183955","CUERPO","CUERPO ACELERACION AVEO 1.6 08 -18 PONTIAC G3 1.6 06-10 MARCA BRUCK",971.37,0,0,2,0,1,0,{"$f":"+IFERROR(HYPERLINK(VLOOKUP(C8401,FOTOGRAFICO!C:E,3,FALSE),C8401),\"\")","v":"25183955"}]
[null,null,"BRU07K133062A","CUERPO","CUERPO ACELERACION JETTA A6 11 -18 2.5 FSI BORA 05-10 2.5 FSI BEETLE 11-19 2.5 BRUCK",2295.4499999999998,0,4,1,0,1,0,{"$f":"+IFERROR(HYPERLINK(VLOOKUP(C8408,FOTOGRAFICO!C:E,3,FALSE),C8408),\"\")","v":""}]
[null,null,"BAA807111D","DEFENSA","DEFENSA VW SEDAN DEL CROMADA   MODELO 1977-2004 USA CUARTOS   CALIBRE 16 MARCA: FERRAU",425.01,43,49,23,49,30,37,{"$f":"+IFERROR(HYPERLINK(VLOOKUP(C8421,FOTOGRAFICO!C:E,3,FALSE),C8421),\"\")","v":""}]
[null,null,"BRABAA807NEG","DEFENSA","DEFENSA VW SEDAN DEL NEGRA     MOD 77-2004, CALIBRE 18        HECHO EN MEXICO",447.69,3,5,5,0,0,2,{"$f":"+IFERROR(HYPERLINK(VLOOKUP(C8424,FOTOGRAFICO!C:E,3,FALSE),C8424),\"\")","v":"BRABAA807NEG"}]
[null,null,"026-0610-01","DEPOSITO","DEPOSITO AGUA CAPTIVA 11-17    ORIGINAL PEDIDO MIGUEL ROMERO",770.99,0,0,0,0,0,0,{"$f":"+IFERROR(HYPERLINK(VLOOKUP(C8437,FOTOGRAFICO!C:E,3,FALSE),C8437),\"\")","v":""}]
[null,null,"145-21700","DEPOSITO","DEPOSITO ANTICONG PLATINA CLIO APRIO 02-10 DUSTER 2.0 STEPWAY C/TAPON MARCA HB NACIONAL",216.84,36,2,5,3,4,0,{"$f":"+IFERROR(HYPERLINK(VLOOKUP(C8444,FOTOGRAFICO!C:E,3,FALSE),C8444),\"\")","v":"145-21700"}]
[null,null,"2171000QAA","DEPOSITO","DEPOSITO ANTICONG PLATINA CLIO APRIO 02-10 DUSTER 2.0 STEPWAY S/TAPON BRUCK GERMA = MXNN0310",163.37,11,7,7,12,6,7,{"$f":"+IFERROR(HYPERLINK(VLOOKUP(C8456,FOTOGRAFICO!C:E,3,FALSE),C8456),\"\")","v":"2171000QAA"}]
[null,null,"21710ED000CT","DEPOSITO","DEPOSITO ANTICONGELANTE TIIDA  1.6 1.8 07-18 SIN TAPON MARCA  IPC DAKG-7031CL",157.13999999999999,5,14,5,8,5,6,{"$f":"+IFERROR(HYPERLINK(VLOOKUP(C8462,FOTOGRAFICO!C:E,3,FALSE),C8462),\"\")","v":""}]
[null,null,"42657459CT","DEPOSITO","DEPOSITO ANTIC SPARK 1.2 11-17 BEAT 1.2 18-20 SIN TAPON CON   GRAPAS MARCA IPC = NIK95352004",159.69,25,65,27,32,35,24,{"$f":"+IFERROR(HYPERLINK(VLOOKUP(C8476,FOTOGRAFICO!C:E,3,FALSE),C8476),\"\")","v":""}]
[null,null,"93305034","DEPOSITO","DEPOSITO LIQ FRENOS MERIVA TOD OS MODELOS                     SOBRE PEDIDO X EFRAIN",527.27,0,0,0,0,0,0,{"$f":"+IFERROR(HYPERLINK(VLOOKUP(C8488,FOTOGRAFICO!C:E,3,FALSE),C8488),\"\")","v":""}]
[null,null,"93367723","DEPOSITO","DEPOSITO ANTICO CORSA HB 02-06 1.4 1.8 TORNADO 1.8 04-06 SIN  AIRE 1 PIVOTE S/TAPON BEST COO",209.81,7,1,7,14,4,4,{"$f":"+IFERROR(HYPERLINK(VLOOKUP(C8491,FOTOGRAFICO!C:E,3,FALSE),C8491),\"\")","v":"93367723"}]
[null,null,"95352004-KB","DEPOSITO","DEPOSITO ANTIC SPARK 1.2 11-17 BEAT 1.2 18-20 CON TAPON 20    KABUTO = NIK95352004",212.19,7,14,5,9,15,2,{"$f":"+IFERROR(HYPERLINK(VLOOKUP(C8499,FOTOGRAFICO!C:E,3,FALSE),C8499),\"\")","v":"95352004-KB"}]
[null,null,"BRA1H0121407A","DEPOSITO","DEPOSITO ANTICON GOLF JETTA A2 A3 87-99 POINTER 00-09 ESFERA  S/TAPON BRUCK = 1H0-121-407A",190.41,2,17,22,23,8,9,{"$f":"+IFERROR(HYPERLINK(VLOOKUP(C8511,FOTOGRAFICO!C:E,3,FALSE),C8511),\"\")","v":"BRA1H0121407A"}]
[null,null,"BRA98KU","DEPOSITO","DEPOSITO ANTICONGELANT FORD KA 1.6 RECTO SIN TAPON MARCA      SMIDTD        M98KU8K218AA",306.95,2,3,1,2,2,2,{"$f":"+IFERROR(HYPERLINK(VLOOKUP(C8518,FOTOGRAFICO!C:E,3,FALSE),C8518),\"\")","v":"BRA98KU"}]
[null,null,"EGP1H0422371D","DEPOSITO","DEPOSITO DIR HID GOLF JETTA A3 93-99 DERBY 95-08 BOTA C/TAPON BEST COOLING = ORI1H0422371",231.75,0,0,0,3,0,2,{"$f":"+IFERROR(HYPERLINK(VLOOKUP(C8534,FOTOGRAFICO!C:E,3,FALSE),C8534),\"\")","v":""}]
[null,null,"GM90386397","DEPOSITO","DEPOSITO AGUA LIMPIADORE CHEVY 1.4 1.6 96-12 C/MOTOR Y TAPON  MARCA ACDELCO 90386398",584.41,0,0,0,1,1,3,{"$f":"+IFERROR(HYPERLINK(VLOOKUP(C8538,FOTOGRAFICO!C:E,3,FALSE),C8538),\"\")","v":""}]
[null,null,"MXNN0310","DEPOSITO","DEPOSITO ANTICONG PLATINA CLIO APRIO 02-10 DUSTER 2.0 STEPWAY C/TAPON ISAKA = BRU2171000QAA",195.21,7,0,8,0,0,1,{"$f":"+IFERROR(HYPERLINK(VLOOKUP(C8550,FOTOGRAFICO!C:E,3,FALSE),C8550),\"\")","v":"MXNN0310"}]
[null,null,"ORI113611313L","DEPOSITO","DEPOSITO LIQ FRENO VW SEDAN 92 -04 CON TAPON PARA CILINDRO    LARGO DOS SALIDAS NACIONAL",73.92,18,0,0,0,0,0,{"$f":"+IFERROR(HYPERLINK(VLOOKUP(C8563,FOTOGRAFICO!C:E,3,FALSE),C8563),\"\")","v":"ORI113611313L"}]
[null,null,"ZM2S658K218BACT","DEPOSITO","DEPOSITO ANTICONGELANTE FIESTA 01-10 ECOSPORT 04-12 SIN TAPON MARCA IPC 1 SALIDA ARRIBA",181.11,29,12,19,19,30,9,{"$f":"+IFERROR(HYPERLINK(VLOOKUP(C8570,FOTOGRAFICO!C:E,3,FALSE),C8570),\"\")","v":""}]
[null,null,"026-1217-08","DEPOSITO","DEPOSITO ANTICONGEL FIESTA 08- 13 CON TAPON MARCA: POLAR      PEDIDO RAFAEL",1290.83,0,0,0,0,0,0,{"$f":"+IFERROR(HYPERLINK(VLOOKUP(C8573,FOTOGRAFICO!C:E,3,FALSE),C8573),\"\")","v":""}]
[null,null,"026-2205-04","DEPOSITO","DEPOSITO ANTICONGE LANCER 2.0  2.4 02-07 CON TAPON IMPORTADO  PIDE JORGE GUT",202.32,0,0,0,0,0,0,{"$f":"+IFERROR(HYPERLINK(VLOOKUP(C8588,FOTOGRAFICO!C:E,3,FALSE),C8588),\"\")","v":""}]
[null,null,"1872516","DEPOSITO","DEPOSITO DIR HIDRAULICA FORD   IKON 2013                      SOBRE PEDIDO JORGE DIAZ",546.52,0,0,0,0,0,0,{"$f":"+IFERROR(HYPERLINK(VLOOKUP(C8593,FOTOGRAFICO!C:E,3,FALSE),C8593),\"\")","v":""}]
[null,null,"21710-2S60A","DEPOSITO","DEPOSITO ANTICONG PICK UP D22  NISSAN PICK UP D22 09-15 2.4L  2.5L C/TAPA MARCA BEST COOLING",204.33,0,0,0,0,0,5,{"$f":"+IFERROR(HYPERLINK(VLOOKUP(C8605,FOTOGRAFICO!C:E,3,FALSE),C8605),\"\")","v":""}]
[null,null,"MXNV0600","DEPOSITO","DEPOSITO ANTICO VW GOL 08-21   CROSSFOX 1.6 07-17 SAVEIRO 1.6 10-16 ESFERA C/TAPON YOKOMITZU",158.1,0,0,0,2,1,3,{"$f":"+IFERROR(HYPERLINK(VLOOKUP(C8617,FOTOGRAFICO!C:E,3,FALSE),C8617),\"\")","v":""}]
[null,null,"FM-CV6Z-8A080-A","DEPOSITO","DEPOSITO ANTICONGELANTE FOCUS  14                             SOBRE PEDIDO JOSE DUARTE",710.47,0,0,0,0,0,0,{"$f":"+IFERROR(HYPERLINK(VLOOKUP(C8625,FOTOGRAFICO!C:E,3,FALSE),C8625),\"\")","v":""}]
[null,null,"6671","DESARMADOR","DESARMADOR Jgo 2 pzas AMARILLO MARCA SANTUL",55.07,1,5,2,11,1,1,{"$f":"+IFERROR(HYPERLINK(VLOOKUP(C8637,FOTOGRAFICO!C:E,3,FALSE),C8637),\"\")","v":"6671"}]
[null,null,"GON-1021402","DESENGRASA","DESENGRASANTE P/MOTOR AEROSOL  MARCA GONHER 550ML",51.16,369,156,195,141,270,314,{"$f":"+IFERROR(HYPERLINK(VLOOKUP(C8644,FOTOGRAFICO!C:E,3,FALSE),C8644),\"\")","v":"GON-1021402"}]
[null,null,"SAN44","DESLIZADOR","DESLIZADOR ASIENTO VW LATERAL  CARIBE GOLF JETTA 77-96        MARCA: SANCHEZ E HIJOS MEXICO",9.6,566,125,52,53,9,15,{"$f":"+IFERROR(HYPERLINK(VLOOKUP(C8650,FOTOGRAFICO!C:E,3,FALSE),C8650),\"\")","v":""}]
[null,null,"C-188007M3","DIRECCIONA","DIREC MOTO FIBRACARBON LED AMA JGO 2 PZAS ENDIR32130502       FIBRACARBON LED AMARILLA",85.02,1,0,1,2,2,2,{"$f":"+IFERROR(HYPERLINK(VLOOKUP(C8664,FOTOGRAFICO!C:E,3,FALSE),C8664),\"\")","v":""}]
[null,null,"C-188010M3","DIRECCIONA","DIREC MOTO ROJO 9LED AMARILLA  9LED AMARILLA JGO  ENDIR321305 DIRECCIONAL ENDIR32130541",85.02,2,4,3,12,4,0,{"$f":"+IFERROR(HYPERLINK(VLOOKUP(C8667,FOTOGRAFICO!C:E,3,FALSE),C8667),\"\")","v":""}]
[null,null,"LAMLG5BY","DIRECCIONA","DIRECCIONAL PARA MOTO AZUL     Y AMBAR 5 LEDS Y CUBIERTA TIPO GEL",89.59,9,3,0,0,0,4,{"$f":"+IFERROR(HYPERLINK(VLOOKUP(C8679,FOTOGRAFICO!C:E,3,FALSE),C8679),\"\")","v":""}]
[null,null,"RSDIR0001YW","DIRECCIONA","DIRECCIONAL PAGODA BLANCO LED  SECUENCIAL MOTO UNIVERSAL      JGO 2 PZA",81.66,2,2,2,2,2,2,{"$f":"+IFERROR(HYPERLINK(VLOOKUP(C8687,FOTOGRAFICO!C:E,3,FALSE),C8687),\"\")","v":""}]
[null,null,"RSDIR0022YBU","DIRECCIONA","DIRECCIONAL BARRA AZUL DE 4    HIPERLEDS MOTO UNIVERSAL       JGO 2 PZA",73.38,2,1,2,2,2,2,{"$f":"+IFERROR(HYPERLINK(VLOOKUP(C8699,FOTOGRAFICO!C:E,3,FALSE),C8699),\"\")","v":""}]
[null,null,"RSDIR0031BUW","DIRECCIONA","DIRECCIONAL BARRIL BLANCO LED  SECUENCIAL MOTO UNIVERSAL      JGO 2 PZA",71.33,0,1,2,2,2,2,{"$f":"+IFERROR(HYPERLINK(VLOOKUP(C8704,FOTOGRAFICO!C:E,3,FALSE),C8704),\"\")","v":""}]
[null,null,"RSDIR0055YW","DIRECCIONA","DIRECCIONAL HELICE BLANCO LED  SECUENCIAL MOTO UNIVERSAL      JGO 2 PZA",71.33,2,2,1,0,2,2,{"$f":"+IFERROR(HYPERLINK(VLOOKUP(C8719,FOTOGRAFICO!C:E,3,FALSE),C8719),\"\")","v":""}]
[null,null,"RSDIR0056YW","DIRECCIONA","DIRECCIONAL FLAMA BLANCO LED   SECUENCIAL MOTO UNIVERSAL      JGO 2 PZA",71.33,2,2,2,2,2,2,{"$f":"+IFERROR(HYPERLINK(VLOOKUP(C8722,FOTOGRAFICO!C:E,3,FALSE),C8722),\"\")","v":""}]
[null,null,"19376690","DISCO","DISCO FRENO DEL AVEO 1.5 18-23 VENTILADO 256 MM MARCA ACDELCO ORIGINAL BFR230410",799.05,5,9,3,4,4,4,{"$f":"+IFERROR(HYPERLINK(VLOOKUP(C8733,FOTOGRAFICO!C:E,3,FALSE),C8733),\"\")","v":"19376690"}]
[null,null,"40206-1HL0AFP","DISCO","DISCO FRENO DEL VERSA 1.6 12-  19 MARCH 1.6 11-18 NOTE 1.6 14 -18 MARCA FP = 402061HL0A",437.46,12,20,0,14,5,10,{"$f":"+IFERROR(HYPERLINK(VLOOKUP(C8742,FOTOGRAFICO!C:E,3,FALSE),C8742),\"\")","v":"40206-1HL0AFP"}]
[null,null,"580212-KB","DISCO","DISCO FRENO DEL AVEO 1.6 08-17 SWIFT 07-11 VENTIL 4 BARRENOS  MARCA KABUTO = BD4908D",392.56,1,14,1,3,1,2,{"$f":"+IFERROR(HYPERLINK(VLOOKUP(C8754,FOTOGRAFICO!C:E,3,FALSE),C8754),\"\")","v":""}]
[null,null,"980755KB","DISCO","DISCO FRENO DEL HIACE 06-19    VENTILADO 6 BARRENOS MARCA     kABUTO = BD6190DV",0,0,0,0,0,0,0,{"$f":"+IFERROR(HYPERLINK(VLOOKUP(C8762,FOTOGRAFICO!C:E,3,FALSE),C8762),\"\")","v":""}]
[null,null,"AMB0305","DISCO","DISCO DEL POINTER 1.8 VENTILAD 98-09 DERBY 95-98 GOLF JETTA   A2 1.8 2.0 88-92 24 CM MARC FP",341.46,12,0,0,0,7,0,{"$f":"+IFERROR(HYPERLINK(VLOOKUP(C8774,FOTOGRAFICO!C:E,3,FALSE),C8774),\"\")","v":"AMB0305"}]
[null,null,"AMB5889","DISCO","DISCO DEL POINTER 1.8 VENTILAD 98-09 DERBY 95-98 GOLF JETTA   A2 1.8 2.0 88-92 240 MM BREMBO",483.15,0,0,3,0,0,0,{"$f":"+IFERROR(HYPERLINK(VLOOKUP(C8781,FOTOGRAFICO!C:E,3,FALSE),C8781),\"\")","v":"AMB5889"}]
[null,null,"BD5297DV","DISCO","DISCO FRENO DEL VW GOL 1.6 09- 19 SAVEIRO 1.6 10-19 VW UP 1.0 16-18 VENTILAD 256 MM FREMAX",494.57,0,0,0,0,0,0,{"$f":"+IFERROR(HYPERLINK(VLOOKUP(C8793,FOTOGRAFICO!C:E,3,FALSE),C8793),\"\")","v":"BD5297DV"}]
[null,null,"BFR350610","DISCO","DISCO FRENO DEL PLATINA CLIO   1.6 02-10 KANGOO 1.6 03-12     VENTILA RUVILLE = 40206-00QAA",541.49,11,0,0,6,8,8,{"$f":"+IFERROR(HYPERLINK(VLOOKUP(C8805,FOTOGRAFICO!C:E,3,FALSE),C8805),\"\")","v":"BFR350610"}]
[null,null,"BR-FD02","DISCO","DISCO FRENO DEL FIESTA 1.6 03- 10 FIESTA IKON 1.6 11-12 IKON  1.6 03-07 VENTILADO MARCA FP",410.03,4,0,0,10,0,5,{"$f":"+IFERROR(HYPERLINK(VLOOKUP(C8813,FOTOGRAFICO!C:E,3,FALSE),C8813),\"\")","v":"BR-FD02"}]
[null,null,"BRU1BM615301","DISCO","DISCO FRENO DEL SEDAN 95-03    1.6 4 BIRLOS 278X9.6 MM SIN    MAZA SOLIDO MARCA BRUCK",477.18,1,1,1,4,1,1,{"$f":"+IFERROR(HYPERLINK(VLOOKUP(C8816,FOTOGRAFICO!C:E,3,FALSE),C8816),\"\")","v":"BRU1BM615301"}]
[null,null,"BRU5U0615301C","DISCO","DISCO FRENO DEL GOL 09-20 1.6  SAVEIRO 09-20 1.6 4 BIRLOS     256X18 MM VENTILADO BRUCK",390.23,12,0,2,0,0,5,{"$f":"+IFERROR(HYPERLINK(VLOOKUP(C8824,FOTOGRAFICO!C:E,3,FALSE),C8824),\"\")","v":"BRU5U0615301C"}]
[null,null,"DK09021SM","DISCO","DISCO FRENO DEL CHEVY 94-12    SPARK 1.2 11-17 BEAT 18-20     LISO VENTILADO DYNAMIK FR09021",337.36,3,6,13,1,0,12,{"$f":"+IFERROR(HYPERLINK(VLOOKUP(C8836,FOTOGRAFICO!C:E,3,FALSE),C8836),\"\")","v":"DK09021SM"}]
[null,null,"EGP40206-61A01","DISCO","DISCO FRENO DEL TSURU II III   88-17 HIKARI 88-92 SOLIDO      MARCA RIVSA MEXICO = BFR520710",362.11,45,4,0,23,3,2,{"$f":"+IFERROR(HYPERLINK(VLOOKUP(C8848,FOTOGRAFICO!C:E,3,FALSE),C8848),\"\")","v":""}]
[null,null,"FR05044","DISCO","DISCO FRENO DEL ATOS 1.0 1.1   00-12 VENTILADO 234 MM FRITEC  = 5171202500 = DI8110",383.35,3,4,20,25,18,0,{"$f":"+IFERROR(HYPERLINK(VLOOKUP(C8859,FOTOGRAFICO!C:E,3,FALSE),C8859),\"\")","v":"FR05044"}]
[null,null,"FR11003","DISCO","DISCO FRENO DEL GRAND I10 1.2  1.3 15-20 VENTILADO MARCA      FRITEC MORESA FR11003",508.29,1,7,5,4,6,4,{"$f":"+IFERROR(HYPERLINK(VLOOKUP(C8868,FOTOGRAFICO!C:E,3,FALSE),C8868),\"\")","v":""}]
[null,null,"FR20043","DISCO","DISCO FRENO DEL URVAN 02-19    NV350 2.4 2.5 3.0 VENTILADO    MARCA FRITEC = DFURVAN",707.78,13,0,31,25,12,14,{"$f":"+IFERROR(HYPERLINK(VLOOKUP(C8871,FOTOGRAFICO!C:E,3,FALSE),C8871),\"\")","v":"FR20043"}]
[null,null,"OMN3460","DISCO","DISCO DEL POINTER 1.8 VENTILAD 98-09 DERBY 95-98 GOLF JETTA   A2 1.8 2.0 88-92 MARCA OMNI5",207.11,48,17,51,54,39,5,{"$f":"+IFERROR(HYPERLINK(VLOOKUP(C8888,FOTOGRAFICO!C:E,3,FALSE),C8888),\"\")","v":"OMN3460"}]
[null,null,"RDS1252","DISCO","DISCO DEL POINTER 1.8 SOLIDO   98-00 DERBY 95-98 GOLF JETTA   A2 A3 1.8 87-99 RANURA DYNAMIK",338.84,1,3,1,1,0,2,{"$f":"+IFERROR(HYPERLINK(VLOOKUP(C8891,FOTOGRAFICO!C:E,3,FALSE),C8891),\"\")","v":"RDS1252"}]
[null,null,"BD5101DV","DISCO","DISCO FRENO DEL ATTITUDE 1.4   1.6 12-14 KIA RIO 1.6 16-17    VENTILADO 256 MM MARCA FREMAX",606.29999999999995,0,0,0,0,0,0,{"$f":"+IFERROR(HYPERLINK(VLOOKUP(C8907,FOTOGRAFICO!C:E,3,FALSE),C8907),\"\")","v":"BD5101DV"}]
[null,null,"DK08153GS","DISCO","DISCO DEL RANGER 2.2 15-22     RANURADO VENTILADO MARCA       DYNAMIK 302 MM 6 BARRENOS",1221.44,0,0,0,0,1,0,{"$f":"+IFERROR(HYPERLINK(VLOOKUP(C8910,FOTOGRAFICO!C:E,3,FALSE),C8910),\"\")","v":""}]
[null,null,"RDS20644","DISCO","DISCO FRENO DEL AVEO 1.6 08-17 SWIFT 07-11 RANURADO VENTILADO DYNAMIK = 96574633",615.29,0,2,2,3,0,0,{"$f":"+IFERROR(HYPERLINK(VLOOKUP(C8921,FOTOGRAFICO!C:E,3,FALSE),C8921),\"\")","v":""}]
[null,null,"RDS3075","DISCO","DISCO DEL RAM 1500 5.2 94-99   4.7 MARCA DYNAMIK RANURADO     VENTILADO 295 MM 5 BIRLOS",1073.76,0,0,0,0,2,0,{"$f":"+IFERROR(HYPERLINK(VLOOKUP(C8930,FOTOGRAFICO!C:E,3,FALSE),C8930),\"\")","v":""}]
[null,null,"DK20034GS","DISCO","DISCO TRASERO ALTIMA 02-15     SENTRA SR-E SE 2.5 07-10       RANURADO SOLID MARCA DYNAMIK",543.33000000000004,0,0,0,0,1,0,{"$f":"+IFERROR(HYPERLINK(VLOOKUP(C8942,FOTOGRAFICO!C:E,3,FALSE),C8942),\"\")","v":"DK20034GS"}]
[null,null,"BRU4020609G03","DISCO","DISCO FRENO DEL NP300 09-20    2.4 D22 02-08 2.4 D21 94-08    2.4 URVAN 01-12 2.4 BRUCK",584.15,0,0,0,2,2,2,{"$f":"+IFERROR(HYPERLINK(VLOOKUP(C8950,FOTOGRAFICO!C:E,3,FALSE),C8950),\"\")","v":""}]
[null,null,"037905205N-KB","DISTRIBUID","DISTRIBUIDOR GOLF JETTA A3 1.8 93-99 COMBI 1800 POINTER FUEL  S/AVANCE ENGRANE CHICO KABUTO",397.86,0,2,2,2,2,0,{"$f":"+IFERROR(HYPERLINK(VLOOKUP(C8962,FOTOGRAFICO!C:E,3,FALSE),C8962),\"\")","v":""}]
[null,null,"221000M300-KB","DISTRIBUID","DISTRIBUIDOR TSURU III 16VALS  MOTOR 2 ARBOL LEVAS 2004-2014  MARCA KABUTO",1432.31,0,0,0,0,0,0,{"$f":"+IFERROR(HYPERLINK(VLOOKUP(C8965,FOTOGRAFICO!C:E,3,FALSE),C8965),\"\")","v":""}]
[null,null,"BRU043905205N","DISTRIBUID","DISTRIBUIDOR VW SEDAN COMBI    1600 ENC NORMAL C/AVANCE       MARCA BRUCK",613.52,3,5,0,4,5,3,{"$f":"+IFERROR(HYPERLINK(VLOOKUP(C8975,FOTOGRAFICO!C:E,3,FALSE),C8975),\"\")","v":"BRU043905205N"}]
[null,null,"SMI037905205N","DISTRIBUID","DISTRIBUIDOR GOLF JETTA COMBI  POINTER MOT.1800 FUL INY S/AVA ENGRANE DIST CHICO SMIDTD",544.41,0,1,1,2,1,2,{"$f":"+IFERROR(HYPERLINK(VLOOKUP(C8985,FOTOGRAFICO!C:E,3,FALSE),C8985),\"\")","v":"SMI037905205N"}]
[null,null,"BOTANA-CALL47","DULCE","MAZAPAN LECHE ALMENDRA 20 GR   MARCA LAPOSSE TEENS",8.35,0,0,0,0,0,0,{"$f":"+IFERROR(HYPERLINK(VLOOKUP(C8997,FOTOGRAFICO!C:E,3,FALSE),C8997),\"\")","v":""}]
[null,null,"BRU6RU501117","EJE","EJE RUEDA TRAS VENTO TODOS     MODELOS MARCA BRUCK",158.68,1,0,0,0,0,0,{"$f":"+IFERROR(HYPERLINK(VLOOKUP(C9004,FOTOGRAFICO!C:E,3,FALSE),C9004),\"\")","v":""}]
[null,null,"007-2322-01","ELEVADOR","ELEVADOR IZQ URVAN 02-03 MANUA MARCA HUSHAN PEDIDO TELLITUD",818.74,0,0,0,0,0,0,{"$f":"+IFERROR(HYPERLINK(VLOOKUP(C9017,FOTOGRAFICO!C:E,3,FALSE),C9017),\"\")","v":""}]
[null,null,"1H0-837-401B","ELEVADOR","ELEVADOR DEL IZQ GOLF JETTA A3 93-98 MANUAL MARCA VOLTMAX     IMPORTADO 1H0-837-401B",588.29999999999995,2,0,0,0,0,0,{"$f":"+IFERROR(HYPERLINK(VLOOKUP(C9024,FOTOGRAFICO!C:E,3,FALSE),C9024),\"\")","v":""}]
[null,null,"BRAELECOI","ELEVADOR","ELEVADOR IZQUIERDO COMBI 72-02 1600-1800 MARCA NACIONAL",348.84,3,0,2,1,0,1,{"$f":"+IFERROR(HYPERLINK(VLOOKUP(C9036,FOTOGRAFICO!C:E,3,FALSE),C9036),\"\")","v":"BRAELECOI"}]
[null,null,"ORI5X3837501","ELEVADOR","ELEVADOR POINTER DEL IZQUIERDO 00-08 DOBLE 2 Y 4 PUERTAS      MARCA: ZINNI, HECHO EN BRASIL",1069.6400000000001,1,0,0,0,0,3,{"$f":"+IFERROR(HYPERLINK(VLOOKUP(C9047,FOTOGRAFICO!C:E,3,FALSE),C9047),\"\")","v":""}]
[null,null,"BRU191837462","ELEVADOR","ELEVADOR GOLF A2 87-92 JETTA   A2 87-92 DELANTERO DERECHO     MARCA BRUCK PEDIDO JORGE",672.3,0,0,0,0,0,0,{"$f":"+IFERROR(HYPERLINK(VLOOKUP(C9056,FOTOGRAFICO!C:E,3,FALSE),C9056),\"\")","v":"BRU191837462"}]
[null,null,"007-3110-00","ELEVADOR","ELEVADOR DER DEL GOL 09-12     MANUAL MARCA TYG PIDE SOTO",1023.76,0,0,0,0,0,0,{"$f":"+IFERROR(HYPERLINK(VLOOKUP(C9059,FOTOGRAFICO!C:E,3,FALSE),C9059),\"\")","v":""}]
[null,null,"EMB068","EMBELLECED","EMBELLECEDOR DE ESTRIBOS VW    GOLF NEGRO ROJO JGO 4 PZA",88,1,1,1,2,0,0,{"$f":"+IFERROR(HYPERLINK(VLOOKUP(C9066,FOTOGRAFICO!C:E,3,FALSE),C9066),\"\")","v":""}]
[null,null,"5C6853670 JZA","EMBLEMA","EMBLEMA LETRAS GLI             ORIGINAL                       SOBRE PEDIDO BRIAN SALOLIN",143.01,0,0,0,0,0,0,{"$f":"+IFERROR(HYPERLINK(VLOOKUP(C9079,FOTOGRAFICO!C:E,3,FALSE),C9079),\"\")","v":""}]
[null,null,"E-010","EMBLEMA","EMBLEMA PARRILLA TSURU 05-07",48.65,10,8,9,8,4,5,{"$f":"+IFERROR(HYPERLINK(VLOOKUP(C9091,FOTOGRAFICO!C:E,3,FALSE),C9091),\"\")","v":""}]
[null,null,"E-011","EMBLEMA","EMBLEMA PARRILLA TSURU 04",54.06,0,0,0,1,0,1,{"$f":"+IFERROR(HYPERLINK(VLOOKUP(C9101,FOTOGRAFICO!C:E,3,FALSE),C9101),\"\")","v":""}]
[null,null,"E0120","EMBLEMA","EMBLEMA PARRILLA NISMO NEGRO",110.81,2,2,2,2,2,2,{"$f":"+IFERROR(HYPERLINK(VLOOKUP(C9111,FOTOGRAFICO!C:E,3,FALSE),C9111),\"\")","v":""}]
[null,null,"E0123","EMBLEMA","EMBLEMA PARRILLA RLINE ROJO",118.92,2,2,1,2,2,2,{"$f":"+IFERROR(HYPERLINK(VLOOKUP(C9114,FOTOGRAFICO!C:E,3,FALSE),C9114),\"\")","v":""}]
[null,null,"E-036","EMBLEMA","EMBLEMA PARRILLA SENTRA TODOS",82.54,1,0,0,1,1,1,{"$f":"+IFERROR(HYPERLINK(VLOOKUP(C9130,FOTOGRAFICO!C:E,3,FALSE),C9130),\"\")","v":""}]
[null,null,"E041","EMBLEMA","EMBLEMA LETRA SPORT",52.71,2,2,2,2,2,2,{"$f":"+IFERROR(HYPERLINK(VLOOKUP(C9134,FOTOGRAFICO!C:E,3,FALSE),C9134),\"\")","v":""}]
[null,null,"E-058","EMBLEMA","EMBLEMA LETRAS TIIDA",66.31,5,2,3,2,1,4,{"$f":"+IFERROR(HYPERLINK(VLOOKUP(C9146,FOTOGRAFICO!C:E,3,FALSE),C9146),\"\")","v":""}]
[null,null,"E-073","EMBLEMA","EMBLEMA PARRILLA URVAN 14-     NV350 LARGA CORTA ANCHA        DELGADA",171.86,1,0,1,9,1,2,{"$f":"+IFERROR(HYPERLINK(VLOOKUP(C9159,FOTOGRAFICO!C:E,3,FALSE),C9159),\"\")","v":""}]
[null,null,"E-080","EMBLEMA","EMBLEMA CAJUELA POINTER 01-03",92.03,3,0,1,1,1,2,{"$f":"+IFERROR(HYPERLINK(VLOOKUP(C9166,FOTOGRAFICO!C:E,3,FALSE),C9166),\"\")","v":""}]
[null,null,"E093","EMBLEMA","EMBLEMA CAJUELA AVEO 13-17",168.93,2,1,2,1,1,1,{"$f":"+IFERROR(HYPERLINK(VLOOKUP(C9173,FOTOGRAFICO!C:E,3,FALSE),C9173),\"\")","v":""}]
[null,null,"EMBLEMITA","EMBLEMA","EMBLEMA TRAS GOLF JETTA A3     93-99 ECONOMICO",46.52,7,1,0,1,2,1,{"$f":"+IFERROR(HYPERLINK(VLOOKUP(C9185,FOTOGRAFICO!C:E,3,FALSE),C9185),\"\")","v":""}]
[null,null,"JETTA","EMBLEMA","EMBLEMA LETRAS JETTA",54.06,15,2,4,6,0,2,{"$f":"+IFERROR(HYPERLINK(VLOOKUP(C9192,FOTOGRAFICO!C:E,3,FALSE),C9192),\"\")","v":""}]
[null,null,"NEMRTCR","EMBLEMA","EMBLEMA R/T CROMADO",22.85,0,1,2,1,1,0,{"$f":"+IFERROR(HYPERLINK(VLOOKUP(C9205,FOTOGRAFICO!C:E,3,FALSE),C9205),\"\")","v":"NEMRTCR"}]
[null,null,"NERS","EMBLEMA","EMBLEMA RS",22.85,0,0,0,0,0,0,{"$f":"+IFERROR(HYPERLINK(VLOOKUP(C9208,FOTOGRAFICO!C:E,3,FALSE),C9208),\"\")","v":""}]
[null,null,"E-049","EMBLEMA","EMBLEMA LETRAS FIESTA          PIDE ISRAEL CURRO",56.76,0,0,0,0,0,0,{"$f":"+IFERROR(HYPERLINK(VLOOKUP(C9217,FOTOGRAFICO!C:E,3,FALSE),C9217),\"\")","v":""}]
[null,null,"BRU030115636D","EMBUDO","EMBUDO BAYONETA ACEITE GOL 09- 20 1.6 POLO 03-07 1.6 LUPO 05- 09 1.6 CROSSFOX 06-17 BRUCK",20,11,12,18,10,11,0,{"$f":"+IFERROR(HYPERLINK(VLOOKUP(C9228,FOTOGRAFICO!C:E,3,FALSE),C9228),\"\")","v":"BRU030115636D"}]
[null,null,"EN550YL","ENCENDEDOR","ENCENDEDOR CIGARROS LUZ AMBAR",25.84,6,12,10,8,5,7,{"$f":"+IFERROR(HYPERLINK(VLOOKUP(C9240,FOTOGRAFICO!C:E,3,FALSE),C9240),\"\")","v":""}]
[null,null,"SOC-PH4","ENCHUFE","ENCHUFE FOCO H4 CERAMICA",6.35,57,62,79,70,128,64,{"$f":"+IFERROR(HYPERLINK(VLOOKUP(C9246,FOTOGRAFICO!C:E,3,FALSE),C9246),\"\")","v":""}]
[null,null,"BRU028117021L","ENFRIADOR","ENFRIADOR ACEITE JETTA GOLF A4 BETTLE 2.0L 99-09 EUROVAN 1.9L DIESEL SHARAN 1.8 TURBO BRUCK",532.44000000000005,7,1,3,11,3,3,{"$f":"+IFERROR(HYPERLINK(VLOOKUP(C9260,FOTOGRAFICO!C:E,3,FALSE),C9260),\"\")","v":"BRU028117021L"}]
[null,null,"HER068117021B","ENFRIADOR","ENFRIADOR ACEITE COMBI 1800    GOLF JETTA A3 2.0L DERBY 2.0L  EUROVAN 2.5L 99-04 MARCA HERTA",365.73,7,4,7,3,2,6,{"$f":"+IFERROR(HYPERLINK(VLOOKUP(C9263,FOTOGRAFICO!C:E,3,FALSE),C9263),\"\")","v":"HER068117021B"}]
[null,null,"96352740","ENGRANE","ENGRANE CIGUENAL AVEO 1.6L 07- 17 OPTRA 06-10 CRUZE 1.8 10-16 21 DIENTES MARCA BRUCK-GERMANY",425.54,0,1,4,0,0,0,{"$f":"+IFERROR(HYPERLINK(VLOOKUP(C9275,FOTOGRAFICO!C:E,3,FALSE),C9275),\"\")","v":"96352740"}]
[null,null,"EGP38425-50W00","ENGRANE","ENGRANE DIFERENCIAL CHICO PLAN ETARIO URVAN 2.4",60.48,0,0,0,1,3,0,{"$f":"+IFERROR(HYPERLINK(VLOOKUP(C9283,FOTOGRAFICO!C:E,3,FALSE),C9283),\"\")","v":""}]
[null,null,"GM90375764","ENGRANE","ENGRANE VELOCIMETRO CHEVY TODO S MODELOS TROMPO LAPIZ ACDELCO AVEO 08-18 SPARK 11-17 13 DIEN",188.93,1,4,4,3,1,4,{"$f":"+IFERROR(HYPERLINK(VLOOKUP(C9290,FOTOGRAFICO!C:E,3,FALSE),C9290),\"\")","v":""}]
[null,null,"DOR916-946","ENGRANE","ENGRANE ARBOL LEVAS MALIBU 08- 11 SRX 07-16 MARCA DORMAN      PEDIDO ALBERTO RIVERA",1426.98,0,0,0,0,0,0,{"$f":"+IFERROR(HYPERLINK(VLOOKUP(C9302,FOTOGRAFICO!C:E,3,FALSE),C9302),\"\")","v":""}]
[null,null,"INJ07552","ESCANER","ESCANER AUTEL MAXIDIAG ELITE   EXPANDIDO MILTISISTEMAS OBDII  americ-asiat-europ SOBRE PEDID",8529.9699999999993,0,0,0,0,0,0,{"$f":"+IFERROR(HYPERLINK(VLOOKUP(C9308,FOTOGRAFICO!C:E,3,FALSE),C9308),\"\")","v":""}]
[null,null,"EGP22157-4B000","ESCOBILLA","ESCOBILLA TSURU III 92- 16V    PICK UP",27.42,11,0,0,0,0,0,{"$f":"+IFERROR(HYPERLINK(VLOOKUP(C9322,FOTOGRAFICO!C:E,3,FALSE),C9322),\"\")","v":""}]
[null,null,"018-0635-19","ESPEJO","ESPEJO BLAZER S-10 IZQ 95-97                                  SOBRE PEDIDO X DANIEL",276.51,0,0,0,0,0,0,{"$f":"+IFERROR(HYPERLINK(VLOOKUP(C9334,FOTOGRAFICO!C:E,3,FALSE),C9334),\"\")","v":"018-0635-19"}]
[null,null,"018-0666-05","ESPEJO","ESPEJO IZQ SPARK 11-16 5 PUERT ELECTRICO PARA PINTAS MARCA    POLIWAY PEDIDO ERICK CALL",1519.86,0,0,0,0,0,0,{"$f":"+IFERROR(HYPERLINK(VLOOKUP(C9337,FOTOGRAFICO!C:E,3,FALSE),C9337),\"\")","v":""}]
[null,null,"018-2316-06","ESPEJO","ESPEJO DER SENTRA 96-00 MANUAL NEGRO MARCA POLIWAY PIDE       LONDAIZ",485.58,0,0,0,0,0,0,{"$f":"+IFERROR(HYPERLINK(VLOOKUP(C9354,FOTOGRAFICO!C:E,3,FALSE),C9354),\"\")","v":""}]
[null,null,"018-2321-05","ESPEJO","ESPEJO TSURU I IZQ 84-87 NEGRO 4 PTAS",163.54,0,0,0,0,0,0,{"$f":"+IFERROR(HYPERLINK(VLOOKUP(C9357,FOTOGRAFICO!C:E,3,FALSE),C9357),\"\")","v":""}]
[null,null,"018-3111-09","ESPEJO","ESPEJO IZQ GOLF JETTA A3 93-99 CON CONTROL NEGRO MARCA RADEC  IMPORTADO 018-3111-08 PIDE MIG",809.3,0,0,0,0,0,0,{"$f":"+IFERROR(HYPERLINK(VLOOKUP(C9372,FOTOGRAFICO!C:E,3,FALSE),C9372),\"\")","v":""}]
[null,null,"018-3115-47","ESPEJO","ESPEJO IZQ POINTER 00-09 4     PUERTAS CON CONTROL MARCA      POLIWAY",566.51,5,1,1,0,0,1,{"$f":"+IFERROR(HYPERLINK(VLOOKUP(C9377,FOTOGRAFICO!C:E,3,FALSE),C9377),\"\")","v":"018-3115-47"}]
[null,null,"92102-1E002","ESPEJO","ESPEJO DER ATTITUDE 06-11 CON  CONTROL IMPORTADO NIKKO TAIWAN",655.32000000000005,0,2,0,3,0,2,{"$f":"+IFERROR(HYPERLINK(VLOOKUP(C9389,FOTOGRAFICO!C:E,3,FALSE),C9389),\"\")","v":"92102-1E002"}]
[null,null,"AENK0101","ESPEJO","ESPEJO DER ATOS 00-12 CON      CONTROL NEGRO POROSO IMPORTADO = ORI422A0101 = AEDK0101",492.29,0,0,0,2,0,2,{"$f":"+IFERROR(HYPERLINK(VLOOKUP(C9401,FOTOGRAFICO!C:E,3,FALSE),C9401),\"\")","v":"AENK0101"}]
[null,null,"AERC1412","ESPEJO","ESPEJO ASTRA 00-03 IZQ MANUAL  GRIS P/PINTAR C/CONTROL        SOBRE PEDIDO FAVOR DE COTIZAR",0,0,0,0,0,0,0,{"$f":"+IFERROR(HYPERLINK(VLOOKUP(C9409,FOTOGRAFICO!C:E,3,FALSE),C9409),\"\")","v":""}]
[null,null,"AERN0101","ESPEJO","ESPEJO DER TSURU III 92-17     IMPORTADO OPTIMO               = ESP004 = EGP96301-Y02G0",152.78,0,0,0,0,8,0,{"$f":"+IFERROR(HYPERLINK(VLOOKUP(C9416,FOTOGRAFICO!C:E,3,FALSE),C9416),\"\")","v":"AERN0101"}]
[null,null,"AERV1102","ESPEJO","ESPEJO IZQ EUROVAN 01-04       MANUAL IMPORTADO OPTIMO TAIWAN = BRA7D0857513",865.75,6,0,0,2,0,1,{"$f":"+IFERROR(HYPERLINK(VLOOKUP(C9428,FOTOGRAFICO!C:E,3,FALSE),C9428),\"\")","v":"AERV1102"}]
[null,null,"C-187016Q0","ESPEJO","ESPEJO MOTO ITALIKA AT110 2PZS",71.180000000000007,6,7,4,8,4,5,{"$f":"+IFERROR(HYPERLINK(VLOOKUP(C9434,FOTOGRAFICO!C:E,3,FALSE),C9434),\"\")","v":"C-187016Q0"}]
[null,null,"E002-ERNN","ESPEJO","ESPEJO DER TSURU II 88-91 IAP  HECHO EN MEXICO",148.66,7,1,1,4,1,0,{"$f":"+IFERROR(HYPERLINK(VLOOKUP(C9439,FOTOGRAFICO!C:E,3,FALSE),C9439),\"\")","v":""}]
[null,null,"ECOE1300I","ESPEJO","ESPEJO IZQ VW SEDAN 72-04      NEGRO HECHO EN MEXICO",123.26,28,28,8,11,15,6,{"$f":"+IFERROR(HYPERLINK(VLOOKUP(C9451,FOTOGRAFICO!C:E,3,FALSE),C9451),\"\")","v":"ECOE1300I"}]
[null,null,"ES4698","ESPEJO","ESPEJO INTERIOR DOBLE VISION   IMPORTADO",66.680000000000007,1,11,3,0,3,4,{"$f":"+IFERROR(HYPERLINK(VLOOKUP(C9463,FOTOGRAFICO!C:E,3,FALSE),C9463),\"\")","v":"ES4698"}]
[null,null,"ESC8","ESPEJO","ESPEJO CONCAVO 8 CON TORNILLO  PARA FIJAR UNIVERSAL CROMADO   MARCA TUNIX",158.13,10,7,0,10,10,0,{"$f":"+IFERROR(HYPERLINK(VLOOKUP(C9471,FOTOGRAFICO!C:E,3,FALSE),C9471),\"\")","v":""}]
[null,null,"ESP006","ESPEJO","ESPEJO DER URVAN 02-12 MANUAL  REFORZADO HECHO EN MEXICO      = NIS96301VW600 = 018-2322-00",125,13,0,28,15,29,10,{"$f":"+IFERROR(HYPERLINK(VLOOKUP(C9483,FOTOGRAFICO!C:E,3,FALSE),C9483),\"\")","v":""}]
[null,null,"ESPEJO4","ESPEJO","ESPEJO MEDIANO CONCAVO JGO 2PZ AS REDONDO",20.49,20,0,8,35,19,6,{"$f":"+IFERROR(HYPERLINK(VLOOKUP(C9488,FOTOGRAFICO!C:E,3,FALSE),C9488),\"\")","v":""}]
[null,null,"NIS96301-ET00E","ESPEJO","ESPEJO IZQ SENTRA 07-12 B16    SIN CONTROL NEGRO PARA PINTAR  YYM IMPORTADO",865.75,1,0,0,0,1,0,{"$f":"+IFERROR(HYPERLINK(VLOOKUP(C9503,FOTOGRAFICO!C:E,3,FALSE),C9503),\"\")","v":""}]
[null,null,"ORI018-2322-04","ESPEJO","ESPEJO DER URVAN NV350 13-19   MANUAL ORIGINAL = AERN0421     10E35113",1161.75,0,0,0,0,0,0,{"$f":"+IFERROR(HYPERLINK(VLOOKUP(C9506,FOTOGRAFICO!C:E,3,FALSE),C9506),\"\")","v":""}]
[null,null,"YH3272/CHR","ESPEJO","ESPEJO DER IZQ TSURU III 92-17 JGO 2 PZA CROMADO IMPORTADO",344.45,1,0,0,2,0,1,{"$f":"+IFERROR(HYPERLINK(VLOOKUP(C9517,FOTOGRAFICO!C:E,3,FALSE),C9517),\"\")","v":""}]
[null,null,"018-0912-07","ESPEJO","ESPEJP IZQ NEON 00-05 MANUAL   NEGRO 4 PTA MARCA RADEC        018-0912-07",566.51,0,0,0,1,2,1,{"$f":"+IFERROR(HYPERLINK(VLOOKUP(C9526,FOTOGRAFICO!C:E,3,FALSE),C9526),\"\")","v":""}]
[null,null,"018-2330-00","ESPEJO","ESPEJO DER VERSA 12-14 ELECTRI CO 3 PINES MARCA POLIWAY PIDE  RAUL",1213.95,0,0,0,0,0,0,{"$f":"+IFERROR(HYPERLINK(VLOOKUP(C9533,FOTOGRAFICO!C:E,3,FALSE),C9533),\"\")","v":""}]
[null,null,"AERN5502","ESPEJO","ESPEJO IZQ ICHIVAN 88-94       MANUAL NEGRO                   SOBRE PEDIDO RAUL",145.66999999999999,0,0,0,0,0,0,{"$f":"+IFERROR(HYPERLINK(VLOOKUP(C9546,FOTOGRAFICO!C:E,3,FALSE),C9546),\"\")","v":""}]
[null,null,"018-0902-15","ESPEJO","ESPEJO IZQ ATTITUDE 12-14 CON  CONTROL NEGRO MARCA RADEC PIDE MOISES MUNOZ",1065.04,0,0,0,0,0,0,{"$f":"+IFERROR(HYPERLINK(VLOOKUP(C9558,FOTOGRAFICO!C:E,3,FALSE),C9558),\"\")","v":""}]
[null,null,"018-2205-02","ESPEJO","ESPEJO DER LANCER 04-07 ELECTR ICO 3 PINES MARCA POLIWAY PIDE RAUL",877.28,0,0,0,0,0,0,{"$f":"+IFERROR(HYPERLINK(VLOOKUP(C9565,FOTOGRAFICO!C:E,3,FALSE),C9565),\"\")","v":""}]
[null,null,"018-3112-01","ESPEJO","ESPEJO IZQ JETTA GOLF A2 88-92 CON CONTROL MARCA GYM",622.35,0,0,0,0,0,0,{"$f":"+IFERROR(HYPERLINK(VLOOKUP(C9577,FOTOGRAFICO!C:E,3,FALSE),C9577),\"\")","v":""}]
[null,null,"018-3115-09","ESPEJO","ESPEJO IZQ POINTER 00-09 CON   CONTROL CORRUGADO 4 PUERTAS    MARCA POLIWAY",687.9,0,0,0,0,0,0,{"$f":"+IFERROR(HYPERLINK(VLOOKUP(C9579,FOTOGRAFICO!C:E,3,FALSE),C9579),\"\")","v":""}]
[null,null,"AERC0806PROMO","ESPEJO","ESPEJO IZQ SPARK CLASSIC 11-17 BEAT 18-20 ELECTRICO PARA      PINTAR IMPORTADO OPTIMO",1058.1400000000001,0,1,0,0,0,0,{"$f":"+IFERROR(HYPERLINK(VLOOKUP(C9588,FOTOGRAFICO!C:E,3,FALSE),C9588),\"\")","v":""}]
[null,null,"018-0601-13","ESPEJO","ESPEJO IZQ ASTRA 04-08 ELECTRI CO C/DESEMPANANTE NEGRO 5 PIN  MARCA DEPO PED JAZHEEL CALL",1260.8900000000001,0,0,0,0,0,0,{"$f":"+IFERROR(HYPERLINK(VLOOKUP(C9600,FOTOGRAFICO!C:E,3,FALSE),C9600),\"\")","v":""}]
[null,null,"018-1310-03","ESPEJO","ESPEJO IZQ CITY 14-20 ELECTRIC CON DIRECCIONAL 5 PINES MARCA  POLIWAY PIDE ISRAEL",2301.65,0,0,0,0,0,0,{"$f":"+IFERROR(HYPERLINK(VLOOKUP(C9614,FOTOGRAFICO!C:E,3,FALSE),C9614),\"\")","v":""}]
[null,null,"018-2505-09","ESPEJO","ESPEJO IZQ BUICK REGAL 88-96   GRAND PRIX 90-96 C/CONTROL     PEDIDO ENRIQUE",789.06,0,0,0,0,1,0,{"$f":"+IFERROR(HYPERLINK(VLOOKUP(C9620,FOTOGRAFICO!C:E,3,FALSE),C9620),\"\")","v":""}]
[null,null,"AERC0801-PROMO","ESPEJO","ESPEJO DER SPARK CLASSIC 11-17 BEAT 18-20 CON CONTROL PARA    PINTAR IMPORTADO OPTIMO",789.36,0,0,0,1,0,2,{"$f":"+IFERROR(HYPERLINK(VLOOKUP(C9632,FOTOGRAFICO!C:E,3,FALSE),C9632),\"\")","v":""}]
[null,null,"018-1225-01","ESPEJO","ESPEJO IZQ FORD KA 01-08       CON CONTROL MANUAL             PEDIDO CESAR ESTUDILLO",379.02,0,0,0,0,0,0,{"$f":"+IFERROR(HYPERLINK(VLOOKUP(C9643,FOTOGRAFICO!C:E,3,FALSE),C9643),\"\")","v":""}]
[null,null,"018-3115-49","ESPEJO","ESPEJO IZQ POINTER 00-09 CON   CONTROL MARCA POLIWAY",566.51,0,0,0,0,0,0,{"$f":"+IFERROR(HYPERLINK(VLOOKUP(C9652,FOTOGRAFICO!C:E,3,FALSE),C9652),\"\")","v":""}]
[null,null,"018-0916-73","ESPEJO","ESPEJO IZQ RAM 700 15-20       ELECTRICO CORRUGADO 3 PINES    MARA RADEC",728.37,0,0,0,0,0,0,{"$f":"+IFERROR(HYPERLINK(VLOOKUP(C9655,FOTOGRAFICO!C:E,3,FALSE),C9655),\"\")","v":""}]
[null,null,"018-3115-04","ESPEJO","ESPEJO DER POINTER 00-09 2     PUERTAS CON CONTROL MARCA      POLIWAY",728.37,0,0,0,0,0,0,{"$f":"+IFERROR(HYPERLINK(VLOOKUP(C9662,FOTOGRAFICO!C:E,3,FALSE),C9662),\"\")","v":""}]
[null,null,"5U0-498-099ANSB","ESPIGA","ESPIGA L/RUEDA VW GOL 1.6 09-  17 SAVEIRO 10-17 CROSSFOX 09-  16 POLO 15-19 SIN ABS NSB",341.46,4,3,7,8,5,5,{"$f":"+IFERROR(HYPERLINK(VLOOKUP(C9675,FOTOGRAFICO!C:E,3,FALSE),C9675),\"\")","v":"5U0-498-099ANSB"}]
[null,null,"BRU1K0498099BEUR","ESPIGA","ESPIGA L/RUEDA JETTA A6 11-18  2.0T BORA 05-10 2.0TFSI GTI 05 -09 2.0T BRUCK",559.46,2,1,1,2,2,1,{"$f":"+IFERROR(HYPERLINK(VLOOKUP(C9682,FOTOGRAFICO!C:E,3,FALSE),C9682),\"\")","v":"BRU1K0498099BEUR"}]
[null,null,"BRU39210F4300EUR","ESPIGA","ESPIGA L/RUEDA TSURU III 92-17 1.6 SENTRA B14 95-99 1.6 S/ABS 25E/32I ESTRIADO FINO BRUCK",374.93,11,0,0,4,1,0,{"$f":"+IFERROR(HYPERLINK(VLOOKUP(C9694,FOTOGRAFICO!C:E,3,FALSE),C9694),\"\")","v":"BRU39210F4300EUR"}]
[null,null,"CVF018","ESPIGA","ESPIGA L/RUEDA FIESTA 1.3 1.4  96-01 CON SEGURO DIENTES E25   I20 MARCA TMK IMPORTADO",387.07,3,0,2,0,0,0,{"$f":"+IFERROR(HYPERLINK(VLOOKUP(C9705,FOTOGRAFICO!C:E,3,FALSE),C9705),\"\")","v":""}]
[null,null,"CVN028","ESPIGA","ESPIGA L/RUEDA TSURU II 88-91  DIENTES E25 I24 MARCA TMK      IMPORTADO = NIS106T1200",497.27,1,2,2,0,1,0,{"$f":"+IFERROR(HYPERLINK(VLOOKUP(C9714,FOTOGRAFICO!C:E,3,FALSE),C9714),\"\")","v":""}]
[null,null,"DENG0100","ESPIGA","ESPIGA L/RUEDA MATIZ 04-15 SIN ABS DIENTES E23 I19 MARCA NSB  IMPORTADO RR-9028 = RR9028",300.32,2,1,5,11,4,4,{"$f":"+IFERROR(HYPERLINK(VLOOKUP(C9726,FOTOGRAFICO!C:E,3,FALSE),C9726),\"\")","v":""}]
[null,null,"DENK0110","ESPIGA","ESPIGA L/RUEDA ATOS 05-12      DIENTES E25 I20 MCA YOKOMITZU  = 4950705A00-EURO = RR-9029",229.1,4,1,10,8,0,2,{"$f":"+IFERROR(HYPERLINK(VLOOKUP(C9730,FOTOGRAFICO!C:E,3,FALSE),C9730),\"\")","v":""}]
[null,null,"DHNC9900","ESPIGA","ESPIGA L/CAJA AVEO 07-17 G3 06 -09 DIENTES E34 I22 ESTANDAR   MARCA YOKOMITSU",336.68,3,4,0,0,5,4,{"$f":"+IFERROR(HYPERLINK(VLOOKUP(C9737,FOTOGRAFICO!C:E,3,FALSE),C9737),\"\")","v":""}]
[null,null,"NIS105T1200","ESPIGA","ESPIGA L/RUEDA TSURU III 92-00 TSUBAME 93-97 DIENTES E25 I24  MARCA NSB NIKKO = NIS107T1200",466.79,15,0,9,6,9,6,{"$f":"+IFERROR(HYPERLINK(VLOOKUP(C9749,FOTOGRAFICO!C:E,3,FALSE),C9749),\"\")","v":""}]
[null,null,"ORI422T130V","ESPIGA","ESPIGA L/CAJA ATOS 05-12       DIENTES E22 I20 MARCA          YOKOMITSU IMPORTADO = RC-7322",308.39,0,0,10,4,1,2,{"$f":"+IFERROR(HYPERLINK(VLOOKUP(C9759,FOTOGRAFICO!C:E,3,FALSE),C9759),\"\")","v":""}]
[null,null,"RR8122","ESPIGA","ESPIGA L/RUEDA PLATINA CLIO 02 -10 S/ABS DIENTES E21 I21 MARC RACE MORESA = CV-245",485.02,2,0,4,4,0,4,{"$f":"+IFERROR(HYPERLINK(VLOOKUP(C9769,FOTOGRAFICO!C:E,3,FALSE),C9769),\"\")","v":""}]
[null,null,"RR-9323","ESPIGA","ESPIGA L/RUEDA IBIZA CORDOBA   TOLEDO 1.6 2.0 03-13 POLO 1.2  TSI 13-16 INT 30 EXT 36 RACE",595.21,3,4,0,15,0,4,{"$f":"+IFERROR(HYPERLINK(VLOOKUP(C9781,FOTOGRAFICO!C:E,3,FALSE),C9781),\"\")","v":""}]
[null,null,"RR-9413","ESPIGA","ESPIGA L/RUEDA CHEVY 1.6 96-05 S/SEGURO DIENTES E22 I28 MARCA RACE MORESA = LUK751001920",481.39,0,4,1,0,4,5,{"$f":"+IFERROR(HYPERLINK(VLOOKUP(C9788,FOTOGRAFICO!C:E,3,FALSE),C9788),\"\")","v":""}]
[null,null,"TMCVG75371","ESPIGA","ESPIGA L/CAJA AVEO 07-17 G3 06 -09 DIENTES E34 I22 MARCA TMK  IMPORTADO = DHNC9900",501.41,2,6,4,0,0,0,{"$f":"+IFERROR(HYPERLINK(VLOOKUP(C9801,FOTOGRAFICO!C:E,3,FALSE),C9801),\"\")","v":"TMCVG75371"}]
[null,null,"USA23","ESPIGA","ESPIGA COMBI TRASERA C/CUERDA  ARBOL RUEDA TRASERA COMBI",581.41,7,1,0,0,0,0,{"$f":"+IFERROR(HYPERLINK(VLOOKUP(C9808,FOTOGRAFICO!C:E,3,FALSE),C9808),\"\")","v":"USA23"}]
[null,null,"RR9450","ESPIGA","ESPIGA LADO RUEDA MARCH 1.6    11-19 MARCH 12-19 V-DRIVE 20   DIENTES EXT 25 INT 32 RACE",475.8,0,2,0,0,0,0,{"$f":"+IFERROR(HYPERLINK(VLOOKUP(C9811,FOTOGRAFICO!C:E,3,FALSE),C9811),\"\")","v":""}]
[null,null,"TMF01","ESPONJA","ESPONJA MICROFIBRA PARA AUTO   22X12X6 CM MARCA TUNIX",49.96,6,3,8,3,4,4,{"$f":"+IFERROR(HYPERLINK(VLOOKUP(C9821,FOTOGRAFICO!C:E,3,FALSE),C9821),\"\")","v":""}]
[null,null,"ESTRI-4","ESTRIBO","ESTRIBO VW SEDAN DER CROMADO   LISO",250,1,2,0,6,0,2,{"$f":"+IFERROR(HYPERLINK(VLOOKUP(C9831,FOTOGRAFICO!C:E,3,FALSE),C9831),\"\")","v":""}]
[null,null,"203-0614-03","FACIA","FACIA DEL CHEVY 01-03 MONZA    3-4-5 PTAS SIN HOYO S/PARRILLA MARCA RADEC",337.2,30,10,26,10,20,10,{"$f":"+IFERROR(HYPERLINK(VLOOKUP(C9843,FOTOGRAFICO!C:E,3,FALSE),C9843),\"\")","v":""}]
[null,null,"203-0666-03","FACIA","FACIA DEL SPARK 11-12 MARCA    TYG PIDE JAVIER",1562.76,0,0,0,1,0,1,{"$f":"+IFERROR(HYPERLINK(VLOOKUP(C9850,FOTOGRAFICO!C:E,3,FALSE),C9850),\"\")","v":"203-0666-03"}]
[null,null,"203-1219-02","FACIA","FACIA DEL FOCUS 05-07 MARCA    TYG PEDIDO MIGUEL",1427.6,0,0,0,0,0,0,{"$f":"+IFERROR(HYPERLINK(VLOOKUP(C9863,FOTOGRAFICO!C:E,3,FALSE),C9863),\"\")","v":""}]
[null,null,"203-2321-08","FACIA","FACIA TRAS TSURU II 88-91      MARCA TYG PIDE GERARDO CALL",849.76,0,0,0,0,0,0,{"$f":"+IFERROR(HYPERLINK(VLOOKUP(C9875,FOTOGRAFICO!C:E,3,FALSE),C9875),\"\")","v":""}]
[null,null,"203-2704-13","FACIA","FACIA DEL IBIZA 03-06  MARCA   TYG",2314.6,0,0,0,0,0,0,{"$f":"+IFERROR(HYPERLINK(VLOOKUP(C9885,FOTOGRAFICO!C:E,3,FALSE),C9885),\"\")","v":""}]
[null,null,"203-2704-22","FACIA","FACIA DEL IBIZA 18-21 P/PINTAR C/HOYO P/SENSOR MARCA RADEC    203-2704-22 PIDE CANDELARIO",4282.82,0,0,0,0,0,0,{"$f":"+IFERROR(HYPERLINK(VLOOKUP(C9886,FOTOGRAFICO!C:E,3,FALSE),C9886),\"\")","v":""}]
[null,null,"203-3110-12","FACIA","FACIA DEL GOL 17-18 PARA       PINTAR MARCA HUSHAN",1403.33,0,0,0,0,0,0,{"$f":"+IFERROR(HYPERLINK(VLOOKUP(C9898,FOTOGRAFICO!C:E,3,FALSE),C9898),\"\")","v":""}]
[null,null,"203-3111-06","FACIA","FACIA DEL GOLF 00-07 P/PINTAR  C/MOLDURA C/SPOYLER MARCA      RADEC 203-3111-06",1294.8800000000001,1,0,0,0,1,0,{"$f":"+IFERROR(HYPERLINK(VLOOKUP(C9904,FOTOGRAFICO!C:E,3,FALSE),C9904),\"\")","v":""}]
[null,null,"203-3506-10","FACIA","FACIA TRAS KIA RIO 18-20       SIN HOYO PARA SENSOR MARCA TYG",1602.41,0,0,0,0,0,0,{"$f":"+IFERROR(HYPERLINK(VLOOKUP(C9918,FOTOGRAFICO!C:E,3,FALSE),C9918),\"\")","v":""}]
[null,null,"CFMN0132","FACIA","FACIA TRAS TSURU III 92-17     DIFORZA NACIONAL               = FACT85022",421.56,29,30,19,17,10,16,{"$f":"+IFERROR(HYPERLINK(VLOOKUP(C9925,FOTOGRAFICO!C:E,3,FALSE),C9925),\"\")","v":"CFMN0132"}]
[null,null,"CFNN0412","FACIA","FACIA TRAS URVAN 02-12 OPTIMO  IMPORTADA",492.29,1,0,1,1,1,4,{"$f":"+IFERROR(HYPERLINK(VLOOKUP(C9933,FOTOGRAFICO!C:E,3,FALSE),C9933),\"\")","v":"CFNN0412"}]
[null,null,"FAC214C0561","FACIA","FACIA DEL CHEVY C2 04-08 3-4-5 PUERTAS SIN HOYO NEGRA DIFORZA",492.29,0,0,5,0,6,0,{"$f":"+IFERROR(HYPERLINK(VLOOKUP(C9950,FOTOGRAFICO!C:E,3,FALSE),C9950),\"\")","v":""}]
[null,null,"FACDCH02","FACIA","FACIA DEL CHEVY 01-03 MONZA    3-4-5 PTAS SIN HOYO S/PARRILLA PARA PINTAR DIFORZA",492.29,19,0,23,1,4,7,{"$f":"+IFERROR(HYPERLINK(VLOOKUP(C9957,FOTOGRAFICO!C:E,3,FALSE),C9957),\"\")","v":""}]
[null,null,"FACT102","FACIA","FACIA GOLF A3 93-98 TRAS",993.07,1,0,0,0,0,0,{"$f":"+IFERROR(HYPERLINK(VLOOKUP(C9960,FOTOGRAFICO!C:E,3,FALSE),C9960),\"\")","v":""}]
[null,null,"INJN0411PROMO","FACIA","FACIA DEL URVAN 07-12 CON HOYO PARA FARO OPTIMO IMPORTADA     = CFNN0411",492.29,0,0,0,0,0,0,{"$f":"+IFERROR(HYPERLINK(VLOOKUP(C9976,FOTOGRAFICO!C:E,3,FALSE),C9976),\"\")","v":""}]
[null,null,"INJN0911","FACIA","FACIA DEL VERSA 20-21 VERSION  BASICO CON HOYO PARA FARO      NACIONAL",789.36,0,2,2,2,3,2,{"$f":"+IFERROR(HYPERLINK(VLOOKUP(C9980,FOTOGRAFICO!C:E,3,FALSE),C9980),\"\")","v":""}]
[null,null,"INJV0711-PROMO","FACIA","FACIA DEL VENTO 16-19 CON HOYO PARA FARO SIN REJILLA CENTRAL  NACIONAL",690.34,0,0,3,0,1,0,{"$f":"+IFERROR(HYPERLINK(VLOOKUP(C9992,FOTOGRAFICO!C:E,3,FALSE),C9992),\"\")","v":"INJV0711-PROMO"}]
[null,null,"203-0604-14","FACIA","FACIA DEL AVEO 17-18 MARCA TYG",1861.39,0,0,0,0,0,0,{"$f":"+IFERROR(HYPERLINK(VLOOKUP(C10001,FOTOGRAFICO!C:E,3,FALSE),C10001),\"\")","v":""}]
[null,null,"203-1217-21","FACIA","FACIA DEL FIESTA 08-10 CON     HOYO PARA FARO MARCA TYG PIDE  RAUL",1173.48,0,0,1,0,0,0,{"$f":"+IFERROR(HYPERLINK(VLOOKUP(C10012,FOTOGRAFICO!C:E,3,FALSE),C10012),\"\")","v":""}]
[null,null,"203-2316-04","FACIA","FACIA DEL SENTRA 01-03 P/PINTA MARCA RADEC IMPORTADO          203-2316-04",1019.72,0,0,0,0,0,0,{"$f":"+IFERROR(HYPERLINK(VLOOKUP(C10024,FOTOGRAFICO!C:E,3,FALSE),C10024),\"\")","v":""}]
[null,null,"203-3005-11","FACIA","FACIA DEL HIACE 14-16 MARCA    TYG 9 PASAJEROS PIDE CARLOS",2063.7199999999998,0,0,0,0,0,0,{"$f":"+IFERROR(HYPERLINK(VLOOKUP(C10030,FOTOGRAFICO!C:E,3,FALSE),C10030),\"\")","v":""}]
[null,null,"203-3506-02","FACIA","FACIA DEL KIA RIO 1.6 EX LX 18 -20 PARA PINTAR MARCA TYG      PEDIDO OSCAR VERA",1476.97,0,0,0,0,0,0,{"$f":"+IFERROR(HYPERLINK(VLOOKUP(C10035,FOTOGRAFICO!C:E,3,FALSE),C10035),\"\")","v":""}]
[null,null,"CFYN1801","FACIA","FACIA DEL SENTRA 13-16 CON     HOYO PARA FARO MARCA SIMYI     PIDE MARIN CALL",1375.02,0,0,0,0,0,0,{"$f":"+IFERROR(HYPERLINK(VLOOKUP(C10051,FOTOGRAFICO!C:E,3,FALSE),C10051),\"\")","v":""}]
[null,null,"203-0614-18","FACIA","FACIA TRA CHEVY C3 4 PUERTAS   MONZA",1333.73,0,0,0,0,0,0,{"$f":"+IFERROR(HYPERLINK(VLOOKUP(C10059,FOTOGRAFICO!C:E,3,FALSE),C10059),\"\")","v":""}]
[null,null,"203-2321-04","FACIA","FACIA DEL TSURU III 92-17      NGRA MARCA TYG PIDE JORGE",574.94000000000005,0,0,0,0,0,0,{"$f":"+IFERROR(HYPERLINK(VLOOKUP(C10067,FOTOGRAFICO!C:E,3,FALSE),C10067),\"\")","v":""}]
[null,null,"203-3110-00","FACIA","FASCIA DELANTERA VW GOL 08-12  P/PINTAR SIN REJILLA CENTRAL   SIN REJILLAS LATERAL",857.86,0,0,0,0,0,0,{"$f":"+IFERROR(HYPERLINK(VLOOKUP(C10074,FOTOGRAFICO!C:E,3,FALSE),C10074),\"\")","v":""}]
[null,null,"CFTC0812","FACIA","FACIA TRAS SPARK NG 16-21 CON  HOYO PARA MICA MARCA FPI       IMPORTADO",1375.02,0,0,0,0,0,0,{"$f":"+IFERROR(HYPERLINK(VLOOKUP(C10086,FOTOGRAFICO!C:E,3,FALSE),C10086),\"\")","v":""}]
[null,null,"INJN0901-PROMO","FACIA","FACIA DEL VERSA 15-19 VERSA    DRIVE 20-21 CON HOYO PARA FARO SIN HOYO PARA MOLDURA NACIONAL",520.58000000000004,0,0,0,0,0,0,{"$f":"+IFERROR(HYPERLINK(VLOOKUP(C10092,FOTOGRAFICO!C:E,3,FALSE),C10092),\"\")","v":""}]
[null,null,"203-1237-03","FACIA","FACIA DEL WINDSTAR SE 99-03    C/HOYO SIN PARRILLA            PEDIDA JUAN GARCIA",1070.97,0,0,0,0,0,0,{"$f":"+IFERROR(HYPERLINK(VLOOKUP(C10106,FOTOGRAFICO!C:E,3,FALSE),C10106),\"\")","v":""}]
[null,null,"203-1303-02","FACIA","FACIA DEL HONDA CR-V 07-09     SOBRE PEDIDO ERICK FRIAS",542.23,0,0,0,0,0,0,{"$f":"+IFERROR(HYPERLINK(VLOOKUP(C10109,FOTOGRAFICO!C:E,3,FALSE),C10109),\"\")","v":""}]
[null,null,"203-0614-02","FACIA","FACIA TRAS CHEVY 94-03         CORRUGADA 3 PUERTAS MARCA      RADEC IMPORTADA 203-0614-02",807.68,0,0,0,0,0,0,{"$f":"+IFERROR(HYPERLINK(VLOOKUP(C10127,FOTOGRAFICO!C:E,3,FALSE),C10127),\"\")","v":""}]
[null,null,"203-0617-00","FACIA","FACIA DEL CORSA 03-07 P/PINTAR CON HOYO PARA NEBLINERO        PEDIDO EDER",809.3,0,0,0,0,0,0,{"$f":"+IFERROR(HYPERLINK(VLOOKUP(C10129,FOTOGRAFICO!C:E,3,FALSE),C10129),\"\")","v":""}]
[null,null,"203-2311-01","FACIA","FACIA DEL MICRA 05-06 P/PINTAR S/HOYO MARCA RADEC IMPORTADO   203-2311-01",1354.77,0,0,0,0,0,0,{"$f":"+IFERROR(HYPERLINK(VLOOKUP(C10141,FOTOGRAFICO!C:E,3,FALSE),C10141),\"\")","v":""}]
[null,null,"21082-VZ00ABC","FAN CLUTCH","FAN CLUTCH URVAN 2.5L 08-13    ALTIMA 2.5 08-14 FRONTIER 2.5L SENTRA 2.5 MARCA BEST COOLING",637.66999999999996,6,0,11,4,0,3,{"$f":"+IFERROR(HYPERLINK(VLOOKUP(C10146,FOTOGRAFICO!C:E,3,FALSE),C10146),\"\")","v":"21082-VZ00ABC"}]
[null,null,"019-0601-09","FARO","FARO IZQ ASTRA 06-08 ELECTRICO CON MOTOR MARCA POLIWAY",2832.55,1,0,0,0,0,0,{"$f":"+IFERROR(HYPERLINK(VLOOKUP(C10161,FOTOGRAFICO!C:E,3,FALSE),C10161),\"\")","v":""}]
[null,null,"019-0666-08","FARO","FARO DER SPARK 13-17 DEPO      SOBRE PEDIDO JAVIER",2023.25,0,0,0,0,0,0,{"$f":"+IFERROR(HYPERLINK(VLOOKUP(C10173,FOTOGRAFICO!C:E,3,FALSE),C10173),\"\")","v":""}]
[null,null,"019-0670-02","FARO","FARO DER SONIC 12-16 4 PUERTAS BISEL NEGRO P/FARO HB3/H11 SIN FOCO MARCA DEPO",1930.18,0,0,0,0,0,0,{"$f":"+IFERROR(HYPERLINK(VLOOKUP(C10175,FOTOGRAFICO!C:E,3,FALSE),C10175),\"\")","v":""}]
[null,null,"019-1219-08","FARO","FARO DERECHO FOCUS 07-08 4PTAS MANUAL/ELECTRICO P/FOCO        HALOGENO S/FOCO DEPO FER PENA",1643.69,1,0,0,0,0,0,{"$f":"+IFERROR(HYPERLINK(VLOOKUP(C10184,FOTOGRAFICO!C:E,3,FALSE),C10184),\"\")","v":""}]
[null,null,"019-1254-15","FARO","FARO IZQ FIGO 16-18 FONDO      NEGRO MARCA DEPO PIDE YASMAN",2346.9699999999998,0,0,0,0,0,0,{"$f":"+IFERROR(HYPERLINK(VLOOKUP(C10200,FOTOGRAFICO!C:E,3,FALSE),C10200),\"\")","v":""}]
[null,null,"019-2301-02","FARO","FARO DER ALEMRA 03-05 ELECTRIC FONDO NEGRO MARCA DEPO PIDE    JAVIER",2266.04,0,0,0,0,0,0,{"$f":"+IFERROR(HYPERLINK(VLOOKUP(C10203,FOTOGRAFICO!C:E,3,FALSE),C10203),\"\")","v":""}]
[null,null,"019-2321-12","FARO","FARO DER TSURU III 05-17       PLASTICO CON OJO AZUL CON BASE DEPO = NIS107F1151 = FFNN0151",546.27,2,4,2,2,2,1,{"$f":"+IFERROR(HYPERLINK(VLOOKUP(C10218,FOTOGRAFICO!C:E,3,FALSE),C10218),\"\")","v":"019-2321-12"}]
[null,null,"019-2322-23","FARO","FARO IZQ URVAN NV350 18-21     MARCA DEPO",2306.5100000000002,1,0,5,1,1,1,{"$f":"+IFERROR(HYPERLINK(VLOOKUP(C10223,FOTOGRAFICO!C:E,3,FALSE),C10223),\"\")","v":""}]
[null,null,"019-2704-03","FARO","FARO IZQ IBIZA 01-02 CORDOBA   01-02 DOBLE AS MARCA DEPO",1424.37,0,0,0,0,1,0,{"$f":"+IFERROR(HYPERLINK(VLOOKUP(C10235,FOTOGRAFICO!C:E,3,FALSE),C10235),\"\")","v":"019-2704-03"}]
[null,null,"019-3005-08","FARO","FARO DER HIACE 14-19 P/FOCO    HALOGENO S/FOCO ELECTRICO      MANUAL MARCA DEPO",1740,2,0,0,0,0,0,{"$f":"+IFERROR(HYPERLINK(VLOOKUP(C10243,FOTOGRAFICO!C:E,3,FALSE),C10243),\"\")","v":"019-3005-08"}]
[null,null,"019-3110-11","FARO","FARO IZQ VW GOL 13-16 SAVEIRO  14-16 MANUAL FONDO NEGRO DOBLE AS DEPO IMPORTADO",1820.93,3,0,1,0,1,0,{"$f":"+IFERROR(HYPERLINK(VLOOKUP(C10255,FOTOGRAFICO!C:E,3,FALSE),C10255),\"\")","v":"019-3110-11"}]
[null,null,"019-3111-02","FARO","FARO DER GOLF A3 93-99 RAYADO  DEPO IMPORTADO = TAW502F1101",888.61,1,0,1,1,1,1,{"$f":"+IFERROR(HYPERLINK(VLOOKUP(C10258,FOTOGRAFICO!C:E,3,FALSE),C10258),\"\")","v":"019-3111-02"}]
[null,null,"019-3118-01","FARO","FARO IZQ SHARAN 02-07 ELECTRIC CON MOTOR MARCA DEPO PEDIDO    MIGUEL",1958.51,0,0,0,0,0,0,{"$f":"+IFERROR(HYPERLINK(VLOOKUP(C10272,FOTOGRAFICO!C:E,3,FALSE),C10272),\"\")","v":""}]
[null,null,"26010-VX60AE","FARO","FARO DER URVAN 07-12 LISO      DIFORZA = 26010-PROMO          = NIS215-11B4R",752.65,0,0,0,18,4,5,{"$f":"+IFERROR(HYPERLINK(VLOOKUP(C10278,FOTOGRAFICO!C:E,3,FALSE),C10278),\"\")","v":"26010-VX60AE"}]
[null,null,"BRA19103","FARO","FARO IZQ DERBY 02-04 DEPO      IMPORTADO",1582.99,1,0,0,0,1,0,{"$f":"+IFERROR(HYPERLINK(VLOOKUP(C10290,FOTOGRAFICO!C:E,3,FALSE),C10290),\"\")","v":"BRA19103"}]
[null,null,"C-188026M3","FARO","FARO MOTO TITAN 2000/FT150     DELANTERO COMPLETO             ENFAR-3211-0007",177.95,2,2,0,5,2,2,{"$f":"+IFERROR(HYPERLINK(VLOOKUP(C10301,FOTOGRAFICO!C:E,3,FALSE),C10301),\"\")","v":""}]
[null,null,"ECO102511","FARO","FARO IZQ JETTA A3 93-98 RAYADO CRISTAL DEPO IMPORTADO",890.23,2,1,2,1,0,1,{"$f":"+IFERROR(HYPERLINK(VLOOKUP(C10310,FOTOGRAFICO!C:E,3,FALSE),C10310),\"\")","v":""}]
[null,null,"FAC7606800","FARO","FARO AUX NIEBLA JETTA 08-15    JGO 2PZAS IZQ Y DER CON REJILL AS MARCA RACINGTEC",875.42,0,2,0,1,0,2,{"$f":"+IFERROR(HYPERLINK(VLOOKUP(C10317,FOTOGRAFICO!C:E,3,FALSE),C10317),\"\")","v":"FAC7606800"}]
[null,null,"FAL04Y","FARO","FARO RED LUPA ARILLO 3 AMBAR   JGO 2 PZA",143.13999999999999,3,3,6,3,4,0,{"$f":"+IFERROR(HYPERLINK(VLOOKUP(C10330,FOTOGRAFICO!C:E,3,FALSE),C10330),\"\")","v":""}]
[null,null,"FAL123RBL","FARO","FARO CUADRADO 24 LED BLANCO    FIJO FUNCIONES ROJO AZUL TIPO  CODIGO CENTRO JGO 2 PZA",159.74,2,1,2,0,2,0,{"$f":"+IFERROR(HYPERLINK(VLOOKUP(C10333,FOTOGRAFICO!C:E,3,FALSE),C10333),\"\")","v":"FAL123RBL"}]
[null,null,"FAL79","FARO","FARO UNIDAD REDONDA 7 H/L CON  ARILLO DE LED BICOLOR DE       CONTORNO Y OJO ANGEL H/L",1593.7,0,0,0,1,2,0,{"$f":"+IFERROR(HYPERLINK(VLOOKUP(C10349,FOTOGRAFICO!C:E,3,FALSE),C10349),\"\")","v":"FAL79"}]
[null,null,"FAL88","FARO","FARO UNIDAD RECTANGULAR 7 H/L  CON LUPA Y OJO DE ANGEL BLANCO AMBAR",1085.43,0,0,0,0,2,0,{"$f":"+IFERROR(HYPERLINK(VLOOKUP(C10352,FOTOGRAFICO!C:E,3,FALSE),C10352),\"\")","v":"FAL88"}]
[null,null,"FA-LHR17N","FARO","FARO REDONDO GRANDE 17 HIPER   LEDS 51W",314.44,0,0,0,0,9,0,{"$f":"+IFERROR(HYPERLINK(VLOOKUP(C10369,FOTOGRAFICO!C:E,3,FALSE),C10369),\"\")","v":""}]
[null,null,"FALHR34G","FARO","FARO REDONDO 34 HIPERLED       FUNCION ESTROBO OJO ANGEL      VERDE 11.1 CM MARCA TUNIX",228.03,3,1,2,3,1,1,{"$f":"+IFERROR(HYPERLINK(VLOOKUP(C10372,FOTOGRAFICO!C:E,3,FALSE),C10372),\"\")","v":"FALHR34G"}]
[null,null,"FALM2BL","FARO","FARO MOTO 9 LEDS ESTROBO AZUL",52.97,33,1,0,0,1,0,{"$f":"+IFERROR(HYPERLINK(VLOOKUP(C10384,FOTOGRAFICO!C:E,3,FALSE),C10384),\"\")","v":"FALM2BL"}]
[null,null,"FALM40","FARO","FARO 4 LED MOTO BLANCO AMBAR",44.85,3,3,3,3,0,3,{"$f":"+IFERROR(HYPERLINK(VLOOKUP(C10388,FOTOGRAFICO!C:E,3,FALSE),C10388),\"\")","v":""}]
[null,null,"FA-MLHR4R","FARO","FARO REDONDO MINI 4 LEDS ROJO",22.79,19,14,11,30,15,5,{"$f":"+IFERROR(HYPERLINK(VLOOKUP(C10404,FOTOGRAFICO!C:E,3,FALSE),C10404),\"\")","v":""}]
[null,null,"FAMLHR5NG","FARO","FARO MOTO ALTA BAJA C/ESTROBO  REDONDO OJO ANGEL VERDE 5W     4.9 CM",153.36000000000001,0,0,0,4,0,1,{"$f":"+IFERROR(HYPERLINK(VLOOKUP(C10407,FOTOGRAFICO!C:E,3,FALSE),C10407),\"\")","v":""}]
[null,null,"FAR02","FARO","FARO REDONDO HALOGENO SET      2 PIEZAS TUNIX",385.93,0,0,0,0,0,0,{"$f":"+IFERROR(HYPERLINK(VLOOKUP(C10417,FOTOGRAFICO!C:E,3,FALSE),C10417),\"\")","v":""}]
[null,null,"FFNC0821","FARO","FARO DER SPARK NG 16-18 FONDO  CROMADO MARCA DIFORZA",1128.8699999999999,1,3,2,2,3,2,{"$f":"+IFERROR(HYPERLINK(VLOOKUP(C10427,FOTOGRAFICO!C:E,3,FALSE),C10427),\"\")","v":"FFNC0821"}]
[null,null,"FFNF0212","FARO","FARO IZQ FIESTA FIRST 03-07    LISO CUARTO AMBAR DEPO         IMPORTADO = DIFFNF0212",1128.97,0,1,0,1,1,1,{"$f":"+IFERROR(HYPERLINK(VLOOKUP(C10443,FOTOGRAFICO!C:E,3,FALSE),C10443),\"\")","v":""}]
[null,null,"FFNF0313","FARO","FARO DER FIESTA IKON SEDAN 11- 12 FONDO NEGRO 4 PTA MARCA     DIFORZA PIDE CURRO",1375.02,1,0,0,0,0,0,{"$f":"+IFERROR(HYPERLINK(VLOOKUP(C10446,FOTOGRAFICO!C:E,3,FALSE),C10446),\"\")","v":""}]
[null,null,"FFNN0401PROMO","FARO","FARO DER URVAN 02-06 RAYADO    DIFORZA = 26010-VW025",563.02,4,0,0,0,0,0,{"$f":"+IFERROR(HYPERLINK(VLOOKUP(C10459,FOTOGRAFICO!C:E,3,FALSE),C10459),\"\")","v":""}]
[null,null,"FFNN0902","FARO","FARO IZQ VERSA 11-14 DIFORZA",1128.8699999999999,1,2,0,2,1,2,{"$f":"+IFERROR(HYPERLINK(VLOOKUP(C10466,FOTOGRAFICO!C:E,3,FALSE),C10466),\"\")","v":""}]
[null,null,"FFNT0401","FARO","FARO DER HIACE 06-11 CUARTO    RAYADO FORCETEC IMPORTADO      = 019-3005-00",702.79,2,2,4,1,0,3,{"$f":"+IFERROR(HYPERLINK(VLOOKUP(C10478,FOTOGRAFICO!C:E,3,FALSE),C10478),\"\")","v":""}]
[null,null,"FFNV0122","FARO","FARO IZQ JETTA A4 99-07 LISO   CUARTO BLANCO SIN LUPA         FORCETEC IMPORTADO",845.95,0,0,0,2,0,2,{"$f":"+IFERROR(HYPERLINK(VLOOKUP(C10489,FOTOGRAFICO!C:E,3,FALSE),C10489),\"\")","v":""}]
[null,null,"FFNV0361","FARO","FARO DER GOLF A4 00-07 CRISTAL CON FOCO AMBAR Y PROYECTOR     FORCETEC IMPORTADO",993.07,0,1,0,2,0,6,{"$f":"+IFERROR(HYPERLINK(VLOOKUP(C10498,FOTOGRAFICO!C:E,3,FALSE),C10498),\"\")","v":""}]
[null,null,"FFNV0622","FARO","FARO IZQ VW GOL 13-16 SAVEIRO  14-16 FONDO NEGRO UN AS        DIFORZA",930.82,0,2,1,1,8,2,{"$f":"+IFERROR(HYPERLINK(VLOOKUP(C10501,FOTOGRAFICO!C:E,3,FALSE),C10501),\"\")","v":""}]
[null,null,"FG70LE","FARO","FARO IZQ CHEVY 94-00 CRISTAL   RAYADO DIFORZA                 = 019-0614-01 = 20-3204-H5-2B",421.56,6,9,9,19,2,2,{"$f":"+IFERROR(HYPERLINK(VLOOKUP(C10514,FOTOGRAFICO!C:E,3,FALSE),C10514),\"\")","v":""}]
[null,null,"FOLM35","FARO","FARO GEMELO MINI 12 LEDS STR",55.77,3,2,3,3,1,0,{"$f":"+IFERROR(HYPERLINK(VLOOKUP(C10521,FOTOGRAFICO!C:E,3,FALSE),C10521),\"\")","v":""}]
[null,null,"IOLLFL185","FARO","FARO 24 LEDS 10-30V 72W C/OJO  DE ANGEL AZUL",475.31,1,0,0,0,2,0,{"$f":"+IFERROR(HYPERLINK(VLOOKUP(C10533,FOTOGRAFICO!C:E,3,FALSE),C10533),\"\")","v":"IOLLFL185"}]
[null,null,"NIS107F1151","FARO","FARO DER TSURU III 05-17       PLASTICO CON OJO AZUL CON BASE DIFORZA = 019-2321-12",322.52999999999997,16,37,18,2,25,13,{"$f":"+IFERROR(HYPERLINK(VLOOKUP(C10543,FOTOGRAFICO!C:E,3,FALSE),C10543),\"\")","v":""}]
[null,null,"ORI514F1101","FARO","FARO DER POINTER 06-09 DEPO    IMPORTADO = TAW22436",959.83,2,0,0,1,1,2,{"$f":"+IFERROR(HYPERLINK(VLOOKUP(C10553,FOTOGRAFICO!C:E,3,FALSE),C10553),\"\")","v":""}]
[null,null,"RSLED13026YW","FARO","FARO MOTO AUXILIAR C/ LUZ FIJA BLANCA Y AMARILLA RECTANGULAR2 LENTES C/LUPA",129.21,2,0,2,0,2,2,{"$f":"+IFERROR(HYPERLINK(VLOOKUP(C10560,FOTOGRAFICO!C:E,3,FALSE),C10560),\"\")","v":""}]
[null,null,"RSLED13079WBUY","FARO","FARO MOTO AUXILIAR RECTANGULAR TRIPLE LED LENTE C/LUPA LUZ    BLANCA ALTA/BAJA ESTROBO LUCES",143.68,2,2,2,2,2,2,{"$f":"+IFERROR(HYPERLINK(VLOOKUP(C10572,FOTOGRAFICO!C:E,3,FALSE),C10572),\"\")","v":""}]
[null,null,"RSLED13091YW","FARO","FARO MOTO AUXILIAR LED C/OJO   PESCADO C/LENTE LUPA LUZ       BLANCA-AMARILLA FIJA",133.34,0,0,0,0,0,0,{"$f":"+IFERROR(HYPERLINK(VLOOKUP(C10576,FOTOGRAFICO!C:E,3,FALSE),C10576),\"\")","v":""}]
[null,null,"TAW502F1101","FARO","FARO DER GOLF A3 93-99 RAYADO  FORCETEC IMPORTADO             = 019-3111-02",700.24,2,0,0,0,0,1,{"$f":"+IFERROR(HYPERLINK(VLOOKUP(C10592,FOTOGRAFICO!C:E,3,FALSE),C10592),\"\")","v":"TAW502F1101"}]
[null,null,"TAW553F1132","FARO","FARO IZQ JETTA A4 99-07 LISO   CUARTO AMBAR SIN LUPA FORCETEC IMPORTADO = 019-3112-15",845.95,3,0,0,1,3,7,{"$f":"+IFERROR(HYPERLINK(VLOOKUP(C10595,FOTOGRAFICO!C:E,3,FALSE),C10595),\"\")","v":"TAW553F1132"}]
[null,null,"ULH18515C","FARO","FARO RECTANGUL 7 PULG. 15 LEDS C/OJO DE ANGEL BLANCO 3W JGO   2 PIEZAS MARCA TUNIX",282.97000000000003,1,0,0,0,4,0,{"$f":"+IFERROR(HYPERLINK(VLOOKUP(C10605,FOTOGRAFICO!C:E,3,FALSE),C10605),\"\")","v":""}]
[null,null,"USA4652","FARO","FARO RECTANGULAR CHICO SELLADO 3 POLOS HALOGENO",103.06,11,0,8,0,6,0,{"$f":"+IFERROR(HYPERLINK(VLOOKUP(C10615,FOTOGRAFICO!C:E,3,FALSE),C10615),\"\")","v":"USA4652"}]
[null,null,"015311201","FARO","FARO AUX GOLF A2 FACIA ANCHA I IZQUIERDO",470.69,0,0,0,0,0,0,{"$f":"+IFERROR(HYPERLINK(VLOOKUP(C10627,FOTOGRAFICO!C:E,3,FALSE),C10627),\"\")","v":"015311201"}]
[null,null,"015-3115-04","FARO","FARO NIEBLA POINTER 00-05 DER  CON LUPA MARCA RADEC PIDE RAUL",657.96,0,1,0,0,0,0,{"$f":"+IFERROR(HYPERLINK(VLOOKUP(C10630,FOTOGRAFICO!C:E,3,FALSE),C10630),\"\")","v":""}]
[null,null,"019-0718-02","FARO","FARO DER TOWN COUNTRY 05-07    VOYAGER 05-07 MARCA DEPO       PEDIDO ALEJANDRO",1925.33,0,0,0,0,0,0,{"$f":"+IFERROR(HYPERLINK(VLOOKUP(C10647,FOTOGRAFICO!C:E,3,FALSE),C10647),\"\")","v":""}]
[null,null,"019-0912-01","FARO","FARO IZQUIERDO NEON 95-99      MARCA: DEPO                    SOBRE PEDIDO OSCAR",590.22,0,0,0,0,0,0,{"$f":"+IFERROR(HYPERLINK(VLOOKUP(C10650,FOTOGRAFICO!C:E,3,FALSE),C10650),\"\")","v":""}]
[null,null,"019-3005-06","FARO","FARO DERECHO HIACE 12-13       P/FOCO HALOGENO MACA: DEPO     SOBRE PEDIDO DAVID ROSAS",1699.53,0,0,0,0,0,0,{"$f":"+IFERROR(HYPERLINK(VLOOKUP(C10659,FOTOGRAFICO!C:E,3,FALSE),C10659),\"\")","v":""}]
[null,null,"019-3134-00","FARO","FARO DER CADDY 16-20 P/CARGA   ELECTRICO C/MOTOR SIN FOCO     MARCA DEPO IMPORTADO",3237.2,0,0,0,0,0,0,{"$f":"+IFERROR(HYPERLINK(VLOOKUP(C10670,FOTOGRAFICO!C:E,3,FALSE),C10670),\"\")","v":""}]
[null,null,"FFNN0912PROMO","FARO","FARO IZQ VERSA 15-19 DIFORZA   NISSAN VERSA 15-19 V-DRIVE 20- EN ADELANTE",1411.8,0,1,0,0,0,0,{"$f":"+IFERROR(HYPERLINK(VLOOKUP(C10682,FOTOGRAFICO!C:E,3,FALSE),C10682),\"\")","v":""}]
[null,null,"FFNV0501","FARO","FARO DER DERBY 05-09 IBIZA 99- 02 CORDOBA 99-02 CROMADO 1 AS  DIFORZA PEDIDO JAVIER",738.43,0,0,0,0,0,0,{"$f":"+IFERROR(HYPERLINK(VLOOKUP(C10688,FOTOGRAFICO!C:E,3,FALSE),C10688),\"\")","v":""}]
[null,null,"015-1227-03","FARO","FARO NIEBL FD MONDEO 04-07 IZQ IZQUIERDO MARCA DEPO",718.66,0,0,0,0,0,0,{"$f":"+IFERROR(HYPERLINK(VLOOKUP(C10702,FOTOGRAFICO!C:E,3,FALSE),C10702),\"\")","v":""}]
[null,null,"015-2704-06","FARO","FARO NIEBLA DER IBIZA 09-12    LEON 10-11 DEPO                PEDIDO JORGE DIAZ",856.51,0,0,0,0,0,0,{"$f":"+IFERROR(HYPERLINK(VLOOKUP(C10709,FOTOGRAFICO!C:E,3,FALSE),C10709),\"\")","v":""}]
[null,null,"019-0633-00","FARO","FARO DERECHO OPTRA 06-10       MARCA: DEPO",736.8,0,0,0,0,0,0,{"$f":"+IFERROR(HYPERLINK(VLOOKUP(C10717,FOTOGRAFICO!C:E,3,FALSE),C10717),\"\")","v":""}]
[null,null,"019-1224-05","FARO","FARO IZQ IKON 11-12 4 PUERTAS  FONDO CROMADO MARCA TYC PIDE   RAUL",1854.65,0,0,0,0,0,0,{"$f":"+IFERROR(HYPERLINK(VLOOKUP(C10725,FOTOGRAFICO!C:E,3,FALSE),C10725),\"\")","v":""}]
[null,null,"019-2704-16","FARO","FARO DER IBIZA 10-12 UN AS     FONDO NEGRO MARCA: DEPO        PEDIDO ANGEL",2121.9899999999998,0,0,0,0,0,0,{"$f":"+IFERROR(HYPERLINK(VLOOKUP(C10741,FOTOGRAFICO!C:E,3,FALSE),C10741),\"\")","v":""}]
[null,null,"019-3108-18","FARO","FARO DERECHO DERBY 02-04       MARCA: DEPO PEDIDO JORGUE",1582.99,0,0,0,1,0,0,{"$f":"+IFERROR(HYPERLINK(VLOOKUP(C10744,FOTOGRAFICO!C:E,3,FALSE),C10744),\"\")","v":""}]
[null,null,"019-3506-11","FARO","FARO KIA RIOA 18-23 SIN LUPA   SIN MOTOR MARCA DEPO",2630.23,0,0,0,0,0,0,{"$f":"+IFERROR(HYPERLINK(VLOOKUP(C10756,FOTOGRAFICO!C:E,3,FALSE),C10756),\"\")","v":""}]
[null,null,"FEC6003300","FARO","FARO UNIDAD REDONDA 5 C/LUPAS  C/BASE RACINGTEC PIDE JORGE GU 12 LEDS ALTA BAJA",357.2,0,0,0,0,0,0,{"$f":"+IFERROR(HYPERLINK(VLOOKUP(C10764,FOTOGRAFICO!C:E,3,FALSE),C10764),\"\")","v":""}]
[null,null,"FFNV0192","FARO","FARO IZQ JETTA A6 10-15 FONDO  NEGRO CUARTO AMBAR MARCA       DIFORZA PIDE JORGE",2393.56,0,1,0,0,0,0,{"$f":"+IFERROR(HYPERLINK(VLOOKUP(C10776,FOTOGRAFICO!C:E,3,FALSE),C10776),\"\")","v":""}]
[null,null,"FIC8001300","FARO","FARO UNIDAD DE LED REDONDA 5   3/4 RACINGTEC PIDE JORGE GUTI  OJO DE AGUILA",533.21,0,0,0,0,0,0,{"$f":"+IFERROR(HYPERLINK(VLOOKUP(C10785,FOTOGRAFICO!C:E,3,FALSE),C10785),\"\")","v":""}]
[null,null,"019-0611-06","FARO","FARO DER CAVALIER 00-02 MARCA  DEPO PIDE FABIAN",1096.5999999999999,0,0,0,1,0,0,{"$f":"+IFERROR(HYPERLINK(VLOOKUP(C10796,FOTOGRAFICO!C:E,3,FALSE),C10796),\"\")","v":""}]
[null,null,"019-0617-01","FARO","FARO IZQ CORSA 00-02 EUROPEO   MARCA DEPO PEDIDO ENRIQUE",1493.97,0,0,0,0,0,0,{"$f":"+IFERROR(HYPERLINK(VLOOKUP(C10799,FOTOGRAFICO!C:E,3,FALSE),C10799),\"\")","v":""}]
[null,null,"019-2315-03","FARO","FARO IZQ QUEST VILLAGER 93-95  C/BASE MARCA DEPO IMPORTADO    019-2315-03",890.23,0,0,0,0,0,0,{"$f":"+IFERROR(HYPERLINK(VLOOKUP(C10814,FOTOGRAFICO!C:E,3,FALSE),C10814),\"\")","v":""}]
[null,null,"019-2506-00","FARO","FARO DER MATIZ 04-05           MARCA DEPO PEDIDO ENRIQUE",848.14,0,0,0,0,0,0,{"$f":"+IFERROR(HYPERLINK(VLOOKUP(C10819,FOTOGRAFICO!C:E,3,FALSE),C10819),\"\")","v":""}]
[null,null,"AVV001BL","FARO","FAROS X2 coLor AZUL",119.02,0,0,0,0,0,0,{"$f":"+IFERROR(HYPERLINK(VLOOKUP(C10826,FOTOGRAFICO!C:E,3,FALSE),C10826),\"\")","v":"AVV001BL"}]
[null,null,"019-0633-03","FARO","FARO IZQ OPTRA 06-10 3 PINES   MARCA TYC IMPORTADO            019-0633-03",1311.06,0,0,0,0,0,0,{"$f":"+IFERROR(HYPERLINK(VLOOKUP(C10843,FOTOGRAFICO!C:E,3,FALSE),C10843),\"\")","v":""}]
[null,null,"019-3124-01","FARO","FARO IZQ CRAFTER 08-17 MARCA   DEPO PIDE EDUARDO",3722.79,0,0,0,0,0,0,{"$f":"+IFERROR(HYPERLINK(VLOOKUP(C10851,FOTOGRAFICO!C:E,3,FALSE),C10851),\"\")","v":""}]
[null,null,"FFVK0311","FARO","FARO DER RAM PICK UP 94-02     CROMADO MICA AMBAR             SOBRE PEDID",594.83000000000004,0,0,0,0,0,0,{"$f":"+IFERROR(HYPERLINK(VLOOKUP(C10858,FOTOGRAFICO!C:E,3,FALSE),C10858),\"\")","v":""}]
[null,null,"036-129-620H","FILTRO","FILTRO AIRE VENTO 1.6 14-21    POLO 1.6 15-20 IBIZA 1.6 10-15 TOLEDO 1.6 15-19 SMIDTD",126.12,3,15,3,2,4,2,{"$f":"+IFERROR(HYPERLINK(VLOOKUP(C10870,FOTOGRAFICO!C:E,3,FALSE),C10870),\"\")","v":"036-129-620H"}]
[null,null,"03C-115-561H","FILTRO","FILTRO ACEITE VENTO 1.6 14-21  IBIZA V 1.2 1.4 09-15 POLO 1.6 14-17 MARCA SMIDTD IMPORTADO",66.680000000000007,3,18,1,1,6,7,{"$f":"+IFERROR(HYPERLINK(VLOOKUP(C10872,FOTOGRAFICO!C:E,3,FALSE),C10872),\"\")","v":"03C-115-561H"}]
[null,null,"10365251MF","FILTRO","FILTRO CABINA MG ZS 1.5 21-24  CARBON ACTIVO SIN MARCO MARCA  MOTORFIL CUK20037",122.04,0,2,2,0,2,0,{"$f":"+IFERROR(HYPERLINK(VLOOKUP(C10890,FOTOGRAFICO!C:E,3,FALSE),C10890),\"\")","v":""}]
[null,null,"10869011MF","FILTRO","FILTRO CABINA MG MG5 GT 1.5    21-24 CARBON ACTIVO SIN MARCO  MARCA MOTORFIL CUK22051",176.9,0,2,2,0,2,0,{"$f":"+IFERROR(HYPERLINK(VLOOKUP(C10893,FOTOGRAFICO!C:E,3,FALSE),C10893),\"\")","v":""}]
[null,null,"15208F4300-KB","FILTRO","FILTRO ACEITE TSURU 1.6 09-17  SWIFT 1.4 12-20 CIAZ 1.4 16-18 GRAND VITARA 2.4 11-17 KABUTO",21.21,0,9,3,1,3,0,{"$f":"+IFERROR(HYPERLINK(VLOOKUP(C10901,FOTOGRAFICO!C:E,3,FALSE),C10901),\"\")","v":""}]
[null,null,"16546ET00A-KB","FILTRO","FILTRO AIRE SENTRA 2.0 07-12   IRREGULAR MARCA KABUTO GA-1529",44.56,2,1,1,2,1,2,{"$f":"+IFERROR(HYPERLINK(VLOOKUP(C10913,FOTOGRAFICO!C:E,3,FALSE),C10913),\"\")","v":""}]
[null,null,"1J0-129-620","FILTRO","FILTRO AIRE VW JETTA A4 1.8    2.0 2.8 99-10 BEETLE 2.0 1.8   98-11 TOLEDO 1.8 01-02 LEON",56.22,16,7,36,2,5,9,{"$f":"+IFERROR(HYPERLINK(VLOOKUP(C10925,FOTOGRAFICO!C:E,3,FALSE),C10925),\"\")","v":"1J0-129-620"}]
[null,null,"25161333KB","FILTRO","FILTRO GAS CHEVY 94-12 CORSA   02-08 TORNADO 04-18 ZAFIRA     02-07 ASTRA 00-08 KABUTO GG-64",22.28,0,1,1,0,1,2,{"$f":"+IFERROR(HYPERLINK(VLOOKUP(C10930,FOTOGRAFICO!C:E,3,FALSE),C10930),\"\")","v":""}]
[null,null,"28113H91-PROMO","FILTRO","FILTRO AIRE KIA RIO 1.6 18-20  ACCENT 1.6 18-20 MCA: MOTORFIL = GA-1618 = GA1618",0,0,0,0,0,0,0,{"$f":"+IFERROR(HYPERLINK(VLOOKUP(C10945,FOTOGRAFICO!C:E,3,FALSE),C10945),\"\")","v":""}]
[null,null,"6Q0-820-367MF","FILTRO","FILTRO CABINA VENTO 1.6 14-21  VW GOL 1.6 09-20 SAVEIRO 1.6   10-16 CROSSFOX 11-17 MOTORFIL",75.42,13,11,6,4,6,8,{"$f":"+IFERROR(HYPERLINK(VLOOKUP(C10952,FOTOGRAFICO!C:E,3,FALSE),C10952),\"\")","v":""}]
[null,null,"93185674-KB","FILTRO","FILTRO ACEITE SONIC 1.6 12-17  SONIC 1.4 14-20 CRUZE 1.8 10-  16 CARTUCHO KABUTO G-3751",25.46,2,1,1,1,4,2,{"$f":"+IFERROR(HYPERLINK(VLOOKUP(C10959,FOTOGRAFICO!C:E,3,FALSE),C10959),\"\")","v":"93185674-KB"}]
[null,null,"96879797-KB","FILTRO","FILTRO ACEITE AVEO 09-17 CHEVY 01-12 TORNADO 04-17 CORSA 02-  08 ASTRA 2.0 02-06 KABUTO",27.58,0,51,75,4,40,10,{"$f":"+IFERROR(HYPERLINK(VLOOKUP(C10968,FOTOGRAFICO!C:E,3,FALSE),C10968),\"\")","v":""}]
[null,null,"986MF0039","FILTRO","FILTRO ACEITE AVEO 09-17 CHEVY 01-12 TORNADO 04-17 CORSA 02-  08 ASTRA 2.0 02-06 BOSCH",68.84,3,4,2,7,1,1,{"$f":"+IFERROR(HYPERLINK(VLOOKUP(C10975,FOTOGRAFICO!C:E,3,FALSE),C10975),\"\")","v":"986MF0039"}]
[null,null,"986MF4217","FILTRO","FILTRO AIRE VERSA 1.6 20-22    KICKS 1.6 17-23 MARCA BOSCH    GAD-6554 = GAD6554",179.23,10,1,14,4,9,2,{"$f":"+IFERROR(HYPERLINK(VLOOKUP(C10987,FOTOGRAFICO!C:E,3,FALSE),C10987),\"\")","v":"986MF4217"}]
[null,null,"AANH0400","FILTRO","FILTRO AIRE FIT 1.5 06-08      HONDA FIT",63.65,0,2,0,0,0,0,{"$f":"+IFERROR(HYPERLINK(VLOOKUP(C11002,FOTOGRAFICO!C:E,3,FALSE),C11002),\"\")","v":"AANH0400"}]
[null,null,"ACDPF1233M","FILTRO","FILTRO ACEITE MATIZ 1.0 04-15  AVANZA 1.5 07-21 YARIS 1.5 06- 19 COROLLA 19-23 MARCA ACDELCO",82.27,4,3,2,9,5,3,{"$f":"+IFERROR(HYPERLINK(VLOOKUP(C11007,FOTOGRAFICO!C:E,3,FALSE),C11007),\"\")","v":"ACDPF1233M"}]
[null,null,"AF-FD1688","FILTRO","FILTRO AIRE FOCUS 2.0 00-04    RECTANGULAR MARCA MOTORFIL     IMPORTADO GA168",68.56,0,2,0,1,2,2,{"$f":"+IFERROR(HYPERLINK(VLOOKUP(C11019,FOTOGRAFICO!C:E,3,FALSE),C11019),\"\")","v":"AF-FD1688"}]
[null,null,"AF-MN7840","FILTRO","FILTRO AIRE IKON INDIA 1.6 12- MINI COOPER 1.6 02-06 MARCA    MOTORFIL IMPORTADO F-78A40",53.48,1,0,0,5,1,2,{"$f":"+IFERROR(HYPERLINK(VLOOKUP(C11027,FOTOGRAFICO!C:E,3,FALSE),C11027),\"\")","v":"AF-MN7840"}]
[null,null,"ALEC14130","FILTRO","FILTRO AIRE JETTA CLASICO 2.0  11-15 JETTA 2.0 15-18 LEON 1.4 TURBO 08-09 CILINDRO MANN FIL.",248.18,3,1,1,2,1,1,{"$f":"+IFERROR(HYPERLINK(VLOOKUP(C11039,FOTOGRAFICO!C:E,3,FALSE),C11039),\"\")","v":"ALEC14130"}]
[null,null,"ALEC22952","FILTRO","FILTRO AIRE GOL 1.6 09-        MCA: MANN FILTER C22952        SOBRE PEDIDO X DANIEL CASTILLO",99.13,0,0,0,0,0,0,{"$f":"+IFERROR(HYPERLINK(VLOOKUP(C11042,FOTOGRAFICO!C:E,3,FALSE),C11042),\"\")","v":""}]
[null,null,"ALEC43102","FILTRO","FILTRO AIRE GOLF 2.5 06-14     JETTA 2.5 05-17 BEETLE 2.5 12- 18 BORA 2.5 06-10 RECTA.MANN F",128.13,7,6,1,4,3,4,{"$f":"+IFERROR(HYPERLINK(VLOOKUP(C11056,FOTOGRAFICO!C:E,3,FALSE),C11056),\"\")","v":"ALEC43102"}]
[null,null,"ALEW712/52","FILTRO","FILTRO ACEITE GOL 08-17 POLO   03-07 SAVEIRO 10-17 LUPO 04-10 CORDOBA 03-09 MANN FILTER",108.58,5,9,4,4,5,9,{"$f":"+IFERROR(HYPERLINK(VLOOKUP(C11062,FOTOGRAFICO!C:E,3,FALSE),C11062),\"\")","v":"ALEW712/52"}]
[null,null,"ALEWK512","FILTRO","FILTRO GAS DERBY 1.8 2.0 99-09 DERBY VAN 1.8 02-08 CON CEJAS  MANN FILTER = GG106",68.11,2,6,0,0,2,0,{"$f":"+IFERROR(HYPERLINK(VLOOKUP(C11069,FOTOGRAFICO!C:E,3,FALSE),C11069),\"\")","v":"ALEWK512"}]
[null,null,"BSH0450905030","FILTRO","FILTRO GAS VW SEDAN 1.6 97-04  COMBI 1.8 97-02 DERBY 1.8 95-  98 GOLF A3 1.8 2.0 97-99 BOSCH",84.27,3,0,0,5,0,1,{"$f":"+IFERROR(HYPERLINK(VLOOKUP(C11085,FOTOGRAFICO!C:E,3,FALSE),C11085),\"\")","v":"BSH0450905030"}]
[null,null,"CFI1327KB","FILTRO","FILTRO CABINA SPARK 1.2L 1.4L  13-22 SONIC 1.6 12-17 MARCA    KABUTO",47.74,1,1,1,0,1,1,{"$f":"+IFERROR(HYPERLINK(VLOOKUP(C11094,FOTOGRAFICO!C:E,3,FALSE),C11094),\"\")","v":""}]
[null,null,"CFI-9538MF","FILTRO","FILTRO CABINA BEAT 1.2Lt 08-21 SPARK 1.2Lt 11-15 MCA MOTORFIL",46.62,5,10,4,33,12,1,{"$f":"+IFERROR(HYPERLINK(VLOOKUP(C11101,FOTOGRAFICO!C:E,3,FALSE),C11101),\"\")","v":"CFI-9538MF"}]
[null,null,"D-21","FILTRO","FILTRO AIRE NISSAN PICKUP 2.4  93-10 FRONTIER 2.4 98-04       PLATILLO 2 ORIFICIOS NACIONAL",57.84,10,25,10,25,8,6,{"$f":"+IFERROR(HYPERLINK(VLOOKUP(C11114,FOTOGRAFICO!C:E,3,FALSE),C11114),\"\")","v":""}]
[null,null,"ECOFR","FILTRO","FILTRO AIRE VW SEDAN REPUESTO  REPUESTO UNIVERSAL REDONDO     PEQUENO",14.87,66,17,20,44,31,21,{"$f":"+IFERROR(HYPERLINK(VLOOKUP(C11117,FOTOGRAFICO!C:E,3,FALSE),C11117),\"\")","v":"ECOFR"}]
[null,null,"EGP15208-H8916","FILTRO","FILTRO ACEITE TSURU 84-04      TSUBAME 93-04 SENTRA 82-98     PICKUP 81-84 CORTO IMPORTADO",31.54,154,36,27,25,9,33,{"$f":"+IFERROR(HYPERLINK(VLOOKUP(C11124,FOTOGRAFICO!C:E,3,FALSE),C11124),\"\")","v":""}]
[null,null,"EGP96591485","FILTRO","FILTRO AIRE MATIZ 1.0 06-16    IMPORTADO GA-323               = GM96591485 = GA323",39.76,16,11,11,9,14,7,{"$f":"+IFERROR(HYPERLINK(VLOOKUP(C11136,FOTOGRAFICO!C:E,3,FALSE),C11136),\"\")","v":""}]
[null,null,"F16AK0-KB","FILTRO","FILTRO AIRE VERSA 1.6 12-19    V-DRIVE 1.6 20-22 MARCH 1.6 12 -22 TIIDA 1.6 13-18 KABUTO",23.34,0,2,0,1,22,10,{"$f":"+IFERROR(HYPERLINK(VLOOKUP(C11143,FOTOGRAFICO!C:E,3,FALSE),C11143),\"\")","v":"F16AK0-KB"}]
[null,null,"F57A24-KB","FILTRO","FILTRO AIRE PLATINA 1.6 02-09  APRIO 07-10 CLIO 1.6 01-07     SANDERO 1.6 10-18 MARCA KABUTO",31.82,1,4,1,3,5,2,{"$f":"+IFERROR(HYPERLINK(VLOOKUP(C11156,FOTOGRAFICO!C:E,3,FALSE),C11156),\"\")","v":""}]
[null,null,"F91A00KB","FILTRO","FILTRO AIRE KIA RIO 1.6 18-20  ACCENT 1.6 18-20 MCA KABUTO    = GA-1618 = GA1618",53.04,0,1,1,1,1,1,{"$f":"+IFERROR(HYPERLINK(VLOOKUP(C11168,FOTOGRAFICO!C:E,3,FALSE),C11168),\"\")","v":""}]
[null,null,"F99A02-KB","FILTRO","FILTRO AIRE AVEO 09-17 PONTIAC G3 06-10 SWIFT 1.6 04-09 MARCA KABUTO IMPORTADO = GA-324",30.76,16,11,9,0,4,0,{"$f":"+IFERROR(HYPERLINK(VLOOKUP(C11172,FOTOGRAFICO!C:E,3,FALSE),C11172),\"\")","v":"F99A02-KB"}]
[null,null,"FGI28KB","FILTRO","FILTRO GAS VW SEDAN 1.6 97-04  COMBI 1.8 97-02 DERBY 1.8 95-  98 GOLF A3 1.8 2.0 97-99 KABUT",30.76,1,1,1,0,0,1,{"$f":"+IFERROR(HYPERLINK(VLOOKUP(C11188,FOTOGRAFICO!C:E,3,FALSE),C11188),\"\")","v":""}]
[null,null,"FIL59C","FILTRO","FILTRO AIRE MINI TOMA AIRE     CROMO IMPORTADO",56.35,3,0,4,2,0,1,{"$f":"+IFERROR(HYPERLINK(VLOOKUP(C11195,FOTOGRAFICO!C:E,3,FALSE),C11195),\"\")","v":""}]
[null,null,"G341","FILTRO","FILTRO ACEITE CARTUCHO TRANSIT 2.2 DIESEL 07-11 PEUGEOT 206   2.0 02-07 MARCA GONHER G-341",77.34,50,5,20,10,3,15,{"$f":"+IFERROR(HYPERLINK(VLOOKUP(C11201,FOTOGRAFICO!C:E,3,FALSE),C11201),\"\")","v":"G341"}]
[null,null,"GA1084","FILTRO","FILTRO AIRE YARIS R 1.5 17-21  MAZDA 2 1.5 17-20 CON MARCO    GOMA Y DIVISION MARCA GONHER",117.51,12,0,0,7,2,4,{"$f":"+IFERROR(HYPERLINK(VLOOKUP(C11211,FOTOGRAFICO!C:E,3,FALSE),C11211),\"\")","v":"GA1084"}]
[null,null,"GA134","FILTRO","FILTRO AIRE CHEVY 94-12 C2 POP SWING MONZA PICKUP MARCA       GONHER= GM93428149 = 986MF4496",41.48,185,57,198,191,101,68,{"$f":"+IFERROR(HYPERLINK(VLOOKUP(C11218,FOTOGRAFICO!C:E,3,FALSE),C11218),\"\")","v":"GA134"}]
[null,null,"GA1618","FILTRO","FILTRO AIRE KIA RIO 1.6 18-21  ACCENT 1.6 18-22 MARCA GONHER  GA-1618 = 28113-H9100MF",152.29,42,13,48,35,14,11,{"$f":"+IFERROR(HYPERLINK(VLOOKUP(C11230,FOTOGRAFICO!C:E,3,FALSE),C11230),\"\")","v":"GA1618"}]
[null,null,"GA192","FILTRO","FILTRO AIRE BLAZER 307 CID 69- 73 CHEVY VAN 4.1 95-96 C1500   C2500 4.3 88-95 REDONDO GONHER",82.59,9,0,0,0,2,1,{"$f":"+IFERROR(HYPERLINK(VLOOKUP(C11243,FOTOGRAFICO!C:E,3,FALSE),C11243),\"\")","v":"GA192"}]
[null,null,"GA217","FILTRO","FILTRO AIRE TOPAZ 2.3 3.0 93-  94 GHIA 3.0 93-94 SABLE 3.0    96-99 TAURUS 3.4 96-99 GONHER",76.72,7,0,4,3,3,3,{"$f":"+IFERROR(HYPERLINK(VLOOKUP(C11250,FOTOGRAFICO!C:E,3,FALSE),C11250),\"\")","v":""}]
[null,null,"GA2313","FILTRO","FILTRO AIRE CAPTUR 2.0 18-20   DUSTER 2.0 16-19 KANGOO 1.6 19 -20 OROCH 2.0 19-20 GONHER",111.89,30,0,6,7,51,48,{"$f":"+IFERROR(HYPERLINK(VLOOKUP(C11262,FOTOGRAFICO!C:E,3,FALSE),C11262),\"\")","v":"GA2313"}]
[null,null,"GA2371","FILTRO","FILTRO AIRE ERTIGA 1.5 19-22   MARCA GONHER GA-2371",87.2,6,3,5,6,4,1,{"$f":"+IFERROR(HYPERLINK(VLOOKUP(C11269,FOTOGRAFICO!C:E,3,FALSE),C11269),\"\")","v":"GA2371"}]
[null,null,"GA2380","FILTRO","FILTRO AIRE S-CROSS 1.4 17-19  VITARA 1.4 21-21 MARCO RIGIDO  MARCA GONHER GA-2380",104.56,0,2,3,3,1,3,{"$f":"+IFERROR(HYPERLINK(VLOOKUP(C11273,FOTOGRAFICO!C:E,3,FALSE),C11273),\"\")","v":""}]
[null,null,"GA273","FILTRO","FILTRO AIRE WINDSTAR 95-03     EXPLORER 4.0 91-94 BRONCO II   2.9 4.0 88-90 GONHER GA-273",63.45,57,4,5,16,11,10,{"$f":"+IFERROR(HYPERLINK(VLOOKUP(C11285,FOTOGRAFICO!C:E,3,FALSE),C11285),\"\")","v":""}]
[null,null,"GA289","FILTRO","FILTRO AIRE CORSA 02-08 MERIVA 04-08 TORNADO 04-10 CHARGER 06 -10 MARCA GONHER = GM89037218",87.66,77,17,38,46,31,12,{"$f":"+IFERROR(HYPERLINK(VLOOKUP(C11298,FOTOGRAFICO!C:E,3,FALSE),C11298),\"\")","v":"GA289"}]
[null,null,"GA302","FILTRO","FILTRO AIRE ATOS 05-12 MARCA   GONHER HECHO EN MEXICO GA-302  = EGP28113-02750 = 986MF4750",68.55,76,4,22,42,22,14,{"$f":"+IFERROR(HYPERLINK(VLOOKUP(C11305,FOTOGRAFICO!C:E,3,FALSE),C11305),\"\")","v":"GA302"}]
[null,null,"GA347","FILTRO","FILTRO AIRE CITY 1.5 10-14     FIT 1.5 09-14 MARCA GONHER     GA-347",143.15,16,5,8,4,6,11,{"$f":"+IFERROR(HYPERLINK(VLOOKUP(C11317,FOTOGRAFICO!C:E,3,FALSE),C11317),\"\")","v":""}]
[null,null,"GA3901","FILTRO","FILTRO AIRE CHEROKEE 2.5 4.0   87-01 RAM 1500 3500 3.9 5.2    94-02 DAKOTA 3.7 04-10 GONHER",84.88,8,3,11,8,11,4,{"$f":"+IFERROR(HYPERLINK(VLOOKUP(C11327,FOTOGRAFICO!C:E,3,FALSE),C11327),\"\")","v":"GA3901"}]
[null,null,"GA478","FILTRO","FILTRO AIRE F-150 2.7 15-20    DURANGO 3.6 5.7 12-20 GRAND    CHEROKEE 3.6 5.7 11-21 GONHER",131.74,18,1,7,0,7,6,{"$f":"+IFERROR(HYPERLINK(VLOOKUP(C11337,FOTOGRAFICO!C:E,3,FALSE),C11337),\"\")","v":"GA478"}]
[null,null,"GA5022","FILTRO","FILTRO AIRE CIVIC 2.0 16-21    MARCA GONHER GA-5022",119.88,3,5,3,0,8,2,{"$f":"+IFERROR(HYPERLINK(VLOOKUP(C11344,FOTOGRAFICO!C:E,3,FALSE),C11344),\"\")","v":"GA5022"}]
[null,null,"GA71","FILTRO","FILTRO AIRE LEBARON K BODY 225 CID 78-80 DART 2.8 61-69       MONACO 225 CID 70-78 GONHER",60.52,5,0,0,0,0,1,{"$f":"+IFERROR(HYPERLINK(VLOOKUP(C11356,FOTOGRAFICO!C:E,3,FALSE),C11356),\"\")","v":""}]
[null,null,"GA9079","FILTRO","FILTRO AIRE AVEO 1.5 18-22     MARCA GONHER GA-9079           = 986MF4211 = AANC9910",69.75,53,132,36,93,20,93,{"$f":"+IFERROR(HYPERLINK(VLOOKUP(C11360,FOTOGRAFICO!C:E,3,FALSE),C11360),\"\")","v":"GA9079"}]
[null,null,"GAC2276","FILTRO","FILTRO CABINA ATTITUDE 1.2 15- 22 MIRAGE 1.2 15-20 MIRAGE G4  1.2 17-23 MARCA GONHER",179.69,7,0,8,0,2,4,{"$f":"+IFERROR(HYPERLINK(VLOOKUP(C11367,FOTOGRAFICO!C:E,3,FALSE),C11367),\"\")","v":"GAC2276"}]
[null,null,"GAC28","FILTRO","FILTRO CABINA JETTA 2.0 12-18  JETTA 2.5 11-18 BORA 2.0 2.5   06-09 BEETLE 2.0 12-18 GONHER",286.13,38,0,3,1,0,4,{"$f":"+IFERROR(HYPERLINK(VLOOKUP(C11379,FOTOGRAFICO!C:E,3,FALSE),C11379),\"\")","v":""}]
[null,null,"GAC89","FILTRO","FILTRO CABINA TIIDA 1.6 1.8    07-18 MARCA GONHER GAC-89",175.72,5,6,1,3,8,2,{"$f":"+IFERROR(HYPERLINK(VLOOKUP(C11385,FOTOGRAFICO!C:E,3,FALSE),C11385),\"\")","v":""}]
[null,null,"GAD546","FILTRO","FILTRO AIRE X-TRAIL 2.5 15-22  X-TRAIL 2.0 HIBRIDO 18-22      KOLEOS 2.5 17-20 GONHER",160.44999999999999,25,4,12,11,9,6,{"$f":"+IFERROR(HYPERLINK(VLOOKUP(C11399,FOTOGRAFICO!C:E,3,FALSE),C11399),\"\")","v":""}]
[null,null,"GAVW620","FILTRO","FILTRO AIRE POINTER 99-09      MARCA GONHER HECHO EN MEXICO   = GAVW620 = AW-7614 = AW-7616",81.16,135,25,93,51,37,47,{"$f":"+IFERROR(HYPERLINK(VLOOKUP(C11411,FOTOGRAFICO!C:E,3,FALSE),C11411),\"\")","v":""}]
[null,null,"GAVW624","FILTRO","FILTRO AIRE CORDOBA 2.0 03-09  IBIZA 1.8 03-07 IBIZA 2.0 03-  15 POLO 2.0 06-07 IRREG.GONHER",123.65,80,10,30,57,45,4,{"$f":"+IFERROR(HYPERLINK(VLOOKUP(C11414,FOTOGRAFICO!C:E,3,FALSE),C11414),\"\")","v":"GAVW624"}]
[null,null,"GG1","FILTRO","FILTRO GAS COMBI 1.6 74-87     BRASILIA 74-84 UNIVERSAL CHICO SALIDA 1/4 GONHER GG-1",13.93,464,5,434,154,31,50,{"$f":"+IFERROR(HYPERLINK(VLOOKUP(C11422,FOTOGRAFICO!C:E,3,FALSE),C11422),\"\")","v":"GG1"}]
[null,null,"GG195","FILTRO","FILTRO GAS NEON 2.0 98-99      ENTRADA 3/8 SALIDA 5/16 CON    MANGUERAS CON GRAPA GONHER",320.10000000000002,4,0,3,0,0,0,{"$f":"+IFERROR(HYPERLINK(VLOOKUP(C11434,FOTOGRAFICO!C:E,3,FALSE),C11434),\"\")","v":""}]
[null,null,"GG267","FILTRO","FILTRO GAS CARAVAN 3.3 3.8 97- 00 TOWN COUNTRY 3.3 97-00 VOYA GER 97-00 3 VIAS LARGO GONHER",320.13,27,4,15,8,4,10,{"$f":"+IFERROR(HYPERLINK(VLOOKUP(C11443,FOTOGRAFICO!C:E,3,FALSE),C11443),\"\")","v":""}]
[null,null,"GG41","FILTRO","FILTRO GAS CUTLASS EUROSPORT   3.1 90-96 CENTURY LIMITED 3.0  91-92 SAL.3/8 C/MANGUER.GONHER",93.89,3,0,0,0,0,0,{"$f":"+IFERROR(HYPERLINK(VLOOKUP(C11454,FOTOGRAFICO!C:E,3,FALSE),C11454),\"\")","v":""}]
[null,null,"GG61","FILTRO","FILTRO GAS SHADOW 2.2 2.5 88-  90 SPIRIT 2.5 89-90 2 SALIDAS  SUPER.5/16 C/OREJA GONHER",116.1,14,2,0,0,3,0,{"$f":"+IFERROR(HYPERLINK(VLOOKUP(C11461,FOTOGRAFICO!C:E,3,FALSE),C11461),\"\")","v":""}]
[null,null,"GG915","FILTRO","FILTRO GAS MONDEO 2.0 2.5 01-  07 MARCA GONHER GG-915",223.11,22,0,1,0,14,0,{"$f":"+IFERROR(HYPERLINK(VLOOKUP(C11472,FOTOGRAFICO!C:E,3,FALSE),C11472),\"\")","v":""}]
[null,null,"GP1","FILTRO","FILTRO ACEITE CAMION FORD V8   700 ECONOLINE 00-03 EXPLORER   91-00 BRONCO 80-96 GONHER",61.29,172,7,24,27,72,42,{"$f":"+IFERROR(HYPERLINK(VLOOKUP(C11486,FOTOGRAFICO!C:E,3,FALSE),C11486),\"\")","v":""}]
[null,null,"GP156","FILTRO","FILTRO ACEITE TSURU 1.6 09-17  SWIFT 1.4 12-20 CIAZ 1.4 16-18 GRAND VITARA 2.4 11-17 GONHER",50.62,169,431,119,168,68,62,{"$f":"+IFERROR(HYPERLINK(VLOOKUP(C11493,FOTOGRAFICO!C:E,3,FALSE),C11493),\"\")","v":""}]
[null,null,"GP157-KB","FILTRO","FILTRO ACEITE MATIZ 1.0 04-15  AVANZA 1.5 07-21 YARIS 1.5 06- 19 COROLLA 1.8 2.0 19-23 KABUT",23.34,0,6,7,0,0,2,{"$f":"+IFERROR(HYPERLINK(VLOOKUP(C11496,FOTOGRAFICO!C:E,3,FALSE),C11496),\"\")","v":"GP157-KB"}]
[null,null,"GP291","FILTRO","FILTRO ACEITE PLATINA 02-10    CLIO 02-10 SANDERO 1.6 17-18   SANDERO 2.0 16-17 GONHER",62.5,143,49,95,122,74,15,{"$f":"+IFERROR(HYPERLINK(VLOOKUP(C11505,FOTOGRAFICO!C:E,3,FALSE),C11505),\"\")","v":""}]
[null,null,"GP3980","FILTRO","FILTRO ACEITE CAVALIER 2.8 3.0 90-94 CUTLASS 87-96 ASTRO 01-  05 JIMMY 94-00 MARCA GONHER",50.35,26,3,30,48,14,34,{"$f":"+IFERROR(HYPERLINK(VLOOKUP(C11516,FOTOGRAFICO!C:E,3,FALSE),C11516),\"\")","v":""}]
[null,null,"GP48","FILTRO","FILTRO ACEITE CUTLASS 3.1      89-94 MARCA GONHER HECHO EN    MEXICO GP-48",71.790000000000006,30,7,2,11,5,22,{"$f":"+IFERROR(HYPERLINK(VLOOKUP(C11528,FOTOGRAFICO!C:E,3,FALSE),C11528),\"\")","v":""}]
[null,null,"GP6811SINTETICO","FILTRO","FILTRO ACEITE ATTITUDE 1.4 06- 14 H100 2.4 03-13 VERNA 04-06  CRETA 17-20 GONHER SINTETICO",87.36,21,9,35,48,7,5,{"$f":"+IFERROR(HYPERLINK(VLOOKUP(C11540,FOTOGRAFICO!C:E,3,FALSE),C11540),\"\")","v":""}]
[null,null,"GPS28SINTETICO","FILTRO","FILTRO ACEITE SINTETICO JETTA  CLASICO 11-15 POINTER 99-09    VW SEDAN FUEL INY 00-04 GONHER",89.58,30,8,20,8,6,3,{"$f":"+IFERROR(HYPERLINK(VLOOKUP(C11548,FOTOGRAFICO!C:E,3,FALSE),C11548),\"\")","v":"GPS28SINTETICO"}]
[null,null,"NIS130M1020PROMO","FILTRO","FILTRO AIRE TIIDA 1.8 04-18    CUBE 09-14 IMPORTADO GAD-116   = GAD116",32.26,14,0,0,0,0,0,{"$f":"+IFERROR(HYPERLINK(VLOOKUP(C11560,FOTOGRAFICO!C:E,3,FALSE),C11560),\"\")","v":""}]
[null,null,"OF-9461","FILTRO","FILTRO ACEITE CARTUCHO EUROVAN BORA 06-10 BEETLE 13-14 JETTA  05-07 1.9 DIESEL INTERFIL MEXI",109.79,0,0,0,7,0,1,{"$f":"+IFERROR(HYPERLINK(VLOOKUP(C11569,FOTOGRAFICO!C:E,3,FALSE),C11569),\"\")","v":""}]
[null,null,"OF-GM10590","FILTRO","FILTRO ACEITE ONIX 20-24 1.0T  1.2T SPARK 1.4 16-19 CAPTIVA   2.4 3.6 08-10 = GP406 MOTORFIL",32.909999999999997,0,0,19,1,4,1,{"$f":"+IFERROR(HYPERLINK(VLOOKUP(C11571,FOTOGRAFICO!C:E,3,FALSE),C11571),\"\")","v":"OF-GM10590"}]
[null,null,"96879797-KBPROMO","FILTRO","FILTRO ACEITE AVEO 09-17 CHEVY 01-12 TORNADO 04-17 CORSA 02-  08 ASTRA 2.0 02-06 KABUTO",33.659999999999997,0,0,0,0,0,0,{"$f":"+IFERROR(HYPERLINK(VLOOKUP(C11587,FOTOGRAFICO!C:E,3,FALSE),C11587),\"\")","v":""}]
[null,null,"GA1572","FILTRO","FILTRO AIRE FUSION 03-12       MAZDA 6 09-13 MERCURY MILAN 06 -09 MARCA GONHER PEDIDO JAVIER",84.94,0,0,0,0,0,0,{"$f":"+IFERROR(HYPERLINK(VLOOKUP(C11598,FOTOGRAFICO!C:E,3,FALSE),C11598),\"\")","v":""}]
[null,null,"GA55","FILTRO","FILTRO AIRE SUBURBAN 7.4 70-70 MALIBU 5.4 66-67 CAMARO 5.0    68-70 CAMARO 5.4 87-87 GONHER",89.6,0,0,0,0,2,0,{"$f":"+IFERROR(HYPERLINK(VLOOKUP(C11603,FOTOGRAFICO!C:E,3,FALSE),C11603),\"\")","v":""}]
[null,null,"26679476","FILTRO","FILTRO AIRE CAVALIER 2018-2022 ORIGINAL GM AC DELCO",387.46,0,1,0,0,1,0,{"$f":"+IFERROR(HYPERLINK(VLOOKUP(C11610,FOTOGRAFICO!C:E,3,FALSE),C11610),\"\")","v":"26679476"}]
[null,null,"CFI-7133","FILTRO","FILTRO CABINA ELANTRA 2.0 07-  17 CRETA 1.6 16-17 MARCA       INTERFIL PIDE JORGE GUTIERREZ",138.13999999999999,0,0,0,0,0,0,{"$f":"+IFERROR(HYPERLINK(VLOOKUP(C11617,FOTOGRAFICO!C:E,3,FALSE),C11617),\"\")","v":"CFI-7133"}]
[null,null,"GAC2463","FILTRO","FILTRO CABINA PATHFINDER 13-19 MURANO 15-20 MAXIMA 16-22      ALTIMA 13-18 GONHER",94.54,0,0,0,0,0,0,{"$f":"+IFERROR(HYPERLINK(VLOOKUP(C11635,FOTOGRAFICO!C:E,3,FALSE),C11635),\"\")","v":""}]
[null,null,"QS2870A","FILTRO","FILTRO ACEITE VW COMBI F.I CAR IBE GOLF JETTA A2 A3 A4 POINTE R DERBY POLO 03-07 2.0 =GP28",35.97,0,0,0,0,0,0,{"$f":"+IFERROR(HYPERLINK(VLOOKUP(C11642,FOTOGRAFICO!C:E,3,FALSE),C11642),\"\")","v":"QS2870A"}]
[null,null,"QS3614","FILTRO","FILTRO ACEITE TOYOTA HIACE     FORD ESCAPE STRATUS NEON       MARCA QUAKER STATE =GP58",35.97,0,0,0,0,0,0,{"$f":"+IFERROR(HYPERLINK(VLOOKUP(C11645,FOTOGRAFICO!C:E,3,FALSE),C11645),\"\")","v":""}]
[null,null,"F-78A05MF","FILTRO","FILTRO AIRE SUZUKI SWIFT 1.0L  18-21 MARCA: MOTORFIL",94.62,0,0,0,2,1,2,{"$f":"+IFERROR(HYPERLINK(VLOOKUP(C11656,FOTOGRAFICO!C:E,3,FALSE),C11656),\"\")","v":"F-78A05MF"}]
[null,null,"GAC2347","FILTRO","FILTRO CABINA KWID 1.0 19-22   MARCA GONHER GAC-2347 PIDE     PEDRO CALENDARIO",97.91,0,0,0,0,0,0,{"$f":"+IFERROR(HYPERLINK(VLOOKUP(C11665,FOTOGRAFICO!C:E,3,FALSE),C11665),\"\")","v":""}]
[null,null,"G3744","FILTRO","FILTRO ACEITE ROUTAN 3.6 11-12 WRANGLER 3.6 12-13 JOURNEY 3.6 11-13 MARCA GONHER PIDE AXEL",126.04,0,0,0,0,9,0,{"$f":"+IFERROR(HYPERLINK(VLOOKUP(C11677,FOTOGRAFICO!C:E,3,FALSE),C11677),\"\")","v":"G3744"}]
[null,null,"GA170","FILTRO","FILTRO AIRE ACCORD 3.0 98-07   ACURA TI 3.2 99-03 MARCA       GONHER PIDE AXEL 1002092",270.27999999999997,0,0,0,0,2,0,{"$f":"+IFERROR(HYPERLINK(VLOOKUP(C11685,FOTOGRAFICO!C:E,3,FALSE),C11685),\"\")","v":""}]
[null,null,"GA3648","FILTRO","FILTRO AIRE FIAT 500 12-17     MARCA GONHER",119.66,0,0,0,0,0,0,{"$f":"+IFERROR(HYPERLINK(VLOOKUP(C11697,FOTOGRAFICO!C:E,3,FALSE),C11697),\"\")","v":""}]
[null,null,"GA8113","FILTRO","FILTRO AIRE SANTA FE 17-20     KIA SEDONA 15-21 SORENTO 15-21 TELLURIDE 20 GONHER",135.77000000000001,0,0,0,0,0,0,{"$f":"+IFERROR(HYPERLINK(VLOOKUP(C11704,FOTOGRAFICO!C:E,3,FALSE),C11704),\"\")","v":""}]
[null,null,"GM9025229","FILTRO","FILTRO ACEITE AVEO 24 MARCA GM PIDE EDER",161.86000000000001,0,0,0,0,0,0,{"$f":"+IFERROR(HYPERLINK(VLOOKUP(C11714,FOTOGRAFICO!C:E,3,FALSE),C11714),\"\")","v":"GM9025229"}]
[null,null,"GP3675","FILTRO","FILTRO ACEITE COLORADO 05-12   SILVERADO 99-02 MALIBU 07-08   SONORA 03-06 GONHER",55.95,0,0,0,0,14,0,{"$f":"+IFERROR(HYPERLINK(VLOOKUP(C11720,FOTOGRAFICO!C:E,3,FALSE),C11720),\"\")","v":"GP3675"}]
[null,null,"RF-8023","FLECHA","FLECHA IZQ CHEVY 96-12 CON     JUNTA HOMOCINETICA MARCA RACE  PIDE JUAN GARCIA",1363.29,0,0,0,0,0,0,{"$f":"+IFERROR(HYPERLINK(VLOOKUP(C11736,FOTOGRAFICO!C:E,3,FALSE),C11736),\"\")","v":""}]
[null,null,"EFNK0100","FLOTADOR","FLOTADOR GASOLINA ATOS 1.0 1.1 00-12 MARCA DIFORZA IMPORTADO  EFNK0100",152.78,0,0,0,0,0,0,{"$f":"+IFERROR(HYPERLINK(VLOOKUP(C11743,FOTOGRAFICO!C:E,3,FALSE),C11743),\"\")","v":""}]
[null,null,"EFNN0910","FLOTADOR","FLOTADOR GAS VERSA 1.6 15-24   V-DRIVE 14-23 KICKS 17-24 MARC DIFORZA PIDE ENRIQUE CARRERA",152.78,0,0,0,0,0,0,{"$f":"+IFERROR(HYPERLINK(VLOOKUP(C11752,FOTOGRAFICO!C:E,3,FALSE),C11752),\"\")","v":""}]
[null,null,"39180","FOCO","FOCO H11 55 W HALOGENO MARCA   TOTAL PARTS",42.81,43,41,98,66,48,11,{"$f":"+IFERROR(HYPERLINK(VLOOKUP(C11759,FOTOGRAFICO!C:E,3,FALSE),C11759),\"\")","v":"39180"}]
[null,null,"C-017089A8","FOCO","FOCO MOTO TRACTOR CBS FSTOYS   12V 35/35W MY5516 22177",9.8800000000000008,0,0,0,27,10,10,{"$f":"+IFERROR(HYPERLINK(VLOOKUP(C11771,FOTOGRAFICO!C:E,3,FALSE),C11771),\"\")","v":"C-017089A8"}]
[null,null,"CONASMD03/BL","FOCO","FOCO 0158 AZUL 5 HIPER LEDS    PELLIZCO MAZORCA JUEGO 2       PIEZAS IMPORTADO",9.34,2,55,71,33,29,14,{"$f":"+IFERROR(HYPERLINK(VLOOKUP(C11782,FOTOGRAFICO!C:E,3,FALSE),C11782),\"\")","v":""}]
[null,null,"DLH11-MINI","FOCO","FOCO LED KIT H11 3800LM 30W    2 CARAS 6000K 9-36V MARCA      MICOTA IMPORTADO",79.53,0,0,4,0,0,0,{"$f":"+IFERROR(HYPERLINK(VLOOKUP(C11791,FOTOGRAFICO!C:E,3,FALSE),C11791),\"\")","v":"DLH11-MINI"}]
[null,null,"DLH4-MINI","FOCO","FOCO LED KIT H4 3800LM 30W     2 CARAS 6000K 9-36V MARCA      MICOTA IMPORTADO",111.97,0,8,9,2,2,18,{"$f":"+IFERROR(HYPERLINK(VLOOKUP(C11794,FOTOGRAFICO!C:E,3,FALSE),C11794),\"\")","v":"DLH4-MINI"}]
[null,null,"FO1584C","FOCO","FOCO TIPO LASSER 4 LEDS BLANCO",9.2799999999999994,6,15,0,9,4,8,{"$f":"+IFERROR(HYPERLINK(VLOOKUP(C11811,FOTOGRAFICO!C:E,3,FALSE),C11811),\"\")","v":""}]
[null,null,"FO1585HP","FOCO","FOCO PELLIZCO 5 HIPER LEDS     MORADO",9.34,10,5,13,5,2,5,{"$f":"+IFERROR(HYPERLINK(VLOOKUP(C11814,FOTOGRAFICO!C:E,3,FALSE),C11814),\"\")","v":"FO1585HP"}]
[null,null,"FO534LR","FOCO","FOCO LED PELLIZCO 53 CASQUILLO 4 LEDS ROJO IMPORTADO",17.52,32,0,0,0,1,4,{"$f":"+IFERROR(HYPERLINK(VLOOKUP(C11826,FOTOGRAFICO!C:E,3,FALSE),C11826),\"\")","v":""}]
[null,null,"FO-CAN15827LB","FOCO","FOCO PELLIZCO 27 HIPER LEDS    DOBLE FUNCION Y LUPA AZUL",54.27,8,5,4,14,0,1,{"$f":"+IFERROR(HYPERLINK(VLOOKUP(C11840,FOTOGRAFICO!C:E,3,FALSE),C11840),\"\")","v":""}]
[null,null,"FO-CAN1589FC","FOCO","FOCO PELLIZCO 9 HIPER LEDS     DOBLE FUNCION BLANCO",46.51,3,2,7,4,4,5,{"$f":"+IFERROR(HYPERLINK(VLOOKUP(C11846,FOTOGRAFICO!C:E,3,FALSE),C11846),\"\")","v":""}]
[null,null,"FOCKC","FOCO","FOCO LED LUZ INTERIOR 48 COB   CON ADAPTADORES BLANCO         IMPORTADO",31.64,4,8,11,6,8,7,{"$f":"+IFERROR(HYPERLINK(VLOOKUP(C11853,FOTOGRAFICO!C:E,3,FALSE),C11853),\"\")","v":""}]
[null,null,"FOCO101","FOCO","FOCO MOTO PERA 101",78.56,0,0,0,0,0,0,{"$f":"+IFERROR(HYPERLINK(VLOOKUP(C11859,FOTOGRAFICO!C:E,3,FALSE),C11859),\"\")","v":"FOCO101"}]
[null,null,"FOCO70/31","FOCO","FOCO LUZ INTERIOR 31",36.340000000000003,0,13,12,5,0,1,{"$f":"+IFERROR(HYPERLINK(VLOOKUP(C11869,FOTOGRAFICO!C:E,3,FALSE),C11869),\"\")","v":""}]
[null,null,"FOKL19","FOCO","FOCO H4 LEDS 5W",56.17,0,0,0,0,0,0,{"$f":"+IFERROR(HYPERLINK(VLOOKUP(C11885,FOTOGRAFICO!C:E,3,FALSE),C11885),\"\")","v":""}]
[null,null,"FOL103413C","FOCO","FOCO DOBLE POLO PATAS          DISPAREJAS 13 HIPER LEDS       BLANCO",30.67,1,2,13,3,3,4,{"$f":"+IFERROR(HYPERLINK(VLOOKUP(C11888,FOTOGRAFICO!C:E,3,FALSE),C11888),\"\")","v":""}]
[null,null,"FOL114187FC","FOCO","FOCO LED 1141 BLANCO CON 87    LEDS TRIANGULO",93.27,4,3,1,0,0,0,{"$f":"+IFERROR(HYPERLINK(VLOOKUP(C11898,FOTOGRAFICO!C:E,3,FALSE),C11898),\"\")","v":"FOL114187FC"}]
[null,null,"FOL203B","FOCO","FOCO LED TIPO OJO DE AGUILA    AZUL FIJO ESTROBO JGO 2 PZA",43.34,2,2,2,2,2,0,{"$f":"+IFERROR(HYPERLINK(VLOOKUP(C11908,FOTOGRAFICO!C:E,3,FALSE),C11908),\"\")","v":"FOL203B"}]
[null,null,"FOL4HID9007","FOCO","FOCO KIT 9007 LEDS 3800 LM     ALTA/BAJA 4 CARAS 6000 K       MARCA TUNIX",136.08000000000001,10,12,8,0,7,4,{"$f":"+IFERROR(HYPERLINK(VLOOKUP(C11920,FOTOGRAFICO!C:E,3,FALSE),C11920),\"\")","v":""}]
[null,null,"FOLBA1R","FOCO","FOCO MOTOCICLETA BA20 6 CARAS  LED COB ALTA Y BAJA CUERPO     ROJO",79.5,0,6,0,0,1,0,{"$f":"+IFERROR(HYPERLINK(VLOOKUP(C11927,FOTOGRAFICO!C:E,3,FALSE),C11927),\"\")","v":""}]
[null,null,"FOLE31573FR","FOCO","FOCO 3 LEDS 3157 CON CAPUCHON  Y FLASH ROJO IMPORTADO",39.68,6,6,7,6,5,4,{"$f":"+IFERROR(HYPERLINK(VLOOKUP(C11940,FOTOGRAFICO!C:E,3,FALSE),C11940),\"\")","v":"FOLE31573FR"}]
[null,null,"FOLE744433FR","FOCO","FOCO 3 LEDS 74443 CON CAPUCHON Y FLASH ROJO IMPORTADO",39.68,0,0,8,0,4,3,{"$f":"+IFERROR(HYPERLINK(VLOOKUP(C11943,FOTOGRAFICO!C:E,3,FALSE),C11943),\"\")","v":"FOLE744433FR"}]
[null,null,"FOLHIDH1","FOCO","FOCO KIT H1 LEDS 2200 LM BAJA  2 CARAS 24W MARCA TUNIX        IMPORTADO",84.43,2,4,13,5,8,4,{"$f":"+IFERROR(HYPERLINK(VLOOKUP(C11956,FOTOGRAFICO!C:E,3,FALSE),C11956),\"\")","v":""}]
[null,null,"FO-MELBA20R","FOCO","FOCO 2 POLO BICOLOR BLANCO     AZUL LED",79.11,0,0,0,6,0,1,{"$f":"+IFERROR(HYPERLINK(VLOOKUP(C11963,FOTOGRAFICO!C:E,3,FALSE),C11963),\"\")","v":""}]
[null,null,"HEL7440AMB","FOCO","FOCO 1 POLO 7440A AMBAR 21 W   MEGA PELLIZCO 1/4 URVAN NV350  MARCA HELLA = FOCO7440-A",21.32,6,0,38,6,9,17,{"$f":"+IFERROR(HYPERLINK(VLOOKUP(C11979,FOTOGRAFICO!C:E,3,FALSE),C11979),\"\")","v":""}]
[null,null,"HELLA158","FOCO","FOCO PELLIZCO MARCA HELLA BLAN CO PELLIZCO NORMAL",2.9,182,0,233,124,78,63,{"$f":"+IFERROR(HYPERLINK(VLOOKUP(C11985,FOTOGRAFICO!C:E,3,FALSE),C11985),\"\")","v":"HELLA158"}]
[null,null,"HELLA-880","FOCO","FOCO HALOGENO 880 27W HELLA",55.23,2,4,4,1,1,2,{"$f":"+IFERROR(HYPERLINK(VLOOKUP(C11995,FOTOGRAFICO!C:E,3,FALSE),C11995),\"\")","v":"HELLA-880"}]
[null,null,"HELLAH3","FOCO","FOCO H3 55 W MARCA HELLA",23.89,5,7,17,3,7,2,{"$f":"+IFERROR(HYPERLINK(VLOOKUP(C12002,FOTOGRAFICO!C:E,3,FALSE),C12002),\"\")","v":""}]
[null,null,"HL11-9005","FOCO","FOCO KIT 9005 LEDS JGO 6000    LUMENS 40W BAJA 2 CARAS MARCA  HIPERLED II",202.7,0,0,0,0,0,0,{"$f":"+IFERROR(HYPERLINK(VLOOKUP(C12014,FOTOGRAFICO!C:E,3,FALSE),C12014),\"\")","v":""}]
[null,null,"HL11-H11","FOCO","FOCO KIT H11 LEDS JGO 6000     LUMENS 40W BAJA 2 CARAS MARCA  HIPERLED II",215.01,23,18,45,7,2,6,{"$f":"+IFERROR(HYPERLINK(VLOOKUP(C12018,FOTOGRAFICO!C:E,3,FALSE),C12018),\"\")","v":""}]
[null,null,"LEDS-9007","FOCO","FOCO KIT 9007 LEDS 8000 LM     ALTA BAJA 4 CARAS 60W MARCA    XSPORTS IMPORTADO",410.27,0,0,0,0,0,0,{"$f":"+IFERROR(HYPERLINK(VLOOKUP(C12034,FOTOGRAFICO!C:E,3,FALSE),C12034),\"\")","v":""}]
[null,null,"LEDS-H3","FOCO","FOCO KIT H3 LEDS 8000 LM BAJA  2 CARAS 60W MARCA XSPORTS      IMPORTADO",410.28,0,0,0,0,0,0,{"$f":"+IFERROR(HYPERLINK(VLOOKUP(C12037,FOTOGRAFICO!C:E,3,FALSE),C12037),\"\")","v":""}]
[null,null,"M6-H11","FOCO","FOCO KIT H11 LEDS CHIP CSP     ULTIMA GENERACION 15000 LUMENS 6500K LUZ BLANCA MARCA M6",474.73,5,4,17,1,2,8,{"$f":"+IFERROR(HYPERLINK(VLOOKUP(C12053,FOTOGRAFICO!C:E,3,FALSE),C12053),\"\")","v":"M6-H11"}]
[null,null,"MM11-H4","FOCO","FOCO KIT H4 LEDS 8000 LM       ALTA/BAJA 4 CARAS 80W MARCA MA",386.76,320,226,86,199,137,122,{"$f":"+IFERROR(HYPERLINK(VLOOKUP(C12057,FOTOGRAFICO!C:E,3,FALSE),C12057),\"\")","v":""}]
[null,null,"MMPL-H4-YELLOW","FOCO","FOCO H4 PROYECTOR LUPA CHIP    CSP 18000 LUMENS ALTA BAJA     AMARILLA Y BLANCO EN ALTA",882.3,0,2,2,0,0,7,{"$f":"+IFERROR(HYPERLINK(VLOOKUP(C12069,FOTOGRAFICO!C:E,3,FALSE),C12069),\"\")","v":""}]
[null,null,"RSFDEL5032GDW","FOCO","FOCO MOTO DE FARO CON 9 LADOS  Y LUZ LED BLANCA H4 DORADO",87.86,2,2,1,0,1,0,{"$f":"+IFERROR(HYPERLINK(VLOOKUP(C12082,FOTOGRAFICO!C:E,3,FALSE),C12082),\"\")","v":""}]
[null,null,"RSFDEL5051W","FOCO","FOCO MOTO DE FARO BLANCAS H4   CON 12 LUCESLED",81.66,1,2,2,0,2,0,{"$f":"+IFERROR(HYPERLINK(VLOOKUP(C12089,FOTOGRAFICO!C:E,3,FALSE),C12089),\"\")","v":""}]
[null,null,"RSFFRE3013BU","FOCO","FOCO MOTO STOP AZUL 45 LUCES   HIPERLED",38.24,2,2,2,2,2,2,{"$f":"+IFERROR(HYPERLINK(VLOOKUP(C12096,FOTOGRAFICO!C:E,3,FALSE),C12096),\"\")","v":""}]
[null,null,"RSFFRE3014W","FOCO","FOCO MOTO STOP BLANCO 2 LUCES  HIPERLED EN TORRE",22.73,2,2,2,2,2,2,{"$f":"+IFERROR(HYPERLINK(VLOOKUP(C12101,FOTOGRAFICO!C:E,3,FALSE),C12101),\"\")","v":""}]
[null,null,"RSFOC2018WY","FOCO","FOCO MOTO PELLIZCO BLANCO/AMAR 16 LUCES HIPERLEDS Y ARNES",71.33,2,2,1,2,2,2,{"$f":"+IFERROR(HYPERLINK(VLOOKUP(C12112,FOTOGRAFICO!C:E,3,FALSE),C12112),\"\")","v":""}]
[null,null,"USAP43T","FOCO","FOCO HALOGENO H4 60/55W        P43T BASE METALICA 3 PATAS",15.08,20,26,20,0,43,0,{"$f":"+IFERROR(HYPERLINK(VLOOKUP(C12128,FOTOGRAFICO!C:E,3,FALSE),C12128),\"\")","v":"USAP43T"}]
[null,null,"FOL744387FR","FOCO","FOCO 7443 DE 87 LEDS ROJO      MARCA TUNIX PIDE RAFAEL",93.27,0,0,0,0,0,0,{"$f":"+IFERROR(HYPERLINK(VLOOKUP(C12130,FOTOGRAFICO!C:E,3,FALSE),C12130),\"\")","v":""}]
[null,null,"C017620M3","FOCO","FOCO MOTO 12V 35/35W 0206      MARCA IMPORTADO F09040113",6.17,0,0,0,10,10,0,{"$f":"+IFERROR(HYPERLINK(VLOOKUP(C12144,FOTOGRAFICO!C:E,3,FALSE),C12144),\"\")","v":""}]
[null,null,"HELL6418","FOCO","FOCO 6418 12V 5W S8.5 TUBULAR  MARCA HELLA PIDE YASMAN",2.81,0,0,0,0,0,0,{"$f":"+IFERROR(HYPERLINK(VLOOKUP(C12151,FOTOGRAFICO!C:E,3,FALSE),C12151),\"\")","v":""}]
[null,null,"CQJV0120","FRENTE","FRENTE RADIADOR JETTA CLASICO  08-15 MARCA RADIADOR           MARCA SIMYI IMPORTACION",1527.8,0,2,0,6,0,1,{"$f":"+IFERROR(HYPERLINK(VLOOKUP(C12163,FOTOGRAFICO!C:E,3,FALSE),C12163),\"\")","v":""}]
[null,null,"CQRF0300","FRENTE","FRENTE MARCA RADIADOR IKON 01- 07 COURIER 01-10/FIESTA 00-02  DE METAL SOBRE PEDIDO",1201.81,0,0,0,0,0,0,{"$f":"+IFERROR(HYPERLINK(VLOOKUP(C12169,FOTOGRAFICO!C:E,3,FALSE),C12169),\"\")","v":""}]
[null,null,"209-2314-02","FRENTE","FRENTE MARCO RAD PLATINA 02-10 CLIO 02-10 CON REFUERZO MARCA  TYG PEDIDO EDUARDO CALL",1602.41,0,0,0,0,0,0,{"$f":"+IFERROR(HYPERLINK(VLOOKUP(C12183,FOTOGRAFICO!C:E,3,FALSE),C12183),\"\")","v":""}]
[null,null,"ORI503C0800-PROM","FRENTE","FRENTE MARCO RADIAD GOLF-JETTA A4 99-07",1058.1400000000001,0,0,0,0,0,0,{"$f":"+IFERROR(HYPERLINK(VLOOKUP(C12186,FOTOGRAFICO!C:E,3,FALSE),C12186),\"\")","v":""}]
[null,null,"CONA236BKRD","FUNDA","FUNDA VOLANTE POLIURETANO ORO  FRANJAS ROJO MARCA XSPORTS     TIPO VINIPIEL",57.61,0,5,7,0,10,7,{"$f":"+IFERROR(HYPERLINK(VLOOKUP(C12198,FOTOGRAFICO!C:E,3,FALSE),C12198),\"\")","v":""}]
[null,null,"CONA242BKGY","FUNDA","FUNDA VOLANTE POLIURETANO ORO  LINEA GRIS MARCA XSPORTS       TIPO VINIPIEL",57.61,0,5,0,0,3,0,{"$f":"+IFERROR(HYPERLINK(VLOOKUP(C12206,FOTOGRAFICO!C:E,3,FALSE),C12206),\"\")","v":""}]
[null,null,"CONA250BKBL","FUNDA","FUNDA VOLANTE POLIURETANO ORO  SUPERIOR LINEAS AZUL MARCA     XSPORTS TIPO VINIPIEL",57.61,3,8,0,0,8,9,{"$f":"+IFERROR(HYPERLINK(VLOOKUP(C12213,FOTOGRAFICO!C:E,3,FALSE),C12213),\"\")","v":""}]
[null,null,"FD91BKBL","FUNDA","FUNDA VOLANTE DE PU NEGRA AZUL",83.22,16,3,0,0,35,25,{"$f":"+IFERROR(HYPERLINK(VLOOKUP(C12227,FOTOGRAFICO!C:E,3,FALSE),C12227),\"\")","v":""}]
[null,null,"FD94BKGY","FUNDA","FUNDA CUBREVOLANTE PU GRIS",83.22,25,8,25,2,24,19,{"$f":"+IFERROR(HYPERLINK(VLOOKUP(C12238,FOTOGRAFICO!C:E,3,FALSE),C12238),\"\")","v":""}]
[null,null,"FU31012NB","FUNDA","FUNDA CUBRE VOLANTE C/REFLEJAN RACING NEGRO/AZUL 38 CM",31.19,0,0,7,0,0,2,{"$f":"+IFERROR(HYPERLINK(VLOOKUP(C12245,FOTOGRAFICO!C:E,3,FALSE),C12245),\"\")","v":""}]
[null,null,"FU31055NS","FUNDA","FUNDA CUBRE VOLANTE C/REFLEJAN 3 FRANJAS NEGRO/PLATA 38 CM",31.19,0,0,19,0,0,15,{"$f":"+IFERROR(HYPERLINK(VLOOKUP(C12256,FOTOGRAFICO!C:E,3,FALSE),C12256),\"\")","v":""}]
[null,null,"FU31068NR","FUNDA","FUNDA CUBRE VOLANTE C/REFLEJAN FLAMAS NEGRO/ROJO 38 CM",31.19,0,0,20,0,0,6,{"$f":"+IFERROR(HYPERLINK(VLOOKUP(C12261,FOTOGRAFICO!C:E,3,FALSE),C12261),\"\")","v":""}]
[null,null,"FU31210NS","FUNDA","FUNDA CUBRE VOLANTE C/REFLEJAN CUADROS NEGRO/PLATA 38 CM",31.19,0,0,20,0,0,11,{"$f":"+IFERROR(HYPERLINK(VLOOKUP(C12277,FOTOGRAFICO!C:E,3,FALSE),C12277),\"\")","v":""}]
[null,null,"FU31225NS","FUNDA","FUNDA CUBRE VOLANTE C/REFLEJAN FIGURA DE REJA NEGRO/PLATA     38 CM",31.19,0,0,20,0,0,10,{"$f":"+IFERROR(HYPERLINK(VLOOKUP(C12280,FOTOGRAFICO!C:E,3,FALSE),C12280),\"\")","v":""}]
[null,null,"FU37077NR","FUNDA","FUNDA CUBRE VOLANTE C/REFLEJAN ESCORPION NEGRO/ROJO 38 CM",31.19,0,0,20,0,0,9,{"$f":"+IFERROR(HYPERLINK(VLOOKUP(C12295,FOTOGRAFICO!C:E,3,FALSE),C12295),\"\")","v":""}]
[null,null,"FU37108PS","FUNDA","FUNDA CUBRE VOLANTE ROSA       MARIPOSA",42.7,0,19,17,25,21,0,{"$f":"+IFERROR(HYPERLINK(VLOOKUP(C12300,FOTOGRAFICO!C:E,3,FALSE),C12300),\"\")","v":"FU37108PS"}]
[null,null,"FU38186NB","FUNDA","FUNDA CUBRE VOLANTE C/REFLEJAN CURVAS NEGRO/AZUL 38 CM",31.19,0,0,19,0,0,5,{"$f":"+IFERROR(HYPERLINK(VLOOKUP(C12312,FOTOGRAFICO!C:E,3,FALSE),C12312),\"\")","v":""}]
[null,null,"FUNDA-EQUIPOS","FUNDA","FUNDA CUBRE VOLANTE VINI-PIEL  VARIOS MODELOS Y COLORES PEDIR NUMERO # IMPORTADA",60.09,150,197,211,166,34,74,{"$f":"+IFERROR(HYPERLINK(VLOOKUP(C12324,FOTOGRAFICO!C:E,3,FALSE),C12324),\"\")","v":""}]
[null,null,"FUS135B","FUNDA","FUNDA SILICON MEDIANA 38 CM    AZUL CON ANTIDESLIZANTE        TEXTURA PEQUENA",102.63,0,2,0,0,0,0,{"$f":"+IFERROR(HYPERLINK(VLOOKUP(C12332,FOTOGRAFICO!C:E,3,FALSE),C12332),\"\")","v":""}]
[null,null,"FUS135R","FUNDA","FUNDA SILICON MEDIANA 38 CM    ROJA CON ANTIDESLIZANTE        TEXTURA PEQUENA",102.63,2,3,0,0,0,2,{"$f":"+IFERROR(HYPERLINK(VLOOKUP(C12335,FOTOGRAFICO!C:E,3,FALSE),C12335),\"\")","v":"FUS135R"}]
[null,null,"FVO212GY","FUNDA","FUNDA CUBRE VOLANTE VINIPIEL   ITALIO FVO212GY",62.45,0,0,5,0,0,0,{"$f":"+IFERROR(HYPERLINK(VLOOKUP(C12343,FOTOGRAFICO!C:E,3,FALSE),C12343),\"\")","v":""}]
[null,null,"SAN246","FUNDA","FUNDA FRENO MANO CHEVY VINIL   CON BASE MARCA AUTOEUROPLAST   NACIONAL 246-CB",71.25,24,5,7,6,4,11,{"$f":"+IFERROR(HYPERLINK(VLOOKUP(C12355,FOTOGRAFICO!C:E,3,FALSE),C12355),\"\")","v":""}]
[null,null,"SAN430","FUNDA","FUNDA PAL VELOCID PLATINA CLIO VINIL MARCA AUTOEUROPLAST      NACIONAL 430",72.510000000000005,2,0,0,0,2,0,{"$f":"+IFERROR(HYPERLINK(VLOOKUP(C12362,FOTOGRAFICO!C:E,3,FALSE),C12362),\"\")","v":""}]
[null,null,"SJ4065S","FUNDA","CUBIERT AUTO CHICA 407X165X119 CM LARGO-ANCHO-ALTO GRUESA     AFELPADA MARCA TUNIX IMPORTADO",722.91,2,3,0,1,3,1,{"$f":"+IFERROR(HYPERLINK(VLOOKUP(C12372,FOTOGRAFICO!C:E,3,FALSE),C12372),\"\")","v":""}]
[null,null,"FUNDA-I10AA","FUNDA","FUNDAS DE ASIENTO HYUNDAI I10  CORTO I10 JUEGO COMPLETO       MARCA NACIONAL ALTA CALIDAD",853.98,0,1,0,0,0,0,{"$f":"+IFERROR(HYPERLINK(VLOOKUP(C12387,FOTOGRAFICO!C:E,3,FALSE),C12387),\"\")","v":""}]
[null,null,"SAN244","FUNDA","FUNDA FRENO POINTER 00-09      CALIDAD SANCHEZ PEDIDO         JORGUE DIAZ",95.26,0,0,0,0,0,0,{"$f":"+IFERROR(HYPERLINK(VLOOKUP(C12394,FOTOGRAFICO!C:E,3,FALSE),C12394),\"\")","v":""}]
[null,null,"IEC2004600","FUNDA","FUNDA DE VOLANTE               38*8.2CM",54.37,0,0,0,0,0,0,{"$f":"+IFERROR(HYPERLINK(VLOOKUP(C12401,FOTOGRAFICO!C:E,3,FALSE),C12401),\"\")","v":""}]
[null,null,"ILC7050202","FUNDAS","FUNDAS ASIENTO NEGRO AZUL JGO  COMPLETO MARCA TYPE R          IMPORTADO",366.86,0,0,7,2,0,3,{"$f":"+IFERROR(HYPERLINK(VLOOKUP(C12414,FOTOGRAFICO!C:E,3,FALSE),C12414),\"\")","v":""}]
[null,null,"NFABEAT","FUNDAS","FUNDAS ASIENTO BEAT 18-19      NEGRO Y GRIS 8 PIEZAS",520.54,0,2,0,0,0,0,{"$f":"+IFERROR(HYPERLINK(VLOOKUP(C12426,FOTOGRAFICO!C:E,3,FALSE),C12426),\"\")","v":""}]
[null,null,"NFAV","FUNDAS","FUNDA ASIENTO VENTO",475.31,0,0,0,0,0,0,{"$f":"+IFERROR(HYPERLINK(VLOOKUP(C12429,FOTOGRAFICO!C:E,3,FALSE),C12429),\"\")","v":""}]
[null,null,"FUNDA-RIO-21","FUNDAS","FUNDAS ASIENTO KIA RIO SEDAN   17-21 VINIL NEGRO JGO COMPLETO 3 ASIENTOS 4 RESPALDOS 5 CABEC",853.98,0,0,0,0,1,0,{"$f":"+IFERROR(HYPERLINK(VLOOKUP(C12440,FOTOGRAFICO!C:E,3,FALSE),C12440),\"\")","v":""}]
[null,null,"VC-AVEO13-16","FUNDAS","FUNDA AVEO 2013/16 AUTOCONFORT",433.14,0,0,0,0,0,0,{"$f":"+IFERROR(HYPERLINK(VLOOKUP(C12449,FOTOGRAFICO!C:E,3,FALSE),C12449),\"\")","v":"VC-AVEO13-16"}]
[null,null,"ECOFUS20","FUSIBLE","FUSIBLE CLAVIJA 20 A AMARILLO  BLANCO",2.0699999999999998,80,84,149,147,2,27,{"$f":"+IFERROR(HYPERLINK(VLOOKUP(C12461,FOTOGRAFICO!C:E,3,FALSE),C12461),\"\")","v":"ECOFUS20"}]
[null,null,"BOTANA-70","GALLETA","GALLETA POLVORONES 37.50 GR PZ MARCA MARINELA CAJA 12 PZ",4.0599999999999996,0,0,19,0,0,0,{"$f":"+IFERROR(HYPERLINK(VLOOKUP(C12469,FOTOGRAFICO!C:E,3,FALSE),C12469),\"\")","v":""}]
[null,null,"BOTANA-CALL27","GALLETA","GALLETA TRIKI TRAKES 1 PZ 32 G MARCA MARINELA                 CAJA TRAE 12 PIEZAS",4.88,0,0,0,0,0,0,{"$f":"+IFERROR(HYPERLINK(VLOOKUP(C12481,FOTOGRAFICO!C:E,3,FALSE),C12481),\"\")","v":""}]
[null,null,"GANASRB","GANCHO","GANCHO DE ARRASTRE ALUMINIO    UNIVERSAL REDONDO AZUL(TUERCA)",178.32,3,0,0,0,1,1,{"$f":"+IFERROR(HYPERLINK(VLOOKUP(C12488,FOTOGRAFICO!C:E,3,FALSE),C12488),\"\")","v":"GANASRB"}]
[null,null,"PYG0003","GEL","GEL ANTIBACTERIAL 100 ML",10.68,8,9,16,6,0,0,{"$f":"+IFERROR(HYPERLINK(VLOOKUP(C12498,FOTOGRAFICO!C:E,3,FALSE),C12498),\"\")","v":"PYG0003"}]
[null,null,"113129729B","GOMA","GOMA MULTIPL ADMISION VW SEDAN COMBI 1600 CARBURADO GOMA MANI FOLD USA 2 BRUCK = TPY57007",17.63,8,4,5,8,18,16,{"$f":"+IFERROR(HYPERLINK(VLOOKUP(C12504,FOTOGRAFICO!C:E,3,FALSE),C12504),\"\")","v":"113129729B"}]
[null,null,"23-0321","GOMA","GOMA BARRA ESTABILIZAD.PLATINA CLIO 02-10 KANGOO 04-17        NARANJA POLIURETANO NACIONAL",24.81,10,0,3,10,12,13,{"$f":"+IFERROR(HYPERLINK(VLOOKUP(C12511,FOTOGRAFICO!C:E,3,FALSE),C12511),\"\")","v":"23-0321"}]
[null,null,"96181437SFT","GOMA","GOMA ESCAPE AVEO 08-17 PONTIAC G3 06-10 SET 2 PIEZAS MARCA    SAFETY IMPORTADO",39.76,0,2,0,2,0,0,{"$f":"+IFERROR(HYPERLINK(VLOOKUP(C12527,FOTOGRAFICO!C:E,3,FALSE),C12527),\"\")","v":"96181437SFT"}]
[null,null,"BOTANA-25","GOMA","GOMA DE MASCAR CLORETS CON     CLOROFILA 4 PASTILLAS",2.61,0,0,5,0,53,0,{"$f":"+IFERROR(HYPERLINK(VLOOKUP(C12531,FOTOGRAFICO!C:E,3,FALSE),C12531),\"\")","v":""}]
[null,null,"ECO1107","GOMA","GOMA SOPORTE RADIADOR CARIBE   ATLANTIC POINTER COMBI 1800    HONGO NACIONAL",15.93,79,74,19,16,10,11,{"$f":"+IFERROR(HYPERLINK(VLOOKUP(C12543,FOTOGRAFICO!C:E,3,FALSE),C12543),\"\")","v":""}]
[null,null,"GM96322618","GOMA","GOMA BARRA ESTABIL.MATIZ 04-15 CUADRADA MARCA ACDELCO         ORIGINAL = 23-0332",91.41,0,0,2,3,0,4,{"$f":"+IFERROR(HYPERLINK(VLOOKUP(C12555,FOTOGRAFICO!C:E,3,FALSE),C12555),\"\")","v":""}]
[null,null,"MEX850","GOMA","GOMA BARRA ESTAB.POINTER NARAN JA LATERAL 97-09               PEDIDO DANIEL CASTILLO",28.75,7,0,0,0,2,0,{"$f":"+IFERROR(HYPERLINK(VLOOKUP(C12566,FOTOGRAFICO!C:E,3,FALSE),C12566),\"\")","v":""}]
[null,null,"SAN117","GOMA","GOMA PEDAL CLUTC FREN VW SEDAN NACIONAL",8.42,22,24,15,14,42,18,{"$f":"+IFERROR(HYPERLINK(VLOOKUP(C12575,FOTOGRAFICO!C:E,3,FALSE),C12575),\"\")","v":""}]
[null,null,"SAN134","GOMA","GOMA MANIJA PTA VW SEDAN GRAND LATERAL NACIONAL",4.21,90,141,13,6,9,22,{"$f":"+IFERROR(HYPERLINK(VLOOKUP(C12578,FOTOGRAFICO!C:E,3,FALSE),C12578),\"\")","v":""}]
[null,null,"SAN141","GOMA","GOMA MANIJA COFRE GRAND VW SED SEDAN NACIONAL",1.91,187,74,14,7,13,17,{"$f":"+IFERROR(HYPERLINK(VLOOKUP(C12585,FOTOGRAFICO!C:E,3,FALSE),C12585),\"\")","v":""}]
[null,null,"SAN275","GOMA","GOMA TAPA PUNTERIA GOLF A3 2.0 GOMA VALV RALENTI",23.61,45,0,0,0,0,0,{"$f":"+IFERROR(HYPERLINK(VLOOKUP(C12598,FOTOGRAFICO!C:E,3,FALSE),C12598),\"\")","v":""}]
[null,null,"SAN420","GOMA","GOMA ESCAPE TSURU III GRANDE   TRASERA",33.42,87,6,14,12,9,9,{"$f":"+IFERROR(HYPERLINK(VLOOKUP(C12605,FOTOGRAFICO!C:E,3,FALSE),C12605),\"\")","v":""}]
[null,null,"SYD2011","GOMA","GOMA TOPE AMORT TRASERA ATOS   DER E IZQ MCA DAI 00- I10      TODOS MODELOS",24.42,0,0,0,0,0,0,{"$f":"+IFERROR(HYPERLINK(VLOOKUP(C12614,FOTOGRAFICO!C:E,3,FALSE),C12614),\"\")","v":""}]
[null,null,"SAN155","GRAPA","GRAPA MOLDURA VW SEDAN PLASTIC LLEVA 35 GRAPAS MARCA          AUTOEUROPLAST NACIONAL 155",3.04,930,115,93,144,203,61,{"$f":"+IFERROR(HYPERLINK(VLOOKUP(C12630,FOTOGRAFICO!C:E,3,FALSE),C12630),\"\")","v":"SAN155"}]
[null,null,"1012673","GRASA","GRASA GONHER BENTONA 850G      BAT3 P/BALEROS ALTA TEMPERATUR NL GI 3",108.2,2,1,3,11,0,3,{"$f":"+IFERROR(HYPERLINK(VLOOKUP(C12637,FOTOGRAFICO!C:E,3,FALSE),C12637),\"\")","v":"1012673"}]
[null,null,"18611","GRASA","GRASA BARDAHL FIBROSA NL 450GR MARCA BARDAHL FIBROSA NL GI 3  = ROSGF2 GRAFITADA",54.14,11,17,18,17,11,20,{"$f":"+IFERROR(HYPERLINK(VLOOKUP(C12643,FOTOGRAFICO!C:E,3,FALSE),C12643),\"\")","v":"18611"}]
[null,null,"QHPJH1","GRASA","GRASA JUNTAS HOMOC CHICA 250 G 593 CAJA= 24 PZAS.",35.47,89,46,66,93,28,30,{"$f":"+IFERROR(HYPERLINK(VLOOKUP(C12653,FOTOGRAFICO!C:E,3,FALSE),C12653),\"\")","v":"QHPJH1"}]
[null,null,"001-19-T","GUANTES","GUANTES MEDIOS DEDOS C/PROTECT OR DE NUDILLOS JUEGO 2 PIEZAS  MARCA IMPORTADOS",66.040000000000006,0,0,0,0,0,0,{"$f":"+IFERROR(HYPERLINK(VLOOKUP(C12660,FOTOGRAFICO!C:E,3,FALSE),C12660),\"\")","v":""}]
[null,null,"RSGUA17001OXL","GUANTES","GUANTES C/PROTECCION TALLA XL  NARANJA TECNOLOGIA TOUCHSCREEN JGO 2 PZA",107.51,0,0,1,0,2,2,{"$f":"+IFERROR(HYPERLINK(VLOOKUP(C12672,FOTOGRAFICO!C:E,3,FALSE),C12672),\"\")","v":""}]
[null,null,"RSGUA17002RXL","GUANTES","GUANTES CORTOS TALLA XL ROJO   CON PROTECCION JGO 2 PZA",97.16,2,2,1,1,2,2,{"$f":"+IFERROR(HYPERLINK(VLOOKUP(C12682,FOTOGRAFICO!C:E,3,FALSE),C12682),\"\")","v":""}]
[null,null,"259-2318-03","GUIA","GUIA FACIA DEL IZQ TIIDA 07-18",72.83,3,12,4,4,5,0,{"$f":"+IFERROR(HYPERLINK(VLOOKUP(C12692,FOTOGRAFICO!C:E,3,FALSE),C12692),\"\")","v":"259-2318-03"}]
[null,null,"GM5479024","GUIA","GUIA CONTROL DE CAMBIOS CHEVY  TODOS ORIGINAL                 MARCA ORIGINAL AC DELCO",875.09,3,0,2,1,0,2,{"$f":"+IFERROR(HYPERLINK(VLOOKUP(C12704,FOTOGRAFICO!C:E,3,FALSE),C12704),\"\")","v":""}]
[null,null,"259-2327-08","GUIA","GUIA DER FACIA DEL MARCH 12-14 MARCA TYG PIDE OSVALDO",161.86000000000001,0,0,0,0,0,0,{"$f":"+IFERROR(HYPERLINK(VLOOKUP(C12711,FOTOGRAFICO!C:E,3,FALSE),C12711),\"\")","v":""}]
[null,null,"259-0604-14","GUIA","GUIA FACIA DEL DER AVEO 18-21  MARCA TYG PEDIDO HAMURABI      CALL CENTER",131.1,0,0,0,0,0,0,{"$f":"+IFERROR(HYPERLINK(VLOOKUP(C12724,FOTOGRAFICO!C:E,3,FALSE),C12724),\"\")","v":""}]
[null,null,"259-2316-16","GUIA","GUIA FACIA DEL DER SENTRA 17-  19 MARCA RADEC PIDE JORGE G.   259-2316-16",183.71,0,2,0,0,0,0,{"$f":"+IFERROR(HYPERLINK(VLOOKUP(C12731,FOTOGRAFICO!C:E,3,FALSE),C12731),\"\")","v":"259-2316-16"}]
[null,null,"259-3112-03","GUIA","GUIA FACIA IZQ DEL JETTA       CLASICO 08-15 MARCA HUSHAN     PEDIDO JORGE",360.94,0,0,0,0,0,0,{"$f":"+IFERROR(HYPERLINK(VLOOKUP(C12740,FOTOGRAFICO!C:E,3,FALSE),C12740),\"\")","v":""}]
[null,null,"CITC9903","GUIA","GUIA FACIA TRAS DER AVEO 18-23 MARCA FPI",104.4,0,2,0,0,1,0,{"$f":"+IFERROR(HYPERLINK(VLOOKUP(C12747,FOTOGRAFICO!C:E,3,FALSE),C12747),\"\")","v":"CITC9903"}]
[null,null,"259-3018-04","GUIA","GUIA FACIA DER YARIS 07-16 4   PUERTAS MARCA TYG PEDIDA ERICK",126.25,0,0,0,0,0,0,{"$f":"+IFERROR(HYPERLINK(VLOOKUP(C12754,FOTOGRAFICO!C:E,3,FALSE),C12754),\"\")","v":""}]
[null,null,"68350-26030 RH","GUIA","GUIA INFERIOR PUERTA CORREDIZA DERECHA HIACE 06-17 C/RODILLOS COMPLETA MARCA KISHIO",310.39999999999998,0,0,0,0,0,0,{"$f":"+IFERROR(HYPERLINK(VLOOKUP(C12769,FOTOGRAFICO!C:E,3,FALSE),C12769),\"\")","v":""}]
[null,null,"LA671B","HILO","HILO NEON AZUL 3 METROS        C/FUNCIONES C/SWITCH AL        ENCENDEDOR MARCA TUNIX",68.23,1,2,0,3,4,0,{"$f":"+IFERROR(HYPERLINK(VLOOKUP(C12779,FOTOGRAFICO!C:E,3,FALSE),C12779),\"\")","v":"LA671B"}]
[null,null,"LAL02W","HILO","HILO LED NEON CABLE LUMINOSO   FLEXIBLE 3 METROS BLANCO",71.290000000000006,1,4,3,4,2,2,{"$f":"+IFERROR(HYPERLINK(VLOOKUP(C12786,FOTOGRAFICO!C:E,3,FALSE),C12786),\"\")","v":"LAL02W"}]
[null,null,"1503010SFT","HORQUILLA","HORQUILLA INF DER CORSA 02-08  T/EASYTRONIC MERIVA 03-08      MARCA SAFETY 1503010",0,0,0,0,0,0,0,{"$f":"+IFERROR(HYPERLINK(VLOOKUP(C12798,FOTOGRAFICO!C:E,3,FALSE),C12798),\"\")","v":""}]
[null,null,"1503062SFT","HORQUILLA","HORQUILLA INF DER MALIBU 13-15 REGAL 11-15 LACROSSE 10-14     ALUMINIO MARCA SAFETY",1232.8399999999999,0,2,2,0,2,0,{"$f":"+IFERROR(HYPERLINK(VLOOKUP(C12806,FOTOGRAFICO!C:E,3,FALSE),C12806),\"\")","v":""}]
[null,null,"1503085SFT","HORQUILLA","HORQUILLA INF IZQ TRAX 13-20   ENCORE 13-18 MARCA SAFETY      1503085",678.81,0,2,2,0,2,0,{"$f":"+IFERROR(HYPERLINK(VLOOKUP(C12809,FOTOGRAFICO!C:E,3,FALSE),C12809),\"\")","v":""}]
[null,null,"1506064SFT","HORQUILLA","HORQUILLA SUP DER LIBERTY      08-12 NITRO 07-12 MARCA SAFETY 1506064",752.87,0,2,2,0,2,0,{"$f":"+IFERROR(HYPERLINK(VLOOKUP(C12821,FOTOGRAFICO!C:E,3,FALSE),C12821),\"\")","v":""}]
[null,null,"1506101SFT","HORQUILLA","HORQUILLA INF IZQ DART 13-16   200 15-17 1.4T 2.0L 2.4 FIERRO COLADO MARCA SAFETY 1506101",0,0,0,0,0,0,0,{"$f":"+IFERROR(HYPERLINK(VLOOKUP(C12827,FOTOGRAFICO!C:E,3,FALSE),C12827),\"\")","v":""}]
[null,null,"1508096SFT","HORQUILLA","HORQUILLA INF DER FUSION 13-19 MKZ 13-19 MILAN 13-19 ZEPHYR   13-19 ALUMINIO SAFETY 1508096",2416.31,0,2,2,0,2,0,{"$f":"+IFERROR(HYPERLINK(VLOOKUP(C12841,FOTOGRAFICO!C:E,3,FALSE),C12841),\"\")","v":""}]
[null,null,"1513004SFT","HORQUILLA","HORQUILLA INF DER MAZDA 3      03-09 MAZDA 5 03-15 MARCA      SAFETY 1513004",821.43,0,2,2,0,2,0,{"$f":"+IFERROR(HYPERLINK(VLOOKUP(C12853,FOTOGRAFICO!C:E,3,FALSE),C12853),\"\")","v":""}]
[null,null,"1513026SFT","HORQUILLA","HORQUILLA INF DER MAZDA 3      14-18 MARCA SAFETY             1513026",1630.53,0,2,2,0,2,0,{"$f":"+IFERROR(HYPERLINK(VLOOKUP(C12856,FOTOGRAFICO!C:E,3,FALSE),C12856),\"\")","v":""}]
[null,null,"305407155KB","HORQUILLA","HORQUILLA SUSPEN INFER POINTER 97-09 POINTER PICKUP 97-10 CON BUJES SIN ROTULA MARCA KABUTO",0,0,0,0,0,0,0,{"$f":"+IFERROR(HYPERLINK(VLOOKUP(C12873,FOTOGRAFICO!C:E,3,FALSE),C12873),\"\")","v":""}]
[null,null,"43861-02000","HORQUILLA","HORQUILLA CAJA VEL ATOS 00-12            3A 4A VELOCIDAD      MARCA KIM-MOO = ROT43861-02000",341.92,4,0,0,0,4,0,{"$f":"+IFERROR(HYPERLINK(VLOOKUP(C12880,FOTOGRAFICO!C:E,3,FALSE),C12880),\"\")","v":"43861-02000"}]
[null,null,"4744036SFT","HORQUILLA","HORQUILLA INF DER MAZDA 2      16-23 YARIS R 16-20 1.5 MARCA  SAFETY 4744036",1095.7,0,2,2,0,2,0,{"$f":"+IFERROR(HYPERLINK(VLOOKUP(C12885,FOTOGRAFICO!C:E,3,FALSE),C12885),\"\")","v":""}]
[null,null,"54500-3SH2ASFT","HORQUILLA","HORQUILLA INF DER SENTRA B17   13-19 MARCA SAFETY 1516060",451.17,0,2,2,0,1,0,{"$f":"+IFERROR(HYPERLINK(VLOOKUP(C12896,FOTOGRAFICO!C:E,3,FALSE),C12896),\"\")","v":""}]
[null,null,"54500-JA00BSFT","HORQUILLA","HORQUILLA INF DER ALTIMA 07-12 ALUMINIO MARCA SAFETY          1516026",1726.52,0,2,2,0,2,0,{"$f":"+IFERROR(HYPERLINK(VLOOKUP(C12903,FOTOGRAFICO!C:E,3,FALSE),C12903),\"\")","v":""}]
[null,null,"54501-5RB0CSFT","HORQUILLA","HORQUILLA SUSP INF IZQ VERSA   20-23 KICKS 17-23 CON ROTULA   MARCA SAFETY 1516077",519.74,1,0,2,0,2,3,{"$f":"+IFERROR(HYPERLINK(VLOOKUP(C12914,FOTOGRAFICO!C:E,3,FALSE),C12914),\"\")","v":""}]
[null,null,"54525-3XA3ASFT","HORQUILLA","HORQUILLA SUP IZQ URVAN NV350  2.4 2.5 02-20 REFORZADA SAFETY",1136.8399999999999,16,0,5,13,1,4,{"$f":"+IFERROR(HYPERLINK(VLOOKUP(C12923,FOTOGRAFICO!C:E,3,FALSE),C12923),\"\")","v":"54525-3XA3ASFT"}]
[null,null,"6RD407151AKB","HORQUILLA","HORQUILLA SUSP INF IZQ VENTO   14-19 IBIZA 09-17 POLO 13-17   C/BUJES S/ROTULA KABUTO",0,0,0,0,0,0,0,{"$f":"+IFERROR(HYPERLINK(VLOOKUP(C12935,FOTOGRAFICO!C:E,3,FALSE),C12935),\"\")","v":""}]
[null,null,"94580796","HORQUILLA","HORQUILLA CLUTCH AVEO 07-17    1.6L PONTIAC G3 04-09 P/COLLAR MARCA AC DELCO ORIGINAL",484.23,3,3,4,3,3,2,{"$f":"+IFERROR(HYPERLINK(VLOOKUP(C12947,FOTOGRAFICO!C:E,3,FALSE),C12947),\"\")","v":"94580796"}]
[null,null,"95319215","HORQUILLA","HORQUILLA SUSP INF IZQUI SPARK 11-15 BEAT 1.2 18-21 CON BUJES CON ROTULA MARCA BRUCK GERMANY",905,0,4,1,2,7,2,{"$f":"+IFERROR(HYPERLINK(VLOOKUP(C12953,FOTOGRAFICO!C:E,3,FALSE),C12953),\"\")","v":"95319215"}]
[null,null,"ALE016141719A","HORQUILLA","HORQUILLA CLUTCH EUROVAN 00-04 CORTA 2.5 20CM PEDIR MUESTRA",165.93,0,0,0,1,8,0,{"$f":"+IFERROR(HYPERLINK(VLOOKUP(C12958,FOTOGRAFICO!C:E,3,FALSE),C12958),\"\")","v":"ALE016141719A"}]
[null,null,"EGP1526001","HORQUILLA","HORQUILLA SUSP INF POLO 03-07  LUPO 05-09 IBIZA 03-08 CORDOBA 03-09 CROSSFOX 07-17 SAFETY",349.69,3,4,2,8,2,7,{"$f":"+IFERROR(HYPERLINK(VLOOKUP(C12970,FOTOGRAFICO!C:E,3,FALSE),C12970),\"\")","v":""}]
[null,null,"EUR54525VX100IZQ","HORQUILLA","HORQUILLA SUSP SUPER IZQ URVAN NV350 02-20 CON ROTULA MARCA   EURO ESPANA = EGP54525",1734.56,8,0,0,1,0,2,{"$f":"+IFERROR(HYPERLINK(VLOOKUP(C12982,FOTOGRAFICO!C:E,3,FALSE),C12982),\"\")","v":""}]
[null,null,"HER54500-020PROM","HORQUILLA","HORQUILLA SUSP INF IZQ ATOS 00 -12 CON BUJES SIN ROTULA MARCA YOKOMITSU = 54500-02000CTR",322.52999999999997,2,0,3,0,0,0,{"$f":"+IFERROR(HYPERLINK(VLOOKUP(C12990,FOTOGRAFICO!C:E,3,FALSE),C12990),\"\")","v":""}]
[null,null,"MIZ501T1800","HORQUILLA","HORQUILLA SUSPE INF GOLF JETTA A3 93-99 CON BUJES SIN ROTULA  SAFETY IMPORTADO",419.63,11,0,19,0,4,0,{"$f":"+IFERROR(HYPERLINK(VLOOKUP(C12997,FOTOGRAFICO!C:E,3,FALSE),C12997),\"\")","v":""}]
[null,null,"NIS124T1802","HORQUILLA","HORQUILLA SUSP INF IZQ PLATINA 02-10 CLIO 02-10 CON BUJES CON ROTULA YOKOMITSU IMPORTADO",322.52999999999997,2,3,3,3,3,3,{"$f":"+IFERROR(HYPERLINK(VLOOKUP(C13011,FOTOGRAFICO!C:E,3,FALSE),C13011),\"\")","v":""}]
[null,null,"ORI422T1802","HORQUILLA","HORQUILLA SUSP INF IZQ ATOS 00 -12 CON BUJES SIN ROTULA MARCA SAFETY IMPORTADO = EURO5450102",391.03,6,2,4,5,19,2,{"$f":"+IFERROR(HYPERLINK(VLOOKUP(C13022,FOTOGRAFICO!C:E,3,FALSE),C13022),\"\")","v":""}]
[null,null,"SHNC9902","HORQUILLA","HORQUILLA SUSP INF IZQ AVEO 07 -17 PONTIAC G3 06-09 C/BUJES   C/ROTULA MARCA YOKOMITZU",322.52999999999997,4,0,0,3,8,0,{"$f":"+IFERROR(HYPERLINK(VLOOKUP(C13029,FOTOGRAFICO!C:E,3,FALSE),C13029),\"\")","v":""}]
[null,null,"SHNG0100PROMO","HORQUILLA","HORQUILLA SUSP INF MATIZ 04-15 CON BUJE CON ROTULA MARCA      YOKOMITSU = TEBO200003",0,0,0,0,0,0,0,{"$f":"+IFERROR(HYPERLINK(VLOOKUP(C13040,FOTOGRAFICO!C:E,3,FALSE),C13040),\"\")","v":""}]
[null,null,"SHNN0901-PROMO","HORQUILLA","HORQUILLA SUSP INF DER VERSA   NOTE 12-19 MARCH 11-20 V-DRIVE 18-23 CON ROTULA Y BUJES YOKOM",280.08999999999997,3,0,0,0,0,0,{"$f":"+IFERROR(HYPERLINK(VLOOKUP(C13049,FOTOGRAFICO!C:E,3,FALSE),C13049),\"\")","v":"SHNN0901-PROMO"}]
[null,null,"SHNN0911","HORQUILLA","HORQUILLA SUSP DER VERSA 20-23 KICKS 17-20 MARCA YOKOMITZU    CON ROTULA Y CON BUJES",379.12,7,7,8,1,8,13,{"$f":"+IFERROR(HYPERLINK(VLOOKUP(C13052,FOTOGRAFICO!C:E,3,FALSE),C13052),\"\")","v":""}]
[null,null,"SYD1503015","HORQUILLA","HORQUILLA SUP IZQ ESCALADE 07- 11                             SOBRE PEDIDO X PABLO",1511.77,0,0,0,0,0,0,{"$f":"+IFERROR(HYPERLINK(VLOOKUP(C13064,FOTOGRAFICO!C:E,3,FALSE),C13064),\"\")","v":""}]
[null,null,"TEBO200003","HORQUILLA","HORQUILLA SUSP INF MATIZ 04-15 CON BUJE CON ROTULA MARCA TEBO ORIGINAL = 1503001SFT",448.47,5,10,0,0,0,0,{"$f":"+IFERROR(HYPERLINK(VLOOKUP(C13069,FOTOGRAFICO!C:E,3,FALSE),C13069),\"\")","v":"TEBO200003"}]
[null,null,"HER54501-020PRO3","HORQUILLA","HORQUILLA SUSP INF DER ATOS 00 -12 CON BUJES SIN ROTULA MARCA YOKOMITSU = 54501-02000CTR",294.24,0,0,0,0,0,0,{"$f":"+IFERROR(HYPERLINK(VLOOKUP(C13084,FOTOGRAFICO!C:E,3,FALSE),C13084),\"\")","v":""}]
[null,null,"SYD1508096","HORQUILLA","HORQUILLA INF DER FUSION 13-19 MILAN 13-19 MARCA SYD PIDE     SOBRE PEDIDO",3641,0,0,0,0,0,0,{"$f":"+IFERROR(HYPERLINK(VLOOKUP(C13096,FOTOGRAFICO!C:E,3,FALSE),C13096),\"\")","v":""}]
[null,null,"SYD1525025","HORQUILLA","HORQUILLA SUP IZQ HIACE 04-20  MARCA SYD PIDE RAUL FABILA     1525025",2686.54,0,0,0,0,0,0,{"$f":"+IFERROR(HYPERLINK(VLOOKUP(C13098,FOTOGRAFICO!C:E,3,FALSE),C13098),\"\")","v":""}]
[null,null,"54500-00PROMO","HORQUILLA","HORQUILLA SUSP INF DER APRIO   07-11 SANDERO STEPWAY 10-18    C/BUJES C/ROTULA SAFETY",377.66,0,0,0,0,0,0,{"$f":"+IFERROR(HYPERLINK(VLOOKUP(C13107,FOTOGRAFICO!C:E,3,FALSE),C13107),\"\")","v":""}]
[null,null,"1503087SFT","HORQUILLA","HORQUILLA SUP IZQ SILVERADO    1500 SUBURBAN 1500 TAHOE 15-20 ALUMINIO MARCA SAFETY",0,0,0,0,0,0,0,{"$f":"+IFERROR(HYPERLINK(VLOOKUP(C13123,FOTOGRAFICO!C:E,3,FALSE),C13123),\"\")","v":""}]
[null,null,"1506027SFT","HORQUILLA","HORQUILLA INF IZQ VOYAGER      CARAVAN GRAND CARAVAN TOWN     COUNTRY 01-07 6 CIL SAFETY",0,0,0,0,0,0,0,{"$f":"+IFERROR(HYPERLINK(VLOOKUP(C13127,FOTOGRAFICO!C:E,3,FALSE),C13127),\"\")","v":""}]
[null,null,"1508004SFT","HORQUILLA","HORQUILLA SUP DER F150 LOBO    04-08 4X2 4X4 MARCA SAFETY",0,0,0,0,0,0,0,{"$f":"+IFERROR(HYPERLINK(VLOOKUP(C13139,FOTOGRAFICO!C:E,3,FALSE),C13139),\"\")","v":""}]
[null,null,"1508106SFT","HORQUILLA","HORQUILLA SUP DER RANGER 13-21 MARCA SAFETY",0,0,0,0,0,0,0,{"$f":"+IFERROR(HYPERLINK(VLOOKUP(C13146,FOTOGRAFICO!C:E,3,FALSE),C13146),\"\")","v":""}]
[null,null,"54501-8H310SFT","HORQUILLA","HORQUILLA INF IZQ X-TRAIL      02-07 ALUMINIO SAFETY",0,0,0,0,0,0,0,{"$f":"+IFERROR(HYPERLINK(VLOOKUP(C13156,FOTOGRAFICO!C:E,3,FALSE),C13156),\"\")","v":""}]
[null,null,"K-8728SFT","HORQUILLA","HORQUILLA SUP DER F150 97-07   4X2 LOBO 97-03 4X2 EXPEDITION  97-02 4X2 MARCA SAFETY",0,0,0,0,0,0,0,{"$f":"+IFERROR(HYPERLINK(VLOOKUP(C13171,FOTOGRAFICO!C:E,3,FALSE),C13171),\"\")","v":""}]
[null,null,"SYD5450150A00","HORQUILLA","HORQUILLA INF IZQUIER TSURU II 88-91 SENTRA USA 87-90 PULSAR  87-90 MARCA SYD PIDE ALE NAVAR",794.1,0,0,0,0,0,0,{"$f":"+IFERROR(HYPERLINK(VLOOKUP(C13178,FOTOGRAFICO!C:E,3,FALSE),C13178),\"\")","v":""}]
[null,null,"1063986SFT","HORQUILLA","HORQUILLA INF DER KA 1.6 01-08 DIRECCION HIDRAHULICA          C/ROTULA SAFETY 1063986SFT",633.55999999999995,0,0,0,0,0,0,{"$f":"+IFERROR(HYPERLINK(VLOOKUP(C13185,FOTOGRAFICO!C:E,3,FALSE),C13185),\"\")","v":""}]
[null,null,"ORI6N0947563","INTERRUPTO","INTERRUPTOR PUERTA GOLF A3     LUZ INT ORIGINAL",28.21,6,0,0,0,0,0,{"$f":"+IFERROR(HYPERLINK(VLOOKUP(C13198,FOTOGRAFICO!C:E,3,FALSE),C13198),\"\")","v":""}]
[null,null,"1J0927189F","INTERRUPTO","INTERRUPTOR PEDAL CLUTCH JETTA A4 99-15 BEETLE 98-11 VENTO 14 -22 INTERRUPTOR STAR GOL 09-22",94.28,0,0,0,0,1,0,{"$f":"+IFERROR(HYPERLINK(VLOOKUP(C13201,FOTOGRAFICO!C:E,3,FALSE),C13201),\"\")","v":""}]
[null,null,"BRU25186566","INYECTOR","INYECTOR SPARK 11-20 1.2 MARCA BRUCK GERMANY 25186566",490.12,4,6,7,0,5,3,{"$f":"+IFERROR(HYPERLINK(VLOOKUP(C13213,FOTOGRAFICO!C:E,3,FALSE),C13213),\"\")","v":"BRU25186566"}]
[null,null,"ORI113129323C","INYECTOR","INYECTOR CUERNO CARBUR VW 1600",75.3,17,4,0,3,3,8,{"$f":"+IFERROR(HYPERLINK(VLOOKUP(C13224,FOTOGRAFICO!C:E,3,FALSE),C13224),\"\")","v":"ORI113129323C"}]
[null,null,"INJ42804","INYECTOR","INYECTOR TOYOTA YARIS 1.5 06-  18 MARCA INJETECH PIDE EDER",683.73,0,0,0,0,0,0,{"$f":"+IFERROR(HYPERLINK(VLOOKUP(C13233,FOTOGRAFICO!C:E,3,FALSE),C13233),\"\")","v":"INJ42804"}]
[null,null,"032-103-388N","JUNTA","JUNTA CABEZA VW GOL IBIZA 1.6  CORDOBA LUPO POLO SAVEIRO CROS SFOX 03-16 GRAFITO =CS-3091",63.08,5,4,2,4,16,9,{"$f":"+IFERROR(HYPERLINK(VLOOKUP(C13240,FOTOGRAFICO!C:E,3,FALSE),C13240),\"\")","v":"032-103-388N"}]
[null,null,"11213-30020","JUNTA","JUNTA PUNTERIAS HIACE 06-19    HILUX 04-13 TACOMA 05-13 2.7   16 V.MOT.2TR-FE KISHIO IMPORTA",75.61,1,0,1,0,0,0,{"$f":"+IFERROR(HYPERLINK(VLOOKUP(C13253,FOTOGRAFICO!C:E,3,FALSE),C13253),\"\")","v":"11213-30020"}]
[null,null,"22-0246","JUNTA","JUNTA ESCAPE TRINAGULO AVEO    TRIANGULAR TODOS MODELOS       VA ENTRE EL TUBO Y EL MULTIPLE",21.13,0,0,0,0,0,0,{"$f":"+IFERROR(HYPERLINK(VLOOKUP(C13256,FOTOGRAFICO!C:E,3,FALSE),C13256),\"\")","v":""}]
[null,null,"BRU032103383N","JUNTA","JUNTA CABEZA GOL 09-20 1.6     POLO 03-07 1.6 LUPO 05-09 1.6  CROSSFOX 06-17 1.6 BRUCK",230.37,7,3,2,3,4,2,{"$f":"+IFERROR(HYPERLINK(VLOOKUP(C13272,FOTOGRAFICO!C:E,3,FALSE),C13272),\"\")","v":"BRU032103383N"}]
[null,null,"BRU1104457Y00","JUNTA","JUNTA CABEZA TSURU III 92-97   1.6 16V GA16DE GRAFITO MARCA   BRUCK GERMANY 1104457Y00",96.39,2,0,1,2,1,0,{"$f":"+IFERROR(HYPERLINK(VLOOKUP(C13282,FOTOGRAFICO!C:E,3,FALSE),C13282),\"\")","v":""}]
[null,null,"BRU14035EL00A","JUNTA","JUNTA MULTIPLE ADMISION TIIDA  07-18 1.8 SENTRA B16 06-12 2.0 PLASTICO MARCA BRUCK GERMANY",69.34,1,3,4,7,2,4,{"$f":"+IFERROR(HYPERLINK(VLOOKUP(C13288,FOTOGRAFICO!C:E,3,FALSE),C13288),\"\")","v":"BRU14035EL00A"}]
[null,null,"BRU96378802","JUNTA","JUNTA CABEZA AVEO 07-10 1.6 G3 06-10 1.6 OPTRA 06-10 2.0      F16D3LXV ACERO MARCA BRUCK",273.87,1,1,1,2,3,2,{"$f":"+IFERROR(HYPERLINK(VLOOKUP(C13295,FOTOGRAFICO!C:E,3,FALSE),C13295),\"\")","v":"BRU96378802"}]
[null,null,"CS-3076","JUNTA","JUNTA CABEZA TSURU III 93-96   16 VALVULAS DOBLE ARBOL        GRAFITADA SELLO V = TFCA21",86.92,0,3,0,4,2,2,{"$f":"+IFERROR(HYPERLINK(VLOOKUP(C13311,FOTOGRAFICO!C:E,3,FALSE),C13311),\"\")","v":""}]
[null,null,"CS-329","JUNTA","JUNTA CABEZA TSURU III 16 VALS 97-17 SENTRA 1.6 98-00 MARCA   SELLO V = MIZJCRN0110",76.989999999999995,4,2,6,3,4,3,{"$f":"+IFERROR(HYPERLINK(VLOOKUP(C13315,FOTOGRAFICO!C:E,3,FALSE),C13315),\"\")","v":""}]
[null,null,"EGP11044-33M10","JUNTA","JUNTA CABEZA TSURU I II 84-94  8 VALV.CARBURADO E INY.GRAFITO TOP ENGINE = CS-3041 = TFCA19",47.99,4,0,14,0,0,0,{"$f":"+IFERROR(HYPERLINK(VLOOKUP(C13327,FOTOGRAFICO!C:E,3,FALSE),C13327),\"\")","v":""}]
[null,null,"EGP13270-40F00","JUNTA","JUNTA PUNTERIAS URVAN 2.4 99-  01 PICK UP D21 2.4 90-01 2     MEDIA LUNA SEPARADA TOP ENGINE",52.11,11,0,0,0,0,2,{"$f":"+IFERROR(HYPERLINK(VLOOKUP(C13330,FOTOGRAFICO!C:E,3,FALSE),C13330),\"\")","v":""}]
[null,null,"EGPHG-NS-01","JUNTA","JUNTA CABEZA X-TRAIL ALTIMA    FRONTIER ROGUE SENTRA SE-R 01- 07 2.5 METALICA EGP IMPORTADO",307.18,0,0,0,4,0,2,{"$f":"+IFERROR(HYPERLINK(VLOOKUP(C13340,FOTOGRAFICO!C:E,3,FALSE),C13340),\"\")","v":""}]
[null,null,"JC1350","JUNTA","JUNTA ESCAPE COCOL VW CHICO    MULTIPLE SEDAN NACIONAL",5.84,35,30,20,18,0,29,{"$f":"+IFERROR(HYPERLINK(VLOOKUP(C13350,FOTOGRAFICO!C:E,3,FALSE),C13350),\"\")","v":""}]
[null,null,"JCSK0110","JUNTA","JUNTA CABEZA ATOS 1.1 05-05    GRAFITADA C/SILICON ORIFICIO   CERRADO SEHUN = TFCA111-1",49.51,9,3,2,0,3,20,{"$f":"+IFERROR(HYPERLINK(VLOOKUP(C13362,FOTOGRAFICO!C:E,3,FALSE),C13362),\"\")","v":""}]
[null,null,"JPRC0800","JUNTA","JUNTA PUNTERIAS SPARK 1.2 11-  18 BEAT 1.2 18-20 SUPERSEAL    PS-312090 = 96416270",111.75,0,2,2,1,5,16,{"$f":"+IFERROR(HYPERLINK(VLOOKUP(C13369,FOTOGRAFICO!C:E,3,FALSE),C13369),\"\")","v":"JPRC0800"}]
[null,null,"JUNTA26","JUNTA","JUNTA ESCAPE COMBI GOLF JETTA  A3 1800 FUEL INY RECTANGULAR   C/PUNTAS HECHO EN MEXICO",36.15,4,0,0,5,0,2,{"$f":"+IFERROR(HYPERLINK(VLOOKUP(C13382,FOTOGRAFICO!C:E,3,FALSE),C13382),\"\")","v":""}]
[null,null,"JUNTA40","JUNTA","JUNTA ESCAPE ARANA VW SEDAN    COMBI 1.6 TRIANGULAR NACIONAL",15.17,36,14,0,1,9,4,{"$f":"+IFERROR(HYPERLINK(VLOOKUP(C13389,FOTOGRAFICO!C:E,3,FALSE),C13389),\"\")","v":""}]
[null,null,"JURN0460","JUNTA","JUNTA MULT ESCAP URVAN NV350   08-18 X-TRAIL ROGUE ALTIMA 01- 07 MOTOR 2.5 SUPERSEAL IMPORTA",97.6,9,0,3,3,0,8,{"$f":"+IFERROR(HYPERLINK(VLOOKUP(C13398,FOTOGRAFICO!C:E,3,FALSE),C13398),\"\")","v":""}]
[null,null,"KS-4020","JUNTA","JUNTA CARTER GOLF JETTA A2 A3  COMBI ATLANTIC 77-02 POINTER   DERBY 1.8 98-08 SELLO V MEXICO",36.909999999999997,9,0,7,6,7,3,{"$f":"+IFERROR(HYPERLINK(VLOOKUP(C13405,FOTOGRAFICO!C:E,3,FALSE),C13405),\"\")","v":""}]
[null,null,"MS-7030-E","JUNTA","JUNTA MULTIPLE ESCAP URVAN 00- 07 NISSAN PICKUP MOT 2.4 SELLO V HECHO EN MEXICO = TFMU430E",34.53,6,0,4,11,4,4,{"$f":"+IFERROR(HYPERLINK(VLOOKUP(C13421,FOTOGRAFICO!C:E,3,FALSE),C13421),\"\")","v":"MS-7030-E"}]
[null,null,"MS-7076-A","JUNTA","JUNTA MULTIPLE ADM TSURU 16VAL 93-17 SENTRA 1.6 98-00 MARCA   SELLO V HECHO EN MEXICO",19.05,5,3,7,6,8,2,{"$f":"+IFERROR(HYPERLINK(VLOOKUP(C13427,FOTOGRAFICO!C:E,3,FALSE),C13427),\"\")","v":"MS-7076-A"}]
[null,null,"ORI06A103483C","JUNTA","JUNTA PUNTERIA HULE GOLF JETTA A4 99-10 CLASICO 10-14 POINTER MOTOR 2.0 LUPO GOL 1.6L BRUCK",56.42,9,0,5,4,0,10,{"$f":"+IFERROR(HYPERLINK(VLOOKUP(C13441,FOTOGRAFICO!C:E,3,FALSE),C13441),\"\")","v":"ORI06A103483C"}]
[null,null,"ORI113845521J","JUNTA","JUNTA MEDALLON VW SEDAN 73-02  CRISTAL TRASERO : NACIONAL",118.75,17,13,0,4,1,4,{"$f":"+IFERROR(HYPERLINK(VLOOKUP(C13444,FOTOGRAFICO!C:E,3,FALSE),C13444),\"\")","v":"ORI113845521J"}]
[null,null,"PUNTERIA-FD-10","JUNTA","JUNTA PUNTERIAS FIESTA IKON    COURIER KA 1.6 01-10 TOP       ENGINE IMPORTADO = PS-601523",43.88,0,3,1,4,0,10,{"$f":"+IFERROR(HYPERLINK(VLOOKUP(C13456,FOTOGRAFICO!C:E,3,FALSE),C13456),\"\")","v":"PUNTERIA-FD-10"}]
[null,null,"QCA-1225-ML","JUNTA","JUNTA CABEZA CORSA TORNADO     SOBRE MEDIDA MCA QUEBEC MEXICA NA MERIVA 1.8 03-10 = TFCA1225",193.36,3,2,4,0,1,1,{"$f":"+IFERROR(HYPERLINK(VLOOKUP(C13466,FOTOGRAFICO!C:E,3,FALSE),C13466),\"\")","v":""}]
[null,null,"QCA-34-1ML","JUNTA","JUNTA CABEZA URVAN NV350 2.5   08-17 SOBREMEDIDA 0.076 QR25DE GRAFITADA = JCRN0410 = TFCA39",222.47,60,9,56,49,18,34,{"$f":"+IFERROR(HYPERLINK(VLOOKUP(C13476,FOTOGRAFICO!C:E,3,FALSE),C13476),\"\")","v":"QCA-34-1ML"}]
[null,null,"QCA-99-ML","JUNTA","JUNTA CABEZA GOLF JETTA A4 99- 10 CLASICO 10-14 POINTER DERBY MOTOR 2.0 SOBRE MEDIDA QUEBEC",186.5,5,1,2,3,3,1,{"$f":"+IFERROR(HYPERLINK(VLOOKUP(C13479,FOTOGRAFICO!C:E,3,FALSE),C13479),\"\")","v":"QCA-99-ML"}]
[null,null,"TFCA201","JUNTA","JUNTA CABEZA PLATINA CLIO      APRIO 1.6 01-10 GRAFITADA TF   VICTOR = EGP11044-00QAA",278.57,3,2,10,7,3,4,{"$f":"+IFERROR(HYPERLINK(VLOOKUP(C13495,FOTOGRAFICO!C:E,3,FALSE),C13495),\"\")","v":"TFCA201"}]
[null,null,"TFCA31","JUNTA","JUNTA CABEZA SENTRA ALMERA 1.8 00-06 MOTOR QG18DE GRAFITADA   TF VICTOR HECHO EN MEXICO",246.39,0,1,0,3,2,1,{"$f":"+IFERROR(HYPERLINK(VLOOKUP(C13499,FOTOGRAFICO!C:E,3,FALSE),C13499),\"\")","v":"TFCA31"}]
[null,null,"TFCJ121","JUNTA","JUNTA CARTER TSURU III 93-17   1.6 16 VALVULAS CORCHO TF      VICTOR = KS-4076",51.35,19,7,13,18,4,4,{"$f":"+IFERROR(HYPERLINK(VLOOKUP(C13515,FOTOGRAFICO!C:E,3,FALSE),C13515),\"\")","v":"TFCJ121"}]
[null,null,"TFMU41523-A","JUNTA","JUNTA MULTI ADMIS FIESTA IKON  01-12 COURIER 01-12 KA 02-08   1.6 TF VICTOR HECHO EN MEXICO",220.95,2,0,0,2,0,1,{"$f":"+IFERROR(HYPERLINK(VLOOKUP(C13524,FOTOGRAFICO!C:E,3,FALSE),C13524),\"\")","v":"TFMU41523-A"}]
[null,null,"TFMU421A","JUNTA","JUNTA MULTIPLE ADM TSURU 16VAL 93-17 SENTRA 1.6 98-00 MARCA   TF VICTOR HECHO EN MEXICO",32.78,10,7,7,12,1,2,{"$f":"+IFERROR(HYPERLINK(VLOOKUP(C13531,FOTOGRAFICO!C:E,3,FALSE),C13531),\"\")","v":"TFMU421A"}]
[null,null,"TFMU490A","JUNTA","JUNTA MULTIP ADMIS EUROVAN 99- 04 MOTOR 2.5 5 CILINDROS TF    VICTOR HECHO EN MEXICO",83.12,0,0,0,2,0,1,{"$f":"+IFERROR(HYPERLINK(VLOOKUP(C13538,FOTOGRAFICO!C:E,3,FALSE),C13538),\"\")","v":"TFMU490A"}]
[null,null,"TFPS31239","JUNTA","JUNTA PUNTERIAS AVEO 1.6 07-17 E-TEC II Y ECOTEC              MARCA TF VICTOR MEX",98.94,24,103,50,55,23,28,{"$f":"+IFERROR(HYPERLINK(VLOOKUP(C13553,FOTOGRAFICO!C:E,3,FALSE),C13553),\"\")","v":"TFPS31239"}]
[null,null,"TFPS319","JUNTA","JUNTA PUNTERIAS TSURU I II 1.5 1.6 84-94 8 VALV.MOT.E15 E16   CARBURADO E INY.TF VICTOR MEXI",49.23,2,0,1,3,0,1,{"$f":"+IFERROR(HYPERLINK(VLOOKUP(C13558,FOTOGRAFICO!C:E,3,FALSE),C13558),\"\")","v":"TFPS319"}]
[null,null,"110441KT0B","JUNTA","JUNTA CABEZA VERSA MARCH TIIDA NOTE V-DRIVE 1.6 12-20 ACERO   MARCA BRUCK = CA11 = QCA-12-ML",273.87,0,0,2,0,1,1,{"$f":"+IFERROR(HYPERLINK(VLOOKUP(C13570,FOTOGRAFICO!C:E,3,FALSE),C13570),\"\")","v":"110441KT0B"}]
[null,null,"22-0256","JUNTA","JUNTA ESCAPE DONA ATOS TODOS   GRAND I10                      VA ENTRE TUBO Y MULTIPLE",71.78,0,0,0,0,0,0,{"$f":"+IFERROR(HYPERLINK(VLOOKUP(C13572,FOTOGRAFICO!C:E,3,FALSE),C13572),\"\")","v":""}]
[null,null,"TFCA250","JUNTA","JUNTA CABEZA PEUGEOT 206 1.4   00-09 PEUGEOT 207 09-11 MARCA  TF VICTOR PIDE JUAN GARCIA",259.23,0,0,0,0,0,0,{"$f":"+IFERROR(HYPERLINK(VLOOKUP(C13590,FOTOGRAFICO!C:E,3,FALSE),C13590),\"\")","v":""}]
[null,null,"TFPS31002-I","JUNTA","JUNTA PUNTERIAS IZQUIERDA      GRAND VITARA 2.7 V6 06-09      TF VICTOR HECHO EN MEXICO",111.57,0,0,0,1,0,0,{"$f":"+IFERROR(HYPERLINK(VLOOKUP(C13593,FOTOGRAFICO!C:E,3,FALSE),C13593),\"\")","v":"TFPS31002-I"}]
[null,null,"CROJT601","JUNTAS","JUNTAS TRANS AUT 3 VEL GOLF A2 JETTA CARIBE ATLANTIC 77-92 C/ COLADOR TORN.CENTRAL CHROMITE",75.849999999999994,2,0,0,0,1,0,{"$f":"+IFERROR(HYPERLINK(VLOOKUP(C13605,FOTOGRAFICO!C:E,3,FALSE),C13605),\"\")","v":""}]
[null,null,"EGPEG-GM-14","JUNTAS","JUNTAS MOTOR MATIZ 1.0 04-15   TOP ENGINE IMPORTADO",410.03,0,0,0,3,11,2,{"$f":"+IFERROR(HYPERLINK(VLOOKUP(C13611,FOTOGRAFICO!C:E,3,FALSE),C13611),\"\")","v":""}]
[null,null,"JS-20111","JUNTAS","JUNTAS MOTOR ATOS 1.0 99-04    SELLO V MEXICO = TFJC111       = ORI422M0400",344.09,1,0,7,2,4,1,{"$f":"+IFERROR(HYPERLINK(VLOOKUP(C13625,FOTOGRAFICO!C:E,3,FALSE),C13625),\"\")","v":""}]
[null,null,"JS-2063","JUNTAS","JUNTAS MOTOR GOLF JETTA A2     CARIBE ATLANTIC COMBI 1.8 84-  92 CARBURADO SELLO V MEXICO",369.47,5,2,4,4,0,2,{"$f":"+IFERROR(HYPERLINK(VLOOKUP(C13632,FOTOGRAFICO!C:E,3,FALSE),C13632),\"\")","v":""}]
[null,null,"NIS10101-11A25","JUNTAS","JUNTAS MOTOR TSURU I II 1.5    1.6 84-94 8 VALV.1 ARBOL TOP   ENGINE = JS-2041 = TFJC19",382.6,3,0,0,6,0,2,{"$f":"+IFERROR(HYPERLINK(VLOOKUP(C13640,FOTOGRAFICO!C:E,3,FALSE),C13640),\"\")","v":""}]
[null,null,"TFCR918","JUNTAS","JUNTAS CARBURADOR ESTAQUITAS   ICHI VAN J1600 J1800 78-87     HITACHI 2 GARG.TF VICTOR MEXIC",38.25,1,0,0,0,0,0,{"$f":"+IFERROR(HYPERLINK(VLOOKUP(C13648,FOTOGRAFICO!C:E,3,FALSE),C13648),\"\")","v":"TFCR918"}]
[null,null,"TFJC94","JUNTAS","JUNTAS MOTOR POINTER DERBY 1.8 98-04 PORTA RETEN S/ENTRADA    SENSOR ALUMINIO TF VICTOR MEXI",1133.68,2,0,3,4,0,0,{"$f":"+IFERROR(HYPERLINK(VLOOKUP(C13664,FOTOGRAFICO!C:E,3,FALSE),C13664),\"\")","v":"TFJC94"}]
[null,null,"JC99","JUNTAS","JUNTAS MOTOR GOLF JETTA A3 2.0 93-02 SOHC 8 VALVULAS GRAFITO  COMPLETA MARCA TF VICTOR JC-99",1236.26,0,0,0,0,0,0,{"$f":"+IFERROR(HYPERLINK(VLOOKUP(C13669,FOTOGRAFICO!C:E,3,FALSE),C13669),\"\")","v":""}]
[null,null,"19326083","KIT","KIT AFINACION SPARK CLASSIC 11 -18 GARRAFA 20W50 3.78 LTS 4   BUJIAS FILTROS AIRE Y ACEITE",1025.1099999999999,8,10,10,7,4,2,{"$f":"+IFERROR(HYPERLINK(VLOOKUP(C13680,FOTOGRAFICO!C:E,3,FALSE),C13680),\"\")","v":"19326083"}]
[null,null,"530059211","KIT","KIT DISTRIBUCION JETTA 1.4 13- 21 VIRTUS 20-22 VW UP 16-18    MARCA INA PIDE JUAN GARC",1726.18,0,0,0,0,0,0,{"$f":"+IFERROR(HYPERLINK(VLOOKUP(C13687,FOTOGRAFICO!C:E,3,FALSE),C13687),\"\")","v":""}]
[null,null,"DBK060882E","KIT","KIT TENSOR POLEA BANDA ALTERNA FIESTA 01-10 IKON 02-13 1.6    BASE 6 CM DIAME.MARCA GATES",1250.1500000000001,0,0,1,0,1,0,{"$f":"+IFERROR(HYPERLINK(VLOOKUP(C13698,FOTOGRAFICO!C:E,3,FALSE),C13698),\"\")","v":""}]
[null,null,"KB-22J","KIT","KIT DISTRIBUC URVAN 02-07 2.4L PICK UP D21 D22 2.4L 9 PIEZAS  SIN ENGRANE MARCA ZUIKO JAPON",3289.86,0,0,0,5,0,2,{"$f":"+IFERROR(HYPERLINK(VLOOKUP(C13707,FOTOGRAFICO!C:E,3,FALSE),C13707),\"\")","v":""}]
[null,null,"KITDIST2-GOL","KIT","KIT DISTRIBUCION GOL LUPO POLO CROSSFOX CORDOBA IBIZA SAVEIRO 1.6 09-20 + BOMBA AGUA KABUTO",551.70000000000005,2,2,3,0,0,1,{"$f":"+IFERROR(HYPERLINK(VLOOKUP(C13719,FOTOGRAFICO!C:E,3,FALSE),C13719),\"\")","v":"KITDIST2-GOL"}]
[null,null,"KITDIST2-SONIC","KIT","KIT DISTR + BOMBA AGUA SONIC   1.6 12-18 CRUZE 1.8 10-16 TRAX 1.8 13-19 2 POLEAS BANDA KABUT",1051.07,1,3,1,1,3,3,{"$f":"+IFERROR(HYPERLINK(VLOOKUP(C13722,FOTOGRAFICO!C:E,3,FALSE),C13722),\"\")","v":"KITDIST2-SONIC"}]
[null,null,"LUK530026310","KIT","KIT DISTRIBUCION TSURU 8 VALS  I II 84-92 8 VALS              MARCA INA/LUK BANDA Y POLEA",487.56,0,2,0,2,0,1,{"$f":"+IFERROR(HYPERLINK(VLOOKUP(C13737,FOTOGRAFICO!C:E,3,FALSE),C13737),\"\")","v":"LUK530026310"}]
[null,null,"MKNN0110-PROMO","KIT","KIT DISTRIBUC TSURU III 16 VAL 95-17 GUIAS METALICAS 15 PZAS  MARCA YOKOMITSU PROMOCION",704.48,0,1,0,0,0,0,{"$f":"+IFERROR(HYPERLINK(VLOOKUP(C13742,FOTOGRAFICO!C:E,3,FALSE),C13742),\"\")","v":""}]
[null,null,"SAN153","KIT","KIT GOMA Y SEG CHICOTE CLUT CA GOMA CHICOTE CLUTCH CARIBE",14.01,80,0,0,0,20,0,{"$f":"+IFERROR(HYPERLINK(VLOOKUP(C13749,FOTOGRAFICO!C:E,3,FALSE),C13749),\"\")","v":""}]
[null,null,"TKFD106B","KIT","KIT DISTRIBUCION FIESTA 1.6    KA 99/2011 MCA:NIKKO",1040.8499999999999,4,0,8,6,0,3,{"$f":"+IFERROR(HYPERLINK(VLOOKUP(C13766,FOTOGRAFICO!C:E,3,FALSE),C13766),\"\")","v":"TKFD106B"}]
[null,null,"TK-NS212-E","KIT","KIT DISTRIBUCION URVAN 2.5 08- 13 NV350 2.5 14-18 SENTRA 2.5  07-09 11 PZA TOP ENGINE CHINA",2392.5,5,0,3,0,0,0,{"$f":"+IFERROR(HYPERLINK(VLOOKUP(C13774,FOTOGRAFICO!C:E,3,FALSE),C13774),\"\")","v":"TK-NS212-E"}]
[null,null,"162-COFKT406R","KIT","KIT TAMBOR PICK UP 2.4 URVAN   91-07 DERECHO                  PEDIDO RAFAEL",81.150000000000006,0,0,0,0,0,0,{"$f":"+IFERROR(HYPERLINK(VLOOKUP(C13781,FOTOGRAFICO!C:E,3,FALSE),C13781),\"\")","v":""}]
[null,null,"TK-GM027TE","KIT","KIT DISTRIBUCION SPARK 16-20   1.4Lt 6PZAS MARCA TOP ENGINE",2055.65,0,1,0,1,1,2,{"$f":"+IFERROR(HYPERLINK(VLOOKUP(C13795,FOTOGRAFICO!C:E,3,FALSE),C13795),\"\")","v":"TK-GM027TE"}]
[null,null,"C197001Q0","KIT","KIT ARBOL DE LEVAS ITALIKA     FT125 FT150 CALARB-2105-0001   MARCA QUMO",178.07,0,0,0,1,1,0,{"$f":"+IFERROR(HYPERLINK(VLOOKUP(C13797,FOTOGRAFICO!C:E,3,FALSE),C13797),\"\")","v":""}]
[null,null,"CAB4GAKIT","KITAUDIO","KIT AUDIO BOCINA CALIBRE 4-5",384.12,0,0,6,0,0,0,{"$f":"+IFERROR(HYPERLINK(VLOOKUP(C13813,FOTOGRAFICO!C:E,3,FALSE),C13813),\"\")","v":""}]
[null,null,"ECOL1160","LAINA","LAINA DISTRIB VW SEDAN 1600    VW SEDAN COMBI 1600",2.31,20,0,0,0,0,0,{"$f":"+IFERROR(HYPERLINK(VLOOKUP(C13814,FOTOGRAFICO!C:E,3,FALSE),C13814),\"\")","v":"ECOL1160"}]
[null,null,"PAFC","LAMINA","LAMINA TORNASOL FARO Y CALAVER SEMITRASNPARENTE ANCHO 30 CM   IMPORTADA X METRO PIDE TELLITU",15.33,9,0,0,0,0,61,{"$f":"+IFERROR(HYPERLINK(VLOOKUP(C13824,FOTOGRAFICO!C:E,3,FALSE),C13824),\"\")","v":""}]
[null,null,"BOTANA-78","LATA","LATA DE ELOTES DORADOS EN GRAN OS 400 GRAMOS MARCA DEL MONTE",20.43,0,0,0,0,1,0,{"$f":"+IFERROR(HYPERLINK(VLOOKUP(C13836,FOTOGRAFICO!C:E,3,FALSE),C13836),\"\")","v":""}]
[null,null,"LIGA 07","LIGA","LIGA TIRANTE TAPA TRAS POINTER 99-06 TAPA PORTA BOCINAS TRAS  MARCA SANCHEZ E H",8.65,153,14,0,11,14,11,{"$f":"+IFERROR(HYPERLINK(VLOOKUP(C13848,FOTOGRAFICO!C:E,3,FALSE),C13848),\"\")","v":"LIGA 07"}]
[null,null,"SAN308","LIGA","LIGA SENSOR TEMPERATURA 1800   PARA TAPON O SENSOR BULBO      VA EN TOMA AGUA VW GOLF COMBI",2.81,40,0,0,0,0,0,{"$f":"+IFERROR(HYPERLINK(VLOOKUP(C13853,FOTOGRAFICO!C:E,3,FALSE),C13853),\"\")","v":""}]
[null,null,"ECO103","LIMPIADOR","LIMPIADOR INYECT BOYA ECOM 500 ML = GON-1007835 = 138BO       = INJ07660 = TF54D",90.09,90,61,28,23,11,14,{"$f":"+IFERROR(HYPERLINK(VLOOKUP(C13868,FOTOGRAFICO!C:E,3,FALSE),C13868),\"\")","v":"ECO103"}]
[null,null,"ECOM108","LIMPIADOR","LIMPIADOR INTERNO PARA MOTOR   480 ML MARCA ECOM = LIQ-2657",81.489999999999995,54,58,93,77,33,11,{"$f":"+IFERROR(HYPERLINK(VLOOKUP(C13875,FOTOGRAFICO!C:E,3,FALSE),C13875),\"\")","v":"ECOM108"}]
[null,null,"LIQ-2503","LIMPIADOR","LIMPIADOR VALVULAS ADMISION Y  ESCAPE REDUCE EMISIONES Y HUMO 150 ML VENTIL SAUBER LIQUI MOL",182.41,2,0,0,0,0,0,{"$f":"+IFERROR(HYPERLINK(VLOOKUP(C13882,FOTOGRAFICO!C:E,3,FALSE),C13882),\"\")","v":"LIQ-2503"}]
[null,null,"07659-PROMO","LIMPIADOR","LIMPIADOR CARBUKLIN INJETECH   CARBURADOR 430 ML = ECO105     = GON-1021399 = TF53A",24.14,0,0,0,2991,0,0,{"$f":"+IFERROR(HYPERLINK(VLOOKUP(C13891,FOTOGRAFICO!C:E,3,FALSE),C13891),\"\")","v":""}]
[null,null,"LIMP-011","LIMPIEZA","CUBETA MEDIANA",56.92,2,0,0,1,0,1,{"$f":"+IFERROR(HYPERLINK(VLOOKUP(C13898,FOTOGRAFICO!C:E,3,FALSE),C13898),\"\")","v":""}]
[null,null,"LIMP-025","LIMPIEZA","LIQUIDO BOTELLA MOOP 750 ML    VARIOS AROMAS",85.23,0,0,0,0,1,2,{"$f":"+IFERROR(HYPERLINK(VLOOKUP(C13911,FOTOGRAFICO!C:E,3,FALSE),C13911),\"\")","v":""}]
[null,null,"LIMP-060","LIMPIEZA","TRAPEADOR PERICO 350 GRAMOS    REPUESTO",36.51,1,0,1,0,3,0,{"$f":"+IFERROR(HYPERLINK(VLOOKUP(C13923,FOTOGRAFICO!C:E,3,FALSE),C13923),\"\")","v":""}]
[null,null,"LIMP-050","LIMPIEZA","KILOGRAMOS CAMISERA NUMERO 2",58.14,0,0,1,0,0,0,{"$f":"+IFERROR(HYPERLINK(VLOOKUP(C13930,FOTOGRAFICO!C:E,3,FALSE),C13930),\"\")","v":""}]
[null,null,"LIMP-038","LIMPIEZA","PAR GUANTES LONETA CON PUNTOS  DE PVC AKSI",33.72,0,0,0,0,2,0,{"$f":"+IFERROR(HYPERLINK(VLOOKUP(C13940,FOTOGRAFICO!C:E,3,FALSE),C13940),\"\")","v":""}]
[null,null,"AM58","LIQUIDO","LIQUIDO LIMPIA PIEL 650 ML     C/PISTOLA",67.349999999999994,2,1,2,2,2,0,{"$f":"+IFERROR(HYPERLINK(VLOOKUP(C13950,FOTOGRAFICO!C:E,3,FALSE),C13950),\"\")","v":""}]
[null,null,"ROSHLF350","LIQUIDO","LIQUIDO FRENO ROSHFRANS 350 ML CHICO DOT3 LF3 DISCO TAMBOR    CON/SIN ABS = BARLF350",33.33,18,51,42,71,63,49,{"$f":"+IFERROR(HYPERLINK(VLOOKUP(C13962,FOTOGRAFICO!C:E,3,FALSE),C13962),\"\")","v":"ROSHLF350"}]
[null,null,"VALVLF250","LIQUIDO","LIQUIDO FRENOS CHICO 250ML     VALVOLINE DOT3",28.42,0,0,0,0,0,0,{"$f":"+IFERROR(HYPERLINK(VLOOKUP(C13969,FOTOGRAFICO!C:E,3,FALSE),C13969),\"\")","v":"VALVLF250"}]
[null,null,"C-185103M3","LLANTA","LLANTA30-60-13 TL TUBLESS M/S/ (MONTAJE SIN CAMARA)",696,0,0,0,0,6,0,{"$f":"+IFERROR(HYPERLINK(VLOOKUP(C13973,FOTOGRAFICO!C:E,3,FALSE),C13973),\"\")","v":""}]
[null,null,"C-185122M3","LLANTA","LLANTA 120/70 R17 TUBETYPE M/C (MONTAJE CON CAMARA)",883.32,0,0,0,0,8,0,{"$f":"+IFERROR(HYPERLINK(VLOOKUP(C13985,FOTOGRAFICO!C:E,3,FALSE),C13985),\"\")","v":""}]
[null,null,"C185133Q0","LLANTA","LLANTA 2.75-18 DOBLE PROPOSITO ITALIKA DT125 12-16 FT150 11-  25 RC150 09-17 RIN 18 DEKKEI",346.32,0,0,0,2,2,0,{"$f":"+IFERROR(HYPERLINK(VLOOKUP(C13997,FOTOGRAFICO!C:E,3,FALSE),C13997),\"\")","v":""}]
[null,null,"LLAVE-02","LLAVE","LLAVE DE CRUZ 14",170.56,0,0,8,11,3,5,{"$f":"+IFERROR(HYPERLINK(VLOOKUP(C14008,FOTOGRAFICO!C:E,3,FALSE),C14008),\"\")","v":"LLAVE-02"}]
[null,null,"NLA4RAC","LODERA","LODERA AUTO 4 PIEZAS RACING    AHULADA",157.85,0,1,1,1,0,1,{"$f":"+IFERROR(HYPERLINK(VLOOKUP(C14017,FOTOGRAFICO!C:E,3,FALSE),C14017),\"\")","v":""}]
[null,null,"C-020112N5","LUBRICANTE","LUBRICANTE P/CADENA 445ML 116  MARCA ECOMOTO-116",108.75,5,5,7,9,8,5,{"$f":"+IFERROR(HYPERLINK(VLOOKUP(C14024,FOTOGRAFICO!C:E,3,FALSE),C14024),\"\")","v":"C-020112N5"}]
[null,null,"001-1254-01","LUNA","LUNA ESPEJO CORTA IZQ FIGO     16-21 MARCA RADEC IMPORTADA    001-1254-01",230.65,0,0,0,0,0,0,{"$f":"+IFERROR(HYPERLINK(VLOOKUP(C14037,FOTOGRAFICO!C:E,3,FALSE),C14037),\"\")","v":""}]
[null,null,"H-585A","LUZ","LUZ STOP NISSAN NP300 14-20    FRENO TRASERO",810.84,0,1,1,0,1,1,{"$f":"+IFERROR(HYPERLINK(VLOOKUP(C14040,FOTOGRAFICO!C:E,3,FALSE),C14040),\"\")","v":""}]
[null,null,"192-TC12","MACHETA","MACHETA VW SEDAN C/TORNILLOS   MACHETA VW DER-IZQ MARCA ALEMA NA = TPYTC12",95.99,11,5,2,5,4,1,{"$f":"+IFERROR(HYPERLINK(VLOOKUP(C14047,FOTOGRAFICO!C:E,3,FALSE),C14047),\"\")","v":"192-TC12"}]
[null,null,"94563855-MACH","MACHETA","MACHETA L/CAJA SPARK ATOS      MATIZ MCA: EUROESPANA          =ALEJ012",101.07,17,6,16,25,22,3,{"$f":"+IFERROR(HYPERLINK(VLOOKUP(C14056,FOTOGRAFICO!C:E,3,FALSE),C14056),\"\")","v":"94563855-MACH"}]
[null,null,"BC-2522","MACHETA","MACHETA L/CAJA TSURU 03-14 CON TOPES P/TRIPOIDE MCA: RACE     =VEL328425",158.77000000000001,4,11,0,0,0,0,{"$f":"+IFERROR(HYPERLINK(VLOOKUP(C14067,FOTOGRAFICO!C:E,3,FALSE),C14067),\"\")","v":"BC-2522"}]
[null,null,"BRU1003548-MACH","MACHETA","MACHETA ESPIGA L/RUEDA FIESTA  95-02 1.3 1.4 KIT CUBREPOLVO   ABRAZADERA GRASA BRUCK",88.17,1,1,2,1,1,1,{"$f":"+IFERROR(HYPERLINK(VLOOKUP(C14079,FOTOGRAFICO!C:E,3,FALSE),C14079),\"\")","v":"BRU1003548-MACH"}]
[null,null,"BRU1K0498099MACH","MACHETA","MACHETA ESPIGA L/RUEDA JETTA   A6 11-18 2.0T BORA 05-10 2.0   TFSI BEETLE 11-19 2.0T BRUCK",116.36,1,1,1,4,1,1,{"$f":"+IFERROR(HYPERLINK(VLOOKUP(C14085,FOTOGRAFICO!C:E,3,FALSE),C14085),\"\")","v":"BRU1K0498099MACH"}]
[null,null,"BRU6R0498099MACH","MACHETA","MACHETA ESPIGA L/RUEDA VENTO   14-19 1.6 POLO 13-19 1.6 KIT   CUBRE POLVO ABRAZADERA BRUCK",129.31,0,4,2,0,2,2,{"$f":"+IFERROR(HYPERLINK(VLOOKUP(C14099,FOTOGRAFICO!C:E,3,FALSE),C14099),\"\")","v":"BRU6R0498099MACH"}]
[null,null,"D63142","MACHETA","MACHETA LADO CAJA TIIDA 06-17  1.6L 1.8L MANUAL Y AUTOMATICO  MARCA DAI H EN MEX",108.43,5,7,1,4,0,3,{"$f":"+IFERROR(HYPERLINK(VLOOKUP(C14111,FOTOGRAFICO!C:E,3,FALSE),C14111),\"\")","v":""}]
[null,null,"EURO6Q0498099E","MACHETA","MACHETA ESPIGA L/RDA CORDOBA   IBIZA 1.6 01-04",111.66,4,0,0,6,4,2,{"$f":"+IFERROR(HYPERLINK(VLOOKUP(C14114,FOTOGRAFICO!C:E,3,FALSE),C14114),\"\")","v":""}]
[null,null,"MEX905","MACHETA","MACHETA LAD CAJA GOLF JETTA A4 99-15 BETTLE 99/12 STANDAR SIN HERRAJE (CHICA) MARCA PITBULL",105,2,6,0,2,0,3,{"$f":"+IFERROR(HYPERLINK(VLOOKUP(C14124,FOTOGRAFICO!C:E,3,FALSE),C14124),\"\")","v":""}]
[null,null,"TPYTC14","MACHETA","MACHETA LADO CAJA COMBI 72-02  GOLF JETTA A3 92-99 100 MM     C/GRASA NOTA:LLEVA 4 IGUALES",105,4,11,5,11,2,11,{"$f":"+IFERROR(HYPERLINK(VLOOKUP(C14134,FOTOGRAFICO!C:E,3,FALSE),C14134),\"\")","v":"TPYTC14"}]
[null,null,"VEL326926","MACHETA","MACHETA L/CAJA TSURU CHEVY CON TOPES P/TRIPOIDE CON GRASA     MARCA ECONOMICA",105,45,20,32,40,6,15,{"$f":"+IFERROR(HYPERLINK(VLOOKUP(C14141,FOTOGRAFICO!C:E,3,FALSE),C14141),\"\")","v":"VEL326926"}]
[null,null,"13067","MANGUERA","MANGUERA RADIADOR SUP SPARK    1.2 11-17 BEAT 1.2 18-20 MARCA CAUPLAS CH140211",142.08000000000001,20,18,13,12,7,6,{"$f":"+IFERROR(HYPERLINK(VLOOKUP(C14153,FOTOGRAFICO!C:E,3,FALSE),C14153),\"\")","v":"13067"}]
[null,null,"22554","MANGUERA","MANGUERA CALEFACCION SILVERADO",779.81,0,0,0,0,0,0,{"$f":"+IFERROR(HYPERLINK(VLOOKUP(C14166,FOTOGRAFICO!C:E,3,FALSE),C14166),\"\")","v":""}]
[null,null,"3121","MANGUERA","MANGUERA RADIADOR SUP TSURU 3  III 1.6 95-17 TSUBAME 1.6 93-  04 16 VALV.CAUPLAS = GAT180011",80.06,16,6,5,1,2,3,{"$f":"+IFERROR(HYPERLINK(VLOOKUP(C14173,FOTOGRAFICO!C:E,3,FALSE),C14173),\"\")","v":"3121"}]
[null,null,"5175","MANGUERA","MANGUERA RADIADOR SUP ATOS 1.1 05-12 LARGA MARCA CAUPLAS 5175 = GAT110091",127.42,2,0,2,3,0,2,{"$f":"+IFERROR(HYPERLINK(VLOOKUP(C14182,FOTOGRAFICO!C:E,3,FALSE),C14182),\"\")","v":"5175"}]
[null,null,"7424","MANGUERA","MANGUERA RADIADO INF URVAN 2.5 NV350 2.5 09-18 SIN AIRE MARCA CAUPLAS 5214156",201.85,0,0,1,0,7,1,{"$f":"+IFERROR(HYPERLINK(VLOOKUP(C14189,FOTOGRAFICO!C:E,3,FALSE),C14189),\"\")","v":"7424"}]
[null,null,"90466213","MANGUERA","MANGUERA FILTRO AIRE CHEVY 1.6 94-12 MPFI C/SENSOR MAF CORRUG BRUCK GERMANY = GM90466213",96.38,15,11,0,6,0,6,{"$f":"+IFERROR(HYPERLINK(VLOOKUP(C14196,FOTOGRAFICO!C:E,3,FALSE),C14196),\"\")","v":"90466213"}]
[null,null,"BH-CR732","MANGUERA","MANGUERA FRENO DEL DER ATOS 01 -03 MARCA FP IMPORTADO CI4574",145,0,0,3,0,0,0,{"$f":"+IFERROR(HYPERLINK(VLOOKUP(C14211,FOTOGRAFICO!C:E,3,FALSE),C14211),\"\")","v":"BH-CR732"}]
[null,null,"BRA204345","MANGUERA","MANGUERA FRENO DEL IZQ TSURU 3 III 1.6 92-17 MARCA NORFLEX    NF204345",128.55000000000001,4,1,5,5,1,1,{"$f":"+IFERROR(HYPERLINK(VLOOKUP(C14216,FOTOGRAFICO!C:E,3,FALSE),C14216),\"\")","v":"BRA204345"}]
[null,null,"BRU215021HK3A","MANGUERA","MANGUERA RADIADOR SUP VERSA 11 -19 1.6 MARCH 11-19 1.6 NOTE   13-19 CORTA SALIDA MOTOR BRUCK",72.87,0,14,3,3,4,3,{"$f":"+IFERROR(HYPERLINK(VLOOKUP(C14228,FOTOGRAFICO!C:E,3,FALSE),C14228),\"\")","v":"BRU215021HK3A"}]
[null,null,"BRU46210EM01B","MANGUERA","MANGUERA FRENO DEL IZQ TIIDA   07-18 1.6 MARCA BRUCK GERMANY  46210EM01B",243.31,1,2,4,2,1,2,{"$f":"+IFERROR(HYPERLINK(VLOOKUP(C14240,FOTOGRAFICO!C:E,3,FALSE),C14240),\"\")","v":"BRU46210EM01B"}]
[null,null,"BRU5C0122051","MANGUERA","MANGUERA RADIADOR INF JETTA A6 11-18 2.0 TSI BEETLE 11-19 2.0 TSI MARCA BRUCK GERMANY",255.07,1,0,1,1,1,1,{"$f":"+IFERROR(HYPERLINK(VLOOKUP(C14250,FOTOGRAFICO!C:E,3,FALSE),C14250),\"\")","v":"BRU5C0122051"}]
[null,null,"BRU96180071","MANGUERA","MANGUERA BOMBA AGUA AVEO 1.6   07-18 PONTIAC G3 1.6 07-09     MARCA BRUCK GERMANY = 4602",65.81,0,1,0,0,0,0,{"$f":"+IFERROR(HYPERLINK(VLOOKUP(C14260,FOTOGRAFICO!C:E,3,FALSE),C14260),\"\")","v":"BRU96180071"}]
[null,null,"BRU96870359","MANGUERA","MANGUERA FRENO DEL SONIC 12-17 1.6 MARCA BRUCK GERMANY        96870359",114.02,1,3,1,1,1,1,{"$f":"+IFERROR(HYPERLINK(VLOOKUP(C14267,FOTOGRAFICO!C:E,3,FALSE),C14267),\"\")","v":"BRU96870359"}]
[null,null,"EXENTRICO","MANGUERA","MANGUERA VALV RALENTI VW SEDAN 1.6 92-04 CORTA",56.25,4,10,0,0,0,0,{"$f":"+IFERROR(HYPERLINK(VLOOKUP(C14279,FOTOGRAFICO!C:E,3,FALSE),C14279),\"\")","v":""}]
[null,null,"GAT110092","MANGUERA","MANGUERA RADIADOR INF ATOS 1.0 99-04 MARCA GATES MEXICO",169.72,2,0,3,4,1,2,{"$f":"+IFERROR(HYPERLINK(VLOOKUP(C14283,FOTOGRAFICO!C:E,3,FALSE),C14283),\"\")","v":""}]
[null,null,"GAT220021","MANGUERA","MANGUERA SUPERIOR LUPO 1.6L 04 -10 2 PARTE MARCA GATES MEXICO",88.91,0,0,0,1,2,0,{"$f":"+IFERROR(HYPERLINK(VLOOKUP(C14290,FOTOGRAFICO!C:E,3,FALSE),C14290),\"\")","v":""}]
[null,null,"GM55574685","MANGUERA","MANGUERA CUERPO ACEL A TERMOST C/SENSOR SONIC 1.4 1.6 12-18   AVEO 09-10 MARCA GM ORIGINAL",1035.48,1,1,3,1,2,2,{"$f":"+IFERROR(HYPERLINK(VLOOKUP(C14298,FOTOGRAFICO!C:E,3,FALSE),C14298),\"\")","v":""}]
[null,null,"TEB206027","MANGUERA","MANGUERA FRENO DEL POINTER 98- 09 VW SEDAN 1600 73-04 DISCO   TAMBOR CORTA NORFLEX NF6027",57.51,23,6,3,3,4,1,{"$f":"+IFERROR(HYPERLINK(VLOOKUP(C14315,FOTOGRAFICO!C:E,3,FALSE),C14315),\"\")","v":"TEB206027"}]
[null,null,"TPY521011","MANGUERA","MANGUERA RADIADOR INF CORSAR   1.8 84-88 MARCA GATES CH221252",45.87,0,0,0,1,0,0,{"$f":"+IFERROR(HYPERLINK(VLOOKUP(C14322,FOTOGRAFICO!C:E,3,FALSE),C14322),\"\")","v":"TPY521011"}]
[null,null,"TPY521019","MANGUERA","MANGUERA RADIADOR INF GOLF A3  JETTA A3 1.8 93-99 DERBY 1.8   95-09 S/AIRE MARCA GATES",133.38,0,0,0,0,5,0,{"$f":"+IFERROR(HYPERLINK(VLOOKUP(C14327,FOTOGRAFICO!C:E,3,FALSE),C14327),\"\")","v":"TPY521019"}]
[null,null,"TPY521344","MANGUERA","MANGUERA RADIADOR SUP CHEVY 94 -12 C/AIRE TERMOSTATO A RADIAD MARCA GATES CH140471",124.71,7,4,3,4,3,4,{"$f":"+IFERROR(HYPERLINK(VLOOKUP(C14342,FOTOGRAFICO!C:E,3,FALSE),C14342),\"\")","v":"TPY521344"}]
[null,null,"TPY521353","MANGUERA","MANGUER CHEVY 94-12 TUBO VENTI CODO CORTO CABEZA A MULTIPLE   GATES MEXICO = 90409191",112.24,13,8,6,8,7,5,{"$f":"+IFERROR(HYPERLINK(VLOOKUP(C14345,FOTOGRAFICO!C:E,3,FALSE),C14345),\"\")","v":"TPY521353"}]
[null,null,"CAU13543","MANGUERA","MANGUERA RAD INF AVEO 1.5 18-  20 MARCA CAUPLAS PIDE RAUL",240.6,0,0,0,0,0,0,{"$f":"+IFERROR(HYPERLINK(VLOOKUP(C14356,FOTOGRAFICO!C:E,3,FALSE),C14356),\"\")","v":""}]
[null,null,"GM96451064","MANGUERA","MANGUERA VACIO MULTIPLE A      SENSOR MAP AVEO 1.6 08-17      OPTRA 2.0 07-10 MARCA GM ORIGI",111.66,0,0,0,0,0,0,{"$f":"+IFERROR(HYPERLINK(VLOOKUP(C14365,FOTOGRAFICO!C:E,3,FALSE),C14365),\"\")","v":""}]
[null,null,"5Z0129684B","MANGUERA","MANGUERA FILTRO AIRE VW GOL    1.6 09-19 SAVEIRO 1.6 10-19    CROSSFOX 1.6 07-17 BRUCK GERMA",249.17,0,0,0,0,0,0,{"$f":"+IFERROR(HYPERLINK(VLOOKUP(C14377,FOTOGRAFICO!C:E,3,FALSE),C14377),\"\")","v":""}]
[null,null,"BRU46211F4002","MANGUERA","MANGUERA FRENO TRAS D21 93-02  2.4 MARCA BRUCK GERMANY        46211F4002",89.33,0,0,0,1,0,3,{"$f":"+IFERROR(HYPERLINK(VLOOKUP(C14384,FOTOGRAFICO!C:E,3,FALSE),C14384),\"\")","v":""}]
[null,null,"CAU3462","MANGUERA","MANGUERA PASO FIESTA 1.6 99-02 INFERIOR DEPOSITO FIESTA 2001  COURIER 01-12 MARCA CAUPLAS",119.53,0,0,0,0,0,1,{"$f":"+IFERROR(HYPERLINK(VLOOKUP(C14395,FOTOGRAFICO!C:E,3,FALSE),C14395),\"\")","v":""}]
[null,null,"DDNC9902","MANGUETA","MANGUET DEL IZQ S/ABS AVEO 1.6 07-17 G3 06-09 MARCA YOKOMITSU PIDE LUIS ARMANDO",506.43,0,0,0,0,0,0,{"$f":"+IFERROR(HYPERLINK(VLOOKUP(C14409,FOTOGRAFICO!C:E,3,FALSE),C14409),\"\")","v":""}]
[null,null,"93437942SFT","MANGUETA","MANGUETA DEL IZQ CHEVY 94-12   MARCA SAFETY IMPORTADO         93803642",766.58,0,0,0,0,0,1,{"$f":"+IFERROR(HYPERLINK(VLOOKUP(C14416,FOTOGRAFICO!C:E,3,FALSE),C14416),\"\")","v":""}]
[null,null,"012-0666-04","MANIJA","MANIJA DER EXT DEL SPARK 11-17 NEGRA MARCA TYG",292.69,0,0,0,0,0,0,{"$f":"+IFERROR(HYPERLINK(VLOOKUP(C14424,FOTOGRAFICO!C:E,3,FALSE),C14424),\"\")","v":""}]
[null,null,"012-1217-14","MANIJA","MANIJA PTA INT DER FIESTA 03-  07 ECOSPORT 04-11 DEL TRAS     NEGRA MARCA RADEC",217.16,0,0,0,2,0,1,{"$f":"+IFERROR(HYPERLINK(VLOOKUP(C14432,FOTOGRAFICO!C:E,3,FALSE),C14432),\"\")","v":"012-1217-14"}]
[null,null,"012-2314-03","MANIJA","MANIJA PTA INT IZQ PLATINA 02- 10 CLIO 02-10 TRAFIC 02-10 DEL TRAS NEGRA MARCA RADEC",99.81,3,2,2,0,2,2,{"$f":"+IFERROR(HYPERLINK(VLOOKUP(C14439,FOTOGRAFICO!C:E,3,FALSE),C14439),\"\")","v":"012-2314-03"}]
[null,null,"012-3110-01","MANIJA","MANIJ IZQ INT DEL TRAS GOL 09- 16 SAVEIRO 10-12 GRIS SOLO     REPUESTO PLASTICO MARCA TYG",150.22999999999999,0,0,0,0,0,0,{"$f":"+IFERROR(HYPERLINK(VLOOKUP(C14453,FOTOGRAFICO!C:E,3,FALSE),C14453),\"\")","v":""}]
[null,null,"012-3115-13","MANIJA","MANIJA PTA INT IZQ POINTER 00- 09 DEL TRAS GRIS C/BASE MARCA  RADEC 012-3115-13",339.9,1,0,1,0,0,0,{"$f":"+IFERROR(HYPERLINK(VLOOKUP(C14459,FOTOGRAFICO!C:E,3,FALSE),C14459),\"\")","v":"012-3115-13"}]
[null,null,"113823565F","MANIJA","MANIJA VW SEDAN COFRE CROMADA  MARCA BRUCK GERMANY USA 2      GOMAS SAN140 Y SAN141",111.66,8,0,5,0,0,0,{"$f":"+IFERROR(HYPERLINK(VLOOKUP(C14471,FOTOGRAFICO!C:E,3,FALSE),C14471),\"\")","v":"113823565F"}]
[null,null,"9043136400","MANIJA","MANIJA PUERTA DEL DER CHEVY 94 -12 INTERIOR MARCA BRUCK       GERMANY = GM90363124",45.84,19,28,31,24,13,3,{"$f":"+IFERROR(HYPERLINK(VLOOKUP(C14482,FOTOGRAFICO!C:E,3,FALSE),C14482),\"\")","v":"9043136400"}]
[null,null,"BRU5N0837207C","MANIJA","MANIJA PTA EXT DEL IZQ VENTO   14-19 1.6 JETTA A6 11-18 2.5   BEETLE 11-19 2.0T BRUCK",302.07,1,1,1,1,1,1,{"$f":"+IFERROR(HYPERLINK(VLOOKUP(C14491,FOTOGRAFICO!C:E,3,FALSE),C14491),\"\")","v":"BRU5N0837207C"}]
[null,null,"BRU5U4837114","MANIJA","MANIJA PTA INT DER GOL 09-13   1.6 SAVEIRO 10-13 1.6 PLATA    MARCA BRUCK GERMANY 5U4837114",58.77,3,0,0,1,2,2,{"$f":"+IFERROR(HYPERLINK(VLOOKUP(C14494,FOTOGRAFICO!C:E,3,FALSE),C14494),\"\")","v":"BRU5U4837114"}]
[null,null,"ECOE10","MANIJA","MANIJA COMBI PTA CORRED EXT    MANIJA EXT. PUERTA CORREDIZA",205.96,2,0,1,0,0,3,{"$f":"+IFERROR(HYPERLINK(VLOOKUP(C14506,FOTOGRAFICO!C:E,3,FALSE),C14506),\"\")","v":"ECOE10"}]
[null,null,"HMRN0442","MANIJA","MANIJA PTA INT IZQ URVAN 02-12 NP300 D22 08-15 DEL GRIS MARCA HUSHAN IMPORTADO",76.39,0,0,6,0,0,0,{"$f":"+IFERROR(HYPERLINK(VLOOKUP(C14521,FOTOGRAFICO!C:E,3,FALSE),C14521),\"\")","v":""}]
[null,null,"MA200","MANIJA","MANIJA ELEVADOR VW SEDAN COMBI GOLF JETTA A2 CARIBE ATLANTIC  REFORZADA NACIONAL",40.36,67,17,52,41,43,12,{"$f":"+IFERROR(HYPERLINK(VLOOKUP(C14526,FOTOGRAFICO!C:E,3,FALSE),C14526),\"\")","v":""}]
[null,null,"MAN333","MANIJA","MANIJA PTA INT IZQ DER POINTER 00-09 DEL TRAS CROMADA S/BASE  JGO 2 PZA NACIONAL",290.7,11,5,4,3,1,2,{"$f":"+IFERROR(HYPERLINK(VLOOKUP(C14533,FOTOGRAFICO!C:E,3,FALSE),C14533),\"\")","v":""}]
[null,null,"ORI322H0600","MANIJA","MANIJA ELEVADOR FIESTA 98-08   IKON 01-08 FOCUS 00-08 KA 01-  08 ECOSPORT 03-08 NEGRA RADEC",44.51,7,5,4,4,2,2,{"$f":"+IFERROR(HYPERLINK(VLOOKUP(C14540,FOTOGRAFICO!C:E,3,FALSE),C14540),\"\")","v":""}]
[null,null,"012-3005-16","MANIJA","MANIJA INT HIACE 05-11 NEGRA   MARCA TYG PIDE OSVALDO",388.46,0,0,0,0,0,0,{"$f":"+IFERROR(HYPERLINK(VLOOKUP(C14558,FOTOGRAFICO!C:E,3,FALSE),C14558),\"\")","v":""}]
[null,null,"HMRC0824","MANIJA","MANIJA TRASERA IZQUIERDA BEAT  18-20 MARCA HUSHAN PIDE DAVID  SOTO",318.29000000000002,0,0,0,0,0,0,{"$f":"+IFERROR(HYPERLINK(VLOOKUP(C14565,FOTOGRAFICO!C:E,3,FALSE),C14565),\"\")","v":""}]
[null,null,"012-0614-00","MANIJA","MANIJA INT DERECHA DELANTERA   NEGRA CHEVY 94-12 MONZA 97-12  MARCA RADEC",72.83,0,1,0,0,0,0,{"$f":"+IFERROR(HYPERLINK(VLOOKUP(C14569,FOTOGRAFICO!C:E,3,FALSE),C14569),\"\")","v":""}]
[null,null,"012-2318-02","MANIJA","MANIJA EXT DER TIIDA 07-16     MARCA TYG PIDE JORGE",434.32,0,0,0,0,0,0,{"$f":"+IFERROR(HYPERLINK(VLOOKUP(C14585,FOTOGRAFICO!C:E,3,FALSE),C14585),\"\")","v":""}]
[null,null,"012-3102-05","MANIJA","MANIJA INT IZQ BEETLE 12-18    GOL 16-18 SAVEIRO 16-18 PLATA  MARCA HUSHAN MARCA JORGE",86.32,0,1,0,0,1,0,{"$f":"+IFERROR(HYPERLINK(VLOOKUP(C14588,FOTOGRAFICO!C:E,3,FALSE),C14588),\"\")","v":"012-3102-05"}]
[null,null,"012-0666-02","MANIJA","MANIJA TRAS EXT DER SPARK 11-  13 NEGRA CORRUGADA MARCA RADEC IMPORTADO PIDE LUIS",517.95000000000005,0,0,0,0,0,0,{"$f":"+IFERROR(HYPERLINK(VLOOKUP(C14598,FOTOGRAFICO!C:E,3,FALSE),C14598),\"\")","v":""}]
[null,null,"012-2302-19","MANIJA","MANIJA IZQ EXT TRAS ALTIMA     02-06 NEGRA MARCA TYG PIDE     HANNIBAL",486.93,0,0,0,0,0,0,{"$f":"+IFERROR(HYPERLINK(VLOOKUP(C14608,FOTOGRAFICO!C:E,3,FALSE),C14608),\"\")","v":""}]
[null,null,"012-0901-16","MANIJA","MANIJA INT DER ATOS 00-11      GRIS Y CROMO MARCA TYG PIDE    AXEL",93.06,0,0,0,0,0,0,{"$f":"+IFERROR(HYPERLINK(VLOOKUP(C14620,FOTOGRAFICO!C:E,3,FALSE),C14620),\"\")","v":""}]
[null,null,"012-0615-92","MANIJA","MANIJA P/RECLINAR ASIENTO DEL  DER NEGRO CHEYENNE 07-13 MARCA RADEC",113.3,0,0,0,0,0,0,{"$f":"+IFERROR(HYPERLINK(VLOOKUP(C14632,FOTOGRAFICO!C:E,3,FALSE),C14632),\"\")","v":""}]
[null,null,"012-3109-00","MANIJA","MANIJA DER INT EUROVAN 92-04   MARCA TYG",103.86,0,0,0,0,0,0,{"$f":"+IFERROR(HYPERLINK(VLOOKUP(C14637,FOTOGRAFICO!C:E,3,FALSE),C14637),\"\")","v":""}]
[null,null,"MARLL8C","MARCADOR","MARCADOR PARA LLANTAS COLOR    BLANCO IMPORTADO",22.41,2,12,4,11,3,8,{"$f":"+IFERROR(HYPERLINK(VLOOKUP(C14643,FOTOGRAFICO!C:E,3,FALSE),C14643),\"\")","v":"MARLL8C"}]
[null,null,"BRU02Z911023J","MARCHA","MARCHA JETTA A6 11-18 2.5 BORA 05-10 2.5 FSI BEETLE 11-19 2.5 PASSAT B7 12-18 2.5 BRUCK",1994.56,0,1,2,0,0,0,{"$f":"+IFERROR(HYPERLINK(VLOOKUP(C14659,FOTOGRAFICO!C:E,3,FALSE),C14659),\"\")","v":""}]
[null,null,"BRU96963483","MARCHA","MARCHA SPARK 11-20 1.2 MATIZ   05-14 1.0 TIPO MITSUBISHI      MARCA BRUCK GERMANY 96963483",2029.82,0,1,2,0,0,0,{"$f":"+IFERROR(HYPERLINK(VLOOKUP(C14666,FOTOGRAFICO!C:E,3,FALSE),C14666),\"\")","v":"BRU96963483"}]
[null,null,"TOT42640","MARCHA","MARCHA TOYOTA HIACE 2.7 06-09  MARCA NIPPONDENSO PEDIDO       ALEJANDRO",2116.13,0,0,0,0,0,0,{"$f":"+IFERROR(HYPERLINK(VLOOKUP(C14675,FOTOGRAFICO!C:E,3,FALSE),C14675),\"\")","v":""}]
[null,null,"209-0670-10","MARCO","MARCO RADIADOR INT DER SONIC   12-19 MARCA TYG",237.12,0,0,0,0,0,0,{"$f":"+IFERROR(HYPERLINK(VLOOKUP(C14682,FOTOGRAFICO!C:E,3,FALSE),C14682),\"\")","v":""}]
[null,null,"209-1254-00","MARCO","MARCO RADIADOR INF FIGO 16-18  MARCA TYG PIDE RAFAEL",1381.47,0,0,0,0,0,0,{"$f":"+IFERROR(HYPERLINK(VLOOKUP(C14695,FOTOGRAFICO!C:E,3,FALSE),C14695),\"\")","v":""}]
[null,null,"209-2321-02","MARCO","MARCO RADIADOR TUSUR III 92-   17 MARCA TYG",0,0,0,0,0,0,0,{"$f":"+IFERROR(HYPERLINK(VLOOKUP(C14702,FOTOGRAFICO!C:E,3,FALSE),C14702),\"\")","v":""}]
[null,null,"CQJV0400","MARCO","MARCO RADIADOR BORA 06-10      PLASTICO MARCA SIMYI IMPORTADO PIDE CESAR CARRERA",993.07,0,0,0,0,0,0,{"$f":"+IFERROR(HYPERLINK(VLOOKUP(C14714,FOTOGRAFICO!C:E,3,FALSE),C14714),\"\")","v":""}]
[null,null,"NMARH","MARIMBA","MARIMBA ACRILICO REDONDA HUMO",30.86,3,2,0,4,1,7,{"$f":"+IFERROR(HYPERLINK(VLOOKUP(C14724,FOTOGRAFICO!C:E,3,FALSE),C14724),\"\")","v":"NMARH"}]
[null,null,"40202-00QAA-C","MAZA","MAZA DEL PLATINA CLIO 02-10    KANGOO 04-09 4 BARRENOS MARCA  NSB IMPORTADO AN1280",212.55,13,4,4,3,3,2,{"$f":"+IFERROR(HYPERLINK(VLOOKUP(C14734,FOTOGRAFICO!C:E,3,FALSE),C14734),\"\")","v":"40202-00QAA-C"}]
[null,null,"40202-3X000","MAZA","MAZA DEL URVAN NV350 2.5 13-20 6 BIRLOS SIN BALERO MARCA TMK  IMPORTADO 40202-3X000",843.03,2,0,3,12,3,4,{"$f":"+IFERROR(HYPERLINK(VLOOKUP(C14737,FOTOGRAFICO!C:E,3,FALSE),C14737),\"\")","v":"40202-3X000"}]
[null,null,"9064172NSB","MAZA","MAZA TRAS C/BALERO AVEO 18-23  1.5L CON/ABS MARCA NSB NIKKO   IMPORTADO = BMNC9970",478.6,3,13,4,18,2,3,{"$f":"+IFERROR(HYPERLINK(VLOOKUP(C14753,FOTOGRAFICO!C:E,3,FALSE),C14753),\"\")","v":"9064172NSB"}]
[null,null,"AC5175B","MAZA","MAZA DEL ATOS 02-12 ATTITUDE   06-11 VERNA 04-06 4 BIRLOS     AUTOPAR MORESA = BRU5175025000",247.7,17,3,13,8,22,1,{"$f":"+IFERROR(HYPERLINK(VLOOKUP(C14757,FOTOGRAFICO!C:E,3,FALSE),C14757),\"\")","v":"AC5175B"}]
[null,null,"ANY02GB","MAZA","MAZA DEL TSURU 92-17 SENTRA 92 -00 TSUBAME 93-04 LUCINO 96-00 4 BIRLOS AUTOPAR = NACNIY02G0",261.41000000000003,3,19,13,10,10,8,{"$f":"+IFERROR(HYPERLINK(VLOOKUP(C14769,FOTOGRAFICO!C:E,3,FALSE),C14769),\"\")","v":"ANY02GB"}]
[null,null,"BMNC1100","MAZA","MAZA DEL AVEO 08-17 PONTIAC G3 06-09 SPARK 11-17 BEAT 18-20 4 BIRLOS MARCA NSB = AG9653B",223.52,19,36,16,42,23,4,{"$f":"+IFERROR(HYPERLINK(VLOOKUP(C14776,FOTOGRAFICO!C:E,3,FALSE),C14776),\"\")","v":"BMNC1100"}]
[null,null,"BRU13500590","MAZA","MAZA RUEDA TRAS SONIC 12-17    1.6 C/ABS C/BIRLOS INTEGRADOS  MARCA BRUCK GERMANY 13500590",1123.6400000000001,1,1,1,1,1,1,{"$f":"+IFERROR(HYPERLINK(VLOOKUP(C14782,FOTOGRAFICO!C:E,3,FALSE),C14782),\"\")","v":"BRU13500590"}]
[null,null,"BRU2500","MAZA","MAZA TRAS C/BALERO ATOS 02-12  VERNA 04-06 4 BIRLOS BRUCK     GERMANY = AC5073",484.84,3,0,0,7,9,6,{"$f":"+IFERROR(HYPERLINK(VLOOKUP(C14792,FOTOGRAFICO!C:E,3,FALSE),C14792),\"\")","v":"BRU2500"}]
[null,null,"BRU4320050Y02","MAZA","MAZA TRAS TSURU III 92-17 C/BA LERO SENTRA 92-00 TSUBAME 93-  00 MARC BRUCK = TMK43200-50Y00",424.27,0,1,0,4,2,2,{"$f":"+IFERROR(HYPERLINK(VLOOKUP(C14808,FOTOGRAFICO!C:E,3,FALSE),C14808),\"\")","v":"BRU4320050Y02"}]
[null,null,"BRU5175025000","MAZA","MAZA DEL ATOS 02-12 ATTITUDE   06-11 VERNA 04-06 4 BIRLOS     BRUCK GERMANY = AC5175B",340.84,0,0,5,4,12,5,{"$f":"+IFERROR(HYPERLINK(VLOOKUP(C14811,FOTOGRAFICO!C:E,3,FALSE),C14811),\"\")","v":"BRU5175025000"}]
[null,null,"BRU96535041","MAZA","MAZA RUEDA DEL AVEO 08-18 1.6  SPARK 11-20 1.2 G3 06-10 1.6   C/BIRLOS INTEGRADOS BRUCK",277.39,3,4,4,2,0,1,{"$f":"+IFERROR(HYPERLINK(VLOOKUP(C14824,FOTOGRAFICO!C:E,3,FALSE),C14824),\"\")","v":"BRU96535041"}]
[null,null,"GM232B1022","MAZA","MAZA DEL MATIZ 04-15 4 BARRENO MARCA NSB IMPORTADO",251.77,2,4,5,7,0,5,{"$f":"+IFERROR(HYPERLINK(VLOOKUP(C14831,FOTOGRAFICO!C:E,3,FALSE),C14831),\"\")","v":""}]
[null,null,"ORI191419091B","MAZA","MAZA TRAS C/BALERO VENTO 14-19 CROSSFOX 05-16 IBIZA 02-12 5   BARRENOS C/ABS MARCA NSB",359.29,12,7,6,2,28,5,{"$f":"+IFERROR(HYPERLINK(VLOOKUP(C14840,FOTOGRAFICO!C:E,3,FALSE),C14840),\"\")","v":"ORI191419091B"}]
[null,null,"TM515105","MAZA","MAZA DEL COLORADO 04-08 CANYON 4X2 04-08 CON ABS 6 BIRLOS     MARCA TMK PEDIDO DANIEL CASTIL",2062.65,0,0,0,0,0,0,{"$f":"+IFERROR(HYPERLINK(VLOOKUP(C14851,FOTOGRAFICO!C:E,3,FALSE),C14851),\"\")","v":""}]
[null,null,"ZBA407615KB","MAZA","MAZA DEL VW GOL 09-20 SAVEIRO  10-19 POINTER 98-09 4 BARRENOS MARCA KABUTO = BRUZBA407615",159.13999999999999,1,0,1,1,1,0,{"$f":"+IFERROR(HYPERLINK(VLOOKUP(C14863,FOTOGRAFICO!C:E,3,FALSE),C14863),\"\")","v":""}]
[null,null,"BMNC9970","MAZA","MAZA TRAS C/BALERO AVEO 18-23  C/ABS MARCA YOKOMITZU",365.42,0,3,0,0,1,0,{"$f":"+IFERROR(HYPERLINK(VLOOKUP(C14869,FOTOGRAFICO!C:E,3,FALSE),C14869),\"\")","v":"BMNC9970"}]
[null,null,"TMHUG0129S","MAZA","MAZA TRASERA TORNADO 05-10     ASTRA 98-05 MERIVA 03-08       ZAFIRA 00-05 PARA 4 BIRLOS TMK",988.35,0,0,0,0,0,0,{"$f":"+IFERROR(HYPERLINK(VLOOKUP(C14883,FOTOGRAFICO!C:E,3,FALSE),C14883),\"\")","v":""}]
[null,null,"CALI","MEDIDOR","MEDIDOR DE AIRE TIPO PLUMA     PLASTICO",15.68,2,5,5,6,0,3,{"$f":"+IFERROR(HYPERLINK(VLOOKUP(C14886,FOTOGRAFICO!C:E,3,FALSE),C14886),\"\")","v":""}]
[null,null,"5C1595P010","METAL","METAL CENTRO BANCADA TSURU 1.5 1.6 82-91 SENTRA 1.5 1.6 82-87 010 8 VALVULAS MARCA MORESA",359.16,1,0,4,6,0,1,{"$f":"+IFERROR(HYPERLINK(VLOOKUP(C14902,FOTOGRAFICO!C:E,3,FALSE),C14902),\"\")","v":"5C1595P010"}]
[null,null,"5C7001STD","METAL","METAL CENTRO STD GOLF JETTA    A4 CLASICO 1.8T 2.0 LUPO       1.6 05-09 BORA 2.0 MORESA",276.27999999999997,3,2,0,0,5,0,{"$f":"+IFERROR(HYPERLINK(VLOOKUP(C14908,FOTOGRAFICO!C:E,3,FALSE),C14908),\"\")","v":"5C7001STD"}]
[null,null,"CLECB1451P010","METAL","METAL BIELA CHEVY 94-12 010    AVEO CORSA TORNADO ASTRA CRUZE TRAX 1.4 1.6 1.8 MARCA MORESA",176.27,5,2,1,9,2,2,{"$f":"+IFERROR(HYPERLINK(VLOOKUP(C14918,FOTOGRAFICO!C:E,3,FALSE),C14918),\"\")","v":""}]
[null,null,"CLECB7000P020","METAL","METAL BIELA ATOS 1.0 1.1 020   MARCA MORESA 4B7000 50MM",257.5,2,0,5,3,5,1,{"$f":"+IFERROR(HYPERLINK(VLOOKUP(C14925,FOTOGRAFICO!C:E,3,FALSE),C14925),\"\")","v":""}]
[null,null,"CLEMS1157PSTD","METAL","METAL CENTRO GOLF JETTA 1.8    2.0 A2 A3 82-99 POINTER        DERBY 1.8 97-09 MORESA STD",302.8,5,0,2,10,5,2,{"$f":"+IFERROR(HYPERLINK(VLOOKUP(C14937,FOTOGRAFICO!C:E,3,FALSE),C14937),\"\")","v":""}]
[null,null,"CLEMS1545PSTD","METAL","METAL CENTRO CHEVY 94-12 STD   AVEO CORSA TORNADO ASTRA CRUZE TRAX 1.4 1.6 1.8 MARCA MORESA",244.23,7,4,12,10,0,4,{"$f":"+IFERROR(HYPERLINK(VLOOKUP(C14941,FOTOGRAFICO!C:E,3,FALSE),C14941),\"\")","v":""}]
[null,null,"FM3765CP010","METAL","METAL BIELA CHEV V6 82-90 17   3 2.8 CC MARCA:FEDERAL MOGUL",174.78,3,0,0,0,0,0,{"$f":"+IFERROR(HYPERLINK(VLOOKUP(C14957,FOTOGRAFICO!C:E,3,FALSE),C14957),\"\")","v":""}]
[null,null,"FM6807MSTD","METAL","METAL CENTRO VW SEDAN 020XSTD  1.6 68-03 MARCA FEDERAL MOGUL",290.86,1,0,0,0,0,0,{"$f":"+IFERROR(HYPERLINK(VLOOKUP(C14966,FOTOGRAFICO!C:E,3,FALSE),C14966),\"\")","v":""}]
[null,null,"MIC26","MICA","MICA CUARTO DEFENSA VW AMBAR",16.21,9,4,0,0,0,0,{"$f":"+IFERROR(HYPERLINK(VLOOKUP(C14977,FOTOGRAFICO!C:E,3,FALSE),C14977),\"\")","v":""}]
[null,null,"MIC42","MICA","MICA CALAVERA COMBI ACRILICO",72.98,15,4,8,4,12,3,{"$f":"+IFERROR(HYPERLINK(VLOOKUP(C14980,FOTOGRAFICO!C:E,3,FALSE),C14980),\"\")","v":""}]
[null,null,"FML49G","MODULO","MODULO FLECHA VERDE",15.5,0,0,0,10,149,8,{"$f":"+IFERROR(HYPERLINK(VLOOKUP(C14995,FOTOGRAFICO!C:E,3,FALSE),C14995),\"\")","v":"FML49G"}]
[null,null,"LACCHGG","MODULO","MODULO 6 LEDS VERDE TIPO CHIP  COB ENCAPSULADO 7X2 CM TIRA 20 PZA MARCA TUNIX MARCA TUNIX",3.25,40,37,25,35,28,40,{"$f":"+IFERROR(HYPERLINK(VLOOKUP(C15000,FOTOGRAFICO!C:E,3,FALSE),C15000),\"\")","v":""}]
[null,null,"LACHS3B","MODULO","MODULO 3 LED LUPA LUZ AZUL     SOMBRERO TIRA 20 PZA MARCA     TUNIX",4.57,35,19,7,62,20,30,{"$f":"+IFERROR(HYPERLINK(VLOOKUP(C15012,FOTOGRAFICO!C:E,3,FALSE),C15012),\"\")","v":""}]
[null,null,"LACHS3R","MODULO","MODULO 3 LED LUPA LUZ ROJO     SOMBRERO TIRA 20 PZA MARCA     TUNIX",4.57,38,34,20,24,42,40,{"$f":"+IFERROR(HYPERLINK(VLOOKUP(C15015,FOTOGRAFICO!C:E,3,FALSE),C15015),\"\")","v":""}]
[null,null,"M25-RD","MODULO","MODULO 25 ROJO",8.56,0,0,0,0,0,0,{"$f":"+IFERROR(HYPERLINK(VLOOKUP(C15024,FOTOGRAFICO!C:E,3,FALSE),C15024),\"\")","v":"M25-RD"}]
[null,null,"MOD30-AM","MODULO","MODULO 30 AMARILLO",10.72,0,0,0,0,39,0,{"$f":"+IFERROR(HYPERLINK(VLOOKUP(C15035,FOTOGRAFICO!C:E,3,FALSE),C15035),\"\")","v":"MOD30-AM"}]
[null,null,"MOD-WH","MODULO","MODULO 3 LEDS LENTE BLANCO",4.22,63,49,43,53,79,40,{"$f":"+IFERROR(HYPERLINK(VLOOKUP(C15051,FOTOGRAFICO!C:E,3,FALSE),C15051),\"\")","v":"MOD-WH"}]
[null,null,"ORI1J0919506K","MODULO","MODULO AIRE ACOND GOLF A4      JETTA A4 NEW BEETLE            ARNES CHICO SEMIOVALA 14 PINES",574.75,3,0,0,0,0,0,{"$f":"+IFERROR(HYPERLINK(VLOOKUP(C15053,FOTOGRAFICO!C:E,3,FALSE),C15053),\"\")","v":""}]
[null,null,"ECO113853505ZC","MOLDURA","MOLDURAS VW SEDAN JGO 7 PIEZAS CROMADAS SEDAN 72-2004 DELGADA NOTA: LLEVA 35 GRAPAS SAN155",640.69000000000005,3,4,2,1,2,1,{"$f":"+IFERROR(HYPERLINK(VLOOKUP(C15067,FOTOGRAFICO!C:E,3,FALSE),C15067),\"\")","v":"ECO113853505ZC"}]
[null,null,"IBJN0150","MOLDURA","MOLDURAS PISA ALFOMBRA TSURU   TRASERAS DERECHA E IZQUIERDA   JUEGO 2 PIEZAS TSURU 92-17",96.19,0,9,8,6,0,8,{"$f":"+IFERROR(HYPERLINK(VLOOKUP(C15074,FOTOGRAFICO!C:E,3,FALSE),C15074),\"\")","v":""}]
[null,null,"SAN332","MOLDURA","MOLDURA GOLF A3 DEL IZQ 4PUERT GOLF JETTA A3 4 PUERTAS",129.93,8,0,0,2,2,2,{"$f":"+IFERROR(HYPERLINK(VLOOKUP(C15082,FOTOGRAFICO!C:E,3,FALSE),C15082),\"\")","v":""}]
[null,null,"011-1901-06","MOLDURA","MOLDURA REJILLA DER MAZDA 3    14-16 NEGRA                    SOBRE PEDIDO LUIS MIRANDA",163.19999999999999,0,0,0,0,0,0,{"$f":"+IFERROR(HYPERLINK(VLOOKUP(C15094,FOTOGRAFICO!C:E,3,FALSE),C15094),\"\")","v":"011-1901-06"}]
[null,null,"011-3103-22","MOLDURA","MOLDURA DER FACIA DEL BORA 05- 10 NEGRA MARCA RADEC IMPORTADO 011-3103-22",144.86000000000001,0,0,0,0,0,0,{"$f":"+IFERROR(HYPERLINK(VLOOKUP(C15106,FOTOGRAFICO!C:E,3,FALSE),C15106),\"\")","v":""}]
[null,null,"011-3132-02","MOLDURA","MOLDURA DER FACIA TRAS VENTO   16-20 CROMADA MARCA TYG PIDE   LUIS",494.48,0,0,0,0,0,0,{"$f":"+IFERROR(HYPERLINK(VLOOKUP(C15111,FOTOGRAFICO!C:E,3,FALSE),C15111),\"\")","v":""}]
[null,null,"NMF4D","MORRALLERO","MORRALLERO FIBRA DE CARBON 4   DIVISIONES",41.14,3,2,2,6,2,1,{"$f":"+IFERROR(HYPERLINK(VLOOKUP(C15126,FOTOGRAFICO!C:E,3,FALSE),C15126),\"\")","v":""}]
[null,null,"ZMOEC5DCH","MORRALLERO","MORRALLERA ECONOMICA 5 DIV.    CHICA",24.04,5,1,0,5,5,0,{"$f":"+IFERROR(HYPERLINK(VLOOKUP(C15129,FOTOGRAFICO!C:E,3,FALSE),C15129),\"\")","v":""}]
[null,null,"BRU377955651","MOTOR","MOTOR DEPOSITO LIMPIA POINTER  98-10 MARCA BRUCK SOBRE PEDIDO PIDE GUSTAVO HERNANDEZ",105.78,2,7,0,10,8,10,{"$f":"+IFERROR(HYPERLINK(VLOOKUP(C15140,FOTOGRAFICO!C:E,3,FALSE),C15140),\"\")","v":""}]
[null,null,"INJ47228C","MOTOR","MOTOR LIMPIAPARABRISAS TOWN    COUNTRY 3.8 96-00 MARCA        INJETECH PIDE RAFAEL",1031.98,0,0,0,0,0,0,{"$f":"+IFERROR(HYPERLINK(VLOOKUP(C15149,FOTOGRAFICO!C:E,3,FALSE),C15149),\"\")","v":""}]
[null,null,"218-2404-00","MOTOVENTIL","MOTOVENTILADOR PEUGEOT 307 05- 09 308 05-09 2 PINES MARCA     POLAR PEDIDO MIGUEL ROMERO",2111.46,0,0,0,0,0,0,{"$f":"+IFERROR(HYPERLINK(VLOOKUP(C15161,FOTOGRAFICO!C:E,3,FALSE),C15161),\"\")","v":""}]
[null,null,"377959455H","MOTOVENTIL","MOTOVENTIL POINTER 1.8 03-09   S/AIRE C/6 ASPAS S/TOLVA       DELGADO MARCA BRUCK GERMANY",930.87,6,0,3,6,3,2,{"$f":"+IFERROR(HYPERLINK(VLOOKUP(C15168,FOTOGRAFICO!C:E,3,FALSE),C15168),\"\")","v":"377959455H"}]
[null,null,"94509632","MOTOVENTIL","MOTOVENTILADOR SONIC 2013                                     SOBRE PEDIDO PABLO GAMONEDA",6030.07,0,0,0,0,0,0,{"$f":"+IFERROR(HYPERLINK(VLOOKUP(C15179,FOTOGRAFICO!C:E,3,FALSE),C15179),\"\")","v":""}]
[null,null,"ALE1J0959455B","MOTOVENTIL","MOTOVENTIL GOLF JETTA A4 AUXIL ASPA CHICA MOTOR CHICO DELGADO 3PINES ARNES 25cm P/PLANAS",667.6,4,3,0,4,7,3,{"$f":"+IFERROR(HYPERLINK(VLOOKUP(C15184,FOTOGRAFICO!C:E,3,FALSE),C15184),\"\")","v":"ALE1J0959455B"}]
[null,null,"BRU24445173","MOTOVENTIL","MOTOVENTILADOR CORSA 02-09 1.8 TORNADO 03-19 1.8 S/AIRE ACOND VIENE COMPLETO CON MARCO BRUCK",1618.45,1,1,1,2,2,2,{"$f":"+IFERROR(HYPERLINK(VLOOKUP(C15200,FOTOGRAFICO!C:E,3,FALSE),C15200),\"\")","v":"BRU24445173"}]
[null,null,"BRU6Q0959455AECO","MOTOVENTIL","MOTOVENTILADOR POLO 03-07 1.6  LUPO 05-09 1.6 IBIZA 03-08 1.6 IBIZA 09-17 1.6 BRUCK",1778.31,3,3,1,2,4,1,{"$f":"+IFERROR(HYPERLINK(VLOOKUP(C15208,FOTOGRAFICO!C:E,3,FALSE),C15208),\"\")","v":"BRU6Q0959455AECO"}]
[null,null,"BRU7701048284","MOTOVENTIL","MOTOVENTILADOR PLATINA 02-10   1.6 CLIO 02-10 1.6 KANGOO 01-  08 1.6 KANGOO 08-18 1.6 BRUCK",830.97,1,3,1,2,2,2,{"$f":"+IFERROR(HYPERLINK(VLOOKUP(C15211,FOTOGRAFICO!C:E,3,FALSE),C15211),\"\")","v":"BRU7701048284"}]
[null,null,"BRU96314167","MOTOVENTIL","MOTOVENTILADOR MATIZ 1.0 03-05 S/AIRE C/ASPA C/TOLVA MARCA    BRUCK GERMANY = 93741009",1059,0,2,0,0,0,0,{"$f":"+IFERROR(HYPERLINK(VLOOKUP(C15223,FOTOGRAFICO!C:E,3,FALSE),C15223),\"\")","v":"BRU96314167"}]
[null,null,"MMNF0200","MOTOVENTIL","MOTOVENTIL FIESTA FIRST SOLO   1.6L 03-10 ECOSPORT 2.0 04-12  C/AIRE S/ASPAS S/TOLVA ISAKA",421.56,1,1,4,3,0,9,{"$f":"+IFERROR(HYPERLINK(VLOOKUP(C15237,FOTOGRAFICO!C:E,3,FALSE),C15237),\"\")","v":"MMNF0200"}]
[null,null,"MMNV0601","MOTOVENTIL","MOTOVENTI GOL 08-22 SAVEIRO 10 -21 MOTOR Y ASPAS C/AA SIN TOL VA MARCA ISAKA",789.36,10,0,5,4,5,8,{"$f":"+IFERROR(HYPERLINK(VLOOKUP(C15243,FOTOGRAFICO!C:E,3,FALSE),C15243),\"\")","v":"MMNV0601"}]
[null,null,"ORI1J0959455F","MOTOVENTIL","MOTOVENTIL GOLF JETTA A4 PRINC MOTOR CHICO ARNES 25cm 3 PINES PTAS CORTAS NO ES PRINCIPAL",704.48,0,5,1,3,2,1,{"$f":"+IFERROR(HYPERLINK(VLOOKUP(C15255,FOTOGRAFICO!C:E,3,FALSE),C15255),\"\")","v":""}]
[null,null,"USA555835","MOTOVENTIL","MOTOVENTILADOR IKON 1.6 00-09  COURIER 1.6 01-09 S/AIRE SIN   ASPA S/TOLVA STD VALEO BRASIL",574.16999999999996,0,0,0,0,0,0,{"$f":"+IFERROR(HYPERLINK(VLOOKUP(C15266,FOTOGRAFICO!C:E,3,FALSE),C15266),\"\")","v":"USA555835"}]
[null,null,"BE8Z-8C607ABC","MOTOVENTIL","MOTOVENTILADOR FIGO 16-20 IKON 11-15 ECOSPORT 13-14 FIESTA 11 -19 2 PINES MARCA BEST COOLING",1369.97,0,0,0,0,0,0,{"$f":"+IFERROR(HYPERLINK(VLOOKUP(C15275,FOTOGRAFICO!C:E,3,FALSE),C15275),\"\")","v":""}]
[null,null,"MMNC9910","MOTOVENTIL","MOTOVENTIL COMPLETO AVEO 1.5   18-22 REISTENCIA 3 PINES MARCA ISAKA",1099.0999999999999,0,3,0,0,4,0,{"$f":"+IFERROR(HYPERLINK(VLOOKUP(C15278,FOTOGRAFICO!C:E,3,FALSE),C15278),\"\")","v":"MMNC9910"}]
[null,null,"MMNC0252-PROMO","MOTOVENTIL","MOTOVENTILADOR CON TOLVA CORSA 01-03 ARNES 40 CM 3 PINES PLA  NOS OVALO MARCA AUTOMOTIVE",1072.29,0,6,0,0,0,0,{"$f":"+IFERROR(HYPERLINK(VLOOKUP(C15285,FOTOGRAFICO!C:E,3,FALSE),C15285),\"\")","v":""}]
[null,null,"218-0614-08","MOTOVENTIL","MOTOVENTILADOR CHEVY 94-12     RADIADOR S/AA MARCA RADEC      IMPORTADO",728.37,0,0,0,0,0,0,{"$f":"+IFERROR(HYPERLINK(VLOOKUP(C15295,FOTOGRAFICO!C:E,3,FALSE),C15295),\"\")","v":""}]
[null,null,"02K141709A","PALANCA","PALANCA LARGA EMPUJE COLLARIN  GOLF JETTA DERBY 5 VELOCC      MARCA BRUCK-GERMANY",39.96,2,0,8,4,0,1,{"$f":"+IFERROR(HYPERLINK(VLOOKUP(C15310,FOTOGRAFICO!C:E,3,FALSE),C15310),\"\")","v":"02K141709A"}]
[null,null,"27433","PALANCA","PALANCA DIRECC TSURU III SOLA  NISSAN PICK UP D21 92-01       TSURU III 97-09 MCA TOTALPARTS",303.27999999999997,1,2,1,3,2,1,{"$f":"+IFERROR(HYPERLINK(VLOOKUP(C15317,FOTOGRAFICO!C:E,3,FALSE),C15317),\"\")","v":""}]
[null,null,"96387324KR","PALANCA","PALANCA DIRECC LUCES OPTRA 2.0 07-10 MARCA Z-PRO IMPORTADO    PIDE ABRAHAM MOSTRADOR",363.76,0,0,0,0,0,0,{"$f":"+IFERROR(HYPERLINK(VLOOKUP(C15324,FOTOGRAFICO!C:E,3,FALSE),C15324),\"\")","v":""}]
[null,null,"BRU25540EE90E","PALANCA","PALANCA DIRECCIONALES TIIDA 07 -18 1.6 SENTRA 06-12 2.0 TITAN 03-15 5.6 XTRAIL 08-14 2.5",431.36,2,2,2,0,1,3,{"$f":"+IFERROR(HYPERLINK(VLOOKUP(C15333,FOTOGRAFICO!C:E,3,FALSE),C15333),\"\")","v":"BRU25540EE90E"}]
[null,null,"GM93318293","PALANCA","PALANCA VEL COMPLETA CORSA 04- 08 MERIVA 04-0 TORNADO 04-11   MARCA GM PIDE JORGUE OLGUIN",1979.13,0,0,0,0,0,0,{"$f":"+IFERROR(HYPERLINK(VLOOKUP(C15349,FOTOGRAFICO!C:E,3,FALSE),C15349),\"\")","v":""}]
[null,null,"GM96948585","PALANCA","PALANCA LIMPIA BEAT 18-20      SPARK 11-17 ORIGINAL PIDE      YASMAN",679.81,0,0,0,0,0,0,{"$f":"+IFERROR(HYPERLINK(VLOOKUP(C15353,FOTOGRAFICO!C:E,3,FALSE),C15353),\"\")","v":""}]
[null,null,"ORI191953513B01C","PALANCA","PALANCA DIRECC GOLF JETTA A2   87-92 PALANCA MARCA EGP",149.47,4,0,0,0,4,4,{"$f":"+IFERROR(HYPERLINK(VLOOKUP(C15360,FOTOGRAFICO!C:E,3,FALSE),C15360),\"\")","v":"ORI191953513B01C"}]
[null,null,"SAN226","PALANCA","PALANCA SELEC GOLF JETTA A2    SINCRONIZADOR COMPLETO",100.1,1,0,0,0,0,1,{"$f":"+IFERROR(HYPERLINK(VLOOKUP(C15372,FOTOGRAFICO!C:E,3,FALSE),C15372),\"\")","v":""}]
[null,null,"YC1T13335 AB","PALANCA","PALANCA DIRECC FOCUS 00-07     MCA: NIKKO",285.37,0,0,0,0,1,0,{"$f":"+IFERROR(HYPERLINK(VLOOKUP(C15382,FOTOGRAFICO!C:E,3,FALSE),C15382),\"\")","v":"YC1T13335 AB"}]
[null,null,"BRUZXS6T11K665CA","PALANCA","PALANCA DIR/LIMP FIESTA 1.3    1.4 95-02 KA 1.6 01-08 C/LIMP  TRAS 21 PIN MARCA BRUCK",818.03,0,0,0,1,0,0,{"$f":"+IFERROR(HYPERLINK(VLOOKUP(C15392,FOTOGRAFICO!C:E,3,FALSE),C15392),\"\")","v":""}]
[null,null,"BOTANA-13","PAPAS","PAPAS FRITURAS PAPAS SALADAS   SABRITAS 40 GRAMOS",18.54,0,0,0,0,2,0,{"$f":"+IFERROR(HYPERLINK(VLOOKUP(C15404,FOTOGRAFICO!C:E,3,FALSE),C15404),\"\")","v":""}]
[null,null,"BOTANA-26","PAPAS","PAPAS FRITURAS SALADAS SOL 100 GRAMOS",15.84,0,0,2,0,11,0,{"$f":"+IFERROR(HYPERLINK(VLOOKUP(C15411,FOTOGRAFICO!C:E,3,FALSE),C15411),\"\")","v":""}]
[null,null,"BOTANA-CALL03","PAPAS","PAPAS FRITURAS ADOBADAS SOL    100 GRAMOS",16.489999999999998,0,0,0,0,0,0,{"$f":"+IFERROR(HYPERLINK(VLOOKUP(C15421,FOTOGRAFICO!C:E,3,FALSE),C15421),\"\")","v":""}]
[null,null,"BOTANA-CALL16","PAPAS","PAPAS FRITURAS HABANERO SOL    100 GRAMOS",16.489999999999998,0,0,0,0,0,0,{"$f":"+IFERROR(HYPERLINK(VLOOKUP(C15427,FOTOGRAFICO!C:E,3,FALSE),C15427),\"\")","v":""}]
[null,null,"PAPE-001","PAPELERIA","BORRADOR PIZARRON",18.95,0,0,1,0,9,0,{"$f":"+IFERROR(HYPERLINK(VLOOKUP(C15434,FOTOGRAFICO!C:E,3,FALSE),C15434),\"\")","v":""}]
[null,null,"PAPE-017","PAPELERIA","HOJA PAQUETE 100 HOJAS VERDE",70.81,1,0,5,1,1,2,{"$f":"+IFERROR(HYPERLINK(VLOOKUP(C15450,FOTOGRAFICO!C:E,3,FALSE),C15450),\"\")","v":""}]
[null,null,"PAPE-026","PAPELERIA","CUADERNO",20.46,0,6,5,2,9,2,{"$f":"+IFERROR(HYPERLINK(VLOOKUP(C15459,FOTOGRAFICO!C:E,3,FALSE),C15459),\"\")","v":""}]
[null,null,"PAPE-033","PAPELERIA","SOBRE COIN PIEZA 9 X 16 CM",9.3000000000000007,0,0,0,50,39,0,{"$f":"+IFERROR(HYPERLINK(VLOOKUP(C15466,FOTOGRAFICO!C:E,3,FALSE),C15466),\"\")","v":""}]
[null,null,"PAPE-051","PAPELERIA","ESTRELLA # 7 PAQUETES 25 PZ",27.62,10,16,17,11,309,45,{"$f":"+IFERROR(HYPERLINK(VLOOKUP(C15479,FOTOGRAFICO!C:E,3,FALSE),C15479),\"\")","v":""}]
[null,null,"PAPE-060","PAPELERIA","PLUMON ULTRA DELGADO VARIOS    COLORES",16.22,0,0,0,0,13,0,{"$f":"+IFERROR(HYPERLINK(VLOOKUP(C15486,FOTOGRAFICO!C:E,3,FALSE),C15486),\"\")","v":""}]
[null,null,"PAPE-071","PAPELERIA","CALCULADORA DE BOLSILLO",34.76,0,0,0,0,0,0,{"$f":"+IFERROR(HYPERLINK(VLOOKUP(C15498,FOTOGRAFICO!C:E,3,FALSE),C15498),\"\")","v":""}]
[null,null,"PAPE-081","PAPELERIA","LIBRETA DE APUNTES PINOS ALTOS RAYADA 80 HOJAS",12.67,0,0,0,0,0,0,{"$f":"+IFERROR(HYPERLINK(VLOOKUP(C15508,FOTOGRAFICO!C:E,3,FALSE),C15508),\"\")","v":""}]
[null,null,"PAPE-082","PAPELERIA","BOLIGRAFO MEDIANO BIC1.6",3.89,0,0,0,0,0,0,{"$f":"+IFERROR(HYPERLINK(VLOOKUP(C15509,FOTOGRAFICO!C:E,3,FALSE),C15509),\"\")","v":""}]
[null,null,"CO16G","PARASOL","PARASOL ALUMINIO C/BURBUJA     SENCILLA JUMBO DE 140X70 CM    MATE GRIS",48.25,3,1,1,1,1,0,{"$f":"+IFERROR(HYPERLINK(VLOOKUP(C15521,FOTOGRAFICO!C:E,3,FALSE),C15521),\"\")","v":"CO16G"}]
[null,null,"CO531","PARASOL","PARASOL DOBLE BURBUJA DE       146X70 CM OSO POLAR",41.35,4,5,7,6,4,1,{"$f":"+IFERROR(HYPERLINK(VLOOKUP(C15527,FOTOGRAFICO!C:E,3,FALSE),C15527),\"\")","v":"CO531"}]
[null,null,"SAN414","PARASOL","PARASOL SENTRA B-15 01/06 2PZA S JUEGO IZQUIERDO Y DERECHO    MARCA: SANCHEZ",243.53,8,0,0,0,0,0,{"$f":"+IFERROR(HYPERLINK(VLOOKUP(C15541,FOTOGRAFICO!C:E,3,FALSE),C15541),\"\")","v":""}]
[null,null,"ZPFSEBLN","PARASOL","PARASOL SILVER ESTAMPADO ORILL AZUL MARINO",58.25,4,4,2,10,5,0,{"$f":"+IFERROR(HYPERLINK(VLOOKUP(C15553,FOTOGRAFICO!C:E,3,FALSE),C15553),\"\")","v":""}]
[null,null,"PARASOL-PERRO","PARASOL","PARASOL PERRO DOBLE BURBUJA",92.51,0,0,0,0,0,0,{"$f":"+IFERROR(HYPERLINK(VLOOKUP(C15560,FOTOGRAFICO!C:E,3,FALSE),C15560),\"\")","v":"PARASOL-PERRO"}]
[null,null,"204-0617-03","PARRILLA","PARRILLA CORSA 03-07 MARCA     TYG",364.18,4,0,0,0,0,0,{"$f":"+IFERROR(HYPERLINK(VLOOKUP(C15566,FOTOGRAFICO!C:E,3,FALSE),C15566),\"\")","v":"204-0617-03"}]
[null,null,"204-2330-02","PARRILLA","PARRILLA VERSA 15-19 NEGRO     FONDO CROMADO MARCA TYG PIDE   MTRA GUILLERMINA",1315.11,0,0,0,0,0,0,{"$f":"+IFERROR(HYPERLINK(VLOOKUP(C15576,FOTOGRAFICO!C:E,3,FALSE),C15576),\"\")","v":""}]
[null,null,"204-3005-05","PARRILLA","PARRILLA HIACE 11-13 GRIS 9    PASAJEROS MARCA RADEC          204-3005-05",1070.7,1,0,0,0,0,0,{"$f":"+IFERROR(HYPERLINK(VLOOKUP(C15583,FOTOGRAFICO!C:E,3,FALSE),C15583),\"\")","v":"204-3005-05"}]
[null,null,"204-3115-03","PARRILLA","PARRILLA POINTER 03-05 ARGENTI PIDE MIGUEL ANGEL MARCA RADEC  204-3115-03",175.61,0,2,0,0,1,0,{"$f":"+IFERROR(HYPERLINK(VLOOKUP(C15595,FOTOGRAFICO!C:E,3,FALSE),C15595),\"\")","v":"204-3115-03"}]
[null,null,"CPMT2040","PARRILLA","PARRILLA AVANZA 16-20 NEGRA LI SA                             SOBRE PEDIDO X PROV 48",789.06,0,0,0,0,0,0,{"$f":"+IFERROR(HYPERLINK(VLOOKUP(C15603,FOTOGRAFICO!C:E,3,FALSE),C15603),\"\")","v":""}]
[null,null,"F001-E-GT","PARRILLA","PARRILLA NISSAN PICK UP D21 94 -08 GRIS MARCA NACIONAL        204-2305-03",347.31,1,0,3,3,0,1,{"$f":"+IFERROR(HYPERLINK(VLOOKUP(C15615,FOTOGRAFICO!C:E,3,FALSE),C15615),\"\")","v":""}]
[null,null,"NIS107C0350","PARRILLA","PARRILLA TSURU 01-04 FARO      REDONDO UNA LINEA SIN EMBLEMA  MARCA RADEC 204-2321-07",237.12,1,0,0,0,0,0,{"$f":"+IFERROR(HYPERLINK(VLOOKUP(C15624,FOTOGRAFICO!C:E,3,FALSE),C15624),\"\")","v":""}]
[null,null,"TAW328","PARRILLA","PARRILLA GOLF A2 87-92 FARO    REDONDO SIN EMBLEMA MARCA      OPTIMO IMPORTADO = 204-3111-00",407.41,0,0,0,8,0,4,{"$f":"+IFERROR(HYPERLINK(VLOOKUP(C15635,FOTOGRAFICO!C:E,3,FALSE),C15635),\"\")","v":"TAW328"}]
[null,null,"CPGN0110","PARRILLA","PARRILLA TSURU III 05-17       CROMADA COMPLETA MARCA GOOD GO PIDE RAFAEL HERNANDEZ",572.91999999999996,0,0,0,0,0,0,{"$f":"+IFERROR(HYPERLINK(VLOOKUP(C15647,FOTOGRAFICO!C:E,3,FALSE),C15647),\"\")","v":""}]
[null,null,"CPTC9921","PARRILLA","PARRILLA COMPLETA AVEO 1.5 18- 23 NEGRA SIN FILO CROMADO      MARCA FPI IMPORTADO",483.8,0,0,0,0,0,0,{"$f":"+IFERROR(HYPERLINK(VLOOKUP(C15653,FOTOGRAFICO!C:E,3,FALSE),C15653),\"\")","v":""}]
[null,null,"F015-E-GT","PARRILLA","PARRILLA NISSAN VERSA V-DRIVE  GRIS LOGO BLANCO 12-21 MARCA   IVAN NACIONAL",1013.55,0,1,2,1,1,2,{"$f":"+IFERROR(HYPERLINK(VLOOKUP(C15658,FOTOGRAFICO!C:E,3,FALSE),C15658),\"\")","v":""}]
[null,null,"204-2316-02","PARRILLA","PARRILLA SENTRA 01-03 CON FILO CROMADO                        PEDIDO JORGE DIAZ",443.76,0,0,0,0,0,0,{"$f":"+IFERROR(HYPERLINK(VLOOKUP(C15670,FOTOGRAFICO!C:E,3,FALSE),C15670),\"\")","v":""}]
[null,null,"204-3114-05","PARRILLA","PARRILLA PASSAT 06-11 FILO     CROMADO MARCA TYG PIDE JORGE",1561.14,0,0,0,0,0,0,{"$f":"+IFERROR(HYPERLINK(VLOOKUP(C15677,FOTOGRAFICO!C:E,3,FALSE),C15677),\"\")","v":""}]
[null,null,"BOTANA-49","PASTEL","PASTEL MINI CHOCORROL 28 G",8.4700000000000006,0,0,0,0,79,0,{"$f":"+IFERROR(HYPERLINK(VLOOKUP(C15692,FOTOGRAFICO!C:E,3,FALSE),C15692),\"\")","v":""}]
[null,null,"1HM905865","PASTILLA","PASTILLA ARRANQUE EUROVAN 2.5L GOLF JETTA A3 93-98 POINTER 97 -2009 6 PATAS MARCA BRUCK GERM",62.29,7,12,11,24,11,8,{"$f":"+IFERROR(HYPERLINK(VLOOKUP(C15702,FOTOGRAFICO!C:E,3,FALSE),C15702),\"\")","v":"1HM905865"}]
[null,null,"BRU111905865L-5T","PASTILLA","PASTILLA ARRANQUE SEDAN 78-03  1.6 5 PATAS FUEL INJECTION     MARCA BRUCK GERMANY",62.3,0,19,2,1,3,10,{"$f":"+IFERROR(HYPERLINK(VLOOKUP(C15709,FOTOGRAFICO!C:E,3,FALSE),C15709),\"\")","v":"BRU111905865L-5T"}]
[null,null,"BRUCK191905531B","PASTILLA","PASTILLA ENCENDIDO ELECT ALEMA VW SEDAN COMBI 1800 GOLF JETTA MODULO 7 PUNTAS   MARCA: BRUCK",189.22,3,2,8,24,12,4,{"$f":"+IFERROR(HYPERLINK(VLOOKUP(C15721,FOTOGRAFICO!C:E,3,FALSE),C15721),\"\")","v":"BRUCK191905531B"}]
[null,null,"MEX1HM905865","PASTILLA","PASTILLA ARRANQUE EUROVAN A3   JETTA A3 POINTER",88.27,9,1,7,7,2,1,{"$f":"+IFERROR(HYPERLINK(VLOOKUP(C15729,FOTOGRAFICO!C:E,3,FALSE),C15729),\"\")","v":""}]
[null,null,"USA09115863","PASTILLA","PASTILLA ARRANQUE CORSA MERIVA TORNADO MCA: BRUCK TODOS MODEL",96.39,0,0,9,10,12,2,{"$f":"+IFERROR(HYPERLINK(VLOOKUP(C15732,FOTOGRAFICO!C:E,3,FALSE),C15732),\"\")","v":"USA09115863"}]
[null,null,"GM990904652","PEDAL","PEDAL ACELERADOR AVEO 1.5 18-  23 MARCA GM ORIGINAL           90904652 PIDE JLTM",1764.5,0,0,0,0,0,0,{"$f":"+IFERROR(HYPERLINK(VLOOKUP(C15750,FOTOGRAFICO!C:E,3,FALSE),C15750),\"\")","v":""}]
[null,null,"PED120CB","PEDALES","PEDALES ESTANDAR CARBON",71.33,2,7,1,0,0,0,{"$f":"+IFERROR(HYPERLINK(VLOOKUP(C15752,FOTOGRAFICO!C:E,3,FALSE),C15752),\"\")","v":"PED120CB"}]
[null,null,"PED4300BF","PEDALES","PEDALES NVO. CARBON/AZUL       COMBINADO STD",63.31,8,0,7,11,2,3,{"$f":"+IFERROR(HYPERLINK(VLOOKUP(C15764,FOTOGRAFICO!C:E,3,FALSE),C15764),\"\")","v":"PED4300BF"}]
[null,null,"PED4300RF","PEDALES","PEDALES NVO. CARBON/ROJO       COMBINADO C/GOMA STD",66.25,9,0,10,13,4,3,{"$f":"+IFERROR(HYPERLINK(VLOOKUP(C15769,FOTOGRAFICO!C:E,3,FALSE),C15769),\"\")","v":"PED4300RF"}]
[null,null,"95MM*95MM","PELICULA","PELICULA PARA ESPEJOS ANTI     NIEBLA 95MM*95MM",28.46,0,0,0,0,0,0,{"$f":"+IFERROR(HYPERLINK(VLOOKUP(C15784,FOTOGRAFICO!C:E,3,FALSE),C15784),\"\")","v":"95MM*95MM"}]
[null,null,"NPGLI","PERILLA","PERILLA GOLF GLI",356.48,2,0,0,1,0,5,{"$f":"+IFERROR(HYPERLINK(VLOOKUP(C15796,FOTOGRAFICO!C:E,3,FALSE),C15796),\"\")","v":""}]
[null,null,"PE29CHS","PERILLA","PERILLA PALANCA VEL CHEVY      LINEA DE LUJO TUNIX",186.19,5,0,0,1,1,0,{"$f":"+IFERROR(HYPERLINK(VLOOKUP(C15803,FOTOGRAFICO!C:E,3,FALSE),C15803),\"\")","v":"PE29CHS"}]
[null,null,"PE56N","PERILLA","PERILLA AUTOMATICO VINIL NEGRA UNIVERSAL TUNIX",122.49,0,0,1,6,0,3,{"$f":"+IFERROR(HYPERLINK(VLOOKUP(C15808,FOTOGRAFICO!C:E,3,FALSE),C15808),\"\")","v":""}]
[null,null,"POM001315","PERILLA","PERILLA UNIVERSAL ZOMBI",304.49,1,2,0,0,0,1,{"$f":"+IFERROR(HYPERLINK(VLOOKUP(C15819,FOTOGRAFICO!C:E,3,FALSE),C15819),\"\")","v":""}]
[null,null,"SAN457","PERILLA","PERILLA PAL VEL POINTER VIEJO  MODELO VIEJO",52.94,30,6,9,9,4,6,{"$f":"+IFERROR(HYPERLINK(VLOOKUP(C15826,FOTOGRAFICO!C:E,3,FALSE),C15826),\"\")","v":""}]
[null,null,"PE81NB","PERILLA","PERILLA VOLANTE NEGRA ARO AZUL",75.14,0,0,0,0,0,0,{"$f":"+IFERROR(HYPERLINK(VLOOKUP(C15837,FOTOGRAFICO!C:E,3,FALSE),C15837),\"\")","v":""}]
[null,null,"PERNOURVAN","PERNO","PERNO BOLA HORQUILLA URVAN 2.5 MARCA NACIONAL EMBRAGUE CLUTCH URVAN NV350",60,4,0,35,2,8,6,{"$f":"+IFERROR(HYPERLINK(VLOOKUP(C15851,FOTOGRAFICO!C:E,3,FALSE),C15851),\"\")","v":"PERNOURVAN"}]
[null,null,"AZUL-MEGA-AA","PILAS","PILAS MEGATRONIC AZUL AA 4 PZA PAQUETE 4 PIEZAS 0% MERCURIO   30% MAS ENERGIA HECHO EN COREA",35.58,1,0,0,0,0,0,{"$f":"+IFERROR(HYPERLINK(VLOOKUP(C15858,FOTOGRAFICO!C:E,3,FALSE),C15858),\"\")","v":"AZUL-MEGA-AA"}]
[null,null,"RH-001","PINZA","PINZA ABRAZADERA TIPO OMEGA    MARCA RACE ORIGINAL            PARA ABRAZADERAS DE MACHETAS",215.36,0,0,2,0,0,0,{"$f":"+IFERROR(HYPERLINK(VLOOKUP(C15866,FOTOGRAFICO!C:E,3,FALSE),C15866),\"\")","v":""}]
[null,null,"NPBAB","PLACA","PLACA IMPRESA BORRACHO A BORDO (S)",14.23,0,0,1,0,5,0,{"$f":"+IFERROR(HYPERLINK(VLOOKUP(C15878,FOTOGRAFICO!C:E,3,FALSE),C15878),\"\")","v":""}]
[null,null,"NPIPB","PLACA","PLACA IMPRESA PRINCESAS A BORD (S)",17.489999999999998,1,0,0,0,0,0,{"$f":"+IFERROR(HYPERLINK(VLOOKUP(C15881,FOTOGRAFICO!C:E,3,FALSE),C15881),\"\")","v":""}]
[null,null,"LAPC16","PLAFON","PLAFON CUADRADO P/CAMION 16    LEDS ALTA Y BAJA C/ESTROBO PZA 17.2X14.5 CM",98.2,0,0,0,0,2,3,{"$f":"+IFERROR(HYPERLINK(VLOOKUP(C15895,FOTOGRAFICO!C:E,3,FALSE),C15895),\"\")","v":""}]
[null,null,"LAPCGDD4","PLAFON","PLAFON CUADRADO 4 LEDS DER OJO ANGEL TIPO GEL 2 CARAS AMBAR   ROJO ALTA/BAJA ESTROBO 12X19CM",187.81,0,0,0,0,1,3,{"$f":"+IFERROR(HYPERLINK(VLOOKUP(C15901,FOTOGRAFICO!C:E,3,FALSE),C15901),\"\")","v":""}]
[null,null,"LAPRGX8R","PLAFON","PLAFON REDONDO 8 LEDS C/ X     TIPO GEL ROJO ALTA BAJA        ESTROBO PZA 10.5 CM",111.35,0,0,0,0,3,1,{"$f":"+IFERROR(HYPERLINK(VLOOKUP(C15913,FOTOGRAFICO!C:E,3,FALSE),C15913),\"\")","v":"LAPRGX8R"}]
[null,null,"PLA6611BRD","PLAFON","PLAFON 66 LED OVALADO PARA     CAMION ULTRA SLIM ROJO PZA",97.21,0,0,0,0,3,2,{"$f":"+IFERROR(HYPERLINK(VLOOKUP(C15920,FOTOGRAFICO!C:E,3,FALSE),C15920),\"\")","v":"PLA6611BRD"}]
[null,null,"LAPO26R","PLAFON","PLAFON OVALADO 26 LEDS ESTROBO ROJO PZA 16.5X6.5 CM",108.48,0,0,0,0,0,0,{"$f":"+IFERROR(HYPERLINK(VLOOKUP(C15933,FOTOGRAFICO!C:E,3,FALSE),C15933),\"\")","v":""}]
[null,null,"LAPR21Y","PLAFON","PLAFON REDONDO 21 LEDS AMBAR   BISEL CROMADO PZA 10.5 CM",67.16,0,0,0,0,0,2,{"$f":"+IFERROR(HYPERLINK(VLOOKUP(C15945,FOTOGRAFICO!C:E,3,FALSE),C15945),\"\")","v":""}]
[null,null,"LAPRG14C","PLAFON","PLAFON REDONDO 14 LEDS C/OJO   DE ANGEL TIPO GEL BLANCO PZA   10.5 CM",114.75,0,0,0,0,0,2,{"$f":"+IFERROR(HYPERLINK(VLOOKUP(C15952,FOTOGRAFICO!C:E,3,FALSE),C15952),\"\")","v":""}]
[null,null,"R5-45","PLASTIACER","PLASTIACERO 5 MIN JERINGA 25ML GRIS",95.61,10,5,10,5,3,6,{"$f":"+IFERROR(HYPERLINK(VLOOKUP(C15963,FOTOGRAFICO!C:E,3,FALSE),C15963),\"\")","v":""}]
[null,null,"NIS22102-18005J","PLATINO","PLATINO CANGREJO Y CONDEN TSUR U 1.6",90.5,22,6,8,11,0,1,{"$f":"+IFERROR(HYPERLINK(VLOOKUP(C15968,FOTOGRAFICO!C:E,3,FALSE),C15968),\"\")","v":""}]
[null,null,"BLATT-13","PLUMA","PLUMA LIMP 13 MCA: BLATT 1PZA  METALICA DE HULE NATURAL",40.5,25,40,8,10,2,7,{"$f":"+IFERROR(HYPERLINK(VLOOKUP(C15975,FOTOGRAFICO!C:E,3,FALSE),C15975),\"\")","v":"BLATT-13"}]
[null,null,"BLATT-24","PLUMA","PLUMA LIMP 24 MCA: BLATT 1PZA  METALICA DE HULE NATURAL",55.72,65,34,16,30,8,10,{"$f":"+IFERROR(HYPERLINK(VLOOKUP(C15992,FOTOGRAFICO!C:E,3,FALSE),C15992),\"\")","v":"BLATT-24"}]
[null,null,"BLATT-28","PLUMA","PLUMA LIMP 28 MCA: BLATT 1PZA  METALICA DE HULE NATURAL",116.15,16,13,2,3,4,2,{"$f":"+IFERROR(HYPERLINK(VLOOKUP(C15995,FOTOGRAFICO!C:E,3,FALSE),C15995),\"\")","v":"BLATT-28"}]
[null,null,"BSH4826","PLUMA","PLUMA LIMP 26 BOSCH ADVANTAGE  ACCORD CIVIC UNA PIEZA         CLEAR ADVANTAGE MARCA BOSCH",210.41,21,80,39,52,18,6,{"$f":"+IFERROR(HYPERLINK(VLOOKUP(C16007,FOTOGRAFICO!C:E,3,FALSE),C16007),\"\")","v":"BSH4826"}]
[null,null,"GNH-19","PLUMA","PLUMA LIMP 19 GONHER 1 PZA",41.63,29,37,10,67,43,11,{"$f":"+IFERROR(HYPERLINK(VLOOKUP(C16011,FOTOGRAFICO!C:E,3,FALSE),C16011),\"\")","v":"GNH-19"}]
[null,null,"KLW1-20","PLUMA","PLUMA LIMP 20 SOFT WIPER 1 PZ",60.71,0,0,1,0,0,0,{"$f":"+IFERROR(HYPERLINK(VLOOKUP(C16027,FOTOGRAFICO!C:E,3,FALSE),C16027),\"\")","v":""}]
[null,null,"AC19192672","PLUMA","PLUMA LIMPIA 21 ACEDELCO BASIC PIDE EDER",124.09,0,0,0,0,0,0,{"$f":"+IFERROR(HYPERLINK(VLOOKUP(C16030,FOTOGRAFICO!C:E,3,FALSE),C16030),\"\")","v":""}]
[null,null,"ARM-28","PLUMAS","PLUMAS LIM BANANA 28 JGO 2 PZA MARCA TUNIX",41.35,4,27,60,39,10,22,{"$f":"+IFERROR(HYPERLINK(VLOOKUP(C16046,FOTOGRAFICO!C:E,3,FALSE),C16046),\"\")","v":"ARM-28"}]
[null,null,"BSH397005783","PLUMAS","PLUMAS LIMP BOSCH 20/20 HIACE  06-17 KANGOO 03-15 JUEGO 2 PZA MARCA BOSCH ECO-SET",179.39,11,3,37,17,0,6,{"$f":"+IFERROR(HYPERLINK(VLOOKUP(C16050,FOTOGRAFICO!C:E,3,FALSE),C16050),\"\")","v":"BSH397005783"}]
[null,null,"CONA40818","PLUMAS","PLUMAS LIMPIAPAR WIPERPOINT 18 JUEGO 2 PIEZAS HULE NATURAL    MARCA WIPER POINT PREMIUM",44.17,91,39,92,91,40,56,{"$f":"+IFERROR(HYPERLINK(VLOOKUP(C16062,FOTOGRAFICO!C:E,3,FALSE),C16062),\"\")","v":""}]
[null,null,"CONA61011","PLUMAS","PLUMAS LIMPIAPARABRI BANANA 11 JUEGO 2 PIEZAS HULE NATURAL    MARCA XSPORTS PREMIUM",62.73,39,43,37,45,18,26,{"$f":"+IFERROR(HYPERLINK(VLOOKUP(C16069,FOTOGRAFICO!C:E,3,FALSE),C16069),\"\")","v":""}]
[null,null,"CONA61022","PLUMAS","PLUMAS LIMPIAPARABRI BANANA 22 JUEGO 2 PIEZAS HULE NATURAL    MARCA XSPORTS PREMIUM",62.73,79,0,24,82,10,75,{"$f":"+IFERROR(HYPERLINK(VLOOKUP(C16079,FOTOGRAFICO!C:E,3,FALSE),C16079),\"\")","v":""}]
[null,null,"PL70722","PLUMAS","PLUMAS LIMP BANANA 22 JGO 2    PZA C/ADAPTADOR UNIVERSAL      MARCA TUNIX",36.869999999999997,18,22,50,49,43,81,{"$f":"+IFERROR(HYPERLINK(VLOOKUP(C16094,FOTOGRAFICO!C:E,3,FALSE),C16094),\"\")","v":""}]
[null,null,"PLUMA3","PLUMAS","PLUMAS LIMP 18 DOBL CROM       DOBLE CROMADA",93.57,0,0,0,5,1,5,{"$f":"+IFERROR(HYPERLINK(VLOOKUP(C16101,FOTOGRAFICO!C:E,3,FALSE),C16101),\"\")","v":""}]
[null,null,"UNI-19/21","PLUMAS","PLUMAS LIMP 19/21 PT CRUISIER  00/05 NEON 94/06 DURANGO FOCUS       COSTILLA METAL JGO 2 PZA",43.47,62,170,333,217,584,6,{"$f":"+IFERROR(HYPERLINK(VLOOKUP(C16108,FOTOGRAFICO!C:E,3,FALSE),C16108),\"\")","v":""}]
[null,null,"06A109479C-KB","POLEA","POLEA LOCA DISTR GOLF A4 2.0   00-06 JETTA A4 CLASICO 2.0 99- 15 KABUTO = GATT43010",159.13999999999999,10,12,7,7,3,2,{"$f":"+IFERROR(HYPERLINK(VLOOKUP(C16121,FOTOGRAFICO!C:E,3,FALSE),C16121),\"\")","v":"06A109479C-KB"}]
[null,null,"12303-VW000","POLEA","POLEA CIGUENAL URVAN 2.4 3     BANDAS MARCA KISHIO IMPORTADO  12303-VW000",668.08,4,0,2,4,4,2,{"$f":"+IFERROR(HYPERLINK(VLOOKUP(C16124,FOTOGRAFICO!C:E,3,FALSE),C16124),\"\")","v":""}]
[null,null,"532026510","POLEA","POLEA LOCA SILVFERADO                                         SOBRE PEDIDO",85.04,0,0,0,0,0,0,{"$f":"+IFERROR(HYPERLINK(VLOOKUP(C16137,FOTOGRAFICO!C:E,3,FALSE),C16137),\"\")","v":""}]
[null,null,"96103222","POLEA","POLEA TENSOR DISTRIBUCION AVEO 06-17 PONTIAC G3 1.6L SWIFT    TENSOR CON TORNILLO MCA: NIKKO",89.13,9,39,6,4,14,24,{"$f":"+IFERROR(HYPERLINK(VLOOKUP(C16144,FOTOGRAFICO!C:E,3,FALSE),C16144),\"\")","v":"96103222"}]
[null,null,"BRU043105251B","POLEA","POLEA CIGUENA VW SEDAN 1.5 1.6 74-04 COMBI 1600 70-86 METAL   ESTAMPADA BRUCK GERMANY",439.57,5,0,10,0,0,1,{"$f":"+IFERROR(HYPERLINK(VLOOKUP(C16156,FOTOGRAFICO!C:E,3,FALSE),C16156),\"\")","v":"BRU043105251B"}]
[null,null,"BRUCK026109243G","POLEA","POLEA LOCA DISTR GOLF JETTA A2 A3 1.8 POINTER 1.8 98-09 COMBI 1.8 BRUCK GERMANY = ALE171M",108.12,17,8,9,10,5,6,{"$f":"+IFERROR(HYPERLINK(VLOOKUP(C16166,FOTOGRAFICO!C:E,3,FALSE),C16166),\"\")","v":"BRUCK026109243G"}]
[null,null,"EGP24410-02510","POLEA","POLEA LOCA DISTR ATOS 1.0 1.1  00-12 I10 1.1 12-14 MARCA GMB  ORIGINAL = ORI24410-02510",351.06,4,0,0,0,0,0,{"$f":"+IFERROR(HYPERLINK(VLOOKUP(C16176,FOTOGRAFICO!C:E,3,FALSE),C16176),\"\")","v":""}]
[null,null,"FAG4273","POLEA","POLEA LOCA CHRYSLER K 4 CIL.   DART K, SHADOW, SPIRIT 2.2-2.5 MARCA: VALMEX, HECHA EN MEXICO",198.49,6,0,2,0,0,0,{"$f":"+IFERROR(HYPERLINK(VLOOKUP(C16179,FOTOGRAFICO!C:E,3,FALSE),C16179),\"\")","v":""}]
[null,null,"IPC038145255A","POLEA","POLEA TENSO ALTE GOLF JETTA A4 NEW BEETTLE RODILLO LISO MARCA IPC = BRU038145255A",86.34,30,3,10,9,10,8,{"$f":"+IFERROR(HYPERLINK(VLOOKUP(C16195,FOTOGRAFICO!C:E,3,FALSE),C16195),\"\")","v":""}]
[null,null,"LUK531010130","POLEA","POLEA LOCA DISTR CHEVY 1.4 1.6 94-12 MARCA INA = GM9202478    = 90353176 = ORI1940503",472.97,13,4,9,6,3,2,{"$f":"+IFERROR(HYPERLINK(VLOOKUP(C16205,FOTOGRAFICO!C:E,3,FALSE),C16205),\"\")","v":"LUK531010130"}]
[null,null,"NIS103-1031","POLEA","POLEA TENSOR ALTER PLATINA 99- 09 LISA ANCHA Y CHICA          =NIS11925-00QAF, MADE IN MEXIC",96.71,13,10,8,16,9,1,{"$f":"+IFERROR(HYPERLINK(VLOOKUP(C16211,FOTOGRAFICO!C:E,3,FALSE),C16211),\"\")","v":""}]
[null,null,"ORI026105300","POLEA","POLEA CIGUEN POINTER 1.8 98-09 ANCHA RAYADA C/AIRE ACONDICION MARCA BRUCK GERMANY PC 6004",257.39999999999998,6,0,1,0,0,0,{"$f":"+IFERROR(HYPERLINK(VLOOKUP(C16218,FOTOGRAFICO!C:E,3,FALSE),C16218),\"\")","v":""}]
[null,null,"TPG23001","POLEA","POLEA LOCA DISTR VW GOL 1.6 09 -17 SAVEIRO 1.6 10-17 DERBY    1.8 00-09 GATES = LUK531025230",1072.54,0,0,3,2,0,0,{"$f":"+IFERROR(HYPERLINK(VLOOKUP(C16234,FOTOGRAFICO!C:E,3,FALSE),C16234),\"\")","v":"TPG23001"}]
[null,null,"PC2049","POLEA","POLEA CIG TRANSIT 2.2 06-      SOBRE PEDIDO",0,0,0,0,0,0,0,{"$f":"+IFERROR(HYPERLINK(VLOOKUP(C16238,FOTOGRAFICO!C:E,3,FALSE),C16238),\"\")","v":""}]
[null,null,"POL-MPR300","POLISH","POLISH ROJO 300G",57.94,18,9,0,10,0,1,{"$f":"+IFERROR(HYPERLINK(VLOOKUP(C16250,FOTOGRAFICO!C:E,3,FALSE),C16250),\"\")","v":""}]
[null,null,"1021100BL","PORTA","PORTA FUSIBLE AUTOMOTRIZ 100A  AZUL MARCA MITZU",89.13,1,3,2,0,2,1,{"$f":"+IFERROR(HYPERLINK(VLOOKUP(C16253,FOTOGRAFICO!C:E,3,FALSE),C16253),\"\")","v":""}]
[null,null,"A273","PORTA","PORTA PLACA EUROPEO WOLFSBUR   EDITION VOLKSWAGEN LETRAS      CROMADAS",45.74,0,2,2,2,1,1,{"$f":"+IFERROR(HYPERLINK(VLOOKUP(C16270,FOTOGRAFICO!C:E,3,FALSE),C16270),\"\")","v":"A273"}]
[null,null,"A281","PORTA","PORTA PLAC EUROPE RENAULT R26R LETRAS CROMADAS",41.69,1,0,0,0,0,0,{"$f":"+IFERROR(HYPERLINK(VLOOKUP(C16273,FOTOGRAFICO!C:E,3,FALSE),C16273),\"\")","v":"A281"}]
[null,null,"A310EMT","PORTA","PORTA PLACA MAXI FORD USA",45.95,5,1,7,8,1,3,{"$f":"+IFERROR(HYPERLINK(VLOOKUP(C16282,FOTOGRAFICO!C:E,3,FALSE),C16282),\"\")","v":""}]
[null,null,"AW-10A","PORTA","PORTA PLACA NEON BLANCA",178.32,1,0,2,0,0,0,{"$f":"+IFERROR(HYPERLINK(VLOOKUP(C16293,FOTOGRAFICO!C:E,3,FALSE),C16293),\"\")","v":"AW-10A"}]
[null,null,"BA-023","PORTA","PORTA CELULAR CON BRAZO CHUPON PARA PARABRISAS CON GARANTIA   ALTA CALIDAD MARCA IMPORTADO",65.47,4,0,13,8,0,27,{"$f":"+IFERROR(HYPERLINK(VLOOKUP(C16305,FOTOGRAFICO!C:E,3,FALSE),C16305),\"\")","v":"BA-023"}]
[null,null,"C-195001M3","PORTA","PORTA SPROKET  90CC/110CC      PORTA ENGRANE SEMIAUTOMATICA   SCOOTER ENPOR-2415-0001",98.21,0,0,0,0,14,0,{"$f":"+IFERROR(HYPERLINK(VLOOKUP(C16317,FOTOGRAFICO!C:E,3,FALSE),C16317),\"\")","v":""}]
[null,null,"CP-DC","PORTA","CUBRE PLACA ANTI-REFLE CRISTAL DIAMANTE JUEGO 2 PIEZAS",71.3,2,4,8,0,0,0,{"$f":"+IFERROR(HYPERLINK(VLOOKUP(C16325,FOTOGRAFICO!C:E,3,FALSE),C16325),\"\")","v":""}]
[null,null,"DECO02","PORTA","PLACA DECORATIVA FERRARI",15.82,0,0,0,0,0,0,{"$f":"+IFERROR(HYPERLINK(VLOOKUP(C16328,FOTOGRAFICO!C:E,3,FALSE),C16328),\"\")","v":""}]
[null,null,"DECO30","PORTA","PLACA DECORATIVA NO SOY UN     VIEJO SOY UN CLASICO SR FROGS  DOBLE VISTA",16.690000000000001,0,0,0,0,0,0,{"$f":"+IFERROR(HYPERLINK(VLOOKUP(C16344,FOTOGRAFICO!C:E,3,FALSE),C16344),\"\")","v":""}]
[null,null,"EURO06","PORTA","PORTA PLACA EUROPEO FRANCIA",73.53,5,2,2,0,0,0,{"$f":"+IFERROR(HYPERLINK(VLOOKUP(C16350,FOTOGRAFICO!C:E,3,FALSE),C16350),\"\")","v":""}]
[null,null,"EURO23","PORTA","PORTA PLACA EUROPE JETTA SPORT",74.27,1,0,2,0,0,0,{"$f":"+IFERROR(HYPERLINK(VLOOKUP(C16360,FOTOGRAFICO!C:E,3,FALSE),C16360),\"\")","v":""}]
[null,null,"EURO39","PORTA","PORTA PLACA EUROPE COWBOYS NFL",81.3,0,0,1,0,0,0,{"$f":"+IFERROR(HYPERLINK(VLOOKUP(C16367,FOTOGRAFICO!C:E,3,FALSE),C16367),\"\")","v":""}]
[null,null,"EURO-CH-10","PORTA","PORTA EUROPEO CHICO HONDA",56.91,9,0,0,0,2,0,{"$f":"+IFERROR(HYPERLINK(VLOOKUP(C16379,FOTOGRAFICO!C:E,3,FALSE),C16379),\"\")","v":""}]
[null,null,"EURO-CH-19","PORTA","PORTA PLACA EUROPEO CHICO MK6",56.91,1,0,0,0,0,0,{"$f":"+IFERROR(HYPERLINK(VLOOKUP(C16387,FOTOGRAFICO!C:E,3,FALSE),C16387),\"\")","v":""}]
[null,null,"HFFH48","PORTA","PORTA FUSIBLE TIPO AGU CALIBRE 4 8 10 AUDIO ACABADO CROMADO   MARCA HF",54.83,0,0,0,4,5,3,{"$f":"+IFERROR(HYPERLINK(VLOOKUP(C16399,FOTOGRAFICO!C:E,3,FALSE),C16399),\"\")","v":"HFFH48"}]
[null,null,"MAM161G","PORTA","PORTA PLACA MOTO DORADO        METALICO 16 CM X 18 CM",62.02,7,0,0,4,2,0,{"$f":"+IFERROR(HYPERLINK(VLOOKUP(C16408,FOTOGRAFICO!C:E,3,FALSE),C16408),\"\")","v":"MAM161G"}]
[null,null,"MPLAN","PORTA","PORTA PLACA LUJO NEGRA ANCHA   JGO 2 PZA",31.33,8,5,4,8,5,0,{"$f":"+IFERROR(HYPERLINK(VLOOKUP(C16419,FOTOGRAFICO!C:E,3,FALSE),C16419),\"\")","v":""}]
[null,null,"MPU202KIT","PORTA","KIT PORTA PLACA EURO + BAS BY",160.94,5,2,0,0,2,1,{"$f":"+IFERROR(HYPERLINK(VLOOKUP(C16422,FOTOGRAFICO!C:E,3,FALSE),C16422),\"\")","v":""}]
[null,null,"MPU509IMP","PORTA","PORTA PLACA UNIVERSAL MICKEY",92.3,11,3,3,3,0,0,{"$f":"+IFERROR(HYPERLINK(VLOOKUP(C16433,FOTOGRAFICO!C:E,3,FALSE),C16433),\"\")","v":""}]
[null,null,"NPPCL","PORTA","PORTA PLACA CROMADA LOBO       PLASTICO JUEGO 2 PIEZAS",27.56,1,0,0,0,0,0,{"$f":"+IFERROR(HYPERLINK(VLOOKUP(C16442,FOTOGRAFICO!C:E,3,FALSE),C16442),\"\")","v":""}]
[null,null,"NPPPAC","PORTA","PORTA PLACA CROMADA ATOS       PLASTICO JUEGO 2 PIEZAS",25.01,0,2,0,0,6,1,{"$f":"+IFERROR(HYPERLINK(VLOOKUP(C16454,FOTOGRAFICO!C:E,3,FALSE),C16454),\"\")","v":""}]
[null,null,"NPPPCMB","PORTA","PORTA PLACA CROMADA MERCEDES   BENZ PLASTICO JUEGO 2 PIEZAS",23.33,1,4,0,0,0,0,{"$f":"+IFERROR(HYPERLINK(VLOOKUP(C16461,FOTOGRAFICO!C:E,3,FALSE),C16461),\"\")","v":""}]
[null,null,"NPPPNSM","PORTA","PORTA PLACA SOY MEXICO",34.85,0,7,2,0,1,0,{"$f":"+IFERROR(HYPERLINK(VLOOKUP(C16476,FOTOGRAFICO!C:E,3,FALSE),C16476),\"\")","v":""}]
[null,null,"NPPPPC","PORTA","PORTA PLACA CROMADA PEUGEOT    PLASTICO JUEGO 2 PIEZAS",25.01,2,2,4,3,2,0,{"$f":"+IFERROR(HYPERLINK(VLOOKUP(C16477,FOTOGRAFICO!C:E,3,FALSE),C16477),\"\")","v":""}]
[null,null,"NPPRN","PORTA","PORTA PLACA REFLE NISSAN",25.47,3,0,8,2,4,3,{"$f":"+IFERROR(HYPERLINK(VLOOKUP(C16493,FOTOGRAFICO!C:E,3,FALSE),C16493),\"\")","v":""}]
[null,null,"NPPRSE","PORTA","PORTA PLACA REFLE SEAT",25.3,0,0,0,0,0,0,{"$f":"+IFERROR(HYPERLINK(VLOOKUP(C16495,FOTOGRAFICO!C:E,3,FALSE),C16495),\"\")","v":""}]
[null,null,"POC800BL","PORTA","PORTA CELULAR CON IMAN PARA    REJILLA AZUL",62.33,0,0,0,0,0,0,{"$f":"+IFERROR(HYPERLINK(VLOOKUP(C16513,FOTOGRAFICO!C:E,3,FALSE),C16513),\"\")","v":""}]
[null,null,"POP001R","PORTA","PORTA PLAC AJUSTABLE ROJA      IMPORTADA",60.7,1,6,1,0,5,0,{"$f":"+IFERROR(HYPERLINK(VLOOKUP(C16516,FOTOGRAFICO!C:E,3,FALSE),C16516),\"\")","v":"POP001R"}]
[null,null,"PPLCATOS","PORTA","PORTA PLACA LETRA CROMADA      ATOS",27.62,4,5,5,3,3,4,{"$f":"+IFERROR(HYPERLINK(VLOOKUP(C16524,FOTOGRAFICO!C:E,3,FALSE),C16524),\"\")","v":""}]
[null,null,"PPLCMAZDA","PORTA","PORTA PLACA LETRA CROMADA      MAZDA",27.62,5,3,4,3,5,3,{"$f":"+IFERROR(HYPERLINK(VLOOKUP(C16536,FOTOGRAFICO!C:E,3,FALSE),C16536),\"\")","v":""}]
[null,null,"USA48","PORTA","PORTARETEN COMBI PUENTE DELANT TODOS MODELOS 211-405-127",17.440000000000001,3,0,0,0,3,0,{"$f":"+IFERROR(HYPERLINK(VLOOKUP(C16548,FOTOGRAFICO!C:E,3,FALSE),C16548),\"\")","v":"USA48"}]
[null,null,"42390023KR","PORTA","PORTA FILTRO COMPLETO MATIZ 05 -15 MARCA Z-PRO IMPORTADO      PIDE Csar Enrique Rodrguez Car",399.57,0,0,0,0,0,0,{"$f":"+IFERROR(HYPERLINK(VLOOKUP(C16559,FOTOGRAFICO!C:E,3,FALSE),C16559),\"\")","v":""}]
[null,null,"SPA09","PORTA","PORTA GAFETE BLISTER AZUL PZ",66.58,0,0,0,0,0,0,{"$f":"+IFERROR(HYPERLINK(VLOOKUP(C16568,FOTOGRAFICO!C:E,3,FALSE),C16568),\"\")","v":""}]
[null,null,"PCLF 18-7","PORTA","PORTA PLACA DIFERENTES MODELOS JUEGO DE 2 PZAS",42.69,0,0,0,0,0,0,{"$f":"+IFERROR(HYPERLINK(VLOOKUP(C16571,FOTOGRAFICO!C:E,3,FALSE),C16571),\"\")","v":""}]
[null,null,"EUR17106681","POTENCIOME","POTENCIOME CHEVY 00/09 NEGRO   POTENCIOMETRO MULTIPOR         GIRA A LA DER MCA EUROSPANA",122.26,20,6,11,73,0,5,{"$f":"+IFERROR(HYPERLINK(VLOOKUP(C16587,FOTOGRAFICO!C:E,3,FALSE),C16587),\"\")","v":""}]
[null,null,"INJ42099","POTENCIOME","POTENCIOMETRO TPS ATOS 1.1 05- 12 ECLIPSE 3.0 03-05 GALANT    2.4 3.0 03-04 MARCA INJETECH",307.32,1,0,5,6,2,1,{"$f":"+IFERROR(HYPERLINK(VLOOKUP(C16592,FOTOGRAFICO!C:E,3,FALSE),C16592),\"\")","v":""}]
[null,null,"FU0228","PROBADOR","PROBADOR DE CORRIENTE AUTOMOTR IZ",46.1,9,5,5,7,7,4,{"$f":"+IFERROR(HYPERLINK(VLOOKUP(C16603,FOTOGRAFICO!C:E,3,FALSE),C16603),\"\")","v":""}]
[null,null,"ARMOR-2","PROTECTOR","PROTECTOR ARMOR ALL C/ESPONJA  NEW SHINE 500ML",49.75,6,13,11,5,5,2,{"$f":"+IFERROR(HYPERLINK(VLOOKUP(C16610,FOTOGRAFICO!C:E,3,FALSE),C16610),\"\")","v":"ARMOR-2"}]
[null,null,"RSCMA8002BK","PROTECTOR","PROTECTOR DE PUNOS AMARILLO    ABS UNIVERSAL CON LUZ          AMARILLA FIJAL JGO 2 PZA",253.26,2,2,2,2,2,1,{"$f":"+IFERROR(HYPERLINK(VLOOKUP(C16621,FOTOGRAFICO!C:E,3,FALSE),C16621),\"\")","v":""}]
[null,null,"GM94671006","PUERTA","PUERTA TAPA TANQUE GASOLINA    CHEVY 2 PUERTAS 94-2006        MARCA ORIGINAL AC DELCO",126.79,0,0,0,0,0,0,{"$f":"+IFERROR(HYPERLINK(VLOOKUP(C16630,FOTOGRAFICO!C:E,3,FALSE),C16630),\"\")","v":""}]
[null,null,"RSPUN10003GR","PUNOS","PUNOS RANURADO GRIS            UNIVERSALES DE CAUCHO          ANTIDERRAPANTE JGO 2 PZA",43.07,2,2,1,2,2,2,{"$f":"+IFERROR(HYPERLINK(VLOOKUP(C16642,FOTOGRAFICO!C:E,3,FALSE),C16642),\"\")","v":""}]
[null,null,"RSPUN10005GNL","PUNOS","PUNOS PANAL VERDE CLARO        UNIVERSALES DE CAUCHO          ANTIDERRAPANTE JGO 2 PZA",43.07,2,2,2,2,2,2,{"$f":"+IFERROR(HYPERLINK(VLOOKUP(C16650,FOTOGRAFICO!C:E,3,FALSE),C16650),\"\")","v":""}]
[null,null,"RSPUN10013R","PUNOS","PUNOS ERGONOMICO ROJO          UNIVERSALES DE CAUCHO          ANTIDERRAPANTE JGO 2 PZA",43.07,2,2,2,0,1,2,{"$f":"+IFERROR(HYPERLINK(VLOOKUP(C16662,FOTOGRAFICO!C:E,3,FALSE),C16662),\"\")","v":""}]
[null,null,"RSPUN10018GN","PUNOS","PUNOS DIAMANTE VERDE           DE CAUCHO ANTIDERRAPANTE       UNIVERSALES JGO 2 PZA",43.07,0,0,0,0,0,1,{"$f":"+IFERROR(HYPERLINK(VLOOKUP(C16665,FOTOGRAFICO!C:E,3,FALSE),C16665),\"\")","v":""}]
[null,null,"03L115389CKB","RADIADOR","RADIADOR ACEITE DIESEL TDI     VENTO AMAROK ST IBIZA 1.6 2.0  EUROVAN T5 05-20 MARCA KABUTO",0,0,0,0,0,0,0,{"$f":"+IFERROR(HYPERLINK(VLOOKUP(C16679,FOTOGRAFICO!C:E,3,FALSE),C16679),\"\")","v":""}]
[null,null,"21410-PROM2","RADIADOR","RADIADOR TSURU 1.6 III 92-17   SENTRA 1.6 93-00 16 VALV.STD   CON/SIN AIRE MARCA BEST COOLIN",800.2,1,0,0,0,0,0,{"$f":"+IFERROR(HYPERLINK(VLOOKUP(C16685,FOTOGRAFICO!C:E,3,FALSE),C16685),\"\")","v":""}]
[null,null,"220-0670-07","RADIADOR","RADIADOR SONIC 1.8 12-18 STD   ESTANDAR SOLDADO MARCA POLAR   36194 = 36194",950.93,3,3,4,4,3,4,{"$f":"+IFERROR(HYPERLINK(VLOOKUP(C16697,FOTOGRAFICO!C:E,3,FALSE),C16697),\"\")","v":"220-0670-07"}]
[null,null,"220-1224-00","RADIADOR","RADIADOR FIESTA 11-19 1.6 FIGO 16-18 1.5L ECOSPORT 13-17 2.0L CON O SIN AAC STD MCA POLAR",2247.16,0,0,0,0,0,0,{"$f":"+IFERROR(HYPERLINK(VLOOKUP(C16704,FOTOGRAFICO!C:E,3,FALSE),C16704),\"\")","v":""}]
[null,null,"220-3108-04","RADIADOR","RADIADOR CORDOBA IBIZA DERBY   C/A 99-02 1.6 2.0 TS/SEG BULBO IZQ MARCA POLAR = VALTA732698",1499.9,1,1,1,0,1,1,{"$f":"+IFERROR(HYPERLINK(VLOOKUP(C16717,FOTOGRAFICO!C:E,3,FALSE),C16717),\"\")","v":"220-3108-04"}]
[null,null,"220-3111-14","RADIADOR","RADIADOR CARIBE GOLF 84-92 C/A 68cmX32cm 2 TOMAS IZQ          BULBO LADO DERECHO MARCA POLAR",960.37,2,1,1,2,0,1,{"$f":"+IFERROR(HYPERLINK(VLOOKUP(C16720,FOTOGRAFICO!C:E,3,FALSE),C16720),\"\")","v":""}]
[null,null,"230-3132-00","RADIADOR","RADIADOR VENTO 1.6 14-20 IBIZA 1.6 2.0 08-17 POLO 1.2 1.4 13- 19 STD ATM C/S AIRE MARC POLAR",616.41,5,12,4,8,4,0,{"$f":"+IFERROR(HYPERLINK(VLOOKUP(C16736,FOTOGRAFICO!C:E,3,FALSE),C16736),\"\")","v":""}]
[null,null,"25310-07000","RADIADOR","RADIADOR ATOS 1.1 05-12 ALUMIN PLASTICO MARCA KIM-MOO         IMPORTADO 35691 = VAL85691",731.14,2,3,2,1,4,2,{"$f":"+IFERROR(HYPERLINK(VLOOKUP(C16737,FOTOGRAFICO!C:E,3,FALSE),C16737),\"\")","v":"25310-07000"}]
[null,null,"35694","RADIADOR","RADIADOR CARAVAN TOWN COUNTRY  VOYAGER 96/00 MOT 2.4 3.8 TOMA CRUZADAS ALT 65.5X38.5",2012.89,2,0,0,0,0,0,{"$f":"+IFERROR(HYPERLINK(VLOOKUP(C16747,FOTOGRAFICO!C:E,3,FALSE),C16747),\"\")","v":"35694"}]
[null,null,"35934","RADIADOR","RADIADOR MERIVA 1.8 SIN AIRE   MARCA:RASA MEXICO PURO PLASTIC CON ALUMINIO",1611.86,1,0,0,0,0,0,{"$f":"+IFERROR(HYPERLINK(VLOOKUP(C16759,FOTOGRAFICO!C:E,3,FALSE),C16759),\"\")","v":"35934"}]
[null,null,"36091","RADIADOR","RADIADOR VERNA 1.5 1.6 04-06   STD ESTANDAR CORTO SOLDADO     MARCA RASA 36091",894.27,2,0,0,2,0,1,{"$f":"+IFERROR(HYPERLINK(VLOOKUP(C16766,FOTOGRAFICO!C:E,3,FALSE),C16766),\"\")","v":"36091"}]
[null,null,"68105583AFALKB","RADIADOR","RADIADOR ENFRIADOR ACEITE      JOURNEY 3.6 11-19 AVENGER 3.6  11-14 WRANGLER 3.6 12-18 KABUT",1591.46,1,2,1,1,1,1,{"$f":"+IFERROR(HYPERLINK(VLOOKUP(C16779,FOTOGRAFICO!C:E,3,FALSE),C16779),\"\")","v":""}]
[null,null,"BRU07K117021C","RADIADOR","RADIADOR ACEITE JETTA A6 11-18 2.5 BORA 05-10 2.5 BEETLE 98-  11 2.5 BEETLE 11-19 2.5",775.75,1,1,1,1,1,1,{"$f":"+IFERROR(HYPERLINK(VLOOKUP(C16791,FOTOGRAFICO!C:E,3,FALSE),C16791),\"\")","v":"BRU07K117021C"}]
[null,null,"CRNC0100-OP","RADIADOR","RADIADOR CHEVY 1.4 1.6 STD S/A AIRE PICK UP 94-14 MARCA ISAKA = RD-GM01PROMO = VALTA706",563.02,0,0,0,0,0,0,{"$f":"+IFERROR(HYPERLINK(VLOOKUP(C16795,FOTOGRAFICO!C:E,3,FALSE),C16795),\"\")","v":""}]
[null,null,"EGPRD-VW02","RADIADOR","RADIADOR POINTER 1.8 2.0 98-09 ESTANDAR CON/SIN AIRE MARCA    BEST COOLING = VAL60782002",719.95,8,12,0,7,2,3,{"$f":"+IFERROR(HYPERLINK(VLOOKUP(C16811,FOTOGRAFICO!C:E,3,FALSE),C16811),\"\")","v":""}]
[null,null,"MEX1091","RADIADOR","RADIADOR URVAN 2.4 02-07 COBRE LATON TOMA INF Y SUP IZQUIERDA REPARABLE MARCA RASA 95804",3340.8,1,0,0,0,0,0,{"$f":"+IFERROR(HYPERLINK(VLOOKUP(C16814,FOTOGRAFICO!C:E,3,FALSE),C16814),\"\")","v":""}]
[null,null,"RD-FO95740","RADIADOR","RADIADOR FORD KA 1.6 00-08 STD CON/SIN AIRE MECANICO CON TUBO RETORNO ALUMINIO BEST COOLING",917.43,0,0,3,11,0,0,{"$f":"+IFERROR(HYPERLINK(VLOOKUP(C16830,FOTOGRAFICO!C:E,3,FALSE),C16830),\"\")","v":""}]
[null,null,"RD-NS04","RADIADOR","RADIADOR NISSAN PICKUP D21 2.4 3.0 86-07 STD CON/SIN AIRE     MECANICO MARCA BEST COOLING",1168.3800000000001,5,0,0,3,0,4,{"$f":"+IFERROR(HYPERLINK(VLOOKUP(C16834,FOTOGRAFICO!C:E,3,FALSE),C16834),\"\")","v":""}]
[null,null,"VALRA440","RADIADOR","RADIADOR CHEVY 1.6 ATM C/AIRE  94-12 AUTOMATICO MECANICO      MARCA RASA",843.44,4,1,2,6,3,2,{"$f":"+IFERROR(HYPERLINK(VLOOKUP(C16846,FOTOGRAFICO!C:E,3,FALSE),C16846),\"\")","v":"VALRA440"}]
[null,null,"VALTA880","RADIADOR","RADIADOR GOLF JETT 93-98 DERBY 01-04 SIN AIRE ACC 2 TOMAS IZQ BULBO DER 52.50x32.50 VALEO",1385.58,0,0,1,0,0,0,{"$f":"+IFERROR(HYPERLINK(VLOOKUP(C16853,FOTOGRAFICO!C:E,3,FALSE),C16853),\"\")","v":"VALTA880"}]
[null,null,"35673AU","RADIADOR","RADIADOR FORD E-150 ECONOLINE  97-02 E-250 E-150 03-14 RASA   PEDIDO MIGUEL COTOC",2623.48,0,0,0,0,0,0,{"$f":"+IFERROR(HYPERLINK(VLOOKUP(C16863,FOTOGRAFICO!C:E,3,FALSE),C16863),\"\")","v":""}]
[null,null,"35997AU","RADIADOR","RADIADOR EDGE 07-14 LINCOLN 10 -15 TAURUS 08-15 MCA: RASA     PEDIDO MIGUEL ALONSO",2371.25,0,0,0,0,0,0,{"$f":"+IFERROR(HYPERLINK(VLOOKUP(C16869,FOTOGRAFICO!C:E,3,FALSE),C16869),\"\")","v":""}]
[null,null,"220-0708-00","RADIADOR","RADIADRO SHADOW 2.2 91-94      AUTOMATICO MARCA POLAR",1362.32,0,0,0,0,0,0,{"$f":"+IFERROR(HYPERLINK(VLOOKUP(C16885,FOTOGRAFICO!C:E,3,FALSE),C16885),\"\")","v":""}]
[null,null,"35961 AUM","RADIADOR","RADIADOR POLO LUPO 1.6 S/AIRE  MARCA RASA CON PIPETA DE SALID",806.9,0,0,0,0,0,0,{"$f":"+IFERROR(HYPERLINK(VLOOKUP(C16892,FOTOGRAFICO!C:E,3,FALSE),C16892),\"\")","v":""}]
[null,null,"CRNK1100","RADIADOR","RADIADOR ATTITUDE 06-11 TODOS  STD 660 X 390 X 0.16 MCA:ISAKA PEDIDO LUIS MIRANDA",1128.8699999999999,0,0,0,0,0,0,{"$f":"+IFERROR(HYPERLINK(VLOOKUP(C16896,FOTOGRAFICO!C:E,3,FALSE),C16896),\"\")","v":""}]
[null,null,"220-2404-05","RADIADOR","RADIADOR PEUGEOT 307 03-10     C/S A STD MARCA POLAR PIDE     JULIO",1659.06,0,0,0,0,0,0,{"$f":"+IFERROR(HYPERLINK(VLOOKUP(C16908,FOTOGRAFICO!C:E,3,FALSE),C16908),\"\")","v":""}]
[null,null,"220-0611-06","RADIADOR","RADIADOR CAVALIER 18-21 1.5    STD MARCA POLAR",1568.42,0,0,0,0,0,0,{"$f":"+IFERROR(HYPERLINK(VLOOKUP(C16921,FOTOGRAFICO!C:E,3,FALSE),C16921),\"\")","v":""}]
[null,null,"CRNV0400","RADIADOR","RADIADOR BORA 2.5 06-10 C/S    AIRE STD/ATM 640*420*22MM      MARCA ISAKA PIDE CESAR CARRERA",789.36,0,0,0,0,0,0,{"$f":"+IFERROR(HYPERLINK(VLOOKUP(C16928,FOTOGRAFICO!C:E,3,FALSE),C16928),\"\")","v":""}]
[null,null,"G37","RECEPTOR","RECEPTOR TRANSMISOR BLUETOOTH  PARA AUTO CON ENTRADA USB      PARA ENCENDEDOR CON GARANTIA",96.54,0,17,0,0,5,0,{"$f":"+IFERROR(HYPERLINK(VLOOKUP(C16940,FOTOGRAFICO!C:E,3,FALSE),C16940),\"\")","v":""}]
[null,null,"BOTANA-27","REFRESCO","REFRESCO JARRITO 2 LITROS      VARIOS SABORES",21.44,0,0,2,0,5,7,{"$f":"+IFERROR(HYPERLINK(VLOOKUP(C16946,FOTOGRAFICO!C:E,3,FALSE),C16946),\"\")","v":""}]
[null,null,"BOTANA-111","REFRESCO","MONSTER ENERGY ZERO ULTRA      SIN AZUCAR SIN CALORIAS        473 ML",35.229999999999997,0,0,0,8,0,0,{"$f":"+IFERROR(HYPERLINK(VLOOKUP(C16960,FOTOGRAFICO!C:E,3,FALSE),C16960),\"\")","v":""}]
[null,null,"BOTANA-75","REFRESCO","REFRESCO SIDRAL MUNDET 500 ML  VIDRIO RETORNABLE",11.45,0,0,0,27,0,0,{"$f":"+IFERROR(HYPERLINK(VLOOKUP(C16963,FOTOGRAFICO!C:E,3,FALSE),C16963),\"\")","v":""}]
[null,null,"BOTANA-97","REFRESCO","REFRESCO AMEYAL FRESA WIKI 600 ML",16.66,0,0,0,0,0,0,{"$f":"+IFERROR(HYPERLINK(VLOOKUP(C16970,FOTOGRAFICO!C:E,3,FALSE),C16970),\"\")","v":""}]
[null,null,"REGALIA-008","REGALIA","PLAYERA VARIOS MODELOS",134.88,503,46,0,21,1389,41,{"$f":"+IFERROR(HYPERLINK(VLOOKUP(C16979,FOTOGRAFICO!C:E,3,FALSE),C16979),\"\")","v":""}]
[null,null,"REGALIA-013","REGALIA","HIELERA VARIOS MODELOS",134.88,0,0,0,0,79,0,{"$f":"+IFERROR(HYPERLINK(VLOOKUP(C16995,FOTOGRAFICO!C:E,3,FALSE),C16995),\"\")","v":""}]
[null,null,"REGALIA-021","REGALIA","MARICONERA VARIOS MODELOS",134.88,0,0,0,0,0,0,{"$f":"+IFERROR(HYPERLINK(VLOOKUP(C17002,FOTOGRAFICO!C:E,3,FALSE),C17002),\"\")","v":""}]
[null,null,"REGALIA-029","REGALIA","CHALECO VARIOS MODELOS",202.32,0,0,0,0,0,0,{"$f":"+IFERROR(HYPERLINK(VLOOKUP(C17008,FOTOGRAFICO!C:E,3,FALSE),C17008),\"\")","v":""}]
[null,null,"C-180003M3","REGULADOR","REGULADOR HONDA GL150 11-14",88.83,0,0,1,0,4,0,{"$f":"+IFERROR(HYPERLINK(VLOOKUP(C17022,FOTOGRAFICO!C:E,3,FALSE),C17022),\"\")","v":""}]
[null,null,"USA36212","REGULADOR","REGULADOR ALTERNADOR HITACHI   URVAN PATHFINDER 2.4 2.5       CONECTOR EN ANGULO 2PTS RENARD",302.8,0,0,0,3,0,1,{"$f":"+IFERROR(HYPERLINK(VLOOKUP(C17034,FOTOGRAFICO!C:E,3,FALSE),C17034),\"\")","v":"USA36212"}]
[null,null,"INJ44306C","REGULADOR","REGULADOR PRESION GAS ESCAPE   01-04 RANGER 99-03 MAZDA 6 03- 03 INJETECH SOBRE PEDIDO",349.92,0,0,0,0,0,0,{"$f":"+IFERROR(HYPERLINK(VLOOKUP(C17037,FOTOGRAFICO!C:E,3,FALSE),C17037),\"\")","v":""}]
[null,null,"003-3132-18","REJILA","REJILLA FACIA DEL DER VENTO 20 -22 CON HOYO PARA FARO SIN     MOLDURA MARCA RADEC IMPORTADO",344.76,0,0,0,0,0,0,{"$f":"+IFERROR(HYPERLINK(VLOOKUP(C17045,FOTOGRAFICO!C:E,3,FALSE),C17045),\"\")","v":""}]
[null,null,"003-2322-06","REJILLA","REJILLA FACIA DELANTERA URVAN  07-10 CON HOYO                 SOBRE PEDIDO ARTURO JIMENEZ",188.83,0,0,0,0,0,0,{"$f":"+IFERROR(HYPERLINK(VLOOKUP(C17057,FOTOGRAFICO!C:E,3,FALSE),C17057),\"\")","v":""}]
[null,null,"003-3112-19","REJILLA","REJILLA IZQ FACIA DEL JETTA    BICENTENARIO 11-14 JETTA 11-14 SIN HOYO MARCA TYG PIDE JAVIER",119.77,0,0,0,0,0,0,{"$f":"+IFERROR(HYPERLINK(VLOOKUP(C17072,FOTOGRAFICO!C:E,3,FALSE),C17072),\"\")","v":""}]
[null,null,"003-3116-09","REJILLA","REJILLA FACIA DEL POLO 15-20   CON MOLDURA CROMADA MARCA TYG  PIDE ERICK CALL",768.83,0,0,0,0,0,0,{"$f":"+IFERROR(HYPERLINK(VLOOKUP(C17077,FOTOGRAFICO!C:E,3,FALSE),C17077),\"\")","v":""}]
[null,null,"5U08653665G","REJILLA","REJILLA FACIA GOL IZQUIERDA 20 13-2016 USO SIN FARO DE NIEBLA MARCA BRUCK GERMANY",155.15,1,4,0,2,1,2,{"$f":"+IFERROR(HYPERLINK(VLOOKUP(C17089,FOTOGRAFICO!C:E,3,FALSE),C17089),\"\")","v":"5U08653665G"}]
[null,null,"93801923","REJILLA","REJILLA IZQ AIRE CHEVY 04-12   ENTRADA DE AIRE MARCA GM       PEDIDO ADAN TORRES",142.03,0,0,0,0,0,0,{"$f":"+IFERROR(HYPERLINK(VLOOKUP(C17091,FOTOGRAFICO!C:E,3,FALSE),C17091),\"\")","v":""}]
[null,null,"H-B099-LH","REJILLA","REJILLA JETTA 08-15 C/HOYO IZQ JETTA CLASICO CON HOYO P/FACIA",112.17,1,1,1,1,0,1,{"$f":"+IFERROR(HYPERLINK(VLOOKUP(C17109,FOTOGRAFICO!C:E,3,FALSE),C17109),\"\")","v":""}]
[null,null,"IPC1HM85366601C","REJILLA","REJILLA FACIA GOLF JETTA A3 93 99 DERECHA MARCA IPC           = ORI1HM853666",46.68,9,4,3,10,4,4,{"$f":"+IFERROR(HYPERLINK(VLOOKUP(C17112,FOTOGRAFICO!C:E,3,FALSE),C17112),\"\")","v":""}]
[null,null,"ORI1HM853665A","REJILLA","REJILLA FACIA GOLF JETTA A3 IZ IZQUIERDA",61.12,10,10,9,8,11,6,{"$f":"+IFERROR(HYPERLINK(VLOOKUP(C17119,FOTOGRAFICO!C:E,3,FALSE),C17119),\"\")","v":""}]
[null,null,"003-0604-34","REJILLA","REJILLA FACIA DER AVEO 12-17   TAPA MARCA: DEPO               PEDIDO RAFAEL",219.86,0,0,0,0,0,0,{"$f":"+IFERROR(HYPERLINK(VLOOKUP(C17134,FOTOGRAFICO!C:E,3,FALSE),C17134),\"\")","v":""}]
[null,null,"003-1901-20","REJILLA","REJILLA DER FACIA MAZDA 3 14-  16 SIN HOYO PARA FARO MARCA    TYG PIDE RAUL",193.42,0,0,0,0,0,0,{"$f":"+IFERROR(HYPERLINK(VLOOKUP(C17139,FOTOGRAFICO!C:E,3,FALSE),C17139),\"\")","v":""}]
[null,null,"003-3108-02","REJILLA","REJILLA CENTRAL FACI DERBY 97- 04 MARCA TYG",303.48,0,0,0,0,0,0,{"$f":"+IFERROR(HYPERLINK(VLOOKUP(C17151,FOTOGRAFICO!C:E,3,FALSE),C17151),\"\")","v":"003-3108-02"}]
[null,null,"CBNC9921","REJILLA","REJILLA DEL DER AVEO 18-23     SIN HOYO PARA FARO AUXILIAR    MARCA DIFORZA CBNC9921",89.12,0,0,1,0,0,0,{"$f":"+IFERROR(HYPERLINK(VLOOKUP(C17163,FOTOGRAFICO!C:E,3,FALSE),C17163),\"\")","v":""}]
[null,null,"003-0670-10","REJILLA","REJILLA FACIA DEL DER SONIC 17 -19 S/HOYO PARA FARO 4/5 PTAS  MARCA RADEC",467.77,0,0,0,0,0,0,{"$f":"+IFERROR(HYPERLINK(VLOOKUP(C17171,FOTOGRAFICO!C:E,3,FALSE),C17171),\"\")","v":""}]
[null,null,"003-2330-03","REJILLA","REJILLA IZQ VERSA 12-14 SIN    HOYO MARCA TYG",220.13,0,0,0,0,0,0,{"$f":"+IFERROR(HYPERLINK(VLOOKUP(C17183,FOTOGRAFICO!C:E,3,FALSE),C17183),\"\")","v":""}]
[null,null,"003-3110-10","REJILLA","REJILLA DER FACIA DEL GOL 17-  18 CON HOYO PARA FARO MARCA    TYG",0,0,0,0,0,0,0,{"$f":"+IFERROR(HYPERLINK(VLOOKUP(C17192,FOTOGRAFICO!C:E,3,FALSE),C17192),\"\")","v":""}]
[null,null,"003-3110-16","REJILLA","REJILLA DER FACIA GOL 13-16    CON HOYO MARCA TYG PIDE JORGE",220.13,0,0,0,0,0,0,{"$f":"+IFERROR(HYPERLINK(VLOOKUP(C17194,FOTOGRAFICO!C:E,3,FALSE),C17194),\"\")","v":""}]
[null,null,"68079853AB","REJILLA","REJILLA IZQ LATERAL JOURNEY 11 -20 CROSSROAD GT SE SXT R/T    ORIGINAL PIDE SR GUILLERMO",808.14,0,0,0,0,0,0,{"$f":"+IFERROR(HYPERLINK(VLOOKUP(C17206,FOTOGRAFICO!C:E,3,FALSE),C17206),\"\")","v":""}]
[null,null,"003-2704-00","REJILLA","REJILLA FACIA DEL CEN IBIZA 07 -08                            PEDIDO JUAN GARCIA",467.77,0,0,0,0,0,0,{"$f":"+IFERROR(HYPERLINK(VLOOKUP(C17217,FOTOGRAFICO!C:E,3,FALSE),C17217),\"\")","v":"003-2704-00"}]
[null,null,"003-3116-19","REJILLA","REJILLA IZQ FACIA POLO 15-20   CON HOYO PARA FARO MARCA TYG   PIDE ARMANDO",291.33999999999997,0,0,0,0,0,0,{"$f":"+IFERROR(HYPERLINK(VLOOKUP(C17226,FOTOGRAFICO!C:E,3,FALSE),C17226),\"\")","v":""}]
[null,null,"CBNV0701","REJILLA","REJILLA FACIA VENTO 14-15 DER  C/HOYO P/FARO AUXILIAR",145.66999999999999,0,0,0,0,0,0,{"$f":"+IFERROR(HYPERLINK(VLOOKUP(C17238,FOTOGRAFICO!C:E,3,FALSE),C17238),\"\")","v":""}]
[null,null,"003-2318-05","REJILLA","REJILLA FACIA IZQ TIIDA 07-18  S/HOYO P/FARO 4 PTAS MARCA     RADEC",127.86,0,0,0,0,0,0,{"$f":"+IFERROR(HYPERLINK(VLOOKUP(C17245,FOTOGRAFICO!C:E,3,FALSE),C17245),\"\")","v":""}]
[null,null,"C-184001M3","RELAY","RELAY DE ARRANQUE HONDA TITAN  150/2000 12V MOTOS",50.22,0,0,0,0,7,0,{"$f":"+IFERROR(HYPERLINK(VLOOKUP(C17250,FOTOGRAFICO!C:E,3,FALSE),C17250),\"\")","v":""}]
[null,null,"ORI176953227","RELEVADOR","RELEVADOR DIRECC VW 3 PATAS    VWSEDAN 94-02 COMBI 1800 GOLF- JETTA 87-97 MARCA BRUCK GERMAN",62.29,7,20,18,12,39,8,{"$f":"+IFERROR(HYPERLINK(VLOOKUP(C17265,FOTOGRAFICO!C:E,3,FALSE),C17265),\"\")","v":"ORI176953227"}]
[null,null,"RE-278001","RELEVADOR","RELEVADOR UNVERSAL 3 PTAS 20A  12VOLS CUADRO GRANDE TRES PATA SUJETA CON TRES TORNILLOS",21.09,0,0,0,0,0,0,{"$f":"+IFERROR(HYPERLINK(VLOOKUP(C17268,FOTOGRAFICO!C:E,3,FALSE),C17268),\"\")","v":""}]
[null,null,"30000-B15G0CK","REP SET","REP SET SENTRA 1.8 01-06       ALMERA 1.8 01-05 SENTRA GSS    2.0 01-01 VALEO = LUK622302300",1429.7,2,0,0,0,0,3,{"$f":"+IFERROR(HYPERLINK(VLOOKUP(C17279,FOTOGRAFICO!C:E,3,FALSE),C17279),\"\")","v":"30000-B15G0CK"}]
[null,null,"3L3211055","REP SET","REP SET ATOS 1.0 1.1 01-12 I10 1.1 12-14 PLATO DISCO COLLARIN MARCA 3L = CH-RSET-02CC",1101.6199999999999,3,2,2,0,2,3,{"$f":"+IFERROR(HYPERLINK(VLOOKUP(C17288,FOTOGRAFICO!C:E,3,FALSE),C17288),\"\")","v":""}]
[null,null,"EGP30000-00QAACK","REP SET","REP SET PLATINA CLIO 1.6 02-10 KANGOO 1.6 02-13 APRIO 1.6 08- 10 PHC VALEO = LUK620308900",1829.7,0,0,3,1,2,6,{"$f":"+IFERROR(HYPERLINK(VLOOKUP(C17300,FOTOGRAFICO!C:E,3,FALSE),C17300),\"\")","v":""}]
[null,null,"EGPVW-RSET-05CK","REP SET","REP SET POINTER 1.8 2.0 97-09  CORSAR 1.8 83-88 PLATO DISCO   COLLA PHC VALEO = LUK621207800",1453.22,3,0,0,0,6,0,{"$f":"+IFERROR(HYPERLINK(VLOOKUP(C17308,FOTOGRAFICO!C:E,3,FALSE),C17308),\"\")","v":""}]
[null,null,"GM19425048","REP SET","REP SET AVEO NG 1.5 18-24      PLATO DISCO COLLARIN 24 ASTRIA S  MARCA ACDELCO ORIGINAL",2486.39,3,5,3,6,4,4,{"$f":"+IFERROR(HYPERLINK(VLOOKUP(C17320,FOTOGRAFICO!C:E,3,FALSE),C17320),\"\")","v":"GM19425048"}]
[null,null,"LUK600010100","REP SET","REP SET SEAT LEON 1.8 TURBO 01 -06 TOLEDO 1.8 TURBO 01-04 MCA LUK PEDIDO ROBERTO MUNOZ",10035.530000000001,0,0,0,0,0,0,{"$f":"+IFERROR(HYPERLINK(VLOOKUP(C17332,FOTOGRAFICO!C:E,3,FALSE),C17332),\"\")","v":""}]
[null,null,"LUK600012900","REP SET","REP SET GOLF JETTA 1.8 99-10   TURBO MARCA LUK PEDIDO JULIO",6281.98,0,0,0,0,0,0,{"$f":"+IFERROR(HYPERLINK(VLOOKUP(C17333,FOTOGRAFICO!C:E,3,FALSE),C17333),\"\")","v":""}]
[null,null,"LUK602000800","REP SET","REP SET FIESTA 1.6 11-19 FIGO  1.5 16-20 FOCUS 2.0 11-18      ECOSPORT 2.0 13-17 DOBLE SECO",16755.68,0,0,0,0,0,0,{"$f":"+IFERROR(HYPERLINK(VLOOKUP(C17343,FOTOGRAFICO!C:E,3,FALSE),C17343),\"\")","v":""}]
[null,null,"LUK619316600","REP SET","REP SET SUZUKI SWIFT 1.4 12-17 PLATO DISCO COLLARIN MARCA     LUK",6872.91,0,0,0,0,0,0,{"$f":"+IFERROR(HYPERLINK(VLOOKUP(C17355,FOTOGRAFICO!C:E,3,FALSE),C17355),\"\")","v":""}]
[null,null,"LUK620308900","REP SET","REP SET PLATINA CLIO 1.6 02-10 KANGOO 1.6 02-13 APRIO 1.6 08- 10 MARC LUK = EGP30000-00QAACK",2217.89,6,4,7,6,0,4,{"$f":"+IFERROR(HYPERLINK(VLOOKUP(C17362,FOTOGRAFICO!C:E,3,FALSE),C17362),\"\")","v":"LUK620308900"}]
[null,null,"LUK621242400","REP SET","REP SET TORNADO 1.8 12-20      MARCA LUK",2645.21,0,3,1,6,0,2,{"$f":"+IFERROR(HYPERLINK(VLOOKUP(C17376,FOTOGRAFICO!C:E,3,FALSE),C17376),\"\")","v":"LUK621242400"}]
[null,null,"LUK622072510","REP SET","REP SET TOPAZ 88-94 PLATO      DISCO Y COLLARIN MARCA LUK     PEDIDO TELLITUD",1831.12,0,0,0,0,0,0,{"$f":"+IFERROR(HYPERLINK(VLOOKUP(C17382,FOTOGRAFICO!C:E,3,FALSE),C17382),\"\")","v":""}]
[null,null,"LUK622335300","REP SET","REP SER KIA RIO 16-20 SOUL 16- 18 ACCENT 18-20 ATTITUDE 12-14 LUK PEDIDO JORGE OLGUIN",2927.76,0,0,0,0,0,0,{"$f":"+IFERROR(HYPERLINK(VLOOKUP(C17394,FOTOGRAFICO!C:E,3,FALSE),C17394),\"\")","v":""}]
[null,null,"LUK623340633","REP SET","REP SET TIIDA 1.8 07-19 SENTRA 1.8 13-19 SENTRA 2.0 07-12     LUK MEXICO = NSK1009",3282.41,4,7,8,12,3,8,{"$f":"+IFERROR(HYPERLINK(VLOOKUP(C17405,FOTOGRAFICO!C:E,3,FALSE),C17405),\"\")","v":"LUK623340633"}]
[null,null,"LUK630306000","REP SET","REP SET FORD F350 V8 MICROBUS  Y PICK UP MOT 5.4 TRITON 99 13 REP SET S/CREMALLERA MCA: LUK",5534.54,0,0,0,0,0,0,{"$f":"+IFERROR(HYPERLINK(VLOOKUP(C17414,FOTOGRAFICO!C:E,3,FALSE),C17414),\"\")","v":"LUK630306000"}]
[null,null,"PG-RSET-01CB","REP SET","REP SET PEUGEOT 206 1.6 01-09  PLATO DISCO COLLARIN MARCA     MASTER CUT IMPORTADO",1089.08,6,3,0,0,0,0,{"$f":"+IFERROR(HYPERLINK(VLOOKUP(C17417,FOTOGRAFICO!C:E,3,FALSE),C17417),\"\")","v":""}]
[null,null,"PO8521150","REP SET","REP SET POINTER 1.8 2.0 97-09  CORSAR 1.8 83-88 PLATO DISCO   COLLARIN PRO ONE = LUK62120780",1377.26,8,3,5,8,5,5,{"$f":"+IFERROR(HYPERLINK(VLOOKUP(C17434,FOTOGRAFICO!C:E,3,FALSE),C17434),\"\")","v":"PO8521150"}]
[null,null,"SCHK260033-01","REP SET","REP SET ATOS 1.0 1.1 01-12 I10 1.1 12-14 PLATO DISCO COLLARIN MARC SACHS = LUK618301600",1088.17,0,0,0,0,3,0,{"$f":"+IFERROR(HYPERLINK(VLOOKUP(C17437,FOTOGRAFICO!C:E,3,FALSE),C17437),\"\")","v":""}]
[null,null,"VW-RSET-02CC","REP SET","REP SET VW SEDAN 74-04 COMBI   CARAVELLE 74-87 1600 DISCO C/  RESORTES MARCA VAOSIN IMPORTAD",937.87,0,0,0,0,2,0,{"$f":"+IFERROR(HYPERLINK(VLOOKUP(C17449,FOTOGRAFICO!C:E,3,FALSE),C17449),\"\")","v":"VW-RSET-02CC"}]
[null,null,"DICN30","REP SET","REP SET TARAERO MOTO YAMAHA    BWS100 SAYTO",807.04,0,0,0,0,0,0,{"$f":"+IFERROR(HYPERLINK(VLOOKUP(C17459,FOTOGRAFICO!C:E,3,FALSE),C17459),\"\")","v":""}]
[null,null,"LUK622342533","REP SET","REP SET FIAT 500 1.4 09-15     PLATO DISCO COLLARIN 20DIENTES MCA: LUK PEDIDO MIGUEL COTOC",4623.24,0,0,0,0,0,0,{"$f":"+IFERROR(HYPERLINK(VLOOKUP(C17469,FOTOGRAFICO!C:E,3,FALSE),C17469),\"\")","v":""}]
[null,null,"LUK628073700","REP SET","REP SET DODGE D150 3.9 5.2 5.9 88-91 D250 3.9 5.2 88-91 D350  3.9 5.2 5.9 88-91 PIDE YAZMANI",3467.84,0,0,0,0,0,0,{"$f":"+IFERROR(HYPERLINK(VLOOKUP(C17481,FOTOGRAFICO!C:E,3,FALSE),C17481),\"\")","v":""}]
[null,null,"SHCK9563-01","REP SET","REP SET FIESTA 1.6 4 VEL 03-05 MARCA SACHS PLATO DISCO Y      COLLARIN PIDE RAUL",2505.0300000000002,0,0,0,0,0,0,{"$f":"+IFERROR(HYPERLINK(VLOOKUP(C17488,FOTOGRAFICO!C:E,3,FALSE),C17488),\"\")","v":""}]
[null,null,"GM-RSET-22CC","REP SET","REP SET SONIC 1.6 12-17 MARCA  MASTER CUT IMPORTADO PLATO     DISCO COLLARIN = LUK622332433",1536.51,0,5,0,0,0,0,{"$f":"+IFERROR(HYPERLINK(VLOOKUP(C17492,FOTOGRAFICO!C:E,3,FALSE),C17492),\"\")","v":""}]
[null,null,"NSK1009","REP SET","REP SET TIIDA 1.8 07-19 SENTRA 1.8 13-19 SENTRA 2.0 07-12     EXEDY JAPON = LUK623340633",3255.93,0,0,0,0,0,0,{"$f":"+IFERROR(HYPERLINK(VLOOKUP(C17504,FOTOGRAFICO!C:E,3,FALSE),C17504),\"\")","v":""}]
[null,null,"SAH3000954576","REP SET","REP SET JETTA 2.0 13-18 MARCA  SACHS PIDE OSCAR               = 623 3718 00",2241.33,0,0,0,0,0,0,{"$f":"+IFERROR(HYPERLINK(VLOOKUP(C17511,FOTOGRAFICO!C:E,3,FALSE),C17511),\"\")","v":""}]
[null,null,"EJ-N23HS3","REP SET","REP SET TIIDA 1.8 07-18 SENTRA 1.8 13-19 SENTRA 2.0 07-12 CON VOLANTE MARCA PERFECTION",5116.21,0,0,0,0,0,0,{"$f":"+IFERROR(HYPERLINK(VLOOKUP(C17521,FOTOGRAFICO!C:E,3,FALSE),C17521),\"\")","v":""}]
[null,null,"19182NSB","REPUESTO","REPUESTO TRIPODE ATOS 1.0 01-  04 19 DIENTES MARCA NSB        IMPORTADO RT-5001",83.65,2,0,9,4,8,2,{"$f":"+IFERROR(HYPERLINK(VLOOKUP(C17531,FOTOGRAFICO!C:E,3,FALSE),C17531),\"\")","v":"19182NSB"}]
[null,null,"EGP22184","REPUESTO","REPUESTO TRIPODE AVEO 1.6 08-  17 NEON 2.0 00-05 VERNA 1.6 04 -06 ATTITUDE 1.6 06-11 22D NSB",113.82,20,18,6,36,10,4,{"$f":"+IFERROR(HYPERLINK(VLOOKUP(C17543,FOTOGRAFICO!C:E,3,FALSE),C17543),\"\")","v":""}]
[null,null,"LC102443","REPUESTO","REPUESTO CALIPER POINTER 00-06",55.26,6,0,5,5,0,2,{"$f":"+IFERROR(HYPERLINK(VLOOKUP(C17550,FOTOGRAFICO!C:E,3,FALSE),C17550),\"\")","v":""}]
[null,null,"LC2215","REPUESTO","REPUESTO CALIPER PLATINA 02-09 CLIO 02-06",106,0,0,0,0,0,1,{"$f":"+IFERROR(HYPERLINK(VLOOKUP(C17563,FOTOGRAFICO!C:E,3,FALSE),C17563),\"\")","v":""}]
[null,null,"LC2496","REPUESTO","REPUESTO CALIPER MATIZ 04-",45.1,0,0,5,0,0,1,{"$f":"+IFERROR(HYPERLINK(VLOOKUP(C17566,FOTOGRAFICO!C:E,3,FALSE),C17566),\"\")","v":""}]
[null,null,"RT5008KB","REPUESTO","REPUESTO TRIPODE TSURU 1.5 1.6 2.0 84-03 TOPAZ 2.3 84-94 24   DIENTES RODAJA 29.9 MM KABUTO",79.569999999999993,1,1,1,0,1,1,{"$f":"+IFERROR(HYPERLINK(VLOOKUP(C17575,FOTOGRAFICO!C:E,3,FALSE),C17575),\"\")","v":""}]
[null,null,"SAN650-M","REPUESTO","REPUESTO PAL VEL GOLF JETTA A4 99-15 8 PZAS CON RESORTE",123.77,37,0,2,0,0,0,{"$f":"+IFERROR(HYPERLINK(VLOOKUP(C17586,FOTOGRAFICO!C:E,3,FALSE),C17586),\"\")","v":""}]
[null,null,"3601","RESORTE","RESORTE DEL FIESTA IKON 98-11  JUEGO 2 PIEZAS MARCA SAFETY    3601",648.64,3,0,0,5,0,5,{"$f":"+IFERROR(HYPERLINK(VLOOKUP(C17598,FOTOGRAFICO!C:E,3,FALSE),C17598),\"\")","v":"3601"}]
[null,null,"55020-3BA0ASFT","RESORTE","RESORTE TRAS VERSA 12-23       V-DRIVE 20-23 1 PIEZA          MARCA SAFETY 1816024",810.46,2,0,0,0,1,0,{"$f":"+IFERROR(HYPERLINK(VLOOKUP(C17604,FOTOGRAFICO!C:E,3,FALSE),C17604),\"\")","v":"55020-3BA0ASFT"}]
[null,null,"EGP6R0411105BSFT","RESORTE","RESORTE DEL VENTO 14-22 POLO   09-22 IBIZA 10-23 TOLEDO 13-19 JGO 2 PZA MARCA SAFETY",492.31,2,3,0,3,0,1,{"$f":"+IFERROR(HYPERLINK(VLOOKUP(C17618,FOTOGRAFICO!C:E,3,FALSE),C17618),\"\")","v":""}]
[null,null,"SYD8299","RESORTE","RESORTE TRASERO CHEVY 94-12    EXCEPTO PICKUP JUEGO 2 PIEZAS  MARCA SYD 8299",1164.4000000000001,9,5,1,4,5,5,{"$f":"+IFERROR(HYPERLINK(VLOOKUP(C17630,FOTOGRAFICO!C:E,3,FALSE),C17630),\"\")","v":""}]
[null,null,"Y02G0KB","RESORTE","RESORTE TRAS TSURU III 92-17   1 PIEZA MARCA KABUTO           Y02G0 = SYDY02G0",0,0,0,0,0,0,0,{"$f":"+IFERROR(HYPERLINK(VLOOKUP(C17637,FOTOGRAFICO!C:E,3,FALSE),C17637),\"\")","v":""}]
[null,null,"1803045SFT","RESORTE","RESORTE DEL AVEO 1.6 08-17     PONTIAC G3 06-09 JUEGO 2       PIEZAS MARCA SAFETY 1803045",732.3,0,5,0,0,3,4,{"$f":"+IFERROR(HYPERLINK(VLOOKUP(C17647,FOTOGRAFICO!C:E,3,FALSE),C17647),\"\")","v":"1803045SFT"}]
[null,null,"SYD2347","RESORTE","RESORTE DEL PLATINA 02-10 CLIO 02-10 KANGOO 04-19 JGO 2 PZ    MARCA SYD PEDIDO GUSTAVO",1107.1199999999999,0,0,0,0,0,0,{"$f":"+IFERROR(HYPERLINK(VLOOKUP(C17657,FOTOGRAFICO!C:E,3,FALSE),C17657),\"\")","v":""}]
[null,null,"02-0179","RESORTES","RESORTE BALAT TRAS ATTITUDE    IZQ O DER",11.38,1,0,0,0,0,0,{"$f":"+IFERROR(HYPERLINK(VLOOKUP(C17660,FOTOGRAFICO!C:E,3,FALSE),C17660),\"\")","v":"02-0179"}]
[null,null,"CONA555-2/BL","RESPALDO","RESPALDO DE BOLITAS AZUL       IMPORTADO",176.61,2,0,2,2,0,3,{"$f":"+IFERROR(HYPERLINK(VLOOKUP(C17676,FOTOGRAFICO!C:E,3,FALSE),C17676),\"\")","v":""}]
[null,null,"NSC066","RESTAURADO","RESTAURADOR NEGRO PLASTICOS    GOMAS HULE 150 GR MARCA NEW    SHINE",50.49,3,14,1,6,3,3,{"$f":"+IFERROR(HYPERLINK(VLOOKUP(C17680,FOTOGRAFICO!C:E,3,FALSE),C17680),\"\")","v":"NSC066"}]
[null,null,"13042-00QAA","RETEN","RETEN ARBOL LEVAS PLATINA CLIO APRIO MOT 1.6 TODOS MOD GRANDE",9.59,18,36,25,36,39,12,{"$f":"+IFERROR(HYPERLINK(VLOOKUP(C17692,FOTOGRAFICO!C:E,3,FALSE),C17692),\"\")","v":"13042-00QAA"}]
[null,null,"32474","RETEN","RETEN ARBOL LEVAS VW LUPO POLO GOL SAVEIRO 1.6L IBIZA CORDOBA CROSSFOX 1.6L MARCA NIKKO",28.33,24,0,3,0,105,0,{"$f":"+IFERROR(HYPERLINK(VLOOKUP(C17705,FOTOGRAFICO!C:E,3,FALSE),C17705),\"\")","v":"32474"}]
[null,null,"38342-D2100","RETEN","RETEN CAJA FLECHA LATERL TSURU III 92/2014 IZQ O DER          MARCA NIKKO HECHO EN CHINA",19.89,58,23,29,15,14,10,{"$f":"+IFERROR(HYPERLINK(VLOOKUP(C17712,FOTOGRAFICO!C:E,3,FALSE),C17712),\"\")","v":"38342-D2100"}]
[null,null,"4023250Y00-KB","RETEN","RETEN RDA DEL INT TSURU II III 88-17 MARCA KABUTO = FM100482  = 40232-50Y00J = NIS107M3302",18.03,1,3,3,3,3,5,{"$f":"+IFERROR(HYPERLINK(VLOOKUP(C17715,FOTOGRAFICO!C:E,3,FALSE),C17715),\"\")","v":""}]
[null,null,"96350161","RETEN","RETEN BOMBA ACEITE AVEO 1.6 08 -17 MARCA BRUCK GERMANY        96350161 = 96350161K",28.22,3,9,13,34,20,4,{"$f":"+IFERROR(HYPERLINK(VLOOKUP(C17730,FOTOGRAFICO!C:E,3,FALSE),C17730),\"\")","v":"96350161"}]
[null,null,"ALE038103085B","RETEN","RETEN ARBOL LEVAS GOLF JETTA   A4 1.8TURBO Y 2.0L POLO 2.0L   MARCA: NIKKO",35.65,232,14,40,30,0,41,{"$f":"+IFERROR(HYPERLINK(VLOOKUP(C17735,FOTOGRAFICO!C:E,3,FALSE),C17735),\"\")","v":"ALE038103085B"}]
[null,null,"BRU068103085A","RETEN","RETEN ARBOL LEVAS CARIBE GOLF  JETTA COMBI 1800 POINTER 1.8L  Y PUNTA CIGUENL CHICO BRUCK-GE",17.63,41,3,0,28,0,10,{"$f":"+IFERROR(HYPERLINK(VLOOKUP(C17747,FOTOGRAFICO!C:E,3,FALSE),C17747),\"\")","v":"BRU068103085A"}]
[null,null,"BRU4023250Y10","RETEN","RETEN RUEDA TSURU III 92-17    1.6 55X68X12 DELANTERO         INTERIOR MARCA BRUCK GERMANY",24.69,25,0,0,0,0,0,{"$f":"+IFERROR(HYPERLINK(VLOOKUP(C17754,FOTOGRAFICO!C:E,3,FALSE),C17754),\"\")","v":"BRU4023250Y10"}]
[null,null,"FM100484","RETEN","RETEN RDA DEL EXT TSURU II III 88-17 MARCA NATIONAL           = 40227-50Y01J = NIS107M3303",43.32,8,5,5,9,4,2,{"$f":"+IFERROR(HYPERLINK(VLOOKUP(C17763,FOTOGRAFICO!C:E,3,FALSE),C17763),\"\")","v":""}]
[null,null,"GM55353319","RETEN","RETEN ENFRIADOR ACEITE SONIC   12-18 AVEO 09-10 CRUZE 10-16   MARCA GM PEDIDO MARCO",183.45,0,0,0,0,0,0,{"$f":"+IFERROR(HYPERLINK(VLOOKUP(C17774,FOTOGRAFICO!C:E,3,FALSE),C17774),\"\")","v":""}]
[null,null,"GM94580313","RETEN","RETEN FLECHA CAJA DER BEAT 18- 20 MATIZ 06-15 SPARK 11-17     MARCA GM",195.37,4,2,6,10,5,5,{"$f":"+IFERROR(HYPERLINK(VLOOKUP(C17786,FOTOGRAFICO!C:E,3,FALSE),C17786),\"\")","v":"GM94580313"}]
[null,null,"GRRN1522","RETEN","RETEN RDA DEL EXT TSURU I 84-  87 MARCA TOP ENGINE IMPORTADO  1883",34.89,6,0,0,0,0,0,{"$f":"+IFERROR(HYPERLINK(VLOOKUP(C17792,FOTOGRAFICO!C:E,3,FALSE),C17792),\"\")","v":""}]
[null,null,"ORI020311109G","RETEN","RETEN VARILLA CLUTCH CARIBE GO GOLF JETTA A2 A3 MEJORALITO",13.06,78,28,10,0,0,0,{"$f":"+IFERROR(HYPERLINK(VLOOKUP(C17806,FOTOGRAFICO!C:E,3,FALSE),C17806),\"\")","v":""}]
[null,null,"ORI0803012252","RETEN","RETEN CAMPANA CAJA VEL VWSEDAN MODELO NVO D PALANCA SELECTORA MARCA BRUCK",56.94,8,0,0,8,0,9,{"$f":"+IFERROR(HYPERLINK(VLOOKUP(C17809,FOTOGRAFICO!C:E,3,FALSE),C17809),\"\")","v":"ORI0803012252"}]
[null,null,"TFRE64606KPL","RETEN","RETEN CIGUENAL VW SEDAN COMBI  1500-1600-1800 CON LIGA        MARCA TF VICTOR MEX",41.9,17,15,10,15,6,10,{"$f":"+IFERROR(HYPERLINK(VLOOKUP(C17821,FOTOGRAFICO!C:E,3,FALSE),C17821),\"\")","v":"TFRE64606KPL"}]
[null,null,"TFRE99005SL","RETEN","RETEN CIGUEN URVAN TRAS GRANDE 2.4L PICK UP D21 2.4L FRONTIER 99-07 MARCA TF VICTOR MEX",97.21,1,2,6,11,4,4,{"$f":"+IFERROR(HYPERLINK(VLOOKUP(C17829,FOTOGRAFICO!C:E,3,FALSE),C17829),\"\")","v":"TFRE99005SL"}]
[null,null,"TFRE99105","RETEN","RETEN GRANDE CIGUENL POLO LUPO IBIZA 1.6L C/BASE ALUMN ENTRAD SENSOR CUADRAD MARCA TF VICTOR",603.38,6,0,0,0,4,0,{"$f":"+IFERROR(HYPERLINK(VLOOKUP(C17841,FOTOGRAFICO!C:E,3,FALSE),C17841),\"\")","v":"TFRE99105"}]
[null,null,"TFRE99332","RETEN","RETEN CIGUENAL CHICO PLATINA   CLIO KANGOO 1.6 01- DELANTERO  MEGANE SCENIC MARCA TF VICTOR",29.61,6,9,11,25,21,7,{"$f":"+IFERROR(HYPERLINK(VLOOKUP(C17846,FOTOGRAFICO!C:E,3,FALSE),C17846),\"\")","v":"TFRE99332"}]
[null,null,"PS-3118-SB","RETEN","RETEN TAPA PUNTERIAS LANCER    2.0 04-06 L200 2.4 08-17 MARCA TF VICTOR",71.88,0,0,0,0,0,0,{"$f":"+IFERROR(HYPERLINK(VLOOKUP(C17861,FOTOGRAFICO!C:E,3,FALSE),C17861),\"\")","v":""}]
[null,null,"ECORIEL","RIEL","RIEL ASIENTO PIEZA",51.16,14,27,0,0,0,0,{"$f":"+IFERROR(HYPERLINK(VLOOKUP(C17864,FOTOGRAFICO!C:E,3,FALSE),C17864),\"\")","v":""}]
[null,null,"KNEE-RODILLERAS","RODILLERAS","RODILLERAS CON PROTECCION DE   PLASTICO COLOR NEGRO",398.52,0,0,0,0,0,0,{"$f":"+IFERROR(HYPERLINK(VLOOKUP(C17875,FOTOGRAFICO!C:E,3,FALSE),C17875),\"\")","v":""}]
[null,null,"GEL-OF-AZUL","ROLLO","ROLLO DE TIRA DE LED DE GEL 5M RECORTABLE COLOR AZUL REY",281.81,0,0,0,0,0,0,{"$f":"+IFERROR(HYPERLINK(VLOOKUP(C17884,FOTOGRAFICO!C:E,3,FALSE),C17884),\"\")","v":""}]
[null,null,"R1860","RONDANA","RONDANA ONDULADA 8 MM",2.25,171,0,0,0,0,0,{"$f":"+IFERROR(HYPERLINK(VLOOKUP(C17900,FOTOGRAFICO!C:E,3,FALSE),C17900),\"\")","v":""}]
[null,null,"SPRB-58","ROTOR","ROTOR DISTRIBUIDOR SEDAN 1.6   93-04 COMBI 1.8 93-01 POINTER  1.8 2.0 PICK UP 98-03 SPARTAN",61.09,0,0,0,0,0,0,{"$f":"+IFERROR(HYPERLINK(VLOOKUP(C17903,FOTOGRAFICO!C:E,3,FALSE),C17903),\"\")","v":""}]
[null,null,"1J0407366CKB","ROTULA","ROTULA INFER DER GOLF A4 98-07 JETTA A4 CLASICO 98-15 BEETLE  98-11 TOLEDO 01-05 KABUTO",84.87,1,2,0,0,1,1,{"$f":"+IFERROR(HYPERLINK(VLOOKUP(C17918,FOTOGRAFICO!C:E,3,FALSE),C17918),\"\")","v":""}]
[null,null,"357407365AKB","ROTULA","ROTULA INFER GOLF JETTA A2 A3  89-99 DERBY 95-09 IBIZA CORDO  BA 01-02 VASTAGO GRUESO KABUTO",66.84,1,1,1,0,1,1,{"$f":"+IFERROR(HYPERLINK(VLOOKUP(C17923,FOTOGRAFICO!C:E,3,FALSE),C17923),\"\")","v":""}]
[null,null,"4333029565KB","ROTULA","ROTULA INFER HIACE 04-20       MARCA KABUTO IMPORTADO         = SB-3972",169.75,1,0,1,1,2,1,{"$f":"+IFERROR(HYPERLINK(VLOOKUP(C17935,FOTOGRAFICO!C:E,3,FALSE),C17935),\"\")","v":""}]
[null,null,"701407187B-EURO","ROTULA","ROTULA SUPER EUROVAN 01-04     EURO ESPANA                    = EGP187A = FRAP1259",186.31,0,0,0,1,0,2,{"$f":"+IFERROR(HYPERLINK(VLOOKUP(C17947,FOTOGRAFICO!C:E,3,FALSE),C17947),\"\")","v":"701407187B-EURO"}]
[null,null,"96535089-EURO","ROTULA","ROTULA INFER AVEO 08-17        PONTIAC G3 06-09 MARCA EURO ES = 96535089CTR = K-500034SFT",112.83,17,11,6,32,10,9,{"$f":"+IFERROR(HYPERLINK(VLOOKUP(C17955,FOTOGRAFICO!C:E,3,FALSE),C17955),\"\")","v":"96535089-EURO"}]
[null,null,"ECO171407365F","ROTULA","ROTULA INFER CARIBE 77-87      ATLANTIC 77-87 JETTA 80-84     VASTAGO GRUESO SAFETY IMPORTAD",85.02,2,0,4,0,0,0,{"$f":"+IFERROR(HYPERLINK(VLOOKUP(C17958,FOTOGRAFICO!C:E,3,FALSE),C17958),\"\")","v":"ECO171407365F"}]
[null,null,"EURO5Z0407366B","ROTULA","ROTULA INFER DER POLO 03-07    LUPO 05-09 CORDOBA 03-09 IBIZA 03-08 MARCA EURO ESPANA",129.30000000000001,0,0,1,8,4,0,{"$f":"+IFERROR(HYPERLINK(VLOOKUP(C17972,FOTOGRAFICO!C:E,3,FALSE),C17972),\"\")","v":""}]
[null,null,"GM214T0300","ROTULA","ROTULA INFER CHEVY MEXICO 94-  12 MARCA SAFETY IMPORTADO      = GM19334774 = TEBO600047",68.56,11,20,12,35,18,23,{"$f":"+IFERROR(HYPERLINK(VLOOKUP(C17978,FOTOGRAFICO!C:E,3,FALSE),C17978),\"\")","v":""}]
[null,null,"NIS4016052Y10","ROTULA","ROTULA INFER TSURU III 92-17   TSUBAME 92-04 ASTRIADA CON     GRASERA SAFETY = TEBO600041",67.19,45,10,12,20,43,14,{"$f":"+IFERROR(HYPERLINK(VLOOKUP(C17990,FOTOGRAFICO!C:E,3,FALSE),C17990),\"\")","v":""}]
[null,null,"SUNC0900","ROTULA","ROTULA SONIC 1.6 12-18 TRAX 13 -20 ENCORE 14-21 MARCA         YOKOMITSU PIDE ROA",77.8,2,0,8,4,4,3,{"$f":"+IFERROR(HYPERLINK(VLOOKUP(C18001,FOTOGRAFICO!C:E,3,FALSE),C18001),\"\")","v":"SUNC0900"}]
[null,null,"SYD1016011","ROTULA","ROTULA INFER VERSA 12-19 MARCH 11-20 KICKS 17-20 NOTE 12-19   MARCA SYD = 1016011SFT",224.57,4,5,1,1,4,2,{"$f":"+IFERROR(HYPERLINK(VLOOKUP(C18010,FOTOGRAFICO!C:E,3,FALSE),C18010),\"\")","v":""}]
[null,null,"SYD1J0407365C","ROTULA","ROTULA INFER IZQ GOLF A4 98-07 JETTA A4 CLASICO 98-15 BEETLE  98-11 TOLEDO 01-05 MARCA SYD",238.46,4,5,5,13,5,2,{"$f":"+IFERROR(HYPERLINK(VLOOKUP(C18013,FOTOGRAFICO!C:E,3,FALSE),C18013),\"\")","v":"SYD1J0407365C"}]
[null,null,"TEBO600048","ROTULA","ROTULA DER JETTA A4 98-15 GOLF A4 98-07 BEETLE 98-11 MARCA    TEBO",191.53,12,1,1,0,5,3,{"$f":"+IFERROR(HYPERLINK(VLOOKUP(C18029,FOTOGRAFICO!C:E,3,FALSE),C18029),\"\")","v":"TEBO600048"}]
[null,null,"TEBO600079","ROTULA","ROTULA INFER EUROVAN           TRANSPORTER 05-19 TEBO ORIGINA = EURO7H0407361 = 1026001SFT",273.86,0,0,0,0,2,0,{"$f":"+IFERROR(HYPERLINK(VLOOKUP(C18034,FOTOGRAFICO!C:E,3,FALSE),C18034),\"\")","v":"TEBO600079"}]
[null,null,"K-9802","ROTULA","ROTULA INF CIVIC 92-00         MARCA: SYD",241.71,0,0,0,0,0,0,{"$f":"+IFERROR(HYPERLINK(VLOOKUP(C18049,FOTOGRAFICO!C:E,3,FALSE),C18049),\"\")","v":""}]
[null,null,"OP-188008","ROTULA","ROTULA INF ESCAPE 3.5 01-15    MARINER 01-15 MARCA OP PIDE    EDGAR",126.95,0,0,0,0,0,0,{"$f":"+IFERROR(HYPERLINK(VLOOKUP(C18052,FOTOGRAFICO!C:E,3,FALSE),C18052),\"\")","v":""}]
[null,null,"202-1217-00","SALPICADER","SALPICADERA DER IKON 01-13     COURIER 01-13 FIESTA 00-02     C/HOYO NEGRA MARCA RADEC",877.28,0,0,0,0,0,0,{"$f":"+IFERROR(HYPERLINK(VLOOKUP(C18063,FOTOGRAFICO!C:E,3,FALSE),C18063),\"\")","v":""}]
[null,null,"202-3111-01","SALPICADER","SALPICADERA IZQ GOLF JETTA A3  93-99 MARCA TYG PIDE JAVIER",890.23,0,0,0,0,0,0,{"$f":"+IFERROR(HYPERLINK(VLOOKUP(C18072,FOTOGRAFICO!C:E,3,FALSE),C18072),\"\")","v":""}]
[null,null,"CSJC0601","SALPICADER","SALPICADERA DER CHEVY C3 09-12 SIN HOYO 3-4-5 PUERTAS GRIS    MARCA SIMYI IMPORTADO",789.36,0,0,0,0,3,1,{"$f":"+IFERROR(HYPERLINK(VLOOKUP(C18084,FOTOGRAFICO!C:E,3,FALSE),C18084),\"\")","v":""}]
[null,null,"CSJC9911","SALPICADER","SALPICADERA DER AVEO 12-17 SIN HOYO GRIS MARCA SIMYI          IMPORTADO 202-0604-06",704.48,5,6,0,0,3,0,{"$f":"+IFERROR(HYPERLINK(VLOOKUP(C18088,FOTOGRAFICO!C:E,3,FALSE),C18088),\"\")","v":""}]
[null,null,"CSMT2041","SALPICADER","SALPICADERA DER AVANZA 16-21   SIN HOYO NEGRA MARCA NJ        IMPORTADO 202-3025-00",667.67,1,0,0,0,0,0,{"$f":"+IFERROR(HYPERLINK(VLOOKUP(C18104,FOTOGRAFICO!C:E,3,FALSE),C18104),\"\")","v":""}]
[null,null,"CSNV0711","SALPICADER","SALPICADERA DER VENTO 16-21    SIN HOYO GRIS MARCA SIMYI      IMPORTADO 202-3132-02",930.82,3,1,0,0,2,0,{"$f":"+IFERROR(HYPERLINK(VLOOKUP(C18107,FOTOGRAFICO!C:E,3,FALSE),C18107),\"\")","v":""}]
[null,null,"ITA010130","SALPICADER","SALPICADERA DER JETTA A4 99-07 CON HOYO GRIS MARCA SIMYI      IMPORTADO 202-3112-02",930.82,2,0,0,1,0,2,{"$f":"+IFERROR(HYPERLINK(VLOOKUP(C18117,FOTOGRAFICO!C:E,3,FALSE),C18117),\"\")","v":""}]
[null,null,"202-0614-01","SALPICADER","SALPICADERA IZQ CHEVY 94-03    MONZA 97-03 MARCA RADEC        IMPORTADO 202-0614-01",566.51,0,0,0,0,0,0,{"$f":"+IFERROR(HYPERLINK(VLOOKUP(C18127,FOTOGRAFICO!C:E,3,FALSE),C18127),\"\")","v":""}]
[null,null,"CSJC9911PROMO","SALPICADER","SALPICADERA DER AVEO 12-17 SIN HOYO GRIS MARCA SIMYI          IMPORTADO 202-0604-06",690.34,0,0,0,0,0,0,{"$f":"+IFERROR(HYPERLINK(VLOOKUP(C18139,FOTOGRAFICO!C:E,3,FALSE),C18139),\"\")","v":""}]
[null,null,"202-0604-15","SALPICADER","SALPICADERA IZQ AVEO 18-21     LINEA NUEVA CON HOYO MARCA     TYG PIDE JUAN MARTINEZ",1375.81,0,0,0,0,0,0,{"$f":"+IFERROR(HYPERLINK(VLOOKUP(C18146,FOTOGRAFICO!C:E,3,FALSE),C18146),\"\")","v":""}]
[null,null,"202-0683-02","SALPICADER","SALPICADERA DER BEAT 18-21     MARCA TYG",1133.02,0,0,0,0,0,0,{"$f":"+IFERROR(HYPERLINK(VLOOKUP(C18160,FOTOGRAFICO!C:E,3,FALSE),C18160),\"\")","v":""}]
[null,null,"202-3114-11","SALPICADER","SALICADERA IZQ PASSAT 12-15    MARCA TYG PEDIDO ISRAEL CALL",986.53,0,0,0,0,0,0,{"$f":"+IFERROR(HYPERLINK(VLOOKUP(C18166,FOTOGRAFICO!C:E,3,FALSE),C18166),\"\")","v":""}]
[null,null,"202-0617-00","SALPICADER","SALPICADERA DER CORSA 03-11    TORNADO 04-10 LINEA ANTERIOR   MARCA TYG",849.76,0,0,0,0,0,0,{"$f":"+IFERROR(HYPERLINK(VLOOKUP(C18178,FOTOGRAFICO!C:E,3,FALSE),C18178),\"\")","v":""}]
[null,null,"126-362","SEGURO","SEGURO MANIJA ELEVADOR CHEVY   TODOS POP SWIMNG MONZA",12.49,20,18,21,30,17,29,{"$f":"+IFERROR(HYPERLINK(VLOOKUP(C18189,FOTOGRAFICO!C:E,3,FALSE),C18189),\"\")","v":"126-362"}]
[null,null,"ECO03-0134","SEGURO","SEGURO COLLARIN ATOS",5.96,14,0,13,7,11,13,{"$f":"+IFERROR(HYPERLINK(VLOOKUP(C18198,FOTOGRAFICO!C:E,3,FALSE),C18198),\"\")","v":""}]
[null,null,"G22S","SEGURO","SEGURO COLLARIN VW SEDAN 1600",3.96,21,0,0,0,0,0,{"$f":"+IFERROR(HYPERLINK(VLOOKUP(C18201,FOTOGRAFICO!C:E,3,FALSE),C18201),\"\")","v":"G22S"}]
[null,null,"ORI191615270A","SEGURO","SEGURO BALATA A2 A3 JGO 2 PZAS P/BALATA 7183",14.92,31,10,4,12,18,4,{"$f":"+IFERROR(HYPERLINK(VLOOKUP(C18214,FOTOGRAFICO!C:E,3,FALSE),C18214),\"\")","v":"ORI191615270A"}]
[null,null,"SEG12*1.5","SEGURO","SEGURO TUERCA RIN 12X1.5 JUEGO 2 LLAVES TUERCA LARGA MARCA    TUNIX IMPORTACION",102.98,5,6,9,8,6,4,{"$f":"+IFERROR(HYPERLINK(VLOOKUP(C18221,FOTOGRAFICO!C:E,3,FALSE),C18221),\"\")","v":""}]
[null,null,"SEI462004314X2P","SEGURO","SEGURO RHIN TUERCA 14X2 HIPPOS 2 LLAVES IMPORTADO SOBRE PEDID SOLICITADO X MIGUEL ROMERO",204.34,0,0,0,0,0,0,{"$f":"+IFERROR(HYPERLINK(VLOOKUP(C18233,FOTOGRAFICO!C:E,3,FALSE),C18233),\"\")","v":""}]
[null,null,"WUR0502221","SEGURO","SEGURO CHICOTE VELOCIMETRO VW",2.29,12,0,0,0,0,0,{"$f":"+IFERROR(HYPERLINK(VLOOKUP(C18243,FOTOGRAFICO!C:E,3,FALSE),C18243),\"\")","v":""}]
[null,null,"LIQ-2505","SELLADOR","SELLA FUGAS LIQUI MOLY RADIADO",223.31,3,4,0,0,0,0,{"$f":"+IFERROR(HYPERLINK(VLOOKUP(C18253,FOTOGRAFICO!C:E,3,FALSE),C18253),\"\")","v":"LIQ-2505"}]
[null,null,"05069357AA","SELLO","SELLO VALVULA ATOS $ X PZA 1.0 L Y 1.1L 99-10 UTILIZA 12 PZAS MARCA BRUCK GERMANY",8.08,134,0,155,540,21,216,{"$f":"+IFERROR(HYPERLINK(VLOOKUP(C18256,FOTOGRAFICO!C:E,3,FALSE),C18256),\"\")","v":"05069357AA"}]
[null,null,"VS-10046","SELLO","SELLO VALV URVAN 2.4 JGO 16 PZ 16 VALVS PICK UP 2.4L 16VAL    MARCA SELLO V HECHO EN MEXICO",112.7,4,0,3,9,0,3,{"$f":"+IFERROR(HYPERLINK(VLOOKUP(C18272,FOTOGRAFICO!C:E,3,FALSE),C18272),\"\")","v":"VS-10046"}]
[null,null,"VS-10054","SELLO","SELLO VALVUL TSURU III 16 PZAS MOTOR 16 VALV SENTRA 1.6L 16VA MARCA SELLO V HECHO EN MEXICO",112.71,6,4,7,5,10,0,{"$f":"+IFERROR(HYPERLINK(VLOOKUP(C18276,FOTOGRAFICO!C:E,3,FALSE),C18276),\"\")","v":"VS-10054"}]
[null,null,"07C-906-461","SENSOR","SENSOR MAF BORA 2.5 05-10      JETTA A4 BEETLE 2.5 05-12 CON  CARCASA VOLTMAX 71056",696.64,2,0,0,0,0,0,{"$f":"+IFERROR(HYPERLINK(VLOOKUP(C18283,FOTOGRAFICO!C:E,3,FALSE),C18283),\"\")","v":"07C-906-461"}]
[null,null,"24105480-Z","SENSOR","SENSOR MAP AVEO 1.5 18-22      CAVALIER 1.5 18-21 MARCA Z-PRO",410.03,0,1,1,1,2,2,{"$f":"+IFERROR(HYPERLINK(VLOOKUP(C18295,FOTOGRAFICO!C:E,3,FALSE),C18295),\"\")","v":""}]
[null,null,"5Z0919149","SENSOR","SENSOR VSS VELOCIMETRO VW GOL  1.6 09-13 SAVEIRO 1.6 10-13    LUPO 1.6 05-09 BRUCK GERMANY",235.06,2,0,3,0,5,6,{"$f":"+IFERROR(HYPERLINK(VLOOKUP(C18305,FOTOGRAFICO!C:E,3,FALSE),C18305),\"\")","v":"5Z0919149"}]
[null,null,"96959997KR","SENSOR","SENSOR ABS DEL IZQ G3 1.6 07-  10 AVEO 1.6 08-17 MARCA KOREA  IMPORTADO PIDE NADIEL CASTILLO",302.36,0,0,0,0,0,0,{"$f":"+IFERROR(HYPERLINK(VLOOKUP(C18315,FOTOGRAFICO!C:E,3,FALSE),C18315),\"\")","v":""}]
[null,null,"BRU226A01KT0A","SENSOR","SENSOR OXIGENO VERSA 11-19 1.6 MARCH 11-19 1.6 M37 12-13 3.7  M56 11-12 5.6 DESPUES DEL",602.97,1,1,1,1,1,1,{"$f":"+IFERROR(HYPERLINK(VLOOKUP(C18327,FOTOGRAFICO!C:E,3,FALSE),C18327),\"\")","v":"BRU226A01KT0A"}]
[null,null,"BRU3931002600","SENSOR","SENSOR CIGUENAL CKP ATOS 1.0   1.1 01-12 MARCA EURO ESPANA    = ORI39310-02600K",363.17,5,5,7,10,8,5,{"$f":"+IFERROR(HYPERLINK(VLOOKUP(C18334,FOTOGRAFICO!C:E,3,FALSE),C18334),\"\")","v":"BRU3931002600"}]
[null,null,"BRU90451442","SENSOR","SENSOR CIGUENAL CKP CHEVY 1.4  1.6 96-03 TBI MPFI CORSA 1.8   03-08 BRUCK GERMA = GM90451442",185.7,5,6,14,30,0,2,{"$f":"+IFERROR(HYPERLINK(VLOOKUP(C18347,FOTOGRAFICO!C:E,3,FALSE),C18347),\"\")","v":"BRU90451442"}]
[null,null,"CKP-96325868","SENSOR","SENSOR CIGUENAL CKP SPARK 1.2  11-17 BEAT 1.2 18-20 MATIZ 1.0 04-15 VOLTMAX = 96325868",163.19,0,0,3,0,0,0,{"$f":"+IFERROR(HYPERLINK(VLOOKUP(C18350,FOTOGRAFICO!C:E,3,FALSE),C18350),\"\")","v":""}]
[null,null,"EGP22455VM","SENSOR","SENSOR ARBOL LEVAS SONIC 1.6   12-17 CRUZE 1.8 11-15 TRAX 1.8 13-20 SONIC 1.8 12-18 VOLTMAX",245.47,3,0,0,3,3,3,{"$f":"+IFERROR(HYPERLINK(VLOOKUP(C18359,FOTOGRAFICO!C:E,3,FALSE),C18359),\"\")","v":""}]
[null,null,"INJ11517","SENSOR","SENSOR VSS VELOCIMETR NEON 2.0 2.4 SRT-4 95-04 PT CRUISER 2.4 02-04 MARCA INJETECH 31074",775.75,0,0,0,0,0,0,{"$f":"+IFERROR(HYPERLINK(VLOOKUP(C18370,FOTOGRAFICO!C:E,3,FALSE),C18370),\"\")","v":"INJ11517"}]
[null,null,"INJ42931","SENSOR","SENSOR MAP TOWN CONUTRY 01-04  DAKOTA 02 RAM 1500 02-03 LIBER TY 02-04 INJETECH",525.72,0,0,0,0,0,0,{"$f":"+IFERROR(HYPERLINK(VLOOKUP(C18382,FOTOGRAFICO!C:E,3,FALSE),C18382),\"\")","v":""}]
[null,null,"K141983","SENSOR","SENSOR TPS RANGER 2.3 01-12    ECOSPORT 2.0 04-08 ESCAPE 2.3  05-08 MARCA KEM PIDE ABRAHAM",155.38,1,0,0,0,0,0,{"$f":"+IFERROR(HYPERLINK(VLOOKUP(C18388,FOTOGRAFICO!C:E,3,FALSE),C18388),\"\")","v":""}]
[null,null,"SR-C400","SENSOR","SENSOR DE CAMARA DE REVERSA    CON PANTALLA PARA TABLERO 3    SPIDER",1172.0899999999999,2,0,0,0,1,2,{"$f":"+IFERROR(HYPERLINK(VLOOKUP(C18402,FOTOGRAFICO!C:E,3,FALSE),C18402),\"\")","v":""}]
[null,null,"191919149E","SENSOR","SENSOR VELOCIMETR JETTA A4 STD 99-15 1.8T GOLF A4  BEETLE 98- 11 1.8T DERBY 95-09 1.8 SMIDTD",170.07,0,0,2,3,0,0,{"$f":"+IFERROR(HYPERLINK(VLOOKUP(C18409,FOTOGRAFICO!C:E,3,FALSE),C18409),\"\")","v":""}]
[null,null,"7H0927803","SENSOR","SENSOR ABS BORA 05-10 DEL IZQ  JETTA A4 99-18 2.0T, 2.5 BRUCK GTI 05-09 2.0T PASSAT B6 05-11",222.14,0,0,0,0,1,0,{"$f":"+IFERROR(HYPERLINK(VLOOKUP(C18421,FOTOGRAFICO!C:E,3,FALSE),C18421),\"\")","v":"7H0927803"}]
[null,null,"BRU01M927321B","SENSOR","SENSOR ABS JETTA A4 AUTOMATICO 99-15 1.8T, 2.0  GOLF A4 BRUCK 99-07 1.8T, 2.0 BEETLE 98-11",340.84,0,0,0,4,1,1,{"$f":"+IFERROR(HYPERLINK(VLOOKUP(C18431,FOTOGRAFICO!C:E,3,FALSE),C18431),\"\")","v":""}]
[null,null,"BSH0258007264","SENSOR","SENSOR SONDA LAMDA ALTIMA 01-  06 MURANO 03-08 MARCA BOSH     PIDE RAUL",1361.98,0,0,0,0,0,0,{"$f":"+IFERROR(HYPERLINK(VLOOKUP(C18432,FOTOGRAFICO!C:E,3,FALSE),C18432),\"\")","v":""}]
[null,null,"WHT003859","SENSOR","SENSOR ABS BORA 05-10 TRAS IZQ JETTA A4 11-18 2.0T, 2.5 BRUCK BETTLE 11-19 2.0T   2 PINES",153.97,0,0,1,0,1,1,{"$f":"+IFERROR(HYPERLINK(VLOOKUP(C18444,FOTOGRAFICO!C:E,3,FALSE),C18444),\"\")","v":"WHT003859"}]
[null,null,"INJ42988","SENSOR","SENSOR MAF TSURU 1.6 95-97     LUCINO 1.6 96-98 SENTRA 1.6    95-99 INJETECH PIDE JORGE GUT.",1122.21,0,0,0,0,0,0,{"$f":"+IFERROR(HYPERLINK(VLOOKUP(C18450,FOTOGRAFICO!C:E,3,FALSE),C18450),\"\")","v":""}]
[null,null,"1785753","SENSOR","SENSOR ABS TRANSIT",1652.16,0,0,0,0,0,0,{"$f":"+IFERROR(HYPERLINK(VLOOKUP(C18464,FOTOGRAFICO!C:E,3,FALSE),C18464),\"\")","v":""}]
[null,null,"INJ43564C","SENSOR","SENSOR MAF TSURU III 1.6 98-17 NISSAN PICK UP D21 2.4 94-08   MARCA INJETECH 20962",1028.1600000000001,0,0,0,0,0,0,{"$f":"+IFERROR(HYPERLINK(VLOOKUP(C18476,FOTOGRAFICO!C:E,3,FALSE),C18476),\"\")","v":""}]
[null,null,"WAIC01C","SEPARADOR","SEPARADOR BALATA TRAS CARIBE   GOLF JETTA JUEGO",82.04,6,0,0,0,0,0,{"$f":"+IFERROR(HYPERLINK(VLOOKUP(C18485,FOTOGRAFICO!C:E,3,FALSE),C18485),\"\")","v":""}]
[null,null,"SHAMPOO-SHAMPOO","SHAMPOO","SHAMPOO LIQUIDO ABRILLANTA Y   CUBRE DE POLVO",71.16,0,0,0,8,0,0,{"$f":"+IFERROR(HYPERLINK(VLOOKUP(C18496,FOTOGRAFICO!C:E,3,FALSE),C18496),\"\")","v":""}]
[null,null,"TW-M","SILBATO","SILBATO PARA MOFLE MEDIANO",113.25,5,0,0,0,0,0,{"$f":"+IFERROR(HYPERLINK(VLOOKUP(C18499,FOTOGRAFICO!C:E,3,FALSE),C18499),\"\")","v":"TW-M"}]
[null,null,"SDA03","SILVATRIN","SILVATRIN NEON X 1 METRO       FOSFORESCENTE ROLLO 45 METROS  IMPORTADO",4.25,0,2,0,0,68,0,{"$f":"+IFERROR(HYPERLINK(VLOOKUP(C18514,FOTOGRAFICO!C:E,3,FALSE),C18514),\"\")","v":""}]
[null,null,"XG0832D","SILVATRIN","SILVATRIN DORADO X 1 METRO ORO BRILLOSO ROLLO 45 METROS       IMPORTADO MOL-670O",4.95,0,37,26,0,56,0,{"$f":"+IFERROR(HYPERLINK(VLOOKUP(C18519,FOTOGRAFICO!C:E,3,FALSE),C18519),\"\")","v":"XG0832D"}]
[null,null,"SOCP9005","SOCKET","SOCKET DE CERAMICA 9005",14.07,10,10,8,10,9,8,{"$f":"+IFERROR(HYPERLINK(VLOOKUP(C18531,FOTOGRAFICO!C:E,3,FALSE),C18531),\"\")","v":""}]
[null,null,"ZSOCRELAY5","SOCKET","SOCKET DE RELAY 5 ENTRADAS     SERRA",13.36,10,10,10,10,10,10,{"$f":"+IFERROR(HYPERLINK(VLOOKUP(C18538,FOTOGRAFICO!C:E,3,FALSE),C18538),\"\")","v":""}]
[null,null,"19336452","SONDA","SONDA LAMBDA SONIC 1.6 12-17   CONECTOR 4 CABLES 42 CM ANTES  DE CATALIZADOR ACDELCO ORIGINA",865.98,1,1,3,1,5,1,{"$f":"+IFERROR(HYPERLINK(VLOOKUP(C18547,FOTOGRAFICO!C:E,3,FALSE),C18547),\"\")","v":"19336452"}]
[null,null,"BSH15158","SONDA","SONDA LAMBDA VENTO 1.6 14-20   POLO 1.6 15-20 4 CABLES 60 CM  ANTES DE CATALIZAD MARCA BOSCH",1080.1400000000001,1,4,0,3,0,1,{"$f":"+IFERROR(HYPERLINK(VLOOKUP(C18558,FOTOGRAFICO!C:E,3,FALSE),C18558),\"\")","v":"BSH15158"}]
[null,null,"T11667","SONDA","SONDA LAMBDA FOCUS 2.0 05-11   DESPUES DE CATALIZADOR LARGO   36 CM 4 PINES MARCA TOMCO",616.28,0,0,0,0,0,0,{"$f":"+IFERROR(HYPERLINK(VLOOKUP(C18570,FOTOGRAFICO!C:E,3,FALSE),C18570),\"\")","v":""}]
[null,null,"USA12372","SONDA","SONDA LAMBDA POINTER 1.8 98-03 POINTER GTI 2.0 00-02 4 CABLES ANTES DE CAT.MARCA INJETECH",633.05999999999995,0,0,0,0,0,0,{"$f":"+IFERROR(HYPERLINK(VLOOKUP(C18576,FOTOGRAFICO!C:E,3,FALSE),C18576),\"\")","v":"USA12372"}]
[null,null,"93310435","SONDA","SONDA LAMDA CORSA 06-08 1.8 4  PINES TORNADO 04-12 1.8 MARCA  VOLTMAX = 18229 TOMCO",821.43,0,9,0,0,0,0,{"$f":"+IFERROR(HYPERLINK(VLOOKUP(C18581,FOTOGRAFICO!C:E,3,FALSE),C18581),\"\")","v":"93310435"}]
[null,null,"INJSOXCH024","SONDA","SONDA LAMBDA ATTITUDE 1.4 1.6  06-12 ANTES Y DESPUES DE C.C.  39 CM 4 CABLES 11958 INJETECH",704.45,0,0,0,0,0,0,{"$f":"+IFERROR(HYPERLINK(VLOOKUP(C18593,FOTOGRAFICO!C:E,3,FALSE),C18593),\"\")","v":""}]
[null,null,"BOTANA-CALL33","SOPA","SOPA INST MARUCHAN CAMARON HAB ANERO",15.04,0,0,0,0,0,0,{"$f":"+IFERROR(HYPERLINK(VLOOKUP(C18601,FOTOGRAFICO!C:E,3,FALSE),C18601),\"\")","v":""}]
[null,null,"11360-9HL0BSFT","SOPORTE","SOPORTE MOTOR TRAS V-DRIVE 1.6 20-23 VERSA 1.6 12-19 MARCH    1.6 11-23 TORSION MARCA SAFETY",286.61,8,17,5,1,0,10,{"$f":"+IFERROR(HYPERLINK(VLOOKUP(C18613,FOTOGRAFICO!C:E,3,FALSE),C18613),\"\")","v":"11360-9HL0BSFT"}]
[null,null,"26201840","SOPORTE","SOPORTE FRONTAL SUP CAVALIER   1.5 18-21 TRANSMISION MANUAL   MARCA GM PIDE GASMANO",487.38,0,0,0,0,0,0,{"$f":"+IFERROR(HYPERLINK(VLOOKUP(C18625,FOTOGRAFICO!C:E,3,FALSE),C18625),\"\")","v":""}]
[null,null,"3489SFT","SOPORTE","SOPORT MOTOR TRAS FIGO 1.5 16- 18 FIESTA 1.6 11-19 IKON 1.6   11-15 TORSION SAFETY 7495",341.46,0,7,10,6,0,4,{"$f":"+IFERROR(HYPERLINK(VLOOKUP(C18630,FOTOGRAFICO!C:E,3,FALSE),C18630),\"\")","v":""}]
[null,null,"6686-KB","SOPORTE","SOPORTE MOTOR FRON DER TSURU   III 92-17 TSUBAME 92-04 DE     METAL MARCA KABUTO 6686",127.31,0,1,1,1,1,1,{"$f":"+IFERROR(HYPERLINK(VLOOKUP(C18645,FOTOGRAFICO!C:E,3,FALSE),C18645),\"\")","v":"6686-KB"}]
[null,null,"6977KB","SOPORTE","SOPORTE TRANS AUTO IZQ GOLF    JETTA A4 98-14 BEETLE 98-12    TOLEDO LEON 00-06 KABUTO 6977",424.39,0,0,2,0,1,1,{"$f":"+IFERROR(HYPERLINK(VLOOKUP(C18648,FOTOGRAFICO!C:E,3,FALSE),C18648),\"\")","v":""}]
[null,null,"7203-KB","SOPORTE","SOPORTE MOTOR DER SUP TIIDA    06-18 CUBE 09-14 BARRA TORSION MARCA KABUTO = RC7203",180.36,1,1,3,1,2,0,{"$f":"+IFERROR(HYPERLINK(VLOOKUP(C18659,FOTOGRAFICO!C:E,3,FALSE),C18659),\"\")","v":"7203-KB"}]
[null,null,"7447KB","SOPORTE","SOPORTE CAJA TRANSMISION URVAN NV350 2.5 08-23 MARCA KABUTO   = 7447 = EGP11320-VX200",0,0,0,0,0,0,0,{"$f":"+IFERROR(HYPERLINK(VLOOKUP(C18668,FOTOGRAFICO!C:E,3,FALSE),C18668),\"\")","v":""}]
[null,null,"7499SFT","SOPORTE","SOPORTE MOTOR TRASERO GM SONIC 1.6L 11-18 GM TRAX 14-16 1.4L  1.8L MARCA SAFETY CHINA",359.29,0,0,2,2,0,4,{"$f":"+IFERROR(HYPERLINK(VLOOKUP(C18675,FOTOGRAFICO!C:E,3,FALSE),C18675),\"\")","v":"7499SFT"}]
[null,null,"90538063","SOPORTE","SOPORTE MOTOR TRAS CHEVY 94-12 TORNADO 11-20 MARCA BRUCK      GERMANY 1906 = RC1906",196.27,13,0,0,5,9,5,{"$f":"+IFERROR(HYPERLINK(VLOOKUP(C18687,FOTOGRAFICO!C:E,3,FALSE),C18687),\"\")","v":"90538063"}]
[null,null,"93302282","SOPORTE","SOPORTE IZQ L/CAJA CORSA 02-08 MERIVA 1.8 02-08 TORNADO 04-11 PLACA METALIC P/4 TORNI SAFETY",418.26,12,6,4,7,5,2,{"$f":"+IFERROR(HYPERLINK(VLOOKUP(C18692,FOTOGRAFICO!C:E,3,FALSE),C18692),\"\")","v":"93302282"}]
[null,null,"BRU11210EL01B","SOPORTE","SOPORTE MOTOR DERECHO TIIDA    1.8 06-18 MARCA BRUCK GERMANY  11210EL01B 7399-H",798.06,1,5,0,1,2,3,{"$f":"+IFERROR(HYPERLINK(VLOOKUP(C18707,FOTOGRAFICO!C:E,3,FALSE),C18707),\"\")","v":"BRU11210EL01B"}]
[null,null,"BRU191199381","SOPORTE","SOPORTE MOTOR CORDOBA 99-02    1.6 CORDOBA 03-09 1.6 IBIZA 03 -08 1.6 IBIZA 09-17 1.6 BRUCK",168.08,1,1,2,1,1,1,{"$f":"+IFERROR(HYPERLINK(VLOOKUP(C18719,FOTOGRAFICO!C:E,3,FALSE),C18719),\"\")","v":"BRU191199381"}]
[null,null,"BRU1K0199555M","SOPORTE","SOPORTE MOTOR BORA 05-10 1.9   TDI AUDI A3 04-12 2.0T ALTEA   07-14 2.0 LEON 07-13 1.8 BRUCK",735.78,3,1,1,2,1,2,{"$f":"+IFERROR(HYPERLINK(VLOOKUP(C18727,FOTOGRAFICO!C:E,3,FALSE),C18727),\"\")","v":"BRU1K0199555M"}]
[null,null,"BRU1K0253147C","SOPORTE","SOPORTE ESCAPE JETTA A6 11-18  2.5 FSI BORA 05-10 2.5 FSI     BEETLE 11-19 2.5 BRUCK",41.14,1,1,1,1,1,1,{"$f":"+IFERROR(HYPERLINK(VLOOKUP(C18730,FOTOGRAFICO!C:E,3,FALSE),C18730),\"\")","v":"BRU1K0253147C"}]
[null,null,"BRU6N0501541D","SOPORTE","SOPORTE EJE SUSP TRAS IBIZA    DERBY CORDOBA",71.78,0,0,0,16,2,0,{"$f":"+IFERROR(HYPERLINK(VLOOKUP(C18742,FOTOGRAFICO!C:E,3,FALSE),C18742),\"\")","v":"BRU6N0501541D"}]
[null,null,"BRU93302256","SOPORTE","SOPORTE MOTOR CORSA 02-09 1.8  TORNADO 03-19 1.8 MERIVA 06-08 1.8 TRASERO SUPERIOR IZQ BRUCK",287.98,0,4,0,1,0,1,{"$f":"+IFERROR(HYPERLINK(VLOOKUP(C18756,FOTOGRAFICO!C:E,3,FALSE),C18756),\"\")","v":"BRU93302256"}]
[null,null,"BRU95474686","SOPORTE","SOPORTE TRANSMISION SONIC 1.6  11-17 ENCORE 1.4 14-16 TRAX    1.4 13-16 STD MARCA BRUCK",749.86,0,1,4,2,3,2,{"$f":"+IFERROR(HYPERLINK(VLOOKUP(C18762,FOTOGRAFICO!C:E,3,FALSE),C18762),\"\")","v":"BRU95474686"}]
[null,null,"D7713","SOPORTE","SOPORTE MOTOR TRASERO SX-4 07- 09 SUZUKI 2.0 MARCA DAI 7713   PIDE MIGUEL ANGEL",741.46,0,0,0,0,0,0,{"$f":"+IFERROR(HYPERLINK(VLOOKUP(C18774,FOTOGRAFICO!C:E,3,FALSE),C18774),\"\")","v":""}]
[null,null,"DAI7168","SOPORTE","SOPORTE MOTOR FONRTAL MERCURY  VILLAGER 93-02 MARCA DAI       PEDIDO MARCO",346.98,0,0,0,0,0,0,{"$f":"+IFERROR(HYPERLINK(VLOOKUP(C18785,FOTOGRAFICO!C:E,3,FALSE),C18785),\"\")","v":""}]
[null,null,"ECO211","SOPORTE","SOPORTE COMBI 1.6 CARACOL",123.75,4,0,0,0,0,0,{"$f":"+IFERROR(HYPERLINK(VLOOKUP(C18794,FOTOGRAFICO!C:E,3,FALSE),C18794),\"\")","v":""}]
[null,null,"EGP7D0199132D","SOPORTE","SOPORTE EUROVAN GAS 99-04 DER  EGP",533.45000000000005,4,0,0,0,0,0,{"$f":"+IFERROR(HYPERLINK(VLOOKUP(C18801,FOTOGRAFICO!C:E,3,FALSE),C18801),\"\")","v":""}]
[null,null,"EURO1122000QAB","SOPORTE","SOPORTE CAJA PLATINA STD COCOL 1.6 02-09 =RC7008",91.67,3,5,2,0,0,5,{"$f":"+IFERROR(HYPERLINK(VLOOKUP(C18804,FOTOGRAFICO!C:E,3,FALSE),C18804),\"\")","v":""}]
[null,null,"NIS107P100","SOPORTE","SOPORTE PALANCA VEL TSURU III  92-17 SENTRA 99-02 DAI",104.77,2,1,0,2,1,4,{"$f":"+IFERROR(HYPERLINK(VLOOKUP(C18818,FOTOGRAFICO!C:E,3,FALSE),C18818),\"\")","v":""}]
[null,null,"NISMSRN1300","SOPORTE","SOPORTE MOTOR FRONTAL SENTRA   1.8 01-06 SENTRA 2.0 96-06     SENTRA 2.5 02-06 BRUCK GERMANY",306.76,6,6,0,6,0,8,{"$f":"+IFERROR(HYPERLINK(VLOOKUP(C18824,FOTOGRAFICO!C:E,3,FALSE),C18824),\"\")","v":""}]
[null,null,"RC1823","SOPORTE","SOPORTE MOTOR DERECHO TOPAZ    87-92 GHIA 91-94 TEMPO 87-91   MARCA DAI PIDE DANIEL",312.24,0,0,0,0,0,0,{"$f":"+IFERROR(HYPERLINK(VLOOKUP(C18836,FOTOGRAFICO!C:E,3,FALSE),C18836),\"\")","v":""}]
[null,null,"RC1935","SOPORTE","SOPORTE MOTOR TRAS CHEVY 01-12 MOTOR 1.6 CON AIRE TORNADO 1.8 11-19 DAI MEXICO = 9230328",220.14,6,5,3,8,4,2,{"$f":"+IFERROR(HYPERLINK(VLOOKUP(C18847,FOTOGRAFICO!C:E,3,FALSE),C18847),\"\")","v":""}]
[null,null,"RC6678","SOPORTE","SOPORTE REPUESTO MOTOR IZQ DER TSURU III 92-17 P/SOPORTES     RC6685 RC6686 RC6854 DAI 1941",121.13,13,8,0,0,0,0,{"$f":"+IFERROR(HYPERLINK(VLOOKUP(C18856,FOTOGRAFICO!C:E,3,FALSE),C18856),\"\")","v":""}]
[null,null,"RC6977","SOPORTE","SOPORTE TRANS AUTO IZQ GOLF    JETTA A4 98-14 BEETLE 98-12    TOLEDO LEON 00-06 DAI 6977",693.94,5,6,4,4,2,3,{"$f":"+IFERROR(HYPERLINK(VLOOKUP(C18868,FOTOGRAFICO!C:E,3,FALSE),C18868),\"\")","v":""}]
[null,null,"RC6999","SOPORTE","SOPORTE TRAS KA 01/05 1.6 L4   MCA DAI",533.89,0,0,1,1,0,0,{"$f":"+IFERROR(HYPERLINK(VLOOKUP(C18872,FOTOGRAFICO!C:E,3,FALSE),C18872),\"\")","v":""}]
[null,null,"RC7057H","SOPORTE","SOPORTE MOTOR DER IBIZA 03-16  POLO 03-09 LUPO 05-09 CROSSFOX 07-12 CORDOBA 03-08 MARCA DAI",979.01,1,2,2,3,2,2,{"$f":"+IFERROR(HYPERLINK(VLOOKUP(C18879,FOTOGRAFICO!C:E,3,FALSE),C18879),\"\")","v":""}]
[null,null,"RC7098H","SOPORTE","SOPORTE EUROVAN GAS 00-04 TRAS BASE C/SOPORTE",1500.47,1,0,0,0,0,0,{"$f":"+IFERROR(HYPERLINK(VLOOKUP(C18891,FOTOGRAFICO!C:E,3,FALSE),C18891),\"\")","v":""}]
[null,null,"RC7219","SOPORTE","SOPORTE MOTOR TRAS SENTRA 2.0  07-12 MARCA DAI MEXICO 7219",272.95,4,0,0,0,0,0,{"$f":"+IFERROR(HYPERLINK(VLOOKUP(C18901,FOTOGRAFICO!C:E,3,FALSE),C18901),\"\")","v":""}]
[null,null,"RC7345-9","SOPORTE","SOPORTE MOTOR DERECHO JOURNEY  2.5 3.5 09-11 MARCA DAI PIDE   MIGUEL ANGEL 7345-9",461.68,0,0,0,0,0,0,{"$f":"+IFERROR(HYPERLINK(VLOOKUP(C18911,FOTOGRAFICO!C:E,3,FALSE),C18911),\"\")","v":""}]
[null,null,"RC7524","SOPORTE","SOPORTE MOTOR DERECHO SPARK    1.2 11-17 BEAT 1.2 18-20 MARCA DAI MEXICO 7524 = 7524SFT",827.71,8,8,7,19,9,0,{"$f":"+IFERROR(HYPERLINK(VLOOKUP(C18918,FOTOGRAFICO!C:E,3,FALSE),C18918),\"\")","v":""}]
[null,null,"SAN395","SOPORTE","SOPORTE PARASOL TSURU III CENT TSURU III 92- CENTRAL",11.12,59,0,0,0,0,0,{"$f":"+IFERROR(HYPERLINK(VLOOKUP(C18930,FOTOGRAFICO!C:E,3,FALSE),C18930),\"\")","v":""}]
[null,null,"SAN93","SOPORTE","SOPORTE FACIA GOLF A2 REDONDO  P/FACIA DELGADA",6.91,60,0,0,0,0,0,{"$f":"+IFERROR(HYPERLINK(VLOOKUP(C18934,FOTOGRAFICO!C:E,3,FALSE),C18934),\"\")","v":""}]
[null,null,"DAI7315","SOPORTE","SOPORT MOTOR FRONTAL AERIO 2.0 02-03 AERIO 2.3 04-07 ESTEEM   1.6 1.8 95-02 BCS DAI PIDE ROA",413.06,0,0,0,0,0,0,{"$f":"+IFERROR(HYPERLINK(VLOOKUP(C18950,FOTOGRAFICO!C:E,3,FALSE),C18950),\"\")","v":""}]
[null,null,"DAI7393","SOPORTE","SOPORTE MOTOR DERECHO VW GOL   09-20 SAVEIRO 09-19 MARCA DAI  7393 PIDE RAUL",1634.14,0,0,0,0,0,0,{"$f":"+IFERROR(HYPERLINK(VLOOKUP(C18953,FOTOGRAFICO!C:E,3,FALSE),C18953),\"\")","v":""}]
[null,null,"REC6903","SOPORTE","SOPORTE DER MOTOR SUP NEON 00- 05 PT CRUISER 01-10 MARCA DAI  PEDIDO DAVID",536.99,0,0,0,0,0,0,{"$f":"+IFERROR(HYPERLINK(VLOOKUP(C18963,FOTOGRAFICO!C:E,3,FALSE),C18963),\"\")","v":""}]
[null,null,"BRU377807193","SOPORTE","SOPORTE FACIA TRAS IZQ POINTER 1.8 00-05 MARCA: BRUCK-GERMANY PEDIDO JORGE",20,0,0,0,0,0,0,{"$f":"+IFERROR(HYPERLINK(VLOOKUP(C18973,FOTOGRAFICO!C:E,3,FALSE),C18973),\"\")","v":"BRU377807193"}]
[null,null,"D7389","SOPORTE","SOPORTE MOTOR DERECHO PILOT 01 -15 3.5 ODYSEY 3.5 05-17 MARCA DAI PIDE ANGEL",0,0,0,0,0,0,0,{"$f":"+IFERROR(HYPERLINK(VLOOKUP(C18985,FOTOGRAFICO!C:E,3,FALSE),C18985),\"\")","v":""}]
[null,null,"90448946","SOPORTE","SOPORTE SUPERIOR RADIADOR      DERECHO CHEVY                  SOBRE PEDIDO ANGEL VERA",58,0,0,0,0,0,0,{"$f":"+IFERROR(HYPERLINK(VLOOKUP(C18998,FOTOGRAFICO!C:E,3,FALSE),C18998),\"\")","v":""}]
[null,null,"SD7671","SOPORTE","SOPORTE MOTOR FRONTAL MURANO   3.5 15-16 ALTIMA MAXIMA 3.5 07 -16 PATHFINDER 13-16 A.VERA",1167.3699999999999,0,0,0,0,0,0,{"$f":"+IFERROR(HYPERLINK(VLOOKUP(C19005,FOTOGRAFICO!C:E,3,FALSE),C19005),\"\")","v":""}]
[null,null,"SOC1034","SOQUET","SOQUET PARA FOCO 2 POLOS TIPO  ARANA 1034 IMPORTADO",10.16,34,17,23,46,25,16,{"$f":"+IFERROR(HYPERLINK(VLOOKUP(C19017,FOTOGRAFICO!C:E,3,FALSE),C19017),\"\")","v":"SOC1034"}]
[null,null,"BRUCK1HM805903","SPOILER","SPOILER DEL FACIA GOLF A3 93-9 GOLF JETTA A3 93-99 JUEGO",394.93,6,2,3,5,0,4,{"$f":"+IFERROR(HYPERLINK(VLOOKUP(C19027,FOTOGRAFICO!C:E,3,FALSE),C19027),\"\")","v":"BRUCK1HM805903"}]
[null,null,"215-3112-01","SPOILER","SPOILER DEL JETTA A4 99-07     MARCA TYG PEDIDO JORGE",354.62,0,1,0,0,0,0,{"$f":"+IFERROR(HYPERLINK(VLOOKUP(C19028,FOTOGRAFICO!C:E,3,FALSE),C19028),\"\")","v":"215-3112-01"}]
[null,null,"N000199","SUDADERA","SUDADERA P/PALANCA SPARCO",118.82,0,0,2,0,0,0,{"$f":"+IFERROR(HYPERLINK(VLOOKUP(C19040,FOTOGRAFICO!C:E,3,FALSE),C19040),\"\")","v":""}]
[null,null,"RSTEX18002BK","SUJETADOR","SUJETADOR RED ELASTICA NEGRO   PORTA CASCOS CON GANCHOS       FIJADORES PATRONES REFLEJANTES",48.59,1,2,2,2,1,2,{"$f":"+IFERROR(HYPERLINK(VLOOKUP(C19046,FOTOGRAFICO!C:E,3,FALSE),C19046),\"\")","v":""}]
[null,null,"6Y0-953-235","SWITCH","SWITCH INTERMITENTES EUROVAN   DIESEL 03-09 TRIANGULAR MCA:",122.59,0,0,0,0,3,0,{"$f":"+IFERROR(HYPERLINK(VLOOKUP(C19060,FOTOGRAFICO!C:E,3,FALSE),C19060),\"\")","v":"6Y0-953-235"}]
[null,null,"BRU90213283","SWITCH","SWITCH LUCES CHEVY MONZA 94-12 CON REOSTATO, MARCA: BRUCK C2  CORSA TORNADO",208.04,3,4,4,14,9,11,{"$f":"+IFERROR(HYPERLINK(VLOOKUP(C19067,FOTOGRAFICO!C:E,3,FALSE),C19067),\"\")","v":"BRU90213283"}]
[null,null,"GM9138045","SWITCH","SWITCH INTERMITENTES CHEVY     MONZA 94-01 NO LE QUEDA AL C2  MARCA: BRUCK",116.36,4,3,1,6,4,3,{"$f":"+IFERROR(HYPERLINK(VLOOKUP(C19079,FOTOGRAFICO!C:E,3,FALSE),C19079),\"\")","v":""}]
[null,null,"ORI113941531B","SWITCH","SWITCH LUCES VW SEDAN JALON",102.85,11,6,0,1,0,4,{"$f":"+IFERROR(HYPERLINK(VLOOKUP(C19089,FOTOGRAFICO!C:E,3,FALSE),C19089),\"\")","v":"ORI113941531B"}]
[null,null,"SW101G","SWITCH","SWITCH TECLA REDONDA C/LUZ     ON/OFF VERDE 2.2X2.6 CM",6.81,0,25,0,9,0,2,{"$f":"+IFERROR(HYPERLINK(VLOOKUP(C19099,FOTOGRAFICO!C:E,3,FALSE),C19099),\"\")","v":""}]
[null,null,"SW14N","SWITCH","SWITCH TIPO BOTON ON/OFF NEGRO GRANDE 1.8X3.4 CM",34.200000000000003,0,27,78,8,0,5,{"$f":"+IFERROR(HYPERLINK(VLOOKUP(C19102,FOTOGRAFICO!C:E,3,FALSE),C19102),\"\")","v":"SW14N"}]
[null,null,"ORI5Z09532351NN","SWITCH","SWITCH INTERMITENTES SPORTVAN  2009 MARCA VW ORIGINAL PIDE    MOISES",385.4,0,1,0,0,0,0,{"$f":"+IFERROR(HYPERLINK(VLOOKUP(C19114,FOTOGRAFICO!C:E,3,FALSE),C19114),\"\")","v":""}]
[null,null,"SAN439","T","T GOLF JETTA A4 P/AGUA         EUROVAN DIESEL                 C/COSTILLAS AL CENTRO",13.46,66,4,0,0,1,0,{"$f":"+IFERROR(HYPERLINK(VLOOKUP(C19122,FOTOGRAFICO!C:E,3,FALSE),C19122),\"\")","v":""}]
[null,null,"2585","TAMBOR","TAMBOR DELANTERO VW SEDAN 1200 1500 MARCA RIVSA NACIONAL 1596",538.97,3,0,0,0,0,0,{"$f":"+IFERROR(HYPERLINK(VLOOKUP(C19134,FOTOGRAFICO!C:E,3,FALSE),C19134),\"\")","v":"2585"}]
[null,null,"AMB2610","TAMBOR","TAMBOR DEL VW SEDAN 1600 74-94 SIN TAZA 4 BARRENOS MARCA      BREMBO = TD616",764.73,0,0,0,1,0,2,{"$f":"+IFERROR(HYPERLINK(VLOOKUP(C19143,FOTOGRAFICO!C:E,3,FALSE),C19143),\"\")","v":"AMB2610"}]
[null,null,"BRD350210","TAMBOR","TAMBOR TRAS PLATINA CLIO 1.6   02-10 APRIO 08-10 SANDERO 10-  19 STEPWAY 09-13 MARCA RUVILLE",623.86,1,0,0,0,0,4,{"$f":"+IFERROR(HYPERLINK(VLOOKUP(C19154,FOTOGRAFICO!C:E,3,FALSE),C19154),\"\")","v":"BRD350210"}]
[null,null,"EGP90007526","TAMBOR","TAMBOR TRAS CHEVY 1.4 1.6 94-  12 MARCA FP IMPORTADO = TT4998 = BRD132510",492.31,1,17,11,10,0,9,{"$f":"+IFERROR(HYPERLINK(VLOOKUP(C19166,FOTOGRAFICO!C:E,3,FALSE),C19166),\"\")","v":""}]
[null,null,"FT20013","TAMBOR","TAMBOR TRAS PLATINA CLIO 1.6   02-10 APRIO 08-10 SANDERO 10-  19 STEPWAY 09-13 MARCA FRITEC",644.36,2,0,2,2,0,4,{"$f":"+IFERROR(HYPERLINK(VLOOKUP(C19172,FOTOGRAFICO!C:E,3,FALSE),C19172),\"\")","v":"FT20013"}]
[null,null,"OMN96470999","TAMBOR","TAMBOR TRAS AVEO 1.6 07-17     SPARK 11-17 BEAT 18-21 SWIFT   07-11 PONTIAC G3 06-09 OMNI5",245.75,0,0,0,0,0,0,{"$f":"+IFERROR(HYPERLINK(VLOOKUP(C19177,FOTOGRAFICO!C:E,3,FALSE),C19177),\"\")","v":""}]
[null,null,"FT28004","TAMBOR","TAMBOR TRAS GOLF JETTA A2 87-  92 JETTA A3 1.8 93-95 DERBY    1.8 95-00 BALAT DELGADA FRITEC",526.91999999999996,0,0,5,0,0,0,{"$f":"+IFERROR(HYPERLINK(VLOOKUP(C19193,FOTOGRAFICO!C:E,3,FALSE),C19193),\"\")","v":""}]
[null,null,"BDNK1170","TAMBOR","TAMBOR TRASERO ATTITUDE 1.2 15 -24 MIRAGE 1.2 G4 15-24 MARCA  YOKOMITSU IMPORTADO 3780A027",364.97,0,18,0,0,0,0,{"$f":"+IFERROR(HYPERLINK(VLOOKUP(C19196,FOTOGRAFICO!C:E,3,FALSE),C19196),\"\")","v":""}]
[null,null,"13264-MA00ATE","TAPA","TAPA PUNTERIAS URVAN 08-23 2.5 L NISSAN URVAN NV350 C/JUNTA   C/TAPON C/VALVULA PCV TOP ENGI",1095.7,18,0,8,16,30,8,{"$f":"+IFERROR(HYPERLINK(VLOOKUP(C19205,FOTOGRAFICO!C:E,3,FALSE),C19205),\"\")","v":"13264-MA00ATE"}]
[null,null,"93334741TE","TAPA","TAPA PUNTERIAS CHEVY 1.4 1.6   MONZA 1.6L 94-12               MARCA TOP ENGINE CHINA",368.89,10,11,10,16,8,7,{"$f":"+IFERROR(HYPERLINK(VLOOKUP(C19216,FOTOGRAFICO!C:E,3,FALSE),C19216),\"\")","v":"93334741TE"}]
[null,null,"BRU13502181","TAPA","TAPA SOPORTE AMORTIGUADOR      SPARK 11-20 1.2 DELANTERO SOLO GOMA MARCA BRUCK GERMANY",62.3,0,10,1,1,1,1,{"$f":"+IFERROR(HYPERLINK(VLOOKUP(C19228,FOTOGRAFICO!C:E,3,FALSE),C19228),\"\")","v":"BRU13502181"}]
[null,null,"ECHEP275","TAPA","TAPA DISTRIB VW SEDAN ENC ELEC COMBI GOLF JETTA A3 DERBY      POINTER MARCA BRUCK GERMANY",47.01,14,8,25,22,15,7,{"$f":"+IFERROR(HYPERLINK(VLOOKUP(C19240,FOTOGRAFICO!C:E,3,FALSE),C19240),\"\")","v":""}]
[null,null,"EGP22174-VJ200","TAPA","TAPA DISTRIBUIDOR URVAN 00-08  2.4 MARCA VOLTMAX IMPORTADO    TH-78 = BRU2216246N12",47.99,7,0,0,0,0,2,{"$f":"+IFERROR(HYPERLINK(VLOOKUP(C19248,FOTOGRAFICO!C:E,3,FALSE),C19248),\"\")","v":""}]
[null,null,"ETT102NEG","TAPA","TAPA BOCINAS VW C/STOP NEGRA   68-04 C/TAPA Y LOGO            TERMOFORMADO MARCA NACIONAL",202.33,4,5,5,4,13,2,{"$f":"+IFERROR(HYPERLINK(VLOOKUP(C19251,FOTOGRAFICO!C:E,3,FALSE),C19251),\"\")","v":""}]
[null,null,"ORI038106301NA","TAPA","TAPA CARTER JETTA A4 S/HOYO    A4 99-08, GOLF 00-07, BEETLE 0 POLO DERBY MOTOR 2.0 SIN SENSO",834.5,1,2,8,4,4,2,{"$f":"+IFERROR(HYPERLINK(VLOOKUP(C19269,FOTOGRAFICO!C:E,3,FALSE),C19269),\"\")","v":""}]
[null,null,"ORI1H0412319B","TAPA","TAPA BASE AMORTIGUADOR A2 A3   GOLF JETTA 87-99 (PLATILLO)    MARCA: BRUCK, HECHO EN ALEMANI",70.52,13,0,13,2,0,9,{"$f":"+IFERROR(HYPERLINK(VLOOKUP(C19271,FOTOGRAFICO!C:E,3,FALSE),C19271),\"\")","v":"ORI1H0412319B"}]
[null,null,"TA1350","TAPA","TAPACUBO CERRADO VW SEDAN 93-  MANGO DERECHO Y TRASERO CARIBE GOLF JETTA POINTER 77-06",9.19,25,6,0,9,3,9,{"$f":"+IFERROR(HYPERLINK(VLOOKUP(C19283,FOTOGRAFICO!C:E,3,FALSE),C19283),\"\")","v":"TA1350"}]
[null,null,"211-2330-03","TAPA","TAPA CAJUELA VERSA 12-19 4     PUERTAS MARCA TYG",4451.16,0,0,0,0,0,0,{"$f":"+IFERROR(HYPERLINK(VLOOKUP(C19288,FOTOGRAFICO!C:E,3,FALSE),C19288),\"\")","v":""}]
[null,null,"BRU06F103601L","TAPA","TAPA CARTER JETTA A6 2.0 TSI   11-18 BORA 2.0 TFSI 05-10      PROFUNDIDA 28 CM BRUCK GERMANY",1306.6300000000001,0,0,0,0,1,0,{"$f":"+IFERROR(HYPERLINK(VLOOKUP(C19303,FOTOGRAFICO!C:E,3,FALSE),C19303),\"\")","v":"BRU06F103601L"}]
[null,null,"ECOTAP","TAPAS","TAPAS PTA COMBI NEGRAS ECONOMI",257.38,2,0,2,4,3,1,{"$f":"+IFERROR(HYPERLINK(VLOOKUP(C19310,FOTOGRAFICO!C:E,3,FALSE),C19310),\"\")","v":""}]
[null,null,"TTICO","TAPAS","TAPAS INF PIEZERAS NEGRAS COMB TAPA FRONTAL INFERIOR CABINA   1600",69.77,0,0,0,0,1,0,{"$f":"+IFERROR(HYPERLINK(VLOOKUP(C19322,FOTOGRAFICO!C:E,3,FALSE),C19322),\"\")","v":"TTICO"}]
[null,null,"315ORIBK","TAPETE","TAPETE ORION NEGRO 4PZAS                                      MODELO 41",353.36,1,4,0,0,0,0,{"$f":"+IFERROR(HYPERLINK(VLOOKUP(C19331,FOTOGRAFICO!C:E,3,FALSE),C19331),\"\")","v":"315ORIBK"}]
[null,null,"IAC6600500","TAPETE","TAPETE ALFOMBRA GRIS CLARO     JUEGO 4 PIEZAS 68 X 44 CM      IMPORTADO",188.25,2,2,3,6,5,3,{"$f":"+IFERROR(HYPERLINK(VLOOKUP(C19342,FOTOGRAFICO!C:E,3,FALSE),C19342),\"\")","v":""}]
[null,null,"IAC7100100","TAPETE","TAPETE METALIZADO CARBON 4     PIEZAS IMPORTADO",176.67,0,8,2,4,1,5,{"$f":"+IFERROR(HYPERLINK(VLOOKUP(C19345,FOTOGRAFICO!C:E,3,FALSE),C19345),\"\")","v":""}]
[null,null,"NTALTO2P","TAPETE","TAPETE AUTOMOTRIZ LOGO TOYOTA  2 PZAS",304.49,0,1,0,2,1,2,{"$f":"+IFERROR(HYPERLINK(VLOOKUP(C19360,FOTOGRAFICO!C:E,3,FALSE),C19360),\"\")","v":"NTALTO2P"}]
[null,null,"NTATGMV","TAPETE","TAPETE ALFOMBRA TEMOAYA NEGRO  GRIS MINIVAN 2 TRASEROS        CORRIDOS 2 DELANTEROS",356.48,3,2,1,1,1,0,{"$f":"+IFERROR(HYPERLINK(VLOOKUP(C19365,FOTOGRAFICO!C:E,3,FALSE),C19365),\"\")","v":"NTATGMV"}]
[null,null,"SPF503","TAPETE","TAPETE SPARCO ALFOMBRA 4 PZAS  NEGRO/GRIS FRENTE 67.8X47.5    TRASERO 37X47 CM/2.6 KG",502.02,0,0,0,0,0,0,{"$f":"+IFERROR(HYPERLINK(VLOOKUP(C19377,FOTOGRAFICO!C:E,3,FALSE),C19377),\"\")","v":""}]
[null,null,"TAP12N","TAPETE","TAPETE HULE  4 PIEZAS DELGADO  NEGRO MARCA TUNIX",110.23,5,5,8,9,10,7,{"$f":"+IFERROR(HYPERLINK(VLOOKUP(C19385,FOTOGRAFICO!C:E,3,FALSE),C19385),\"\")","v":""}]
[null,null,"TAP315NO","TAPETE","TAPETES HULE NARANJA JGO 4 PZA TIPO CHAROLA C/LAMINA C/CIRCUL OS MARCA IMPORTADO",286.86,0,4,4,3,0,9,{"$f":"+IFERROR(HYPERLINK(VLOOKUP(C19397,FOTOGRAFICO!C:E,3,FALSE),C19397),\"\")","v":""}]
[null,null,"TAP315NV","TAPETE","TAPETES HULE VERDE JGO 4 PIEZA TIPO CHAROLA LAMINA C/CIRCULOS COLOR VERDE MARCA IMPORTADO",213.98,3,6,4,0,5,0,{"$f":"+IFERROR(HYPERLINK(VLOOKUP(C19400,FOTOGRAFICO!C:E,3,FALSE),C19400),\"\")","v":""}]
[null,null,"TAP39C","TAPETE","TAPETE CROMADO PLATA 4 PZA     ECONOMICO MARCA TUNIX          CAJA 8 PIEZAS",146.44,2,4,5,2,4,4,{"$f":"+IFERROR(HYPERLINK(VLOOKUP(C19414,FOTOGRAFICO!C:E,3,FALSE),C19414),\"\")","v":""}]
[null,null,"TAPAZUL","TAPETE","TAPETE CROMADO AZUL GRANDE UNI VERSAL, HECHO EN TAIWAN        MODELO 15",124.15,31,8,20,33,17,8,{"$f":"+IFERROR(HYPERLINK(VLOOKUP(C19420,FOTOGRAFICO!C:E,3,FALSE),C19420),\"\")","v":""}]
[null,null,"125-127","TAPON","TAPON DEPOSITO ANTICONG TSURU  III TODOS MODELOS MARCH VERSA  TIIDA URVAN X-TRAIL SENTRA",9.9600000000000009,20,61,24,22,71,28,{"$f":"+IFERROR(HYPERLINK(VLOOKUP(C19436,FOTOGRAFICO!C:E,3,FALSE),C19436),\"\")","v":"125-127"}]
[null,null,"171121321A","TAPON","TAPON RADIADOR CARIBE ATLANTIC DEPOSITO ANTICONGELANT POINTER 97-99 MARCA BRUCK-GERMANY",36.42,7,345,49,12,8,19,{"$f":"+IFERROR(HYPERLINK(VLOOKUP(C19443,FOTOGRAFICO!C:E,3,FALSE),C19443),\"\")","v":"171121321A"}]
[null,null,"357121321A","TAPON","TAPON DEPOS ANTI GOLF JETTA A2 A3 POINTER EUROVAN 00-04       P/DEPOSITO ESFERA = ORITC3061",23.31,37,55,4,6,6,3,{"$f":"+IFERROR(HYPERLINK(VLOOKUP(C19452,FOTOGRAFICO!C:E,3,FALSE),C19452),\"\")","v":"357121321A"}]
[null,null,"94539597KB","TAPON","TAPON DEPOS ANTIC AVEO 1.6 08- 18 MATIZ 03-16 G3 OPTRA 06-10  AMARILLO KABUTO = 94539597",26.52,1,2,1,1,1,1,{"$f":"+IFERROR(HYPERLINK(VLOOKUP(C19459,FOTOGRAFICO!C:E,3,FALSE),C19459),\"\")","v":""}]
[null,null,"BRU06C103485P","TAPON","TAPON ACEITE MOT 2.0 VENTO 14- CADDY 16- JETTA A6 BORA  NEW   BEETLE GOLF V TIGUAN 09- BRUC",56.41,13,10,6,6,1,5,{"$f":"+IFERROR(HYPERLINK(VLOOKUP(C19471,FOTOGRAFICO!C:E,3,FALSE),C19471),\"\")","v":"BRU06C103485P"}]
[null,null,"BRU93396483","TAPON","TAPON ACEITE CORSA TORNADO     MERIVA 1.8 02-08 ASTRA 1.8 00- 05 BRUCK GERMANY = 93396483",42.3,16,8,8,24,0,8,{"$f":"+IFERROR(HYPERLINK(VLOOKUP(C19476,FOTOGRAFICO!C:E,3,FALSE),C19476),\"\")","v":"BRU93396483"}]
[null,null,"ECOTAP1","TAPON","TAPON HULE TUBO AGUA CHICO     NACIONAL",8.75,11,0,0,0,0,2,{"$f":"+IFERROR(HYPERLINK(VLOOKUP(C19491,FOTOGRAFICO!C:E,3,FALSE),C19491),\"\")","v":""}]
[null,null,"ECOTAPON","TAPON","TAPON ACEITE VW1500-1600       COMBI 1600",15.01,9,8,4,17,4,2,{"$f":"+IFERROR(HYPERLINK(VLOOKUP(C19494,FOTOGRAFICO!C:E,3,FALSE),C19494),\"\")","v":""}]
[null,null,"H-B102C","TAPON","TAPON RIN TSURU CROMADO",60.81,8,0,0,1,6,8,{"$f":"+IFERROR(HYPERLINK(VLOOKUP(C19511,FOTOGRAFICO!C:E,3,FALSE),C19511),\"\")","v":"H-B102C"}]
[null,null,"H-B103N","TAPON","TAPON RIN CHEVY NEGRO",31.08,24,33,15,31,0,31,{"$f":"+IFERROR(HYPERLINK(VLOOKUP(C19514,FOTOGRAFICO!C:E,3,FALSE),C19514),\"\")","v":""}]
[null,null,"NTGFCVW","TAPON","TAPA GASOLINA VW CHICA",92.09,0,0,6,2,3,0,{"$f":"+IFERROR(HYPERLINK(VLOOKUP(C19526,FOTOGRAFICO!C:E,3,FALSE),C19526),\"\")","v":"NTGFCVW"}]
[null,null,"ORI26510-35000","TAPON","TAPON ACEITE ATOS 99-04 1.0    SE FIJA CON GRAPA              MARCA BRUCK GERMANY",38.79,1,0,8,7,3,2,{"$f":"+IFERROR(HYPERLINK(VLOOKUP(C19530,FOTOGRAFICO!C:E,3,FALSE),C19530),\"\")","v":""}]
[null,null,"SAN39","TAPON","TAPON BIRLO RUEDA VW SEDAN     BRASILIA SAFARI 4 TAPONES POR  RUEDA NACIONAL",3.35,540,104,73,73,102,36,{"$f":"+IFERROR(HYPERLINK(VLOOKUP(C19546,FOTOGRAFICO!C:E,3,FALSE),C19546),\"\")","v":""}]
[null,null,"SPC1417A","TAPON","TAPON VALVULA SPARCO 5 PIEZAS  EMPAQUE SIMULACION LLANTA",196.05,0,22,0,0,0,2,{"$f":"+IFERROR(HYPERLINK(VLOOKUP(C19553,FOTOGRAFICO!C:E,3,FALSE),C19553),\"\")","v":""}]
[null,null,"TAVA500","TAPON","TAPON VALVULA $XPZA CROMADO    TIPO TUERCA LISO CAJA 500 PZA  MARCA TUNIX",1330.36,500,494,497,496,1,490,{"$f":"+IFERROR(HYPERLINK(VLOOKUP(C19559,FOTOGRAFICO!C:E,3,FALSE),C19559),\"\")","v":""}]
[null,null,"TAVA8B","TAPON","TAPON VALVULA LLANTA DIABOLO   AZUL JUEGO DE 4 PIEZAS",23.25,1,10,3,2,4,4,{"$f":"+IFERROR(HYPERLINK(VLOOKUP(C19569,FOTOGRAFICO!C:E,3,FALSE),C19569),\"\")","v":"TAVA8B"}]
[null,null,"TAVAB8V","TAPON","TAPON VALVULA LLANTA BILLAR    VERDE JUEGO DE 4 PIEZAS",26.86,3,5,0,4,3,6,{"$f":"+IFERROR(HYPERLINK(VLOOKUP(C19585,FOTOGRAFICO!C:E,3,FALSE),C19585),\"\")","v":"TAVAB8V"}]
[null,null,"TAVABGB","TAPON","TAPON VALVULA LLANTA BALA GDE  AZUL JUEGO DE 4 PIEZAS",36.270000000000003,9,6,8,24,11,6,{"$f":"+IFERROR(HYPERLINK(VLOOKUP(C19588,FOTOGRAFICO!C:E,3,FALSE),C19588),\"\")","v":"TAVABGB"}]
[null,null,"TAVACN","TAPON","TAPON VALVULA LLANTA CONO      NEGRO JUEGO DE 4 PIEZAS",38.15,1,3,0,9,1,4,{"$f":"+IFERROR(HYPERLINK(VLOOKUP(C19602,FOTOGRAFICO!C:E,3,FALSE),C19602),\"\")","v":"TAVACN"}]
[null,null,"TAVADB","TAPON","TAPON VALVULA LLANTA DADO      AZUL JUEGO DE 4 PIEZAS",41.86,4,4,1,3,7,3,{"$f":"+IFERROR(HYPERLINK(VLOOKUP(C19608,FOTOGRAFICO!C:E,3,FALSE),C19608),\"\")","v":"TAVADB"}]
[null,null,"TAVAHB","TAPON","TAPON VALVULA LLANTA HEXAGONAL AZUL JUEGO DE 4 PIEZAS",14.58,0,2,1,1,1,2,{"$f":"+IFERROR(HYPERLINK(VLOOKUP(C19620,FOTOGRAFICO!C:E,3,FALSE),C19620),\"\")","v":""}]
[null,null,"TAVAHY","TAPON","TAPON VALVULA LLANTA HEXAGONAL AMARILLO JUEGO DE 4 PIEZAS",15.35,9,2,0,12,1,4,{"$f":"+IFERROR(HYPERLINK(VLOOKUP(C19627,FOTOGRAFICO!C:E,3,FALSE),C19627),\"\")","v":"TAVAHY"}]
[null,null,"TAVEMO","TAPON","TAPON DE VALVULA EMOJI OJO     4 PZAS",26.36,8,10,8,4,4,4,{"$f":"+IFERROR(HYPERLINK(VLOOKUP(C19640,FOTOGRAFICO!C:E,3,FALSE),C19640),\"\")","v":"TAVEMO"}]
[null,null,"TG585","TAPON","TAPON GASOLINA CARIBE ATLANTIC CON LLAVE MARCA CUNA ENCANTADA NACIONAL",73.91,2,2,1,3,1,1,{"$f":"+IFERROR(HYPERLINK(VLOOKUP(C19643,FOTOGRAFICO!C:E,3,FALSE),C19643),\"\")","v":"TG585"}]
[null,null,"VAL01Y","TAPON","TAPON VALVULA CON LUZ AMARILLA 2 PZAS",18.55,0,0,0,0,0,0,{"$f":"+IFERROR(HYPERLINK(VLOOKUP(C19656,FOTOGRAFICO!C:E,3,FALSE),C19656),\"\")","v":"VAL01Y"}]
[null,null,"VW050","TAPON","TAPON GAS VW SEDAN 1600 65-03  METALICO S/LLAVE CUNA ENCANTAD NACIONAL = CEVW784 = VW800",41.69,2,1,1,0,0,2,{"$f":"+IFERROR(HYPERLINK(VLOOKUP(C19663,FOTOGRAFICO!C:E,3,FALSE),C19663),\"\")","v":"VW050"}]
[null,null,"GM95218390","TAPON","TAPON DEPOSIT DIRECC HID SONIC 1.6 12-18 SPARK 1.2 11-17      MARCA GM ORIGINAL PUDE RAUL",210.09,0,0,0,0,0,0,{"$f":"+IFERROR(HYPERLINK(VLOOKUP(C19675,FOTOGRAFICO!C:E,3,FALSE),C19675),\"\")","v":""}]
[null,null,"GM94579127","TAPON","TAPON RIN BEAT 18-20 SPARK 11- 17 14X5.5 MARCA GM",267.35000000000002,0,0,0,0,0,0,{"$f":"+IFERROR(HYPERLINK(VLOOKUP(C19685,FOTOGRAFICO!C:E,3,FALSE),C19685),\"\")","v":""}]
[null,null,"06ABS0040","TAPONES","TAPONES RIN 15 VW GOL GRIS 8   ASPAS S/BIRLOS JGO 4 PZA ABS   MODELO 73",281.39,2,2,25,4,11,12,{"$f":"+IFERROR(HYPERLINK(VLOOKUP(C19695,FOTOGRAFICO!C:E,3,FALSE),C19695),\"\")","v":"06ABS0040"}]
[null,null,"ABSBICR13-6","TAPONES","TAPONES RIN 13 DIFUMINAD NEGRO JGO 4 PZA MARCA ABS NACIONAL   MODELO 109 = ABSBICR13-6",326.74,6,4,5,0,4,0,{"$f":"+IFERROR(HYPERLINK(VLOOKUP(C19702,FOTOGRAFICO!C:E,3,FALSE),C19702),\"\")","v":""}]
[null,null,"EXC-R1302","TAPONES","TAPONES RIN 13 UNIVERSAL GRIS  CENTRO JGO 4 PZ ABS NACIONAL",322.62,0,0,6,2,0,3,{"$f":"+IFERROR(HYPERLINK(VLOOKUP(C19714,FOTOGRAFICO!C:E,3,FALSE),C19714),\"\")","v":""}]
[null,null,"EXC-R1401","TAPONES","TAPONES RIN 14 UNIVERSAL GRIS  5 BRAZOS JGO 4 PZ ABS NACIONAL MODELO 64",321.27,0,10,5,4,0,10,{"$f":"+IFERROR(HYPERLINK(VLOOKUP(C19718,FOTOGRAFICO!C:E,3,FALSE),C19718),\"\")","v":""}]
[null,null,"ORI0628TOYOTA","TAPONES","TAPONES RIN 15 HIACE JUEGO 4   PIEZAS ABS NACIONAL            MODELO 32",281.39,3,10,13,17,12,13,{"$f":"+IFERROR(HYPERLINK(VLOOKUP(C19734,FOTOGRAFICO!C:E,3,FALSE),C19734),\"\")","v":"ORI0628TOYOTA"}]
[null,null,"ORI06R15-0023","TAPONES","TAPONES RIN 15 TIIDA JUEGO 4   PIEZAS ABS NACIONAL            MODELO 47",281.39,12,24,36,36,19,15,{"$f":"+IFERROR(HYPERLINK(VLOOKUP(C19737,FOTOGRAFICO!C:E,3,FALSE),C19737),\"\")","v":"ORI06R15-0023"}]
[null,null,"ORIT1505","TAPONES","TAPONES RIN 15 STRATUS JUEGO 4 PIEZAS ABS NACIONAL            MODELO 30",281.39,10,5,8,6,0,4,{"$f":"+IFERROR(HYPERLINK(VLOOKUP(C19753,FOTOGRAFICO!C:E,3,FALSE),C19753),\"\")","v":""}]
[null,null,"ORITABS01-R14","TAPONES","TAPONES RIN 14 UNIVERSAL GRIS  JUEGO 4 PIEZAS ABS NACIONAL    MODELO 22",281.39,2,0,6,0,0,0,{"$f":"+IFERROR(HYPERLINK(VLOOKUP(C19757,FOTOGRAFICO!C:E,3,FALSE),C19757),\"\")","v":""}]
[null,null,"ORITN09P","TAPONES","TAPONES RIN 14 PLATINA M/VIEJO JUEGO 4 PIEZAS ABS NACIONAL    MODELO 9",281.39,5,16,12,6,14,3,{"$f":"+IFERROR(HYPERLINK(VLOOKUP(C19769,FOTOGRAFICO!C:E,3,FALSE),C19769),\"\")","v":"ORITN09P"}]
[null,null,"ORITUMW","TAPONES","TAPONES RIN 14 UNIVERSAL GRIS  JUEGO 4 PIEZAS ABS NACIONAL    MODELO 45",281.39,5,4,0,3,11,5,{"$f":"+IFERROR(HYPERLINK(VLOOKUP(C19772,FOTOGRAFICO!C:E,3,FALSE),C19772),\"\")","v":"ORITUMW"}]
[null,null,"TSPORT02-R15","TAPONES","TAPONES RIN 15 SPORT JUEGO 4   PIEZAS ABS NACIONAL            MODELO 19",281.39,4,0,3,6,0,1,{"$f":"+IFERROR(HYPERLINK(VLOOKUP(C19789,FOTOGRAFICO!C:E,3,FALSE),C19789),\"\")","v":"TSPORT02-R15"}]
[null,null,"TSPORT04-R15","TAPONES","TAPONES RIN 15 SPORT JUEGO 4   PIEZAS ABS NACIONAL            MODELO 16",281.39,0,4,0,3,0,5,{"$f":"+IFERROR(HYPERLINK(VLOOKUP(C19792,FOTOGRAFICO!C:E,3,FALSE),C19792),\"\")","v":"TSPORT04-R15"}]
[null,null,"TE15","TAPONES","TAPONES RIN 15 EXTENSION A 17  CROMADO MARCA TUNIX PIDE       JONATHAN ALDAIR CALL CENTER",837.33,0,0,0,0,0,0,{"$f":"+IFERROR(HYPERLINK(VLOOKUP(C19801,FOTOGRAFICO!C:E,3,FALSE),C19801),\"\")","v":""}]
[null,null,"377260299KB","TENSOR","TENSOR BANDA ALTER POINTER C/A POLEAS LISAS MOD 00-10         MARCA KABUTO = MIZ514M1800",466.82,1,1,1,0,1,1,{"$f":"+IFERROR(HYPERLINK(VLOOKUP(C19812,FOTOGRAFICO!C:E,3,FALSE),C19812),\"\")","v":""}]
[null,null,"GAT38376","TENSOR","TENSOR ALTERNA POLEA LISA AVEO 1.6 LTS SWIFT 07-11 G3 05-11   MARCA GATES HECHO EN MEXICO",557.04,0,3,3,4,0,3,{"$f":"+IFERROR(HYPERLINK(VLOOKUP(C19819,FOTOGRAFICO!C:E,3,FALSE),C19819),\"\")","v":""}]
[null,null,"TEN109","TENSOR","TENSOR ELASTICO TIPO MALLA     PARA CANASTILLA 1X1 METRO",99.06,0,49,0,0,1,2,{"$f":"+IFERROR(HYPERLINK(VLOOKUP(C19830,FOTOGRAFICO!C:E,3,FALSE),C19830),\"\")","v":"TEN109"}]
[null,null,"1103043SFT","TERMINAL","TERMINAL DIR IZQ SPARK 16-20   GM SPARK II MARCA SAFETY CHINA DE DIRECCION LADO IZQUIERDO",100.1,0,2,0,8,0,2,{"$f":"+IFERROR(HYPERLINK(VLOOKUP(C19844,FOTOGRAFICO!C:E,3,FALSE),C19844),\"\")","v":"1103043SFT"}]
[null,null,"1202549","TERMINAL","TERMINAL DIR IZQ FIESTA BRASIL 03-12 FIESTA IKON INDIA 12-15  ECOSPORT 03-12 MARCA SYD",173.83,4,5,4,4,1,2,{"$f":"+IFERROR(HYPERLINK(VLOOKUP(C19851,FOTOGRAFICO!C:E,3,FALSE),C19851),\"\")","v":"1202549"}]
[null,null,"4852050A00KB","TERMINAL","TERMINAL DIR TSURU II III 88-  17 SENTRA 87-06 SCALA 10-13    LUCINO 96-00 TSUBAME KABUTO",61.53,0,1,1,1,0,0,{"$f":"+IFERROR(HYPERLINK(VLOOKUP(C19863,FOTOGRAFICO!C:E,3,FALSE),C19863),\"\")","v":""}]
[null,null,"90921297SFT","TERMINAL","TERMINAL EXTERIOR IZQ AVEO 1.5 18-22 1103041 MARCA SAFETY",108.33,0,0,2,2,0,2,{"$f":"+IFERROR(HYPERLINK(VLOOKUP(C19873,FOTOGRAFICO!C:E,3,FALSE),C19873),\"\")","v":""}]
[null,null,"95967285-KB","TERMINAL","TERMINAL DIR SPARK 11-15 BEAT  18-20 MARCA KABUTO IMPORTADO   = 95967285SFT = 95967285-EURO",72.14,3,3,2,2,5,5,{"$f":"+IFERROR(HYPERLINK(VLOOKUP(C19883,FOTOGRAFICO!C:E,3,FALSE),C19883),\"\")","v":""}]
[null,null,"BRU1034417-EURO","TERMINAL","TERMINAL DIRECCION KA 01-08    1.6 EXTERIOR MARCA BRUCK       GERMANY 1034417-EURO",96.39,0,7,4,6,0,3,{"$f":"+IFERROR(HYPERLINK(VLOOKUP(C19886,FOTOGRAFICO!C:E,3,FALSE),C19886),\"\")","v":"BRU1034417-EURO"}]
[null,null,"BRU2S6J3289ACEUR","TERMINAL","TERMINAL DIRECCION DER FIESTA  03-10 1.6 ECOSPORT 03-13 2.0   IKON 00-15 1.6 MARCA BRUCK",105.79,0,2,2,2,5,2,{"$f":"+IFERROR(HYPERLINK(VLOOKUP(C19898,FOTOGRAFICO!C:E,3,FALSE),C19898),\"\")","v":"BRU2S6J3289ACEUR"}]
[null,null,"BRU4852050A00EUR","TERMINAL","TERMINAL DIR TSURU II 88-91    1.6 SENTRA 00-06 1.8 SENTRA    95-99 1.6 ALMERA 00-06 BRUCK",70.53,12,5,1,10,3,7,{"$f":"+IFERROR(HYPERLINK(VLOOKUP(C19906,FOTOGRAFICO!C:E,3,FALSE),C19906),\"\")","v":"BRU4852050A00EUR"}]
[null,null,"BRU6RD423811BEUR","TERMINAL","TERMINAL DIR IZQ VENTO 14-19   1.6 POLO 13-19 1.6 CROSSFOX 06 -17 1.6 IBIZA 09-17 BRUCK",145.74,2,1,6,13,4,4,{"$f":"+IFERROR(HYPERLINK(VLOOKUP(C19918,FOTOGRAFICO!C:E,3,FALSE),C19918),\"\")","v":"BRU6RD423811BEUR"}]
[null,null,"BRU95371539","TERMINAL","TERMINAL DIRECCION DER SPARK   11-20 1.2 BEAT 18-21 1.2       ELECTROASISTIDA MARCA BRUCK",116.36,2,2,2,4,3,10,{"$f":"+IFERROR(HYPERLINK(VLOOKUP(C19927,FOTOGRAFICO!C:E,3,FALSE),C19927),\"\")","v":"BRU95371539"}]
[null,null,"D8520EW00AKB","TERMINAL","TERMINAL DIR DER TIIDA 06-18   CUBE 09-14 MARCA KABUTO        = 48520-3U025CTR",106.09,1,1,1,0,1,1,{"$f":"+IFERROR(HYPERLINK(VLOOKUP(C19938,FOTOGRAFICO!C:E,3,FALSE),C19938),\"\")","v":""}]
[null,null,"EGP1011858","TERMINAL","TERMINAL DIR IZQ FIESTA IKON   98-11 FIESTA COURIER 00-12     SAFETY IMPORTADO",85.02,0,0,0,3,0,26,{"$f":"+IFERROR(HYPERLINK(VLOOKUP(C19945,FOTOGRAFICO!C:E,3,FALSE),C19945),\"\")","v":""}]
[null,null,"ES-3461SFT","TERMINAL","TERMINAL DIREC FORD RANGER 98- 06 4X2 4X4 EXPLORER 98-05      MARCA SAFETY",79.099999999999994,0,0,0,0,0,0,{"$f":"+IFERROR(HYPERLINK(VLOOKUP(C19956,FOTOGRAFICO!C:E,3,FALSE),C19956),\"\")","v":""}]
[null,null,"EUR419812","TERMINAL","TERMINAL DIR DER EUROVAN       TRANSPORTER 01-04 MARCA EURO   ESPANA = SYD701419812D",96.39,4,0,3,4,0,2,{"$f":"+IFERROR(HYPERLINK(VLOOKUP(C19961,FOTOGRAFICO!C:E,3,FALSE),C19961),\"\")","v":""}]
[null,null,"MIZ422T0800","TERMINAL","TERMINAL DIR ATOS 00-12 MARCA  YOKOMITSU IMPORTADO 52038860   = 56820-00500 = ORI5682000500",55.17,3,0,2,6,14,2,{"$f":"+IFERROR(HYPERLINK(VLOOKUP(C19968,FOTOGRAFICO!C:E,3,FALSE),C19968),\"\")","v":""}]
[null,null,"SE-4951R","TERMINAL","TERMINAL DIR DER TIIDA 06-18   CUBE 09-14 MARCA 555 JAPONES   = 1116015SFT = 48640-3U025CTR",357.57,0,1,1,2,0,1,{"$f":"+IFERROR(HYPERLINK(VLOOKUP(C19980,FOTOGRAFICO!C:E,3,FALSE),C19980),\"\")","v":""}]
[null,null,"SYD131415813E","TERMINAL","TERMINAL DIR VW SEDAN 73-04    CON OJILLO MARCA SYD           131-415-813-E",209.49,2,0,0,2,0,1,{"$f":"+IFERROR(HYPERLINK(VLOOKUP(C19989,FOTOGRAFICO!C:E,3,FALSE),C19989),\"\")","v":""}]
[null,null,"TEBO501092","TERMINAL","TERMINAL DIR DER GOLF JETTA A2 A3 85-99 IBIZA 01-02 CORDOBA   01-02 DERBY 95-01 CORTA TEBO",146.02000000000001,5,1,4,6,0,2,{"$f":"+IFERROR(HYPERLINK(VLOOKUP(C20000,FOTOGRAFICO!C:E,3,FALSE),C20000),\"\")","v":"TEBO501092"}]
[null,null,"TEBO501183","TERMINAL","TERMINAL DIR IZQ CORDOBA 03-09 GOL 09-19 IBIZA 03-17 POLO 03- 17 CROSSFOX 07-17 UP 16-18 TEB",141.91999999999999,6,6,4,5,2,4,{"$f":"+IFERROR(HYPERLINK(VLOOKUP(C20012,FOTOGRAFICO!C:E,3,FALSE),C20012),\"\")","v":"TEBO501183"}]
[null,null,"TEBO501280","TERMINAL","TERMINAL DIR POINTER 97-09     POINTER PICKUP 97-10 MACHO     ESTANDAR MARCA TEBO",160.31,0,0,0,0,2,0,{"$f":"+IFERROR(HYPERLINK(VLOOKUP(C20014,FOTOGRAFICO!C:E,3,FALSE),C20014),\"\")","v":"TEBO501280"}]
[null,null,"ES-3181-RSFT","TERMINAL","TEMRINAL EXT WINDTAR 95-03     SAFETY",122.04,0,0,0,0,0,0,{"$f":"+IFERROR(HYPERLINK(VLOOKUP(C20032,FOTOGRAFICO!C:E,3,FALSE),C20032),\"\")","v":""}]
[null,null,"ATSEV801374","TERMINAL","TERMINAL INT DER/IZQ FORD      MERCURY TRANSIT 07-13 MARCA:   MOOG",255.96,0,0,0,0,0,0,{"$f":"+IFERROR(HYPERLINK(VLOOKUP(C20035,FOTOGRAFICO!C:E,3,FALSE),C20035),\"\")","v":""}]
[null,null,"21200-00QAA","TERMOSTATO","TERMOSTATO PLATINA CLIO TODOS  APRIO KANGO 8-11 MEGANE SCENIC 04-09 SANDERO MARCA EURO-ESPAN",69.34,9,6,12,7,5,7,{"$f":"+IFERROR(HYPERLINK(VLOOKUP(C20043,FOTOGRAFICO!C:E,3,FALSE),C20043),\"\")","v":"21200-00QAA"}]
[null,null,"94580182K","TERMOSTATO","TERMOSTATO GM MATIZ 05-15 1.0L 82 GRADOS C ORIGINAL           HECHO EN COREA",149.47,0,0,0,0,0,0,{"$f":"+IFERROR(HYPERLINK(VLOOKUP(C20055,FOTOGRAFICO!C:E,3,FALSE),C20055),\"\")","v":"94580182K"}]
[null,null,"BRU1K0121113A","TERMOSTATO","TERMOSTATO TRANSMISION JETTA   A6 11-18 2.5 SPORTWAGEN 10-16  2.5 BEETLE 11-19 2.5 BRUCK",134,1,1,2,1,1,1,{"$f":"+IFERROR(HYPERLINK(VLOOKUP(C20062,FOTOGRAFICO!C:E,3,FALSE),C20062),\"\")","v":"BRU1K0121113A"}]
[null,null,"GAT33208","TERMOSTATO","TERMOSTATO BOMBA AGUA POINTER  DERBY GOLF JETTA COMBI 1800    CARIBE 1.6 MCA GATES MEXICO",150.74,4,2,4,6,2,1,{"$f":"+IFERROR(HYPERLINK(VLOOKUP(C20072,FOTOGRAFICO!C:E,3,FALSE),C20072),\"\")","v":""}]
[null,null,"TH12988G1","TERMOSTATO","TERMOSTATO URVAN 2.5LT 08-     MARCA GATES HECHO EN MEXICO    NISSAN PICK UP FRONTIER 2.5",367.63,4,0,3,6,0,2,{"$f":"+IFERROR(HYPERLINK(VLOOKUP(C20087,FOTOGRAFICO!C:E,3,FALSE),C20087),\"\")","v":"TH12988G1"}]
[null,null,"GM24105060","TERMOSTATO","TERMOSTATO CAVALIER 1.5 18-21  MARCA GM ORIGINAL PIDE RAUL    FABILA 24105060",2174.0100000000002,0,0,0,0,0,0,{"$f":"+IFERROR(HYPERLINK(VLOOKUP(C20094,FOTOGRAFICO!C:E,3,FALSE),C20094),\"\")","v":""}]
[null,null,"5150WH","TIRA","TIRA 5 METROS 300 LEDS BLANCA",62.03,5,6,5,7,6,4,{"$f":"+IFERROR(HYPERLINK(VLOOKUP(C20106,FOTOGRAFICO!C:E,3,FALSE),C20106),\"\")","v":"5150WH"}]
[null,null,"G-WA","TIRA","TIRA GEL BLANCO CALIDO",328.57,0,0,0,0,0,0,{"$f":"+IFERROR(HYPERLINK(VLOOKUP(C20115,FOTOGRAFICO!C:E,3,FALSE),C20115),\"\")","v":""}]
[null,null,"LACH1013P","TIRA","TIRA TIPO CHIP C/3 LEDS 3528   MORADO",101.66,0,0,0,11,190,14,{"$f":"+IFERROR(HYPERLINK(VLOOKUP(C20117,FOTOGRAFICO!C:E,3,FALSE),C20117),\"\")","v":"LACH1013P"}]
[null,null,"N000296","TIRON","TIRON PORTA PLACA CROMO C/DADO",228.56,4,5,2,0,1,0,{"$f":"+IFERROR(HYPERLINK(VLOOKUP(C20129,FOTOGRAFICO!C:E,3,FALSE),C20129),\"\")","v":"N000296"}]
[null,null,"216-0901-03","TOLVA","TOLVA IZQ SALPICADERA ATOS 05- 12 PLASTICO PEDIDO VICTOR      TELLITUD",323.72000000000003,0,0,0,0,0,0,{"$f":"+IFERROR(HYPERLINK(VLOOKUP(C20140,FOTOGRAFICO!C:E,3,FALSE),C20140),\"\")","v":""}]
[null,null,"216-1901-10","TOLVA","TOLVA SALP DER DEL MAZDA 3     14-18 MARCA TYG PIDE DANIEL",809.3,0,0,0,0,0,0,{"$f":"+IFERROR(HYPERLINK(VLOOKUP(C20149,FOTOGRAFICO!C:E,3,FALSE),C20149),\"\")","v":""}]
[null,null,"216-2318-01","TOLVA","TOLVA IZQ SALPICADERA TIIDA 07 -18 PLASTICO MARCA TYG         PEDIDO VICTOR LONDAIZ",247.64,7,8,0,0,2,0,{"$f":"+IFERROR(HYPERLINK(VLOOKUP(C20161,FOTOGRAFICO!C:E,3,FALSE),C20161),\"\")","v":"216-2318-01"}]
[null,null,"216-3004-03","TOLVA","TOLVA SALP IZQ COROLLA 03-08   PLASTICO MARCA TYG PIDE CALL",364.18,0,0,0,0,0,0,{"$f":"+IFERROR(HYPERLINK(VLOOKUP(C20169,FOTOGRAFICO!C:E,3,FALSE),C20169),\"\")","v":""}]
[null,null,"216-3132-06","TOLVA","TOLVA DER SALP DEL VENTO 16-22 MARCA TYG",728.37,0,2,0,0,0,0,{"$f":"+IFERROR(HYPERLINK(VLOOKUP(C20181,FOTOGRAFICO!C:E,3,FALSE),C20181),\"\")","v":""}]
[null,null,"216-3506-06","TOLVA","TOLVA DER SALP DEL KIA RIO     16-17 MARCA TYG",603.73,0,0,0,0,0,0,{"$f":"+IFERROR(HYPERLINK(VLOOKUP(C20184,FOTOGRAFICO!C:E,3,FALSE),C20184),\"\")","v":""}]
[null,null,"ORI113119303","TOLVA","TOLVA CABEZA 3-4 VW CARBURADOR VW SEDAN COMBI 1600 CARBURADO  RECTA -92",143.03,11,46,2,3,5,5,{"$f":"+IFERROR(HYPERLINK(VLOOKUP(C20198,FOTOGRAFICO!C:E,3,FALSE),C20198),\"\")","v":"ORI113119303"}]
[null,null,"ORIBAA813300","TOLVA","TOLVA TRAS ESC 2 TUBOS ABOMBAD 2 SALIDAS",497.11,4,0,0,0,2,0,{"$f":"+IFERROR(HYPERLINK(VLOOKUP(C20204,FOTOGRAFICO!C:E,3,FALSE),C20204),\"\")","v":""}]
[null,null,"216-0633-00","TOLVA","TOLVA SALPICADERA DER OPTRA    06-11                          SOBRE PEDIDO RFAEL HDZ",364.18,0,0,0,0,0,0,{"$f":"+IFERROR(HYPERLINK(VLOOKUP(C20211,FOTOGRAFICO!C:E,3,FALSE),C20211),\"\")","v":"216-0633-00"}]
[null,null,"216-3108-00","TOLVA","TOLVA SALPICADERA DER DERBY 98 -09 PLASTICO MARCA RADEC PIDE  WUBADO 216-3108-00",439.45,0,0,0,0,0,0,{"$f":"+IFERROR(HYPERLINK(VLOOKUP(C20227,FOTOGRAFICO!C:E,3,FALSE),C20227),\"\")","v":""}]
[null,null,"216-3410-00","TOLVA","TOLVA DER DEL CRETA 17-20      MARCA TYG PIDE OSVALDO",566.51,0,0,0,0,0,0,{"$f":"+IFERROR(HYPERLINK(VLOOKUP(C20236,FOTOGRAFICO!C:E,3,FALSE),C20236),\"\")","v":""}]
[null,null,"ORI377819103","TOLVA","TOLVA TAPA BATERIA POINTER     TODOS MCA: ORIGINAL            SOBRE PEDIDO X RAUL",217.5,0,0,0,0,0,0,{"$f":"+IFERROR(HYPERLINK(VLOOKUP(C20243,FOTOGRAFICO!C:E,3,FALSE),C20243),\"\")","v":""}]
[null,null,"216-0911-05","TOLVA","TOLVA INF JOURNEY 11-20 TOLVA  MOTOR MARCA TYG PIDE SR        GUILLERMO",1096.5999999999999,0,0,0,0,0,0,{"$f":"+IFERROR(HYPERLINK(VLOOKUP(C20255,FOTOGRAFICO!C:E,3,FALSE),C20255),\"\")","v":""}]
[null,null,"216-1217-07","TOLVA","TOLVA IZQ SALP DEL FIESTA 11-  19 MARCA TYG SOBRE PEDIDO",445.11,0,0,0,0,0,0,{"$f":"+IFERROR(HYPERLINK(VLOOKUP(C20256,FOTOGRAFICO!C:E,3,FALSE),C20256),\"\")","v":""}]
[null,null,"216-2316-04","TOLVA","TOLVA SALPICADERA DER SENTRA   07-12 PLASTICO                 PEDIDA ANGEL",246.83,0,0,0,0,0,0,{"$f":"+IFERROR(HYPERLINK(VLOOKUP(C20266,FOTOGRAFICO!C:E,3,FALSE),C20266),\"\")","v":""}]
[null,null,"68065164AA","TOLVA","TOLVA DER MICA ANTI GRAVILLA   JOURNEY 09-20 ORIGINAL PIDE    SR GUILLERMO",1011.62,0,0,0,0,0,0,{"$f":"+IFERROR(HYPERLINK(VLOOKUP(C20278,FOTOGRAFICO!C:E,3,FALSE),C20278),\"\")","v":""}]
[null,null,"216-0625-01","TOLVA","TOLVA SALP IZQ HHR 06-11       PLASTICO MARCA TYG",485.58,0,0,0,0,0,0,{"$f":"+IFERROR(HYPERLINK(VLOOKUP(C20285,FOTOGRAFICO!C:E,3,FALSE),C20285),\"\")","v":""}]
[null,null,"216-3018-03","TOLVA","TOLVA IZQ SALP DEL YARIS 07-11 MARCA TYG PIDE ANGEL",268.68,0,0,0,0,0,0,{"$f":"+IFERROR(HYPERLINK(VLOOKUP(C20298,FOTOGRAFICO!C:E,3,FALSE),C20298),\"\")","v":""}]
[null,null,"216-2302-02","TOLVA","TOLVA DER SALP ALTIMA 98-99    MARCA TYG",323.72000000000003,0,0,0,0,0,0,{"$f":"+IFERROR(HYPERLINK(VLOOKUP(C20310,FOTOGRAFICO!C:E,3,FALSE),C20310),\"\")","v":""}]
[null,null,"216-2313-03","TOLVA","TOLVA DEL IZQ PATHFINDER 99-04 PLASTICO SECCION DELANTERA     MARCA RADEC IMPORTADO",222.55,0,0,0,0,0,1,{"$f":"+IFERROR(HYPERLINK(VLOOKUP(C20314,FOTOGRAFICO!C:E,3,FALSE),C20314),\"\")","v":""}]
[null,null,"037-121-133E","TOMA","TOMA AGUA FRONTA GOLF JETTA A3 1.8 93-99 C/AIRE C/PEINE 1     BULBO 1 PIPETA 2 SALIDAS BRUCK",41.14,34,0,0,15,7,2,{"$f":"+IFERROR(HYPERLINK(VLOOKUP(C20330,FOTOGRAFICO!C:E,3,FALSE),C20330),\"\")","v":"037-121-133E"}]
[null,null,"13048-3HC0ABC","TOMA","TOMA AGUA VERSA 1.6 12-19      MARCH 1.6 12-20 SENTRA 1.8 13- 19 TIPO CODO LATERAL BEST COOL",67.19,2,4,0,0,0,0,{"$f":"+IFERROR(HYPERLINK(VLOOKUP(C20337,FOTOGRAFICO!C:E,3,FALSE),C20337),\"\")","v":"13048-3HC0ABC"}]
[null,null,"24101610BC","TOMA","TOMA AGUA AVEO 18-23 1.5 CAJA  MARCA BEST COOLING",327.75,2,2,2,2,2,2,{"$f":"+IFERROR(HYPERLINK(VLOOKUP(C20343,FOTOGRAFICO!C:E,3,FALSE),C20343),\"\")","v":""}]
[null,null,"256G8A586ALKB","TOMA","TOMA AGUA FIESTA IKON KA 1.6   COURIER C/SENSOR LIGA TERMOSTA TOMA CURVA Y RECTA ALUMI.KABUT",307.68,1,0,0,0,0,0,{"$f":"+IFERROR(HYPERLINK(VLOOKUP(C20353,FOTOGRAFICO!C:E,3,FALSE),C20353),\"\")","v":""}]
[null,null,"6Q0121438A","TOMA","TOMA AGUA POLO 2.0 LTS 2 SALID AS GRUESAS 1 MEDIANA 1 PIPETA  MARCA BRUCK GERMANY",76.39,9,0,0,0,0,1,{"$f":"+IFERROR(HYPERLINK(VLOOKUP(C20360,FOTOGRAFICO!C:E,3,FALSE),C20360),\"\")","v":"6Q0121438A"}]
[null,null,"BRU022121117C","TOMA","BRIDA TOMA AGUA JETTA A4 99-15 2.8 EUROVAN T4 01-04 2.8       ALHAMBRA 02-08 2.8 BRUCK",239.78,1,1,1,1,1,1,{"$f":"+IFERROR(HYPERLINK(VLOOKUP(C20372,FOTOGRAFICO!C:E,3,FALSE),C20372),\"\")","v":""}]
[null,null,"BRU03L121132Q","TOMA","BRIDA TOMA AGUA BORA 05-10 1.9 TDI JETTA A6 11-18 2.0 TDI     MARCA BRUCK GERMANY 03L121132Q",163.4,1,1,1,1,1,1,{"$f":"+IFERROR(HYPERLINK(VLOOKUP(C20382,FOTOGRAFICO!C:E,3,FALSE),C20382),\"\")","v":""}]
[null,null,"BRU13049ET000","TOMA","BRIDA TOMA AGUA VERSA 11-19    1.6 TIIDA 07-18 1.6 SENTRA B16 06-12 2.0 CODO MARCA BRUCK",65.83,4,3,5,2,5,3,{"$f":"+IFERROR(HYPERLINK(VLOOKUP(C20392,FOTOGRAFICO!C:E,3,FALSE),C20392),\"\")","v":"BRU13049ET000"}]
[null,null,"BRU1K0122291R","TOMA","BRIDA TOMA AGUA JETTA A6 11-18 2.5 FSI BORA 05-10 2.5 FSI     SPORTWAGEN 10-16 2.5 BRUCK",44.66,5,0,0,0,2,3,{"$f":"+IFERROR(HYPERLINK(VLOOKUP(C20404,FOTOGRAFICO!C:E,3,FALSE),C20404),\"\")","v":"BRU1K0122291R"}]
[null,null,"EURO356G8575A2A","TOMA","TOMA AGUA FIESTA IKON KA 1.6   COURIER C/SENSOR LIGA TERMOSTA TOMA RECTA PLASTICO BRUCK",339.68,0,0,0,13,0,0,{"$f":"+IFERROR(HYPERLINK(VLOOKUP(C20411,FOTOGRAFICO!C:E,3,FALSE),C20411),\"\")","v":""}]
[null,null,"KN-TC185","TOMA","TOMA AGUA STRATUS 2.0 95-00    NEON 95-05 KNADIAN PIDE        TELLITUD",126.02,0,0,0,0,0,0,{"$f":"+IFERROR(HYPERLINK(VLOOKUP(C20415,FOTOGRAFICO!C:E,3,FALSE),C20415),\"\")","v":""}]
[null,null,"ORI037121144J","TOMA","TOMA AGUA LATERA GOLF JETTA A3 2.0 93-99 AUTOMATICO C/AIRE 2  BULBOS 3 SALIDAS BEST COOLING",45.25,1,0,0,0,0,0,{"$f":"+IFERROR(HYPERLINK(VLOOKUP(C20427,FOTOGRAFICO!C:E,3,FALSE),C20427),\"\")","v":""}]
[null,null,"ORI1J0121087B","TOMA","TOMA COPLE MANGUERA AGUA       JETTA A4 1.9 TDI 99-15 PASSAT  3.6 05-11 2 ENTRADAS 1 BRUCK",34.08,8,6,5,8,0,3,{"$f":"+IFERROR(HYPERLINK(VLOOKUP(C20440,FOTOGRAFICO!C:E,3,FALSE),C20440),\"\")","v":""}]
[null,null,"VAR049","TOMA","TOMA AGUA LAT CARIBE ATLANTIC",112.76,0,0,0,0,1,0,{"$f":"+IFERROR(HYPERLINK(VLOOKUP(C20447,FOTOGRAFICO!C:E,3,FALSE),C20447),\"\")","v":"VAR049"}]
[null,null,"7M5G8K556AC","TOMA","TOMA BRIDA AGUA FIESTA 1.6 11- 17 FORD FIGO 1.5 15-19 MARCA   BEST COOLING CON SENSOR",324.58,0,5,2,6,1,4,{"$f":"+IFERROR(HYPERLINK(VLOOKUP(C20454,FOTOGRAFICO!C:E,3,FALSE),C20454),\"\")","v":"7M5G8K556AC"}]
[null,null,"BRU191512131BPOL","TOPE","GOMA TOPE AMORTIGUADOR JETTA   A2 88-92 1.8 GOLF A2 88-92 1.8 GOLF JETTA A3 93-99 1.8 BRUCK",51.72,6,0,0,7,4,2,{"$f":"+IFERROR(HYPERLINK(VLOOKUP(C20469,FOTOGRAFICO!C:E,3,FALSE),C20469),\"\")","v":"BRU191512131BPOL"}]
[null,null,"ECO332","TOPE","TOPE CUBREPO AMORT DEL TSURU   TODOS MODELOS",72.5,35,32,44,35,10,23,{"$f":"+IFERROR(HYPERLINK(VLOOKUP(C20479,FOTOGRAFICO!C:E,3,FALSE),C20479),\"\")","v":""}]
[null,null,"95154454","TOPE","TOPE TRAS AMORTIGUADOR SPARK   11-17 SPARK 11-17 BEAT 18-20   MARCA GM PEDIDO GERARDO CALL",366.43,0,0,0,0,0,0,{"$f":"+IFERROR(HYPERLINK(VLOOKUP(C20486,FOTOGRAFICO!C:E,3,FALSE),C20486),\"\")","v":""}]
[null,null,"DAI-037","TOPE","TOPE REBOTE AMORTIG DEL ASTRA  00-06 CHEVY 94-12 CORSA 01-05  TORNADO 04-10 DAI PIDE PEDRO C",40.659999999999997,0,0,0,0,0,0,{"$f":"+IFERROR(HYPERLINK(VLOOKUP(C20489,FOTOGRAFICO!C:E,3,FALSE),C20489),\"\")","v":""}]
[null,null,"T2340","TORNILLO","TORNILLO TOLVA MOTOR VW SEDAN  COMBI 1600 CC",2.64,112,51,102,0,0,0,{"$f":"+IFERROR(HYPERLINK(VLOOKUP(C20502,FOTOGRAFICO!C:E,3,FALSE),C20502),\"\")","v":""}]
[null,null,"TORN-F4G","TORNILLO","TORNILLO PARA FACIA UNIVERSAL  DEPORTIVO VERDE",87.88,5,1,1,0,0,0,{"$f":"+IFERROR(HYPERLINK(VLOOKUP(C20509,FOTOGRAFICO!C:E,3,FALSE),C20509),\"\")","v":"TORN-F4G"}]
[null,null,"GM96653390","TORNILLO","TORNILLO SUJECCION LLANTA      REFACCION AVEO 1.6 08-17       PONTIAC G3 07-10 MARCA GM",52.91,0,0,0,0,0,0,{"$f":"+IFERROR(HYPERLINK(VLOOKUP(C20521,FOTOGRAFICO!C:E,3,FALSE),C20521),\"\")","v":""}]
[null,null,"TAVWSD","TORRE","TORRE ASIENTO VW DER/IZQ       VW SEDAN TODOS MODELOS",166.28,36,20,0,4,3,4,{"$f":"+IFERROR(HYPERLINK(VLOOKUP(C20527,FOTOGRAFICO!C:E,3,FALSE),C20527),\"\")","v":"TAVWSD"}]
[null,null,"03C121065B","TUBO","TUBO AGUA VENTO 1.6 13-18 GOLF VII POLO MOTOR 1.4L TSI MARCA  BRUCK GERMANY",136.33000000000001,5,4,1,6,4,4,{"$f":"+IFERROR(HYPERLINK(VLOOKUP(C20541,FOTOGRAFICO!C:E,3,FALSE),C20541),\"\")","v":"03C121065B"}]
[null,null,"25192904-Z","TUBO","TUBO CUERPO ACEL SONIC 12-18   CRUZE 11-15 TRAX 13-18 C/MANGU ERA MARCA Z-PRO",176.9,0,0,2,8,2,7,{"$f":"+IFERROR(HYPERLINK(VLOOKUP(C20553,FOTOGRAFICO!C:E,3,FALSE),C20553),\"\")","v":""}]
[null,null,"377121065J","TUBO","TUBO AGUA POINTER S/AA PARA    MANGUERA BOMBA AGUA MARCA      BRUCK GERMANY",193.93,8,0,6,4,0,5,{"$f":"+IFERROR(HYPERLINK(VLOOKUP(C20556,FOTOGRAFICO!C:E,3,FALSE),C20556),\"\")","v":"377121065J"}]
[null,null,"96273608","TUBO","TUBO AGUA AVEO 1.6 06-10 OPTRA 2.0 06-10 2 SALIDAS GRUESAS    MARCA BRUCK GERMANY 96273608",166.88,5,4,1,3,0,3,{"$f":"+IFERROR(HYPERLINK(VLOOKUP(C20564,FOTOGRAFICO!C:E,3,FALSE),C20564),\"\")","v":"96273608"}]
[null,null,"ECO107-21022","TUBO","TUBO AGUA TSURU III LARGO 16VA LS 93-17 SENTRA 94-00 MCA: NAC IONAL",369.86,4,2,1,0,0,2,{"$f":"+IFERROR(HYPERLINK(VLOOKUP(C20580,FOTOGRAFICO!C:E,3,FALSE),C20580),\"\")","v":"ECO107-21022"}]
[null,null,"GM25192904","TUBO","TUBO MANGUERA SONIC 12-18      CRUZE 10-16 TRAX 13-19 CUERPO  A TOMA GM PEDIDO MIGUEL OLEA",818.64,0,0,0,0,0,0,{"$f":"+IFERROR(HYPERLINK(VLOOKUP(C20585,FOTOGRAFICO!C:E,3,FALSE),C20585),\"\")","v":""}]
[null,null,"03L121065AJ","TUBO","TUBO AGUA VENTO 1.6 TFI 14-22  JETTA A6 CADDY PASSAT TIGUAN   NEW BETTLE GOLF A6 2.0 1.6 TDI",361.58,0,0,1,0,0,0,{"$f":"+IFERROR(HYPERLINK(VLOOKUP(C20596,FOTOGRAFICO!C:E,3,FALSE),C20596),\"\")","v":""}]
[null,null,"GM12649874","TUBO","TUBO CALEFACCION SPARK 1.4     16-20 MARCA GM PIDE LUIS       ARMANDO",1305.28,0,0,0,1,0,0,{"$f":"+IFERROR(HYPERLINK(VLOOKUP(C20603,FOTOGRAFICO!C:E,3,FALSE),C20603),\"\")","v":""}]
[null,null,"ALE131405670","TUERCA","TUERCA RDA DEL DER VW 1600",70.84,4,0,0,0,0,0,{"$f":"+IFERROR(HYPERLINK(VLOOKUP(C20614,FOTOGRAFICO!C:E,3,FALSE),C20614),\"\")","v":"ALE131405670"}]
[null,null,"G47C","TUERCA","TUERCA RUEDA TRASERA COMBI     FLECHA TRASERA",72.260000000000005,14,0,0,5,7,1,{"$f":"+IFERROR(HYPERLINK(VLOOKUP(C20620,FOTOGRAFICO!C:E,3,FALSE),C20620),\"\")","v":"G47C"}]
[null,null,"G47S","TUERCA","TUERCA RUEDA TRASERA VW SEDAN",59.35,34,9,0,12,0,10,{"$f":"+IFERROR(HYPERLINK(VLOOKUP(C20621,FOTOGRAFICO!C:E,3,FALSE),C20621),\"\")","v":""}]
[null,null,"G80","TUERCA","TUERCA INTERIOR 8MM EXT 13 MM  VARIAS APLICACIONES VOLKSWAGEN",1.07,190,0,0,0,0,0,{"$f":"+IFERROR(HYPERLINK(VLOOKUP(C20622,FOTOGRAFICO!C:E,3,FALSE),C20622),\"\")","v":""}]
[null,null,"MBTUERCA","TUERCA","TUERCA HUECA VW SEDAN COMBI MB MOTOR 1500-1600 REFORZADA",127.91,18,5,2,7,6,3,{"$f":"+IFERROR(HYPERLINK(VLOOKUP(C20623,FOTOGRAFICO!C:E,3,FALSE),C20623),\"\")","v":""}]
[null,null,"T08","TUERCA","TUERCA RDA TRAS GOLF POINTER   CARIBE ATLANTIC JETTA A2 A3    DERBY",28.62,12,0,0,0,0,0,{"$f":"+IFERROR(HYPERLINK(VLOOKUP(C20624,FOTOGRAFICO!C:E,3,FALSE),C20624),\"\")","v":""}]
[null,null,"T125","TUERCA","TUERCA BOCA RELLENO ACEITE VW  PARA TORRE GENERADOR",32.18,7,0,0,0,0,0,{"$f":"+IFERROR(HYPERLINK(VLOOKUP(C20625,FOTOGRAFICO!C:E,3,FALSE),C20625),\"\")","v":""}]
[null,null,"T2","TUERCA","TUERCA 6 MM",3.07,48,40,0,0,0,0,{"$f":"+IFERROR(HYPERLINK(VLOOKUP(C20626,FOTOGRAFICO!C:E,3,FALSE),C20626),\"\")","v":""}]
[null,null,"T2713","TUERCA","TUERCA Y TUBO TANQUE GAS VWSED CON SEDAZO",41.02,10,0,0,0,0,0,{"$f":"+IFERROR(HYPERLINK(VLOOKUP(C20627,FOTOGRAFICO!C:E,3,FALSE),C20627),\"\")","v":""}]
[null,null,"T49","TUERCA","TUERCA CIEGA P/COLADOR VW",2.72,83,0,0,0,0,0,{"$f":"+IFERROR(HYPERLINK(VLOOKUP(C20628,FOTOGRAFICO!C:E,3,FALSE),C20628),\"\")","v":""}]
[null,null,"T556","TUERCA","TUERCA HUECA VW SEDAN COMBI    NACIONAL MOTOR 1500-1600       REFORZADA",93.71,8,2,6,6,6,7,{"$f":"+IFERROR(HYPERLINK(VLOOKUP(C20629,FOTOGRAFICO!C:E,3,FALSE),C20629),\"\")","v":""}]
[null,null,"T7","TUERCA","TUERCA CABEZA VW 1600 INT 8MM  EXTERIOR 15 MM BIRLOS LARGOS   DE MONOBLOCK",6.35,32,0,0,0,0,0,{"$f":"+IFERROR(HYPERLINK(VLOOKUP(C20630,FOTOGRAFICO!C:E,3,FALSE),C20630),\"\")","v":""}]
[null,null,"T97","TUERCA","TUERCA ESPIGA CARIBE",43.11,19,0,0,0,0,0,{"$f":"+IFERROR(HYPERLINK(VLOOKUP(C20631,FOTOGRAFICO!C:E,3,FALSE),C20631),\"\")","v":""}]
[null,null,"FER113119031B","TURBINA","TURBINA VW SEDAN COMBI 1600    GENERADOR MARCA HB NACIONAL",178.09,11,4,6,4,4,4,{"$f":"+IFERROR(HYPERLINK(VLOOKUP(C20632,FOTOGRAFICO!C:E,3,FALSE),C20632),\"\")","v":""}]
[null,null,"FER113119031BZ","TURBINA","TURBINA VW SEDAN 1200 1500     GENERADOR MARCA HB NACIONAL",178.09,5,0,0,0,0,0,{"$f":"+IFERROR(HYPERLINK(VLOOKUP(C20633,FOTOGRAFICO!C:E,3,FALSE),C20633),\"\")","v":""}]
[null,null,"TURBINA","TURBINA","TURBINA SEDAN COMBI ECONOMI    CA MOTOR 1600",159.88,2,0,0,0,0,0,{"$f":"+IFERROR(HYPERLINK(VLOOKUP(C20634,FOTOGRAFICO!C:E,3,FALSE),C20634),\"\")","v":""}]
[null,null,"NMTX","TWEETER","TWEETER CHICO MTX 2000 WATTS",52.43,2,0,0,0,0,0,{"$f":"+IFERROR(HYPERLINK(VLOOKUP(C20635,FOTOGRAFICO!C:E,3,FALSE),C20635),\"\")","v":""}]
[null,null,"NTDBCH","TWEETER","TWEETER CHICO DB",52.44,5,0,1,3,0,0,{"$f":"+IFERROR(HYPERLINK(VLOOKUP(C20636,FOTOGRAFICO!C:E,3,FALSE),C20636),\"\")","v":""}]
[null,null,"NTDBG","TWEETER","TWEETER GRANDE DB (S)",62.92,3,4,4,0,0,0,{"$f":"+IFERROR(HYPERLINK(VLOOKUP(C20637,FOTOGRAFICO!C:E,3,FALSE),C20637),\"\")","v":""}]
[null,null,"NTEALP","TWEETER","TWEETER CHICO ALPINE",52.44,2,3,1,0,0,0,{"$f":"+IFERROR(HYPERLINK(VLOOKUP(C20638,FOTOGRAFICO!C:E,3,FALSE),C20638),\"\")","v":""}]
[null,null,"NTEALPG","TWEETER","TWEETER GRANDE ALPINE",62.93,4,0,2,5,0,1,{"$f":"+IFERROR(HYPERLINK(VLOOKUP(C20639,FOTOGRAFICO!C:E,3,FALSE),C20639),\"\")","v":""}]
[null,null,"NTEJBL","TWEETER","TWEETER CHICO JBL",52.44,3,2,4,3,0,1,{"$f":"+IFERROR(HYPERLINK(VLOOKUP(C20640,FOTOGRAFICO!C:E,3,FALSE),C20640),\"\")","v":""}]
[null,null,"NTEPIO","TWEETER","TWEETER CHICO PIONEER",52.43,5,2,5,6,7,4,{"$f":"+IFERROR(HYPERLINK(VLOOKUP(C20641,FOTOGRAFICO!C:E,3,FALSE),C20641),\"\")","v":""}]
[null,null,"NTEPIOG","TWEETER","TWEETER GRANDE PIONEER (S)",62.93,1,3,5,1,9,4,{"$f":"+IFERROR(HYPERLINK(VLOOKUP(C20642,FOTOGRAFICO!C:E,3,FALSE),C20642),\"\")","v":""}]
[null,null,"NTKBG","TWEETER","TWEETER GRANDE KENWOOD BLANCO",62.93,1,0,3,0,0,0,{"$f":"+IFERROR(HYPERLINK(VLOOKUP(C20643,FOTOGRAFICO!C:E,3,FALSE),C20643),\"\")","v":""}]
[null,null,"NTKCG","TWEETER","TWEETER GRANDE KICKER",62.92,3,0,7,11,9,2,{"$f":"+IFERROR(HYPERLINK(VLOOKUP(C20644,FOTOGRAFICO!C:E,3,FALSE),C20644),\"\")","v":""}]
[null,null,"NTKCH","TWEETER","TWEETER CHICO KICKER",52.43,5,0,3,0,3,0,{"$f":"+IFERROR(HYPERLINK(VLOOKUP(C20645,FOTOGRAFICO!C:E,3,FALSE),C20645),\"\")","v":""}]
[null,null,"NTMTXG","TWEETER","TWEETER GRANDE MTX 2000 WATTS",62.92,0,3,4,0,0,0,{"$f":"+IFERROR(HYPERLINK(VLOOKUP(C20646,FOTOGRAFICO!C:E,3,FALSE),C20646),\"\")","v":""}]
[null,null,"NTTAR","TWEETER","TWEETER CHICO TARANTULA        SOUNDSTREAM",53.78,2,2,4,3,0,2,{"$f":"+IFERROR(HYPERLINK(VLOOKUP(C20647,FOTOGRAFICO!C:E,3,FALSE),C20647),\"\")","v":""}]
[null,null,"NTTARG","TWEETER","TWEETER GRANDE TARANTULA",62.92,11,0,2,0,5,0,{"$f":"+IFERROR(HYPERLINK(VLOOKUP(C20648,FOTOGRAFICO!C:E,3,FALSE),C20648),\"\")","v":""}]
[null,null,"SX694B","TWEETER","TWEETER CHICO KENWOOD",52.44,0,3,3,0,1,0,{"$f":"+IFERROR(HYPERLINK(VLOOKUP(C20649,FOTOGRAFICO!C:E,3,FALSE),C20649),\"\")","v":""}]
[null,null,"SX694G","TWEETER","TWEETER GRANDE SONY",62.93,8,4,2,7,2,2,{"$f":"+IFERROR(HYPERLINK(VLOOKUP(C20650,FOTOGRAFICO!C:E,3,FALSE),C20650),\"\")","v":""}]
[null,null,"SX694N","TWEETER","TWEETER CHICO SONY XL NEGRO",52.44,4,2,4,4,0,2,{"$f":"+IFERROR(HYPERLINK(VLOOKUP(C20651,FOTOGRAFICO!C:E,3,FALSE),C20651),\"\")","v":""}]
[null,null,"SX694R","TWEETER","TWEETER CHICO SONY XL ROJO",52.44,0,1,2,0,0,0,{"$f":"+IFERROR(HYPERLINK(VLOOKUP(C20652,FOTOGRAFICO!C:E,3,FALSE),C20652),\"\")","v":""}]
[null,null,"TW52","TWEETER","TWEETER TUNIX MINI C/BASE",32.51,4,2,0,0,0,0,{"$f":"+IFERROR(HYPERLINK(VLOOKUP(C20653,FOTOGRAFICO!C:E,3,FALSE),C20653),\"\")","v":"TW52"}]
[null,null,"X106","TWEETER","TWEETER CHICO KENWOOD NEGRO",52.43,3,1,0,0,0,0,{"$f":"+IFERROR(HYPERLINK(VLOOKUP(C20654,FOTOGRAFICO!C:E,3,FALSE),C20654),\"\")","v":""}]
[null,null,"X106G","TWEETER","TWEETER GRANDE KENWOOD NEGRO",62.92,4,5,1,0,0,0,{"$f":"+IFERROR(HYPERLINK(VLOOKUP(C20655,FOTOGRAFICO!C:E,3,FALSE),C20655),\"\")","v":""}]
[null,null,"ECOUC","U","U PUERTA CORREDIZA COMPLETA    BISAGRA PUERTA CORREDIZA",430.25,2,4,0,0,0,0,{"$f":"+IFERROR(HYPERLINK(VLOOKUP(C20656,FOTOGRAFICO!C:E,3,FALSE),C20656),\"\")","v":""}]
[null,null,"C45-ES","UNIDAD","UNIDAD 7 PULGADAS HIPERLED",422.53,0,3,0,0,0,0,{"$f":"+IFERROR(HYPERLINK(VLOOKUP(C20657,FOTOGRAFICO!C:E,3,FALSE),C20657),\"\")","v":""}]
[null,null,"ORI1J0919506M","UNIDAD","UNIDAD CONTROL VENTILADOR POLO 03-14 RELEVADOR A/A ORIGINAL   PEDIDO JORGUE OLGUIN",2238.38,0,0,0,0,0,0,{"$f":"+IFERROR(HYPERLINK(VLOOKUP(C20658,FOTOGRAFICO!C:E,3,FALSE),C20658),\"\")","v":""}]
[null,null,"037-906-457E","VALVULA","VALVULA RALENTI GOLF JETTA A3  2.0 2.8 93-99 IAC DERBY 1.8 02 -09 INJETECH = BSH0140551891",580.57000000000005,3,0,1,0,6,0,{"$f":"+IFERROR(HYPERLINK(VLOOKUP(C20659,FOTOGRAFICO!C:E,3,FALSE),C20659),\"\")","v":"037-906-457E"}]
[null,null,"037906457EKB","VALVULA","VALVULA RALENTI GOLF JETTA A3  2.0 2.8 93-99 IAC DERBY 1.8 02 -09 KABUTO = 037-906-457E",456.21,1,2,1,1,1,0,{"$f":"+IFERROR(HYPERLINK(VLOOKUP(C20660,FOTOGRAFICO!C:E,3,FALSE),C20660),\"\")","v":""}]
[null,null,"049-129-412C","VALVULA","VALVULA ELECTROMAGNET VW 74-92 CARIBE 84-87 CARB 1 GARGANTA   VW SEDAN COMBI 1.6L IMPORTADA",135.76,10,2,0,0,4,0,{"$f":"+IFERROR(HYPERLINK(VLOOKUP(C20661,FOTOGRAFICO!C:E,3,FALSE),C20661),\"\")","v":"049-129-412C"}]
[null,null,"055-129-051G","VALVULA","VALVULA CORRECC VW 1.6 PRINCIP VALVULA ALTIMETR TROMPO GRANDE",53.48,8,0,0,0,0,0,{"$f":"+IFERROR(HYPERLINK(VLOOKUP(C20662,FOTOGRAFICO!C:E,3,FALSE),C20662),\"\")","v":"055-129-051G"}]
[null,null,"055-129-051H","VALVULA","VALVULA CORRECC VW 1.6 BAJA    VALVULA ALTIMETRI TROMPO CHICO ESPREA BAJA CARBURA 1600 NIKKO",42.51,9,0,0,0,5,0,{"$f":"+IFERROR(HYPERLINK(VLOOKUP(C20663,FOTOGRAFICO!C:E,3,FALSE),C20663),\"\")","v":"055-129-051H"}]
[null,null,"17059602KB","VALVULA","VALVULA RALENTI IAC SPARK 11-  17 BEAT 18-21 MARCA KABUTO     = INJ44209C",95.48,0,1,1,0,0,2,{"$f":"+IFERROR(HYPERLINK(VLOOKUP(C20664,FOTOGRAFICO!C:E,3,FALSE),C20664),\"\")","v":""}]
[null,null,"17087069","VALVULA","VALVULA EVAP CANISTER CHEVY    1.4 1.6 96-12 MARCA GM ORIGINA PIDE EDUADO CRUZ CALL CENTER",336.46,0,0,0,0,0,0,{"$f":"+IFERROR(HYPERLINK(VLOOKUP(C20665,FOTOGRAFICO!C:E,3,FALSE),C20665),\"\")","v":""}]
[null,null,"17112027-KB","VALVULA","VALVULA RALENTI CHEVY 1.4 TBI  99-03 CHEVY 1.6 TBI 99-03      PUNTA PLANA KABUTO = T84996",106.09,2,0,0,0,5,1,{"$f":"+IFERROR(HYPERLINK(VLOOKUP(C20666,FOTOGRAFICO!C:E,3,FALSE),C20666),\"\")","v":""}]
[null,null,"23782-1N600","VALVULA","VALVULA RALENTI TSURU III 98-  17 NISSAN PICK UP D21 2.4 97-  08 VOLTMAX = EURO237821N600",602.02,1,0,0,0,1,0,{"$f":"+IFERROR(HYPERLINK(VLOOKUP(C20667,FOTOGRAFICO!C:E,3,FALSE),C20667),\"\")","v":"23782-1N600"}]
[null,null,"24102949-Z","VALVULA","VALVULA PCV AVEO 18-22 1.5L    CAVALIER 18-22 1.5 MARCA Z-PRO",0,0,0,0,0,0,0,{"$f":"+IFERROR(HYPERLINK(VLOOKUP(C20668,FOTOGRAFICO!C:E,3,FALSE),C20668),\"\")","v":""}]
[null,null,"26740-03000-K","VALVULA","VALVULA PCV HYUNDAI I10 1.2L   15-20 MARCA KOREASTAR",176.9,0,0,2,0,0,0,{"$f":"+IFERROR(HYPERLINK(VLOOKUP(C20669,FOTOGRAFICO!C:E,3,FALSE),C20669),\"\")","v":"26740-03000-K"}]
[null,null,"35150-02600","VALVULA","VALVULA RALENTI ATOS 01-12 1.0 1.1 VERNA 1.6 04-06 EURO       ESPANA = ORI35150-02600",553.59,4,2,5,3,0,1,{"$f":"+IFERROR(HYPERLINK(VLOOKUP(C20670,FOTOGRAFICO!C:E,3,FALSE),C20670),\"\")","v":"35150-02600"}]
[null,null,"55558118NG","VALVULA","VALVULA PCV CRUZE 1.8 10-16    AVEO 1.6 09-10 SONIC 1.6 12-18 MARCA NEW GEN KOREA",218.98,6,6,6,6,0,5,{"$f":"+IFERROR(HYPERLINK(VLOOKUP(C20671,FOTOGRAFICO!C:E,3,FALSE),C20671),\"\")","v":""}]
[null,null,"84959VM","VALVULA","VALVULA RALENTI HYUNDAI I10    1.1L 12-14 MARCA VOLTMAX       VALVULA IAC",574.59,0,0,2,0,1,2,{"$f":"+IFERROR(HYPERLINK(VLOOKUP(C20672,FOTOGRAFICO!C:E,3,FALSE),C20672),\"\")","v":"84959VM"}]
[null,null,"90566947","VALVULA","VALVULA CALEFACCION CHEVY 94-  2008 3 SALIDAS MONZA 94-08     ORIGINAL AGENCIA AC DELCO",1736.56,1,1,0,0,0,0,{"$f":"+IFERROR(HYPERLINK(VLOOKUP(C20673,FOTOGRAFICO!C:E,3,FALSE),C20673),\"\")","v":"90566947"}]
[null,null,"90566947KB","VALVULA","VALVULA CALEFACCION CHEVY 94-  2008 3 SALIDAS MONZA 94-08     MARCA KABUTO = GM90566947",0,0,0,0,0,0,0,{"$f":"+IFERROR(HYPERLINK(VLOOKUP(C20674,FOTOGRAFICO!C:E,3,FALSE),C20674),\"\")","v":""}]
[null,null,"94580183-K","VALVULA","VALVULA PCV MATIZ G2 1.0 04-17 ORIGINAL KOREA",120.67,0,0,0,0,0,0,{"$f":"+IFERROR(HYPERLINK(VLOOKUP(C20675,FOTOGRAFICO!C:E,3,FALSE),C20675),\"\")","v":""}]
[null,null,"96495288-Z","VALVULA","VALVULA PCV AVEO 1.6L 08-17    OPTRA LS 2.0L 06-10            MARCA Z-PRO CALIDAD",122.04,10,8,12,12,0,4,{"$f":"+IFERROR(HYPERLINK(VLOOKUP(C20676,FOTOGRAFICO!C:E,3,FALSE),C20676),\"\")","v":"96495288-Z"}]
[null,null,"AFI169","VALVULA","VALVULA VENTILACION CARB 1800  HONGO",13.65,22,0,0,21,0,2,{"$f":"+IFERROR(HYPERLINK(VLOOKUP(C20677,FOTOGRAFICO!C:E,3,FALSE),C20677),\"\")","v":"AFI169"}]
[null,null,"AFIA065A","VALVULA","VALVULA ENRIQUESED FORD        VALVULA ECONOMISADORA RAMBLER  MCA TOMCO",85.7,6,0,0,3,0,1,{"$f":"+IFERROR(HYPERLINK(VLOOKUP(C20678,FOTOGRAFICO!C:E,3,FALSE),C20678),\"\")","v":"AFIA065A"}]
[null,null,"BOC71295400","VALVULA","VALVULA ELECTROMAGNETI VW 1600 VW SEDAN COMBI 1600 CARB 1 GAR MARCA TOMCO",125.26,2,2,1,1,1,3,{"$f":"+IFERROR(HYPERLINK(VLOOKUP(C20679,FOTOGRAFICO!C:E,3,FALSE),C20679),\"\")","v":"BOC71295400"}]
[null,null,"BRU03C103201K","VALVULA","VALVULA RESPIRACION VENTO POLO 13-17 1.4L 1.6L IBIZA 03- CON  MANGUERA MCA BRUCK VALV PCV",386.7,4,1,0,4,0,4,{"$f":"+IFERROR(HYPERLINK(VLOOKUP(C20680,FOTOGRAFICO!C:E,3,FALSE),C20680),\"\")","v":""}]
[null,null,"BRU06E109257P","VALVULA","VALVULA SOLENOIDE CONTROL DE   TIEMPO VVT JETTA A6 11-18 2.5  BEETLE 11-19 2.5 PASSAT 12-18",498.35,2,1,2,1,1,1,{"$f":"+IFERROR(HYPERLINK(VLOOKUP(C20681,FOTOGRAFICO!C:E,3,FALSE),C20681),\"\")","v":"BRU06E109257P"}]
[null,null,"BRU06E906517A","VALVULA","VALVULA EGR BORA 05-10 2.0 2.5 JETTA A6 11-18 2.0 2.0 BEETLE  11-19 2.0 AUDI A3 04-12 2.0T",313.81,2,1,2,1,1,1,{"$f":"+IFERROR(HYPERLINK(VLOOKUP(C20682,FOTOGRAFICO!C:E,3,FALSE),C20682),\"\")","v":"BRU06E906517A"}]
[null,null,"BRU06F906283F","VALVULA","VALVULA SOLENOIDE TURBO JETTA  A6 11-18 2.0 TSI BORA 05-10    2.0 BEETLE 11-19 2.0T BRUCK",309.13,1,1,1,1,1,1,{"$f":"+IFERROR(HYPERLINK(VLOOKUP(C20683,FOTOGRAFICO!C:E,3,FALSE),C20683),\"\")","v":"BRU06F906283F"}]
[null,null,"BRU06H103495AC","VALVULA","VALVULA PCV JETTA A6 11-18     2.0T BORA 05-10 2.0 TFSI       BEETLE 11-19 2.0T BRUCK",704.04,1,1,1,2,2,1,{"$f":"+IFERROR(HYPERLINK(VLOOKUP(C20684,FOTOGRAFICO!C:E,3,FALSE),C20684),\"\")","v":"BRU06H103495AC"}]
[null,null,"BRU06H109257A","VALVULA","VALVULA SOLENOIDE CONTROL DE   TIEMPO VVT JETTA A6 11-18 2.0T BEETLE 12-19 2.0T TIGUAN 09-17",351.43,1,1,1,2,1,1,{"$f":"+IFERROR(HYPERLINK(VLOOKUP(C20685,FOTOGRAFICO!C:E,3,FALSE),C20685),\"\")","v":"BRU06H109257A"}]
[null,null,"BRU06H906517B","VALVULA","VALVULA CANISTER JETTA A6 11-  18 2.0 AUDI A3 04-12 1.8T LEON 07-13 1.8 2.0 AUDI A4 08-15",354.96,1,1,1,1,1,1,{"$f":"+IFERROR(HYPERLINK(VLOOKUP(C20686,FOTOGRAFICO!C:E,3,FALSE),C20686),\"\")","v":"BRU06H906517B"}]
[null,null,"BRU06K103495AP","VALVULA","VALVULA PCV GOLF A7 15-19 2.0T JETTA A7 19-20 2.0 TSI LEON 14 -20 2.0 BEETLE 11-19 2.0 BRUCK",776.92,1,1,1,1,1,1,{"$f":"+IFERROR(HYPERLINK(VLOOKUP(C20687,FOTOGRAFICO!C:E,3,FALSE),C20687),\"\")","v":"BRU06K103495AP"}]
[null,null,"BRU07K103469LVAL","VALVULA","VALVULA FILTRO AIRE JETTA A6   11-18 2.5 FSI BORA 05-10 2.5   FSI BEETLE 11-19 2.5 BRUCK",256.23,3,1,2,3,1,1,{"$f":"+IFERROR(HYPERLINK(VLOOKUP(C20688,FOTOGRAFICO!C:E,3,FALSE),C20688),\"\")","v":"BRU07K103469LVAL"}]
[null,null,"BRU17112027","VALVULA","VALVULA RALENTI CHEVY 1.4 TBI  99-03 CHEVY 1.6 TBI 99-03      PUNTA PLAN BRUCK GERM = T84996",181,5,9,5,9,5,5,{"$f":"+IFERROR(HYPERLINK(VLOOKUP(C20689,FOTOGRAFICO!C:E,3,FALSE),C20689),\"\")","v":"BRU17112027"}]
[null,null,"BRU237963RC0A","VALVULA","VALVULA SOLENOIDE CONTROL DE   TIEMPO VVT SENTRA 13-19 1.6T   1.8 ALTIMA 13-18 3.5 BRUCK",818.03,1,1,1,1,2,1,{"$f":"+IFERROR(HYPERLINK(VLOOKUP(C20690,FOTOGRAFICO!C:E,3,FALSE),C20690),\"\")","v":"BRU237963RC0A"}]
[null,null,"BRU23796ET00A","VALVULA","VALVULA SOLENOIDE CONTROL DE   TIEMPO VVT TIIDA 1.8 07-18     SENTRA 2.0 07-12 BRUCK",429,1,5,5,2,4,3,{"$f":"+IFERROR(HYPERLINK(VLOOKUP(C20691,FOTOGRAFICO!C:E,3,FALSE),C20691),\"\")","v":"BRU23796ET00A"}]
[null,null,"BRU23796JA00A","VALVULA","VALVULA SOLENOIDE VVT SENTRA   2.5 07-12 FRONTIER 2.5 12 ALTI MA 2.5 07-12 BRUCK GERMANY",478.38,0,1,0,1,0,1,{"$f":"+IFERROR(HYPERLINK(VLOOKUP(C20692,FOTOGRAFICO!C:E,3,FALSE),C20692),\"\")","v":""}]
[null,null,"BRU25183354","VALVULA","VALVULA AFINACION AVEO 1.6 08- 17 PONTIAC G3 1.6 07-10 BEAT   1.2 18-20 SPARK 1.2 11-17 BRUC",211.56,0,0,1,1,1,1,{"$f":"+IFERROR(HYPERLINK(VLOOKUP(C20693,FOTOGRAFICO!C:E,3,FALSE),C20693),\"\")","v":"BRU25183354"}]
[null,null,"BRU3271291011","VALVULA","VALVULA RESPIRACION POINTER 97 -2006, HECHA EN ESPANA         MARCA. EURO ESPANA",125.75,1,0,19,17,18,9,{"$f":"+IFERROR(HYPERLINK(VLOOKUP(C20694,FOTOGRAFICO!C:E,3,FALSE),C20694),\"\")","v":"BRU3271291011"}]
[null,null,"BRU55567050","VALVULA","VALVULA SOLENOIDE VVT SONIC    1.6 12-17 TRAX 1.8 13-20 CRUZE 1.8 10-16 MARCA BRUCK GERMANY",505.4,0,4,2,1,0,0,{"$f":"+IFERROR(HYPERLINK(VLOOKUP(C20695,FOTOGRAFICO!C:E,3,FALSE),C20695),\"\")","v":"BRU55567050"}]
[null,null,"BRU93369686","VALVULA","VALVULA CONTROL AIRE CORSA     CHEVY TODOS MARCA BRUCK PIDE   ADAN",303.01,0,0,0,0,0,0,{"$f":"+IFERROR(HYPERLINK(VLOOKUP(C20696,FOTOGRAFICO!C:E,3,FALSE),C20696),\"\")","v":""}]
[null,null,"BSH0140551891","VALVULA","VALVULA RALENTI GOLF JETTA A3  2.0 2.8 93-99 IAC DERBY 1.8 02 -09 MARCA BOSCH = 037-906-457E",720.95,3,10,0,0,1,2,{"$f":"+IFERROR(HYPERLINK(VLOOKUP(C20697,FOTOGRAFICO!C:E,3,FALSE),C20697),\"\")","v":"BSH0140551891"}]
[null,null,"ECH17111946","VALVULA","VALVULA RALENTI CHEVY 1.4 TBI  99-03 CHEVY 1.6 TBI 99-03      PUNTA PLAN SMIDTD = T84996",188.68,3,1,2,2,2,1,{"$f":"+IFERROR(HYPERLINK(VLOOKUP(C20698,FOTOGRAFICO!C:E,3,FALSE),C20698),\"\")","v":""}]
[null,null,"ECO9560","VALVULA","VALVULA ADM VW 1.6 PLATO CHICO CARBURADOR 75-92 SEDAN F.I.93  S/PEDIDO CENTRAL",28.39,0,0,0,1,0,0,{"$f":"+IFERROR(HYPERLINK(VLOOKUP(C20699,FOTOGRAFICO!C:E,3,FALSE),C20699),\"\")","v":""}]
[null,null,"ECO9561","VALVULA","VALVULA ESC VW SEDAN 1.6       BASTAGO GRUESO PLATO CHICO     SEDAN F.I 93- CARBURADO 75-92",89.21,3,0,0,0,0,0,{"$f":"+IFERROR(HYPERLINK(VLOOKUP(C20700,FOTOGRAFICO!C:E,3,FALSE),C20700),\"\")","v":""}]
[null,null,"ECO9564","VALVULA","VALVULA ADM CARIBE 1.6",28.11,4,0,0,0,14,0,{"$f":"+IFERROR(HYPERLINK(VLOOKUP(C20701,FOTOGRAFICO!C:E,3,FALSE),C20701),\"\")","v":""}]
[null,null,"ECO9598","VALVULA","VALVULA ADM VW 1.8 HID CARBURA 9747 FUEL INYECTION",31.23,2,12,0,0,8,0,{"$f":"+IFERROR(HYPERLINK(VLOOKUP(C20702,FOTOGRAFICO!C:E,3,FALSE),C20702),\"\")","v":""}]
[null,null,"ECO9619","VALVULA","VALVULA ADM VW 1.8 HID FUEL IN FUELL INYECTION",28.14,11,0,0,0,7,0,{"$f":"+IFERROR(HYPERLINK(VLOOKUP(C20703,FOTOGRAFICO!C:E,3,FALSE),C20703),\"\")","v":""}]
[null,null,"ECO9620","VALVULA","VALVULA ESC VW 1.8 HIDR 9748",33.07,0,8,0,3,14,0,{"$f":"+IFERROR(HYPERLINK(VLOOKUP(C20704,FOTOGRAFICO!C:E,3,FALSE),C20704),\"\")","v":""}]
[null,null,"ECO9815","VALVULA","VALVULA ADM CHEVY 1.6 96-12    CORSA 1.8 03-05 TORNADO MERIVA 1.8 04-05 VALMEX = MOR9815",55.95,5,0,0,1,1,0,{"$f":"+IFERROR(HYPERLINK(VLOOKUP(C20705,FOTOGRAFICO!C:E,3,FALSE),C20705),\"\")","v":""}]
[null,null,"ECO9816","VALVULA","VALVULA ADM CHEVY 1.4 94-02    MARCA VALMEX = MOR9816",102.55,0,1,0,0,0,0,{"$f":"+IFERROR(HYPERLINK(VLOOKUP(C20706,FOTOGRAFICO!C:E,3,FALSE),C20706),\"\")","v":""}]
[null,null,"ECO9830","VALVULA","VALVULA ESC CHEVY 1.6 96-12    CORSA 1.8 03-05 TORNADO MERIVA 1.8 04-05 VALMEX = MOR9830",85.45,1,0,0,0,0,0,{"$f":"+IFERROR(HYPERLINK(VLOOKUP(C20707,FOTOGRAFICO!C:E,3,FALSE),C20707),\"\")","v":""}]
[null,null,"ECO9832","VALVULA","VALVULA ESC CHEVY 1.4 94-02    MARCA VALMEX = MOR9832",102.55,0,0,1,1,0,0,{"$f":"+IFERROR(HYPERLINK(VLOOKUP(C20708,FOTOGRAFICO!C:E,3,FALSE),C20708),\"\")","v":""}]
[null,null,"ECO9840","VALVULA","VALVULA ESC PLATINA CLIO 02-10 SANDERO STEPWAY 1.6 10-19      LLEVA 8 VALV VALMEX = MORS9840",89.21,0,3,12,1,0,2,{"$f":"+IFERROR(HYPERLINK(VLOOKUP(C20709,FOTOGRAFICO!C:E,3,FALSE),C20709),\"\")","v":""}]
[null,null,"ECOIAC","VALVULA","VALVULA RALENTI PLATINA 02-10  CLIO 1.6 MEGANE 2.0 01-03      APRIO 08-10 VOLTMAX = T84991",146.72999999999999,0,0,1,0,0,4,{"$f":"+IFERROR(HYPERLINK(VLOOKUP(C20710,FOTOGRAFICO!C:E,3,FALSE),C20710),\"\")","v":"ECOIAC"}]
[null,null,"E-EUROVAN","VALVULA","VALVULA ESC EUROVAN 2.5 00-04  5 CILINDROS MARCA VALMEX       = VE-VW02",50.47,8,0,0,0,10,0,{"$f":"+IFERROR(HYPERLINK(VLOOKUP(C20711,FOTOGRAFICO!C:E,3,FALSE),C20711),\"\")","v":""}]
[null,null,"EUR026906247","VALVULA","VALVULA RALENTI POINTER 00-09  1.8 2.0 IAC PUNTA PLASTICO     MARCA EURO ESPANA = T84994",172.76,4,0,7,13,4,6,{"$f":"+IFERROR(HYPERLINK(VLOOKUP(C20712,FOTOGRAFICO!C:E,3,FALSE),C20712),\"\")","v":""}]
[null,null,"EUR0279980491","VALVULA","VALVULA RALENTI POINTER 1.8 98 -99 IAC PUNTA METAL EURO       ESPANA = USA06697 = T8405",183.35,0,0,0,5,0,3,{"$f":"+IFERROR(HYPERLINK(VLOOKUP(C20713,FOTOGRAFICO!C:E,3,FALSE),C20713),\"\")","v":""}]
[null,null,"EUR17112031","VALVULA","VALVULA RALENTI AVEO 1.6 08-17 CHEVY 1.4 MPFI 94-95 CHEVY 1.6 MPFI 96-00 EURO ESPANA = T8406",177.47,15,19,11,10,4,6,{"$f":"+IFERROR(HYPERLINK(VLOOKUP(C20714,FOTOGRAFICO!C:E,3,FALSE),C20714),\"\")","v":""}]
[null,null,"EUR17113196","VALVULA","VALVULA RALENTI CHEVY 1.6 MPFI 01-12 CORSA 1.8 03-08 TORNADO  1.8 04-05 LUV 2.2 00-03 BRUCK",196.65,10,3,6,9,10,6,{"$f":"+IFERROR(HYPERLINK(VLOOKUP(C20715,FOTOGRAFICO!C:E,3,FALSE),C20715),\"\")","v":"EUR17113196"}]
[null,null,"EURO237821N600","VALVULA","VALVULA RALENTI TSURU III 98-  17 NISSAN PICK UP D21 2.4 97-  08 EURO ESPANA = 23782-1N600",728.7,2,13,3,3,1,1,{"$f":"+IFERROR(HYPERLINK(VLOOKUP(C20716,FOTOGRAFICO!C:E,3,FALSE),C20716),\"\")","v":""}]
[null,null,"EURO7700102539","VALVULA","VALVULA RALENTI PLATINA 02-10  CLIO 1.6 MEGANE 2.0 01-03      APRIO 08-10 EUROESPAN = ECOIAC",177.48,3,10,7,8,5,3,{"$f":"+IFERROR(HYPERLINK(VLOOKUP(C20717,FOTOGRAFICO!C:E,3,FALSE),C20717),\"\")","v":""}]
[null,null,"GM12679099","VALVULA","VALVULA VVT ADMISION EQUINOX   2.4 11-17 ARBOL DE LEVAS MARCA GM PIDE TELLITUD",1606,0,0,0,0,0,0,{"$f":"+IFERROR(HYPERLINK(VLOOKUP(C20718,FOTOGRAFICO!C:E,3,FALSE),C20718),\"\")","v":""}]
[null,null,"GM12679100","VALVULA","VALVULA VVT ESCAPE EQUINOX 2.4 12-17 ARBOL DE LEVAS MARCA GM  PIDE TELLITUD",1606,0,0,0,0,0,0,{"$f":"+IFERROR(HYPERLINK(VLOOKUP(C20719,FOTOGRAFICO!C:E,3,FALSE),C20719),\"\")","v":""}]
[null,null,"GM90498464","VALVULA","VALVULA VACIO ASTRA 00-06      CORSA 03-07 MERIVA 04-06       MARCA GM PIDE JAVIER",204.47,0,0,0,0,0,0,{"$f":"+IFERROR(HYPERLINK(VLOOKUP(C20720,FOTOGRAFICO!C:E,3,FALSE),C20720),\"\")","v":""}]
[null,null,"GM90566947","VALVULA","VALVULA CALEFACCION CHEVY 94-  2008 3 SALIDAS MONZA 94-08     MARCA IMPORTADO",133.02000000000001,8,4,11,6,3,4,{"$f":"+IFERROR(HYPERLINK(VLOOKUP(C20721,FOTOGRAFICO!C:E,3,FALSE),C20721),\"\")","v":""}]
[null,null,"GM94580183","VALVULA","VALVULA PCV MATIZ G2 1.0 04-17 ORIGINAL MARCA GM",180.44,0,0,0,0,0,0,{"$f":"+IFERROR(HYPERLINK(VLOOKUP(C20722,FOTOGRAFICO!C:E,3,FALSE),C20722),\"\")","v":""}]
[null,null,"GM96859269","VALVULA","VALVULA AFINACION AVEO 1.6     08-17 PONTIAC 1.6 10 MARCA GM",497.24,0,0,0,0,0,0,{"$f":"+IFERROR(HYPERLINK(VLOOKUP(C20723,FOTOGRAFICO!C:E,3,FALSE),C20723),\"\")","v":""}]
[null,null,"HER026906247","VALVULA","VALVULA RALENTI POINTER 00-09  1.8 2.0 IAC PUNTA PLASTICO     MARCA HERTA = EUR026906247",125.64,1,0,0,0,0,2,{"$f":"+IFERROR(HYPERLINK(VLOOKUP(C20724,FOTOGRAFICO!C:E,3,FALSE),C20724),\"\")","v":""}]
[null,null,"HER17112027","VALVULA","VALVULA RALENTI CHEVY 1.4 TBI  99-03 CHEVY 1.6 TBI 99-03      PUNTA PLANA VOLTMAX = T84996",153.59,0,1,0,0,0,1,{"$f":"+IFERROR(HYPERLINK(VLOOKUP(C20725,FOTOGRAFICO!C:E,3,FALSE),C20725),\"\")","v":""}]
[null,null,"HER7700102539","VALVULA","VALVULA RALENTI PLATINA 02-10  CLIO 1.6 MEGANE 2.0 01-03      APRIO 08-10 INJETECH = T84991",187.81,1,1,3,0,1,1,{"$f":"+IFERROR(HYPERLINK(VLOOKUP(C20726,FOTOGRAFICO!C:E,3,FALSE),C20726),\"\")","v":"HER7700102539"}]
[null,null,"INJ11005","VALVULA","VALVULA RALENTY WINDSTAR 3.8   01-03 VALVULA IAC MARCA        INJETECH PIDE ADAN",1212.44,0,0,0,0,0,0,{"$f":"+IFERROR(HYPERLINK(VLOOKUP(C20727,FOTOGRAFICO!C:E,3,FALSE),C20727),\"\")","v":""}]
[null,null,"INJ40101607","VALVULA","VALVULA IAC O RALENTI NEON 2.0 2000-2000 MARCA INJETECH PIDE  JAZEL",257.20999999999998,0,0,0,0,0,0,{"$f":"+IFERROR(HYPERLINK(VLOOKUP(C20728,FOTOGRAFICO!C:E,3,FALSE),C20728),\"\")","v":""}]
[null,null,"INJ43009","VALVULA","VALVULA RALENTI TOYOTA AVANZA  1.5 07-15 VALVULA IAC MARCA    INJETECH PEDIDO LONDAIZ",358.57,0,0,0,0,0,0,{"$f":"+IFERROR(HYPERLINK(VLOOKUP(C20729,FOTOGRAFICO!C:E,3,FALSE),C20729),\"\")","v":""}]
[null,null,"INJ44209C","VALVULA","VALVULA RALENTI IAC SPARK 11-  17 BEAT 18-19 MARCA INJETECH",238.48,0,2,10,1,4,5,{"$f":"+IFERROR(HYPERLINK(VLOOKUP(C20730,FOTOGRAFICO!C:E,3,FALSE),C20730),\"\")","v":"INJ44209C"}]
[null,null,"INJ44210C","VALVULA","VALVULA RALENTI DODGE I10 12-  14 MARCA INJETECH              PEDIDA COTOC",630.76,0,0,0,0,0,0,{"$f":"+IFERROR(HYPERLINK(VLOOKUP(C20731,FOTOGRAFICO!C:E,3,FALSE),C20731),\"\")","v":""}]
[null,null,"MOR9541","VALVULA","VALVULA ESC VW 1.6 71-76 SEDAN VASTAGO DELGAD DIAMETRO 7.93MM LARGO 111.86 COMBI 1600 MORESA",82.88,1,0,0,0,4,0,{"$f":"+IFERROR(HYPERLINK(VLOOKUP(C20732,FOTOGRAFICO!C:E,3,FALSE),C20732),\"\")","v":"MOR9541"}]
[null,null,"MOR9560","VALVULA","VALVULA ADM VW 1.6 PLATO CHICO CARBURADOR 75-92               SEDAN F.I. 93- MORESA",48.04,17,0,0,0,0,0,{"$f":"+IFERROR(HYPERLINK(VLOOKUP(C20733,FOTOGRAFICO!C:E,3,FALSE),C20733),\"\")","v":"MOR9560"}]
[null,null,"MOR9561","VALVULA","VALVULA ESC VW 1.6 B/GRS PLA C BASTAGO GRUESO PLATO CHICO     SEDAN F.I 93- CARBURADO 76-92",97.9,8,0,0,0,0,0,{"$f":"+IFERROR(HYPERLINK(VLOOKUP(C20734,FOTOGRAFICO!C:E,3,FALSE),C20734),\"\")","v":"MOR9561"}]
[null,null,"MOR9564","VALVULA","VALVULA ADM CARIBE 1.6",72.06,5,0,0,0,4,0,{"$f":"+IFERROR(HYPERLINK(VLOOKUP(C20735,FOTOGRAFICO!C:E,3,FALSE),C20735),\"\")","v":"MOR9564"}]
[null,null,"MOR9574","VALVULA","VALVULA ESC CARIBE 1.7         MORESA",78.8,3,0,0,0,0,0,{"$f":"+IFERROR(HYPERLINK(VLOOKUP(C20736,FOTOGRAFICO!C:E,3,FALSE),C20736),\"\")","v":"MOR9574"}]
[null,null,"MOR9749","VALVULA","VALVULA ADM VW 1.8-2.0 DELGADA GOLF JETTA 1.8 Y 2.0 COMBI 1.8 JETTA A4 99-12 MARCA MORESA",100.9,7,0,0,12,0,9,{"$f":"+IFERROR(HYPERLINK(VLOOKUP(C20737,FOTOGRAFICO!C:E,3,FALSE),C20737),\"\")","v":"MOR9749"}]
[null,null,"MOR9815","VALVULA","VALVULA ADM CHEVY 1.6 96-12    CORSA 1.8 03-05 TORNADO MERIVA 1.8 04-05 MORESA = VA-GM9815",79.28,11,0,24,11,0,15,{"$f":"+IFERROR(HYPERLINK(VLOOKUP(C20738,FOTOGRAFICO!C:E,3,FALSE),C20738),\"\")","v":"MOR9815"}]
[null,null,"MOR9816","VALVULA","VALVULA ADM CHEVY 1.4 94-02    MARCA MORESA = ECO9816",96.09,0,9,12,12,0,2,{"$f":"+IFERROR(HYPERLINK(VLOOKUP(C20739,FOTOGRAFICO!C:E,3,FALSE),C20739),\"\")","v":"MOR9816"}]
[null,null,"MOR9830","VALVULA","VALVULA ESC CHEVY 1.6 96-12    CORSA 1.8 03-05 TORNADO MERIVA 1.8 04-05 MORESA = ECO9830",126.12,10,0,21,15,0,10,{"$f":"+IFERROR(HYPERLINK(VLOOKUP(C20740,FOTOGRAFICO!C:E,3,FALSE),C20740),\"\")","v":"MOR9830"}]
[null,null,"MOR9832","VALVULA","VALVULA ESC CHEVY 1.4 94-02    MARCA MORESA = ECO9832",123.12,12,13,14,10,0,4,{"$f":"+IFERROR(HYPERLINK(VLOOKUP(C20741,FOTOGRAFICO!C:E,3,FALSE),C20741),\"\")","v":"MOR9832"}]
[null,null,"MORS7008","VALVULA","VALVULA ESC ATOS 1.1 05-12     LLEVA 4 VALVULAS MARCA MORESA",121.92,15,0,24,3,10,8,{"$f":"+IFERROR(HYPERLINK(VLOOKUP(C20742,FOTOGRAFICO!C:E,3,FALSE),C20742),\"\")","v":"MORS7008"}]
[null,null,"MORS7014","VALVULA","VALVULA ESC URVAN NV350 2.5 08 -19 NP300 2.5 16-19 SENTRA 2.5 02-12 LLEVA 8 VALVULAS MORESA",93.09,23,0,27,55,0,14,{"$f":"+IFERROR(HYPERLINK(VLOOKUP(C20743,FOTOGRAFICO!C:E,3,FALSE),C20743),\"\")","v":"MORS7014"}]
[null,null,"MORS7056","VALVULA","VALVULA ESC HIACE 2.7 06-15    HILUX 2.7 05-15 TACOMA 2.7 05- 15 LLEVA 8 VALV MARCA MORESA",109.91,1,0,8,0,0,0,{"$f":"+IFERROR(HYPERLINK(VLOOKUP(C20744,FOTOGRAFICO!C:E,3,FALSE),C20744),\"\")","v":"MORS7056"}]
[null,null,"MORS7074","VALVULA","VALVULA ESC MATIZ 1.0 04-15    LLEVA 4 VALVULAS MARCA MORESA",134.54,6,0,11,0,7,0,{"$f":"+IFERROR(HYPERLINK(VLOOKUP(C20745,FOTOGRAFICO!C:E,3,FALSE),C20745),\"\")","v":"MORS7074"}]
[null,null,"MORS7082","VALVULA","VALVULA ESC POLO LUPO 1.6 SEAT IBIZA CORDOBA 1.6L GOL SAVEIRO 1.6 CROSS FOX MCA MORESA MEXIC",135.74,12,17,17,11,0,11,{"$f":"+IFERROR(HYPERLINK(VLOOKUP(C20746,FOTOGRAFICO!C:E,3,FALSE),C20746),\"\")","v":"MORS7082"}]
[null,null,"MORS7090","VALVULA","VALVULA ESCAPE AVEO 1.6 16V    PONTIAC G3 2007-2019           MARCA MORESA",111.71,21,32,67,39,15,75,{"$f":"+IFERROR(HYPERLINK(VLOOKUP(C20747,FOTOGRAFICO!C:E,3,FALSE),C20747),\"\")","v":"MORS7090"}]
[null,null,"MORS7134","VALVULA","VALVULA ESC CORSA 1.8 06-08    TORNADO 1.8 06-16 PALIO 1.8 05 -11 MERIVA 1.8 06-08 MORESA",127.32,4,0,0,0,0,0,{"$f":"+IFERROR(HYPERLINK(VLOOKUP(C20748,FOTOGRAFICO!C:E,3,FALSE),C20748),\"\")","v":"MORS7134"}]
[null,null,"MORS7178","VALVULA","VALVULA ESC I10 1.1 12-14      LLEVA 4 VALVULAS MARCA MORESA",149.54,14,0,0,0,0,0,{"$f":"+IFERROR(HYPERLINK(VLOOKUP(C20749,FOTOGRAFICO!C:E,3,FALSE),C20749),\"\")","v":"MORS7178"}]
[null,null,"MORS7946","VALVULA","VALVULA ESC ATOS 1.0 99-04     LLEVA 4 VALVULAS MARCA MORESA  = ORI422M3512",120.72,0,0,10,5,0,4,{"$f":"+IFERROR(HYPERLINK(VLOOKUP(C20750,FOTOGRAFICO!C:E,3,FALSE),C20750),\"\")","v":"MORS7946"}]
[null,null,"MORS9578","VALVULA","VALVULA ESC TSURU III 8VALS    MOTOR 8 VALVS MARCA MORESA MEX LLEVA 4 VALVS LA CABEZA",75.680000000000007,13,0,23,0,0,4,{"$f":"+IFERROR(HYPERLINK(VLOOKUP(C20751,FOTOGRAFICO!C:E,3,FALSE),C20751),\"\")","v":"MORS9578"}]
[null,null,"MORS9620","VALVULA","VALVULA ESC VW 1.8 HIDR 9748   MARCA MORESA MEX",89.48,0,0,0,29,0,0,{"$f":"+IFERROR(HYPERLINK(VLOOKUP(C20752,FOTOGRAFICO!C:E,3,FALSE),C20752),\"\")","v":"MORS9620"}]
[null,null,"MORS9738","VALVULA","VALVULA ESC TSURU III 16 VALVS SENTRA LUCINO 16V MCA MORESA   MEXICO LLEVA 8 VALVS LA CABEZA",94.29,6,24,7,1,0,4,{"$f":"+IFERROR(HYPERLINK(VLOOKUP(C20753,FOTOGRAFICO!C:E,3,FALSE),C20753),\"\")","v":"MORS9738"}]
[null,null,"MORS9840","VALVULA","VALVULA ESC PLATINA CLIO 02-10 SANDERO STEPWAY 1.6 10-19      LLEVA 8 VALV MORESA = ECO9840",87.7,54,10,75,52,36,34,{"$f":"+IFERROR(HYPERLINK(VLOOKUP(C20754,FOTOGRAFICO!C:E,3,FALSE),C20754),\"\")","v":"MORS9840"}]
[null,null,"MORS9868","VALVULA","VALVULA ESC FIESTA 1.6 IKON KA COURIER 1.6 MARCA MORESA       HECHO EN MEXICO",124.92,5,0,0,0,0,0,{"$f":"+IFERROR(HYPERLINK(VLOOKUP(C20755,FOTOGRAFICO!C:E,3,FALSE),C20755),\"\")","v":"MORS9868"}]
[null,null,"MORS9882","VALVULA","VALVULA ESC URVAN 2.4 00-08    NISSAN PICK UP 2.4 05-09 LLEVA 8 VALV MORESA = 13202-VJ200",108.11,22,0,0,45,0,16,{"$f":"+IFERROR(HYPERLINK(VLOOKUP(C20756,FOTOGRAFICO!C:E,3,FALSE),C20756),\"\")","v":"MORS9882"}]
[null,null,"MORV7007","VALVULA","VALVULA ADM ATOS 1.1 05-12     LLEVA 8 VALVULAS MARCA MORESA",95.48,11,0,43,0,14,0,{"$f":"+IFERROR(HYPERLINK(VLOOKUP(C20757,FOTOGRAFICO!C:E,3,FALSE),C20757),\"\")","v":"MORV7007"}]
[null,null,"MORV7013","VALVULA","VALVULA ADM URVAN NV350 2.5 08 -19 NP300 2.5 16-19 SENTRA 2.5 02-12 LLEVA 8 VALVULAS MORESA",90.69,15,0,32,46,0,22,{"$f":"+IFERROR(HYPERLINK(VLOOKUP(C20758,FOTOGRAFICO!C:E,3,FALSE),C20758),\"\")","v":"MORV7013"}]
[null,null,"MORV7055","VALVULA","VALVULA ADM HIACE 2.7 06-15    HILUX 2.7 05-15 TACOMA 2.7 05- 15 LLEVA 8 VALV MARCA MORESA",97.9,0,0,17,0,0,0,{"$f":"+IFERROR(HYPERLINK(VLOOKUP(C20759,FOTOGRAFICO!C:E,3,FALSE),C20759),\"\")","v":"MORV7055"}]
[null,null,"MORV7073","VALVULA","VALVULA ADM MATIZ 1.0 04-15    LLEVA 4 VALVULAS MARCA MORESA",99.7,8,0,14,7,6,11,{"$f":"+IFERROR(HYPERLINK(VLOOKUP(C20760,FOTOGRAFICO!C:E,3,FALSE),C20760),\"\")","v":"MORV7073"}]
[null,null,"MORV7081","VALVULA","VALVULA ADM POLO LUPO 1.6 SEAT IBIZA CORDOBA 1.6L GOL SAVEIRO 1.6 CROSS FOX MCA MORESA MEXIC",80.48,16,8,16,10,0,9,{"$f":"+IFERROR(HYPERLINK(VLOOKUP(C20761,FOTOGRAFICO!C:E,3,FALSE),C20761),\"\")","v":"MORV7081"}]
[null,null,"MORV7089","VALVULA","VALVULA ADMISION AVEO 1.6 16V  2007-2019 PONTIAC G3 MARCA     MORESA",75.069999999999993,33,28,36,69,8,39,{"$f":"+IFERROR(HYPERLINK(VLOOKUP(C20762,FOTOGRAFICO!C:E,3,FALSE),C20762),\"\")","v":"MORV7089"}]
[null,null,"MORV7133","VALVULA","VALVULA ADM CORSA 1.8 06-08    TORNADO 1.8 06-16 PALIO 1.8 05 -11 MERIVA 1.8 06-08 MORESA",70.87,5,0,0,0,4,0,{"$f":"+IFERROR(HYPERLINK(VLOOKUP(C20763,FOTOGRAFICO!C:E,3,FALSE),C20763),\"\")","v":"MORV7133"}]
[null,null,"MORV7177","VALVULA","VALVULA ADM I10 1.1 12-14      LLEVA 8 VALVULAS MARCA MORESA",116.5,16,0,16,0,0,0,{"$f":"+IFERROR(HYPERLINK(VLOOKUP(C20764,FOTOGRAFICO!C:E,3,FALSE),C20764),\"\")","v":"MORV7177"}]
[null,null,"MORV7947","VALVULA","VALVULA ADM ATOS 1.0 99-04     LLEVA 8 VALVULAS MARCA MORESA",105.1,0,0,4,1,21,6,{"$f":"+IFERROR(HYPERLINK(VLOOKUP(C20765,FOTOGRAFICO!C:E,3,FALSE),C20765),\"\")","v":"MORV7947"}]
[null,null,"MORV9577","VALVULA","VALVULA ADM TSURU III 8VALS    MOTOR 8 VALVS MARCA MORESA MEX LLEVA 4 VALVS LA CABEZA",69.67,0,0,0,7,0,4,{"$f":"+IFERROR(HYPERLINK(VLOOKUP(C20766,FOTOGRAFICO!C:E,3,FALSE),C20766),\"\")","v":"MORV9577"}]
[null,null,"MORV9619","VALVULA","VALVULA ADM VW 1.8 HID FUEL IN FUELL INYECTION                MARCA MORESA",73.27,8,0,0,0,4,0,{"$f":"+IFERROR(HYPERLINK(VLOOKUP(C20767,FOTOGRAFICO!C:E,3,FALSE),C20767),\"\")","v":"MORV9619"}]
[null,null,"MORV9658","VALVULA","VALVULA ADM VW 1.8 PUNT MECANI MORESA",50.45,4,0,0,0,0,0,{"$f":"+IFERROR(HYPERLINK(VLOOKUP(C20768,FOTOGRAFICO!C:E,3,FALSE),C20768),\"\")","v":"MORV9658"}]
[null,null,"MORV9737","VALVULA","VALVULA ADM TSURU III 16 VALVS SENTRA LUCINO 16V MCA MORESA   MEXICO LLEVA 8 VALVS LA CABEZA",78.680000000000007,18,32,7,22,0,8,{"$f":"+IFERROR(HYPERLINK(VLOOKUP(C20769,FOTOGRAFICO!C:E,3,FALSE),C20769),\"\")","v":"MORV9737"}]
[null,null,"MORV9781","VALVULA","VALVULA ADMISION POINTER DERBY 1800 DELGADA 7 MM PLATO 38 MM  MARCA MORESA HECHO EN MEXICO",102.71,1,0,2,0,0,1,{"$f":"+IFERROR(HYPERLINK(VLOOKUP(C20770,FOTOGRAFICO!C:E,3,FALSE),C20770),\"\")","v":"MORV9781"}]
[null,null,"MORV9839","VALVULA","VALVULA ADM PLATINA CLIO 02-10 SANDERO STEPWAY 1.6 10-19      LLEVA 8 VALV MORESA = ECO9839",70.27,85,21,67,66,28,30,{"$f":"+IFERROR(HYPERLINK(VLOOKUP(C20771,FOTOGRAFICO!C:E,3,FALSE),C20771),\"\")","v":"MORV9839"}]
[null,null,"MORV9881","VALVULA","VALVULA ADM URVAN 2.4 00-08    NISSAN PICK UP 2.4 05-09 LLEVA 8 VALV MORESA = 13201-VJ200",96.09,31,0,0,58,0,16,{"$f":"+IFERROR(HYPERLINK(VLOOKUP(C20772,FOTOGRAFICO!C:E,3,FALSE),C20772),\"\")","v":"MORV9881"}]
[null,null,"NIS13201-VJ200J","VALVULA","VALVULA ADM URVAN 2.4 00-08    NISSAN PICK UP 2.4 05-09 LLEVA 8 VALV DOKURO = MORV9881",127.53,0,0,0,8,0,31,{"$f":"+IFERROR(HYPERLINK(VLOOKUP(C20773,FOTOGRAFICO!C:E,3,FALSE),C20773),\"\")","v":""}]
[null,null,"NIS13202-VJ200J","VALVULA","VALVULA ESC URVAN 2.4 00-08    NISSAN PICK UP 2.4 05-09 LLEVA 8 VALV DOKURO = MORS9882",91.61,0,0,0,1,1,0,{"$f":"+IFERROR(HYPERLINK(VLOOKUP(C20774,FOTOGRAFICO!C:E,3,FALSE),C20774),\"\")","v":""}]
[null,null,"ORI051133031","VALVULA","VALVULA RELENTI GOLF 92 TBI    VALVULA LARGA MCA: EUROESPANA  SE FIJA CON 3 TORNILLOS 4 PINS",612.29999999999995,1,0,0,0,1,0,{"$f":"+IFERROR(HYPERLINK(VLOOKUP(C20775,FOTOGRAFICO!C:E,3,FALSE),C20775),\"\")","v":"ORI051133031"}]
[null,null,"ORI06A129101A","VALVULA","VALVULA FILTRO AIRE GOLF JETTA A4 99-2009 MCA:BRUCK HECHO EN  ALEMANIA TAPA PUNTERIAS 2.0 L",45.86,0,0,0,0,14,0,{"$f":"+IFERROR(HYPERLINK(VLOOKUP(C20776,FOTOGRAFICO!C:E,3,FALSE),C20776),\"\")","v":"ORI06A129101A"}]
[null,null,"ORI171819809E","VALVULA","VALVULA PASO AGUA CALEF CARIBE",30.34,0,0,0,1,1,0,{"$f":"+IFERROR(HYPERLINK(VLOOKUP(C20777,FOTOGRAFICO!C:E,3,FALSE),C20777),\"\")","v":"ORI171819809E"}]
[null,null,"ORI2000E","VALVULA","VALVULA ESC GOLF JETTA DELGADA 1.8- 2.0 A3 Y A4 93-12 POINTER -COMBI 1.8 7 MM MARCA MORESA",133.93,4,0,8,13,0,9,{"$f":"+IFERROR(HYPERLINK(VLOOKUP(C20778,FOTOGRAFICO!C:E,3,FALSE),C20778),\"\")","v":""}]
[null,null,"ORI35150-02600","VALVULA","VALVULA RALENTI ATOS 01-12 1.0 1.1 VERNA 1.6 04-06 VOLTMAX    = 35150-02600 = RELENTI",553.13,0,0,3,12,7,3,{"$f":"+IFERROR(HYPERLINK(VLOOKUP(C20779,FOTOGRAFICO!C:E,3,FALSE),C20779),\"\")","v":""}]
[null,null,"ORI377612150","VALVULA","VALVULA CIL MAESTRO POINTER    97-",95.18,0,0,0,1,0,0,{"$f":"+IFERROR(HYPERLINK(VLOOKUP(C20780,FOTOGRAFICO!C:E,3,FALSE),C20780),\"\")","v":""}]
[null,null,"ORI40439102","VALVULA","VALVULA RALENTI POINTER 00-09  1.8 2.0 IAC PUNTA PLASTICO     MARCA MTE THOMSON = USA11785",312.98,8,1,6,24,5,4,{"$f":"+IFERROR(HYPERLINK(VLOOKUP(C20781,FOTOGRAFICO!C:E,3,FALSE),C20781),\"\")","v":""}]
[null,null,"ORI422M3512","VALVULA","VALVULA ESC ATOS 1.0 99-04     LLEVA 4 VALVULAS MARCA TOP     ENGINE = MORS7946",52.11,0,0,0,8,0,1,{"$f":"+IFERROR(HYPERLINK(VLOOKUP(C20782,FOTOGRAFICO!C:E,3,FALSE),C20782),\"\")","v":""}]
[null,null,"RELENTI","VALVULA","VALVULA RALENTI ATOS 01-12 1.0 1.1 VERNA 1.6 04-06 INJETECH   = ORI35150-02600 = 35150-02600",523.27,7,0,4,0,0,0,{"$f":"+IFERROR(HYPERLINK(VLOOKUP(C20783,FOTOGRAFICO!C:E,3,FALSE),C20783),\"\")","v":""}]
[null,null,"T8405","VALVULA","VALVULA RALENTI POINTER 1.8 98 -99 IAC PUNTA METAL TOMCO      = USA06697 = EUR0279980491",431.88,1,0,0,0,2,0,{"$f":"+IFERROR(HYPERLINK(VLOOKUP(C20784,FOTOGRAFICO!C:E,3,FALSE),C20784),\"\")","v":""}]
[null,null,"T8406","VALVULA","VALVULA RALENTI AVEO 1.6 08-17 CHEVY 1.4 MPFI 94-95 CHEVY 1.6 MPFI 96-00 TOMCO = EUR17112031",299.52,4,11,11,13,6,9,{"$f":"+IFERROR(HYPERLINK(VLOOKUP(C20785,FOTOGRAFICO!C:E,3,FALSE),C20785),\"\")","v":""}]
[null,null,"T8448","VALVULA","VALVULA RALENTI CHEVY 1.6 MPFI 01-12 CORSA 1.8 03-08 TORNADO  1.8 04-05 LUV 2.2 00-03 TOMCO",323.41000000000003,8,5,10,8,7,1,{"$f":"+IFERROR(HYPERLINK(VLOOKUP(C20786,FOTOGRAFICO!C:E,3,FALSE),C20786),\"\")","v":""}]
[null,null,"T84955","VALVULA","VALVULA IAC H100 2.4 12-14     ATTITUDE 1.4 06-11 MARCA TOMCO PIDE PEDRO MOSTRADOR",942.33,0,0,0,0,0,0,{"$f":"+IFERROR(HYPERLINK(VLOOKUP(C20787,FOTOGRAFICO!C:E,3,FALSE),C20787),\"\")","v":""}]
[null,null,"T84991","VALVULA","VALVULA RALENTI PLATINA 02-10  CLIO 1.6 MEGANE 2.0 01-03      APRIO 08-10 TOMCO = ECOIAC",339.66,6,1,7,5,1,2,{"$f":"+IFERROR(HYPERLINK(VLOOKUP(C20788,FOTOGRAFICO!C:E,3,FALSE),C20788),\"\")","v":"T84991"}]
[null,null,"T84994","VALVULA","VALVULA RALENTI POINTER 00-09  1.8 2.0 IAC PUNTA PLASTICO     MARCA TOMCO = EUR026906247",534.5,0,1,0,0,1,0,{"$f":"+IFERROR(HYPERLINK(VLOOKUP(C20789,FOTOGRAFICO!C:E,3,FALSE),C20789),\"\")","v":""}]
[null,null,"T84996","VALVULA","VALVULA RALENTI CHEVY 1.4 TBI  99-03 CHEVY 1.6 TBI 99-03      PUNTA PLAN TOMCO = ECH17111946",315.73,1,0,0,2,2,1,{"$f":"+IFERROR(HYPERLINK(VLOOKUP(C20790,FOTOGRAFICO!C:E,3,FALSE),C20790),\"\")","v":""}]
[null,null,"TC-7M506807-05","VALVULA","VALVULA ELECTROMAGNETIC PICKUP NISSAN PICKUP 87-92 MARCA      TOMCO PIDE MIGUEL ANGEL",141.06,0,0,0,0,0,0,{"$f":"+IFERROR(HYPERLINK(VLOOKUP(C20791,FOTOGRAFICO!C:E,3,FALSE),C20791),\"\")","v":""}]
[null,null,"TM162","VALVULA","VALVULA PCV FIESTA 1.4 98-01   FIESTA IKON KA 1.6 01-03       COURIER 1.6 01-02 TOMCO MIGUEL",43.47,0,0,0,0,0,0,{"$f":"+IFERROR(HYPERLINK(VLOOKUP(C20792,FOTOGRAFICO!C:E,3,FALSE),C20792),\"\")","v":""}]
[null,null,"TM-406","VALVULA","VALVULA PCV TIIDA 1.8 09-18    TIIDA 1.6 13-18 VERSA 1.8 07-  12 MARCA TOMCO PIDE DIEGO CALL",488.11,0,0,0,0,0,0,{"$f":"+IFERROR(HYPERLINK(VLOOKUP(C20793,FOTOGRAFICO!C:E,3,FALSE),C20793),\"\")","v":""}]
[null,null,"TM51","VALVULA","VALVULA PCV TSURU III 2.0      4 CIL 98-12",40.31,16,18,14,19,13,8,{"$f":"+IFERROR(HYPERLINK(VLOOKUP(C20794,FOTOGRAFICO!C:E,3,FALSE),C20794),\"\")","v":"TM51"}]
[null,null,"TR53","VALVULA","VALVULA RESPIRACION PCV TIIDA  SENTRA CUBE ALMERA FRONTIER    MAXIMA VERSA XTRAIL XTERRA",80.739999999999995,12,19,12,17,0,14,{"$f":"+IFERROR(HYPERLINK(VLOOKUP(C20795,FOTOGRAFICO!C:E,3,FALSE),C20795),\"\")","v":"TR53"}]
[null,null,"USA06697","VALVULA","VALVULA RALENTI POINTER 1.8 98 -99 IAC PUNTA METAL INJETECH   = T8405 = EUR0279980491",186.93,3,0,5,0,0,0,{"$f":"+IFERROR(HYPERLINK(VLOOKUP(C20796,FOTOGRAFICO!C:E,3,FALSE),C20796),\"\")","v":"USA06697"}]
[null,null,"USA07806","VALVULA","VALVULA RELENTI FOCUS RANGER   93- FIESTA ENTRADA LATERAL     MCA: INYETECH IAC RALENTI",429.83,0,0,0,1,0,0,{"$f":"+IFERROR(HYPERLINK(VLOOKUP(C20797,FOTOGRAFICO!C:E,3,FALSE),C20797),\"\")","v":"USA07806"}]
[null,null,"USA07807","VALVULA","VALVULA RELENTI FIESTA 1.6 KA  IKON COURIER FOCUS 2.0 GORDA   CORTA CONEC OVALADO 5 INJETECH",594.1,0,1,2,1,3,3,{"$f":"+IFERROR(HYPERLINK(VLOOKUP(C20798,FOTOGRAFICO!C:E,3,FALSE),C20798),\"\")","v":"USA07807"}]
[null,null,"USA07808","VALVULA","VALVULA RELENTI FIESTA 1.3 02- 04 COURIER IKON KA 1.6 -04FOCU S CONEC OVALADO 5GUIA INJETECH",769.43,1,0,0,0,0,0,{"$f":"+IFERROR(HYPERLINK(VLOOKUP(C20799,FOTOGRAFICO!C:E,3,FALSE),C20799),\"\")","v":"USA07808"}]
[null,null,"USA11785","VALVULA","VALVULA RALENTI POINTER 00-09  1.8 2.0 IAC PUNTA PLASTICO     MARCA INJETECH = EUR026906247",177.49,3,0,4,10,3,1,{"$f":"+IFERROR(HYPERLINK(VLOOKUP(C20800,FOTOGRAFICO!C:E,3,FALSE),C20800),\"\")","v":"USA11785"}]
[null,null,"USA13573","VALVULA","VALVULA D MARCHA MINIMA BLAZER S10 PICK UP SUBURBAN TAHOE 5.7 SOBRE PEDIDO X ROBERTO MUNOZ",182.65,0,0,0,0,0,0,{"$f":"+IFERROR(HYPERLINK(VLOOKUP(C20801,FOTOGRAFICO!C:E,3,FALSE),C20801),\"\")","v":"USA13573"}]
[null,null,"USA39303","VALVULA","VALVULA RALENTI AVEO 1.6 08-17 CHEVY 1.4 MPFI 94-95 CHEVY 1.6 MPFI 96-00 INJETECH = T8406",132.86000000000001,5,9,4,3,5,2,{"$f":"+IFERROR(HYPERLINK(VLOOKUP(C20802,FOTOGRAFICO!C:E,3,FALSE),C20802),\"\")","v":"USA39303"}]
[null,null,"UVF5001","VALVULA","VALVULA REPARTI FRENOS GOLF A2 1.8 JETTA A2 87-92 1.8 MARCA   UNICAR PIDE GERARDO VER",200.27,0,0,0,0,0,0,{"$f":"+IFERROR(HYPERLINK(VLOOKUP(C20803,FOTOGRAFICO!C:E,3,FALSE),C20803),\"\")","v":""}]
[null,null,"VA-FD9863","VALVULA","VALVULA ADMISION FORD FIESTA K 98-01 1.3L",38.22,0,0,0,0,22,0,{"$f":"+IFERROR(HYPERLINK(VLOOKUP(C20804,FOTOGRAFICO!C:E,3,FALSE),C20804),\"\")","v":"VA-FD9863"}]
[null,null,"VA-FD9865","VALVULA","VALVULA ADMISION FORD FIESTA   98-00 1.4L 16V SOHC ZETEC",27.68,0,0,0,4,6,0,{"$f":"+IFERROR(HYPERLINK(VLOOKUP(C20805,FOTOGRAFICO!C:E,3,FALSE),C20805),\"\")","v":"VA-FD9865"}]
[null,null,"VA-GM9815","VALVULA","VALVULA ADM CHEVY 1.6 96-12    CORSA 1.8 03-05 TORNADO MERIVA 1.8 04-05 TOP ENGINE = MOR9815",38.76,0,0,0,1,0,0,{"$f":"+IFERROR(HYPERLINK(VLOOKUP(C20806,FOTOGRAFICO!C:E,3,FALSE),C20806),\"\")","v":"VA-GM9815"}]
[null,null,"VALPRIM","VALVULA","VALVULA CIL MAESTRO CORSA PRIM ARIA TORNADO TODOS MODELOS",243.36,0,0,1,0,1,0,{"$f":"+IFERROR(HYPERLINK(VLOOKUP(C20807,FOTOGRAFICO!C:E,3,FALSE),C20807),\"\")","v":"VALPRIM"}]
[null,null,"VALVULA03","VALVULA","VALVULA BOSTER COMBI EUROVAN   A4 POLO LUPO                   1 SALIDA",82,11,0,0,0,0,0,{"$f":"+IFERROR(HYPERLINK(VLOOKUP(C20808,FOTOGRAFICO!C:E,3,FALSE),C20808),\"\")","v":"VALVULA03"}]
[null,null,"VA-VW02","VALVULA","VALVULA ADM EUROVAN 2.5 00-04  5 CILINDROS MARCA TOP ENGINE   = A-EUROVAN",38.76,2,0,0,18,25,0,{"$f":"+IFERROR(HYPERLINK(VLOOKUP(C20809,FOTOGRAFICO!C:E,3,FALSE),C20809),\"\")","v":"VA-VW02"}]
[null,null,"VA-VW9749X","VALVULA","VALVULA ADM GOLF JETTA 2.0 7MM MCA NIKKO                      =MOR9749",43.5,0,0,1,0,4,0,{"$f":"+IFERROR(HYPERLINK(VLOOKUP(C20810,FOTOGRAFICO!C:E,3,FALSE),C20810),\"\")","v":"VA-VW9749X"}]
[null,null,"VE-FD9864","VALVULA","VALVULA ESCAPE FORD FIESTA     KA 98-01 1.3L S-9864",40.86,3,0,0,0,40,0,{"$f":"+IFERROR(HYPERLINK(VLOOKUP(C20811,FOTOGRAFICO!C:E,3,FALSE),C20811),\"\")","v":"VE-FD9864"}]
[null,null,"VE-FD9866","VALVULA","VALVULA ESCAPE FORD FIESTA     98-00 1.4L 16V SOHC ZETEC S-98",50.09,0,0,0,0,8,0,{"$f":"+IFERROR(HYPERLINK(VLOOKUP(C20812,FOTOGRAFICO!C:E,3,FALSE),C20812),\"\")","v":"VE-FD9866"}]
[null,null,"VE-FD9868","VALVULA","VALVULA ESC FIESTA 1.6 NIKKO",46.13,0,0,0,0,6,0,{"$f":"+IFERROR(HYPERLINK(VLOOKUP(C20813,FOTOGRAFICO!C:E,3,FALSE),C20813),\"\")","v":"VE-FD9868"}]
[null,null,"VE-VW01","VALVULA","VALVULA ESC POLO LUPO 1.6      MCA NIKKO",53.48,0,0,12,18,0,5,{"$f":"+IFERROR(HYPERLINK(VLOOKUP(C20814,FOTOGRAFICO!C:E,3,FALSE),C20814),\"\")","v":"VE-VW01"}]
[null,null,"VE-VW02","VALVULA","VALVULA ESC EUROVAN 2.5 00-04  5 CILINDROS MARCA TOP ENGINE   = E-EUROVAN",51.17,0,0,0,10,23,0,{"$f":"+IFERROR(HYPERLINK(VLOOKUP(C20815,FOTOGRAFICO!C:E,3,FALSE),C20815),\"\")","v":"VE-VW02"}]
[null,null,"VE-VW9750","VALVULA","VALVULA ESC GOLF JETTA 2.0 7MM MOR59899 MCA NIKKO",46.62,0,0,0,0,9,4,{"$f":"+IFERROR(HYPERLINK(VLOOKUP(C20816,FOTOGRAFICO!C:E,3,FALSE),C20816),\"\")","v":"VE-VW9750"}]
[null,null,"XS6U9F715AA","VALVULA","VALVULA RELENTI FIESTA 1.3 1.6 KA,IKON COURIER OVALADA 5 GUIA MARCA EURO-ESPANA",652.30999999999995,0,0,0,3,0,3,{"$f":"+IFERROR(HYPERLINK(VLOOKUP(C20817,FOTOGRAFICO!C:E,3,FALSE),C20817),\"\")","v":"XS6U9F715AA"}]
[null,null,"118-TR104","VALVULA","VALVULA PCV NEON STRATUS 2.4   C/GOMA MARCA TR PIDE RAUL      FABILA",189.1,0,0,0,0,0,0,{"$f":"+IFERROR(HYPERLINK(VLOOKUP(C20818,FOTOGRAFICO!C:E,3,FALSE),C20818),\"\")","v":""}]
[null,null,"BRU06A103465","VALVULA","VALVULA PCV IBIZA 03-08 GOLF   JETTA IV 99-07 VALVULA ANTI    FUEGO MCA BRUCK PEDIDO RAUL",301.61,0,0,0,0,0,0,{"$f":"+IFERROR(HYPERLINK(VLOOKUP(C20819,FOTOGRAFICO!C:E,3,FALSE),C20819),\"\")","v":""}]
[null,null,"KEM150987","VALVULA","VALVULA RALENTI EXPLORER 4.0   02-10 FREESTAR 4.2 04-07 MARCA KEM PIDE MIGUEL MARIN",803.35,0,0,1,0,0,0,{"$f":"+IFERROR(HYPERLINK(VLOOKUP(C20820,FOTOGRAFICO!C:E,3,FALSE),C20820),\"\")","v":""}]
[null,null,"TM302","VALVULA","VALVULA PVC NEON 00-05 PT      CRUISER 01-05 SEBRING 01-05    MARCA TOMCO",46.66,0,0,0,0,0,0,{"$f":"+IFERROR(HYPERLINK(VLOOKUP(C20821,FOTOGRAFICO!C:E,3,FALSE),C20821),\"\")","v":""}]
[null,null,"TM77","VALVULA","VALVULA PCV ATOS 1.0 1.1       ATTITUDE 1.6 12-14 RIO 1.6 16- 17 MARCA TOMCO PIDE MIGUEL MAR",102.94,0,0,0,0,0,0,{"$f":"+IFERROR(HYPERLINK(VLOOKUP(C20822,FOTOGRAFICO!C:E,3,FALSE),C20822),\"\")","v":""}]
[null,null,"V-7067STD","VALVULA","VALVULA ADM KIA OPTIMA 15-19   SPORTAGE 15-19 FORTE 16-19     MORESA PIDE YAZMAN",84.68,0,0,7,0,1,0,{"$f":"+IFERROR(HYPERLINK(VLOOKUP(C20823,FOTOGRAFICO!C:E,3,FALSE),C20823),\"\")","v":"V-7067STD"}]
[null,null,"23796EN200","VALVULA","VALVULA VVT VERSA 1.6 12-19    MARCH 1.6 12-22 TIIDA 1.6 13-  18 V-DRIVE 1.6 20-22 BRUCK",567.70000000000005,0,0,0,0,0,0,{"$f":"+IFERROR(HYPERLINK(VLOOKUP(C20824,FOTOGRAFICO!C:E,3,FALSE),C20824),\"\")","v":""}]
[null,null,"CAU13497","VALVULA","VALVULA CALEFACCION CHEVY C3   MONZA C3 09-13 4 SALIDAS 1 IZQ 3 DERECHAS MCA: CAUPLAS",252.59,0,2,0,0,0,0,{"$f":"+IFERROR(HYPERLINK(VLOOKUP(C20825,FOTOGRAFICO!C:E,3,FALSE),C20825),\"\")","v":"CAU13497"}]
[null,null,"INJ07808","VALVULA","VALVULA RALENT FOCUS 2.0 00-04 FIESTA 1.3 98-01 ESCAPE 2.0 01 -04 PEDIDO CRISTIAN VERA",681.43,0,0,0,0,0,0,{"$f":"+IFERROR(HYPERLINK(VLOOKUP(C20826,FOTOGRAFICO!C:E,3,FALSE),C20826),\"\")","v":"INJ07808"}]
[null,null,"INJ43012","VALVULA","VALVULA RALENTI IAC FIESTA 01- 11 COURIER 07-09 KA 01-08      MARCA INJETECH SOBRE PEDIDO",299.04000000000002,0,0,0,0,0,0,{"$f":"+IFERROR(HYPERLINK(VLOOKUP(C20827,FOTOGRAFICO!C:E,3,FALSE),C20827),\"\")","v":""}]
[null,null,"UVF1001S","VALVULA","VALVULA REPARTIDOR FRENO CORSA 1.8 02-08 SECUNDARIA MARCA     UNICAR PIDE YAZMANI",372.65,0,0,0,0,0,0,{"$f":"+IFERROR(HYPERLINK(VLOOKUP(C20828,FOTOGRAFICO!C:E,3,FALSE),C20828),\"\")","v":""}]
[null,null,"24106416-Z","VALVULA","VALVULA EMISION GASES AVEO 1.5 18-21 CAVALIER 1.5 18-21 MARCA Z-PRO",574.59,0,0,0,1,1,1,{"$f":"+IFERROR(HYPERLINK(VLOOKUP(C20829,FOTOGRAFICO!C:E,3,FALSE),C20829),\"\")","v":"24106416-Z"}]
[null,null,"C206002Q0","VALVULA","VALVULA AIRE RIN RECTA         ATORNILLABLE TR43E 56169 MARCA QUMO",13.51,0,0,0,10,5,0,{"$f":"+IFERROR(HYPERLINK(VLOOKUP(C20830,FOTOGRAFICO!C:E,3,FALSE),C20830),\"\")","v":""}]
[null,null,"GM42606843","VALVULA","VALVULA CILINDRO FRENOS SPARK  1.4 MARCA GM ORIGINAL PIDE     MIGUEL RO CALL CANTER",465.16,0,0,0,0,0,0,{"$f":"+IFERROR(HYPERLINK(VLOOKUP(C20831,FOTOGRAFICO!C:E,3,FALSE),C20831),\"\")","v":""}]
[null,null,"GM96991801","VALVULA","VALVULA PCV SPARK 1.2 11-17    BEAT 1.2 18-20 MARCA GM        ORIGINAL",0,0,0,0,0,0,0,{"$f":"+IFERROR(HYPERLINK(VLOOKUP(C20832,FOTOGRAFICO!C:E,3,FALSE),C20832),\"\")","v":""}]
[null,null,"8485VM","VALVULA","VALVULA RALENTI IAC BEAT 18-20 SPARK 11-17 MARCA VOLTMAX PEDI DO HECTOR PEREZ",190.61,0,0,0,0,0,0,{"$f":"+IFERROR(HYPERLINK(VLOOKUP(C20833,FOTOGRAFICO!C:E,3,FALSE),C20833),\"\")","v":""}]
[null,null,"GM96495288","VALVULA","VALVULA PCV AVEO 28-17 PONTIAC G3 07-10 MARCA GM PIDE ENRIQUE",269.49,0,0,0,0,0,0,{"$f":"+IFERROR(HYPERLINK(VLOOKUP(C20834,FOTOGRAFICO!C:E,3,FALSE),C20834),\"\")","v":""}]
[null,null,"V-7127 STD","VALVULA","VALVULA ADM PEUGEOT 206                                       SOBRE PEDIDO CARLOS MIRANDA",83.47,0,0,0,0,0,0,{"$f":"+IFERROR(HYPERLINK(VLOOKUP(C20835,FOTOGRAFICO!C:E,3,FALSE),C20835),\"\")","v":""}]
[null,null,"INJ04924","VALVULA","VALVULA RALENTI CAVALIER 87-94 MARCA INJETECH",163.49,0,0,0,0,0,0,{"$f":"+IFERROR(HYPERLINK(VLOOKUP(C20836,FOTOGRAFICO!C:E,3,FALSE),C20836),\"\")","v":""}]
[null,null,"A-EUROVAN","VALVULADO","VALVULA ADM EUROVAN 2.5 00-04  5 CILINDROS MARCA VALMEX       = VA-VW02",50.05,0,0,0,0,16,0,{"$f":"+IFERROR(HYPERLINK(VLOOKUP(C20837,FOTOGRAFICO!C:E,3,FALSE),C20837),\"\")","v":"A-EUROVAN"}]
[null,null,"1044014","VARILLA","VARILLA DIR FIESTA IKON 98-11  FIESTA COURIER 00-12 CHEVY     PICKUP 99-03 SYD = TEBO501156",195,3,0,5,2,3,0,{"$f":"+IFERROR(HYPERLINK(VLOOKUP(C20838,FOTOGRAFICO!C:E,3,FALSE),C20838),\"\")","v":"1044014"}]
[null,null,"1303001SFT","VARILLA","VARILLA DIR MATIZ 04-15        ESTANDAR MARCA SAFETY IMPORTAD = SYD1303001 = TEBO501294",97.36,6,5,4,14,27,11,{"$f":"+IFERROR(HYPERLINK(VLOOKUP(C20839,FOTOGRAFICO!C:E,3,FALSE),C20839),\"\")","v":"1303001SFT"}]
[null,null,"1303004KB","VARILLA","VARILLA DIR CHEVY 94-12        TORNADO 11-18 ESTANDAR CUERDA  14 MM MACHO KABUTO",0,0,0,0,0,0,0,{"$f":"+IFERROR(HYPERLINK(VLOOKUP(C20840,FOTOGRAFICO!C:E,3,FALSE),C20840),\"\")","v":""}]
[null,null,"1303005","VARILLA","VARILLA DIR MATIZ 04-15        HIDRAULICA SAFETY IMPORTADO    = 521257CTR = SYD1303005",102.81,6,0,20,0,0,0,{"$f":"+IFERROR(HYPERLINK(VLOOKUP(C20841,FOTOGRAFICO!C:E,3,FALSE),C20841),\"\")","v":"1303005"}]
[null,null,"1303010-EURO","VARILLA","VARILLA DIR CORSA 04-08 MERIVA 04-08 TORNADO 04-10 CUERDA 14  MM MACHO MARCA BRUCK-GERMANY",145.76,11,0,7,8,0,6,{"$f":"+IFERROR(HYPERLINK(VLOOKUP(C20842,FOTOGRAFICO!C:E,3,FALSE),C20842),\"\")","v":"1303010-EURO"}]
[null,null,"1303010SFT","VARILLA","VARILLA DIR CORSA 04-08 MERIVA 04-08 TORNADO 04-10 CUERDA 14  MM MACHO MARCA SAFETY NIKKO",101.47,17,0,6,9,0,4,{"$f":"+IFERROR(HYPERLINK(VLOOKUP(C20843,FOTOGRAFICO!C:E,3,FALSE),C20843),\"\")","v":"1303010SFT"}]
[null,null,"1303016SFT","VARILLA","VARILLA DIR INTERIO OPTRA 06-  10 BIELETA INTERIOR MARCA      SAFETY 1303016 GERARDO VERA",102.85,0,2,6,0,0,0,{"$f":"+IFERROR(HYPERLINK(VLOOKUP(C20844,FOTOGRAFICO!C:E,3,FALSE),C20844),\"\")","v":""}]
[null,null,"1303043","VARILLA","VARILLA DIR BEAT 18-20 16 MM   MARCA SYD 1303043",232.88,3,6,6,4,8,6,{"$f":"+IFERROR(HYPERLINK(VLOOKUP(C20845,FOTOGRAFICO!C:E,3,FALSE),C20845),\"\")","v":"1303043"}]
[null,null,"1303043SFT","VARILLA","VARILLA DIR GM BEAT 18-20 16MM MARCA SAFETY CHINA = 1303043   = 1303043SFT",93.25,4,5,26,11,7,57,{"$f":"+IFERROR(HYPERLINK(VLOOKUP(C20846,FOTOGRAFICO!C:E,3,FALSE),C20846),\"\")","v":"1303043SFT"}]
[null,null,"1303044SFT","VARILLA","VARILLA DIR SPARK II 16-20 16M MARCA SAFETY CHINA = 1303044   DE DIRECCION DERECHA/IZQUIERDA",122.04,5,0,10,0,0,6,{"$f":"+IFERROR(HYPERLINK(VLOOKUP(C20847,FOTOGRAFICO!C:E,3,FALSE),C20847),\"\")","v":"1303044SFT"}]
[null,null,"1306007SFT","VARILLA","VARILLA DIRECCION ATTITUDE 06- 11 HY ACCENT 06-10 3094002     MARCA SAFETY",122.04,9,0,7,2,0,3,{"$f":"+IFERROR(HYPERLINK(VLOOKUP(C20848,FOTOGRAFICO!C:E,3,FALSE),C20848),\"\")","v":""}]
[null,null,"1306019SFT","VARILLA","VARILLA DIRECCION ATTITUDE 12- 14 KIA RIO 12-17 HY ACCENT     11-17 3094018 MARCA SAFETY",122.04,0,0,8,11,0,3,{"$f":"+IFERROR(HYPERLINK(VLOOKUP(C20849,FOTOGRAFICO!C:E,3,FALSE),C20849),\"\")","v":""}]
[null,null,"1306028SFT","VARILLA","VARILLA DIR HYUNDAI GRAND I10  15-20 MARCA SAFETY",116.56,5,2,6,3,1,3,{"$f":"+IFERROR(HYPERLINK(VLOOKUP(C20850,FOTOGRAFICO!C:E,3,FALSE),C20850),\"\")","v":"1306028SFT"}]
[null,null,"1306029SFT","VARILLA","VARILLA DIRECCION ATTITUDE 15- 23 MT MIRAGE 15-23 3094030     MARCA SAFETY",122.04,0,5,3,2,5,15,{"$f":"+IFERROR(HYPERLINK(VLOOKUP(C20851,FOTOGRAFICO!C:E,3,FALSE),C20851),\"\")","v":"1306029SFT"}]
[null,null,"1325007","VARILLA","VARILLA DIR HIACE 04-18        HIDRAULICA MARCA SYD           = DBRT0400 = MIZDBNT0400",262.95999999999998,12,0,2,11,4,18,{"$f":"+IFERROR(HYPERLINK(VLOOKUP(C20852,FOTOGRAFICO!C:E,3,FALSE),C20852),\"\")","v":"1325007"}]
[null,null,"1H0711574","VARILLA","VARILLA LARGA PAL VEL GOLF A3  JETTA A3 93-98 DERBY 93-98     MARCA BRUCK GERMANY",39.96,9,0,0,15,0,15,{"$f":"+IFERROR(HYPERLINK(VLOOKUP(C20853,FOTOGRAFICO!C:E,3,FALSE),C20853),\"\")","v":"1H0711574"}]
[null,null,"26030381-EURO","VARILLA","VARILLA DIR CHEVY 94-12 STD    CUERDA 12 MM HEMBRA MARCA EURO ESPANA = TEBO501105",112.83,18,8,11,6,11,13,{"$f":"+IFERROR(HYPERLINK(VLOOKUP(C20854,FOTOGRAFICO!C:E,3,FALSE),C20854),\"\")","v":"26030381-EURO"}]
[null,null,"26030381-KB","VARILLA","VARILLA DIR CHEVY 94-12 STD    CUERDA 12 MM HEMBRA MARCA      KABUTO = TEBO501105",87,3,0,4,7,2,0,{"$f":"+IFERROR(HYPERLINK(VLOOKUP(C20855,FOTOGRAFICO!C:E,3,FALSE),C20855),\"\")","v":"26030381-KB"}]
[null,null,"26292329SFT","VARILLA","VARILLA DIRECCION ONIX 1.0 1.2 21-23 MARCA SAFETY             = 26292329-Z",130.27000000000001,2,2,2,2,2,2,{"$f":"+IFERROR(HYPERLINK(VLOOKUP(C20856,FOTOGRAFICO!C:E,3,FALSE),C20856),\"\")","v":"26292329SFT"}]
[null,null,"26292329-Z","VARILLA","VARILLA DIRECCION ONIX 1.0 1.2 21-23 MARCA Z-PRO              = 26292329SFT",176.9,2,1,1,0,2,2,{"$f":"+IFERROR(HYPERLINK(VLOOKUP(C20857,FOTOGRAFICO!C:E,3,FALSE),C20857),\"\")","v":""}]
[null,null,"48510-2S485SFT","VARILLA","VARILLA DIR LATERAL D22 NP300  09-15 FRONTIER 98-04 4X2       COMPLETA SAFETY 1216003",231.75,1,0,2,1,1,5,{"$f":"+IFERROR(HYPERLINK(VLOOKUP(C20858,FOTOGRAFICO!C:E,3,FALSE),C20858),\"\")","v":""}]
[null,null,"48521-00QAASFT","VARILLA","VARILLA DIR PLATINA CLIO 02-10 CUERDA 14 MM HIDRAULICA SAFETY IMPORTADO = TEBO501141",93.25,10,5,10,23,2,4,{"$f":"+IFERROR(HYPERLINK(VLOOKUP(C20859,FOTOGRAFICO!C:E,3,FALSE),C20859),\"\")","v":"48521-00QAASFT"}]
[null,null,"485211HK0A-EURO","VARILLA","VARILLA DIR VERSA 12-18 MARCH  11-18 MARCA EURO ESPANA        1316020 = 48521-1HK0ASFT",95.21,0,4,4,6,9,2,{"$f":"+IFERROR(HYPERLINK(VLOOKUP(C20860,FOTOGRAFICO!C:E,3,FALSE),C20860),\"\")","v":"485211HK0A-EURO"}]
[null,null,"485211HK0A-KB","VARILLA","VARILLA DIR VERSA 12-18 MARCH  11-18 MARCA KABUTO IMPORTADO   1316020 = 485211HK0A-EURO",59.41,2,3,2,2,4,4,{"$f":"+IFERROR(HYPERLINK(VLOOKUP(C20861,FOTOGRAFICO!C:E,3,FALSE),C20861),\"\")","v":"485211HK0A-KB"}]
[null,null,"48521-1HK0ASFT","VARILLA","VARILLA DIR VERSA 12-18 MARCH  11-18 MARCA SAFETY IMPORTADO   1316020 = 485211HK0A-EURO",67.19,22,2,3,6,10,10,{"$f":"+IFERROR(HYPERLINK(VLOOKUP(C20862,FOTOGRAFICO!C:E,3,FALSE),C20862),\"\")","v":"48521-1HK0ASFT"}]
[null,null,"4852135A00-KB","VARILLA","VARILLA DIRECCION TSURU II 88- 91 1.6 ESTANDAR MARCA BRUCK    GERMANY 4852153M00-EURO",59.76,1,2,2,2,4,1,{"$f":"+IFERROR(HYPERLINK(VLOOKUP(C20863,FOTOGRAFICO!C:E,3,FALSE),C20863),\"\")","v":""}]
[null,null,"48521-3U025","VARILLA","VARILLA DIR TIIDA 06-18 CUBE   09-14 LEAF 12-17 MARCA         YOKOMITSU IMPORTADO",77.8,2,19,24,12,15,6,{"$f":"+IFERROR(HYPERLINK(VLOOKUP(C20864,FOTOGRAFICO!C:E,3,FALSE),C20864),\"\")","v":"48521-3U025"}]
[null,null,"485213U025-EURO","VARILLA","VARILLA DIR TIIDA 06-18 CUBE   09-14 LEAF 12-17 MARCA EURO    ESPANA",122.61,8,4,7,8,0,16,{"$f":"+IFERROR(HYPERLINK(VLOOKUP(C20865,FOTOGRAFICO!C:E,3,FALSE),C20865),\"\")","v":"485213U025-EURO"}]
[null,null,"485213U025-KB","VARILLA","VARILLA DIR TIIDA 06-18 CUBE   09-14 LEAF 12-17 MARCA KABUTO",63.65,2,4,2,2,4,2,{"$f":"+IFERROR(HYPERLINK(VLOOKUP(C20866,FOTOGRAFICO!C:E,3,FALSE),C20866),\"\")","v":"485213U025-KB"}]
[null,null,"48521-3XA0ASFT","VARILLA","VARILLA DIR URVAN NV350 13-18  MARCA SAFETY IMPORTADO         1316024 = SR-N660",157.69999999999999,25,0,14,5,9,6,{"$f":"+IFERROR(HYPERLINK(VLOOKUP(C20867,FOTOGRAFICO!C:E,3,FALSE),C20867),\"\")","v":"48521-3XA0ASFT"}]
[null,null,"485214B000-KB","VARILLA","VARILLA DIR SENTRA 96-06 SCALA 10-13 ALMERA 01-05 LUCINO      96-00 MARCA KABUTO",63.65,0,1,2,1,4,3,{"$f":"+IFERROR(HYPERLINK(VLOOKUP(C20868,FOTOGRAFICO!C:E,3,FALSE),C20868),\"\")","v":"485214B000-KB"}]
[null,null,"48521Q5601-EURO","VARILLA","VARILLA DIR TSURU III 92-17    TSUBAME 92-04 14 MM CUERDA STD DIRECCION HIDRAULICA EURO ESPA",128.11000000000001,11,13,10,8,8,4,{"$f":"+IFERROR(HYPERLINK(VLOOKUP(C20869,FOTOGRAFICO!C:E,3,FALSE),C20869),\"\")","v":"48521Q5601-EURO"}]
[null,null,"48521Q5601-KB","VARILLA","VARILLA DIR TSURU III 92-17    TSUBAME 92-04 14 MM CUERDA STD DIRECCION HIDRAULICA KABUTO",63.65,17,6,7,12,17,5,{"$f":"+IFERROR(HYPERLINK(VLOOKUP(C20870,FOTOGRAFICO!C:E,3,FALSE),C20870),\"\")","v":"48521Q5601-KB"}]
[null,null,"48521VW025-KB","VARILLA","VARILLA DIR URVAN 02-12 MARCA  KABUTO IMPORTADO               = SYD1316002 = DBNN0400",111.4,2,0,3,2,2,2,{"$f":"+IFERROR(HYPERLINK(VLOOKUP(C20871,FOTOGRAFICO!C:E,3,FALSE),C20871),\"\")","v":"48521VW025-KB"}]
[null,null,"48521Y02G0-EURO","VARILLA","VARILLA DIR TSURU III 92-17    12 MM CUERDA FINA DIR.MECANICA EURO ESPANA = SR-4740",105.78,29,7,3,19,6,5,{"$f":"+IFERROR(HYPERLINK(VLOOKUP(C20872,FOTOGRAFICO!C:E,3,FALSE),C20872),\"\")","v":"48521Y02G0-EURO"}]
[null,null,"48521Y02G0-KB","VARILLA","VARILLA DIR TSURU III 92-17    12 MM CUERDA FINA DIR.MECANICA KABUTO = SR-4740",63.65,9,4,19,5,5,6,{"$f":"+IFERROR(HYPERLINK(VLOOKUP(C20873,FOTOGRAFICO!C:E,3,FALSE),C20873),\"\")","v":"48521Y02G0-KB"}]
[null,null,"4J0422821-KB","VARILLA","VARILLA DIR VW VENTO 14-       MARCA KABUTO 16X1.5MM",79.569999999999993,3,4,2,3,4,2,{"$f":"+IFERROR(HYPERLINK(VLOOKUP(C20874,FOTOGRAFICO!C:E,3,FALSE),C20874),\"\")","v":"4J0422821-KB"}]
[null,null,"6QE-419-810SFT","VARILLA","VARILLA DIR GOL 10-19 SAVEIRO  10-16 STD MARCA SAFETY         IMPORTADA",108.33,5,6,9,2,1,1,{"$f":"+IFERROR(HYPERLINK(VLOOKUP(C20875,FOTOGRAFICO!C:E,3,FALSE),C20875),\"\")","v":"6QE-419-810SFT"}]
[null,null,"90921306SFT","VARILLA","VARILLA DIRECCION AVEO II 18-  22 1303042 MARCA SAFETY",102.85,5,3,0,14,1,6,{"$f":"+IFERROR(HYPERLINK(VLOOKUP(C20876,FOTOGRAFICO!C:E,3,FALSE),C20876),\"\")","v":""}]
[null,null,"92FB3L519AA-EURO","VARILLA","VARILLA DIR KA 01-08 MARCA     EURO ESPANA 6790700",131.63999999999999,0,0,7,8,5,7,{"$f":"+IFERROR(HYPERLINK(VLOOKUP(C20877,FOTOGRAFICO!C:E,3,FALSE),C20877),\"\")","v":"92FB3L519AA-EURO"}]
[null,null,"93324865","VARILLA","VARILLA DIR CHEVY 94-12        HIDRAULICA CUERDA 12 MM MACHO  MARCA EURO ESPANA",122.24,9,5,6,10,9,8,{"$f":"+IFERROR(HYPERLINK(VLOOKUP(C20878,FOTOGRAFICO!C:E,3,FALSE),C20878),\"\")","v":"93324865"}]
[null,null,"95192778-EURO","VARILLA","VARILLA DIR SPARK 11-15 14 MM  MARCA EURO ESPAN = 95967277CTR = 95967277SFT = DBNC0800",145.74,0,0,0,8,0,9,{"$f":"+IFERROR(HYPERLINK(VLOOKUP(C20879,FOTOGRAFICO!C:E,3,FALSE),C20879),\"\")","v":"95192778-EURO"}]
[null,null,"95967277-KB","VARILLA","VARILLA DIR SPARK 11-15 14 MM  MARCA KABUTO = 95967277CTR     = 95192778-EURO = DBNC0800",84.87,2,8,0,1,3,2,{"$f":"+IFERROR(HYPERLINK(VLOOKUP(C20880,FOTOGRAFICO!C:E,3,FALSE),C20880),\"\")","v":"95967277-KB"}]
[null,null,"95967277SFT","VARILLA","VARILLA DIR SPARK 11-15 14 MM  MARCA SAFETY = 95967277CTR     = 95192778-EURO = DBNC0800",97.36,7,2,7,12,4,3,{"$f":"+IFERROR(HYPERLINK(VLOOKUP(C20881,FOTOGRAFICO!C:E,3,FALSE),C20881),\"\")","v":"95967277SFT"}]
[null,null,"96535300-EURO","VARILLA","VARILLA DIR AVEO 07-17 PONTIAC G3 06-09 MARCA EURO ESPANA     = DBNC9900",131.63999999999999,3,2,8,6,8,1,{"$f":"+IFERROR(HYPERLINK(VLOOKUP(C20882,FOTOGRAFICO!C:E,3,FALSE),C20882),\"\")","v":"96535300-EURO"}]
[null,null,"96535300-KB","VARILLA","VARILLA DIR AVEO 07-17 PONTIAC G3 06-09 MARCA KABUTO          = DBNC9900",84.87,2,3,2,2,2,1,{"$f":"+IFERROR(HYPERLINK(VLOOKUP(C20883,FOTOGRAFICO!C:E,3,FALSE),C20883),\"\")","v":""}]
[null,null,"ALE191711574","VARILLA","VARILLA LARGA CURVA PALANC VEL GOLF JETTA A2 87-92            MARCA IMPORTACION",32.9,14,0,0,11,0,4,{"$f":"+IFERROR(HYPERLINK(VLOOKUP(C20884,FOTOGRAFICO!C:E,3,FALSE),C20884),\"\")","v":"ALE191711574"}]
[null,null,"ALE191711595","VARILLA","VARILLA LARGA 4VEL GOLF A2     HUESITO GOLF JETTA 87-92       IMPORTADA",12.34,4,0,0,0,4,2,{"$f":"+IFERROR(HYPERLINK(VLOOKUP(C20885,FOTOGRAFICO!C:E,3,FALSE),C20885),\"\")","v":"ALE191711595"}]
[null,null,"ALE191711595A","VARILLA","VARILLA CORTA 5VEL GOLF JETTA  A2 HUESITO 87-92               IMPORTADA",20.23,0,0,4,0,0,0,{"$f":"+IFERROR(HYPERLINK(VLOOKUP(C20886,FOTOGRAFICO!C:E,3,FALSE),C20886),\"\")","v":"ALE191711595A"}]
[null,null,"ALE191711595B","VARILLA","VARILLA MINICORTA GOLF A3 5VEL GOLF JETTA A3 93-98            IMPORTADA",17.54,0,0,2,0,0,0,{"$f":"+IFERROR(HYPERLINK(VLOOKUP(C20887,FOTOGRAFICO!C:E,3,FALSE),C20887),\"\")","v":"ALE191711595B"}]
[null,null,"ALE1H0422803","VARILLA","VARILLA DIR IZQ GOLF JETTA A3  93-99 MACHO COMPLETA           HIDRAULICA SAFETY IMPORTADO",190.61,6,3,2,7,8,7,{"$f":"+IFERROR(HYPERLINK(VLOOKUP(C20888,FOTOGRAFICO!C:E,3,FALSE),C20888),\"\")","v":"ALE1H0422803"}]
[null,null,"ALE1HO419803","VARILLA","VARILLA DIR IZQ GOLF JETTA A3  93-99 HEMBRA COMPLETA ESTANDAR SAFETY IMPORTADO",212.55,1,0,0,0,1,2,{"$f":"+IFERROR(HYPERLINK(VLOOKUP(C20889,FOTOGRAFICO!C:E,3,FALSE),C20889),\"\")","v":"ALE1HO419803"}]
[null,null,"ALE1HO419804","VARILLA","VARILLA DIR DER GOLF JETTA A3  93-99 HEMBRA COMPLETA ESTANDAR SAFETY IMPORTADO",190.61,5,0,0,0,0,3,{"$f":"+IFERROR(HYPERLINK(VLOOKUP(C20890,FOTOGRAFICO!C:E,3,FALSE),C20890),\"\")","v":"ALE1HO419804"}]
[null,null,"ALE1HO422804","VARILLA","VARILLA DIR DER GOLF JETTA A3  93-99 MACHO COMPLETA           HIDRAULICA SAFETY IMPORTADO",198.84,8,0,4,11,11,4,{"$f":"+IFERROR(HYPERLINK(VLOOKUP(C20891,FOTOGRAFICO!C:E,3,FALSE),C20891),\"\")","v":"ALE1HO422804"}]
[null,null,"BRA510017","VARILLA","VARILLA DIR IZQ GOLF JETTA A2  85-92 HEMBRA COMPLETA ESTANDAR SAFETY IMPORTADO",190.61,13,3,4,2,0,3,{"$f":"+IFERROR(HYPERLINK(VLOOKUP(C20892,FOTOGRAFICO!C:E,3,FALSE),C20892),\"\")","v":"BRA510017"}]
[null,null,"BRA510018","VARILLA","VARILLA DIR DER GOLF JETTA A2  85-92 HEMBRA COMPLETA ESTANDAR SAFETY IMPORTADO",212.55,6,4,3,2,0,3,{"$f":"+IFERROR(HYPERLINK(VLOOKUP(C20893,FOTOGRAFICO!C:E,3,FALSE),C20893),\"\")","v":"BRA510018"}]
[null,null,"BRA510021","VARILLA","VARILLA DIR CARIBE 77-87       ATLANTIC 77-87 JETTA A1 80-84  COMPLETA ESTANDAR SAFETY",207.07,9,0,0,1,0,9,{"$f":"+IFERROR(HYPERLINK(VLOOKUP(C20894,FOTOGRAFICO!C:E,3,FALSE),C20894),\"\")","v":"BRA510021"}]
[null,null,"BRA583200","VARILLA","VARILLA DIR IZQ GOLF JETTA A2  85-92 MACHO COMPLETA HIDRAULIC MARCA SAFETY IMPORTADO",190.61,3,0,0,4,0,2,{"$f":"+IFERROR(HYPERLINK(VLOOKUP(C20895,FOTOGRAFICO!C:E,3,FALSE),C20895),\"\")","v":"BRA583200"}]
[null,null,"BRA593200","VARILLA","VARILLA DIR DER GOLF JETTA A2  85-92 MACHO COMPLETA HIDRAULIC MARCA SAFETY IMPORTADO",176.9,5,0,0,6,0,2,{"$f":"+IFERROR(HYPERLINK(VLOOKUP(C20896,FOTOGRAFICO!C:E,3,FALSE),C20896),\"\")","v":"BRA593200"}]
[null,null,"BRA5940","VARILLA","VARILLA BARRA ESTAB TRAS SEDAN VW 1.6 JGO 2PZS S/GOMAS NOTA:  VENDR 2 GOMAS ORI113501737A",190.93,9,0,0,0,0,0,{"$f":"+IFERROR(HYPERLINK(VLOOKUP(C20897,FOTOGRAFICO!C:E,3,FALSE),C20897),\"\")","v":"BRA5940"}]
[null,null,"BRU1044014-EURO","VARILLA","VARILLA DIRECCION FIESTA 95-02 1.3 IKON 00-15 1.6 COURIER 01- 12 1.6 INTERIOR MARCA BRUCK",105.79,10,5,4,2,8,0,{"$f":"+IFERROR(HYPERLINK(VLOOKUP(C20898,FOTOGRAFICO!C:E,3,FALSE),C20898),\"\")","v":"BRU1044014-EURO"}]
[null,null,"BRU1303003-EURO","VARILLA","VARILLA DIRECCION CORSA 02-09  1.8 MERIVA 06-08 1.8 INTERIOR  DIR HIDRAULICA 12X1.5 BRUCK",99.91,2,3,2,4,2,2,{"$f":"+IFERROR(HYPERLINK(VLOOKUP(C20899,FOTOGRAFICO!C:E,3,FALSE),C20899),\"\")","v":"BRU1303003-EURO"}]
[null,null,"BRU131415802EEUR","VARILLA","VARILLA DIR DER SEDAN 78-03    1.6 AJUSTABLE COMPLETA LARGA   MARCA BRUCK GERMANY",358.48,2,2,2,2,2,2,{"$f":"+IFERROR(HYPERLINK(VLOOKUP(C20900,FOTOGRAFICO!C:E,3,FALSE),C20900),\"\")","v":"BRU131415802EEUR"}]
[null,null,"BRU1603008-EURO","VARILLA","VARILLA DIRECCION CORSA 02-09  1.8 TORNADO 03-10 1.8          DIR ELECTRICA 12X1.5 BRUCK",129.30000000000001,0,10,0,6,0,2,{"$f":"+IFERROR(HYPERLINK(VLOOKUP(C20901,FOTOGRAFICO!C:E,3,FALSE),C20901),\"\")","v":"BRU1603008-EURO"}]
[null,null,"BRU171419804EURO","VARILLA","VARILLA DIRECCION ATLANTIC 81- 87 1.7 1.8 CARIBE 77-87 1.6    1.8 COMPLETA MARCA BRUCK",211.56,6,4,9,0,0,0,{"$f":"+IFERROR(HYPERLINK(VLOOKUP(C20902,FOTOGRAFICO!C:E,3,FALSE),C20902),\"\")","v":"BRU171419804EURO"}]
[null,null,"BRU191419803AEUR","VARILLA","VARILLA DIR IZQ JETTA A2 88-92 1.8 GOLF A2 88-92 1.8 COMPLETA ESTANDAR MARCA BRUCK GERMANY",217.44,3,6,6,4,6,5,{"$f":"+IFERROR(HYPERLINK(VLOOKUP(C20903,FOTOGRAFICO!C:E,3,FALSE),C20903),\"\")","v":"BRU191419803AEUR"}]
[null,null,"BRU191419804AEUR","VARILLA","VARILLA DIR DER JETTA A2 88-92 1.8 GOLF A2 88-92 1.8 COMPLETA ESTANDAR MARCA BRUCK GERMANY",217.44,5,6,6,2,6,5,{"$f":"+IFERROR(HYPERLINK(VLOOKUP(C20904,FOTOGRAFICO!C:E,3,FALSE),C20904),\"\")","v":"BRU191419804AEUR"}]
[null,null,"BRU191422803AEUR","VARILLA","VARILLA DIR IZQ JETTA A2 88-92 1.8 GOLF A2 88-92 1.8 COMPLETA HIDRAULICA MARCA BRUCK GERMANY",218.61,5,6,5,5,6,6,{"$f":"+IFERROR(HYPERLINK(VLOOKUP(C20905,FOTOGRAFICO!C:E,3,FALSE),C20905),\"\")","v":"BRU191422803AEUR"}]
[null,null,"BRU191422804AEUR","VARILLA","VARILLA DIR DER JETTA A2 88-92 1.8 GOLF A2 88-92 1.8 COMPLETA HIDRAULICA MARCA BRUCK GERMANY",218.62,6,6,2,5,6,6,{"$f":"+IFERROR(HYPERLINK(VLOOKUP(C20906,FOTOGRAFICO!C:E,3,FALSE),C20906),\"\")","v":"BRU191422804AEUR"}]
[null,null,"BRU191422804BEUR","VARILLA","VARILLA DIRECCION JETTA A2 88- 92 1.8 GOLF A2 88-92 1.8       HIDRAULICA MARCA BRUCK GERMANY",123.42,2,0,10,2,2,2,{"$f":"+IFERROR(HYPERLINK(VLOOKUP(C20907,FOTOGRAFICO!C:E,3,FALSE),C20907),\"\")","v":"BRU191422804BEUR"}]
[null,null,"BRU1H0419803EURO","VARILLA","VARILLA DIR IZQ JETTA A3 93-99 1.8 GOLF A3 93-99 1.8 COMPLETA ESTANDAR MARCA BRUCK GERMANY",231.55,0,2,4,1,3,2,{"$f":"+IFERROR(HYPERLINK(VLOOKUP(C20908,FOTOGRAFICO!C:E,3,FALSE),C20908),\"\")","v":"BRU1H0419803EURO"}]
[null,null,"BRU1H0419804EURO","VARILLA","VARILLA DIR DER JETTA A3 93-99 1.8 GOLF A3 93-99 1.8 COMPLETA ESTANDAR MARCA BRUCK GERMANY",217.44,0,2,2,3,2,2,{"$f":"+IFERROR(HYPERLINK(VLOOKUP(C20909,FOTOGRAFICO!C:E,3,FALSE),C20909),\"\")","v":"BRU1H0419804EURO"}]
[null,null,"BRU1H0422803EURO","VARILLA","VARILLA DIR IZQ JETTA A3 93-99 1.8 GOLF A3 93-99 1.8 COMPLETA HIDRAULICA MARCA BRUCK GERMANY",231.55,5,5,2,5,0,6,{"$f":"+IFERROR(HYPERLINK(VLOOKUP(C20910,FOTOGRAFICO!C:E,3,FALSE),C20910),\"\")","v":"BRU1H0422803EURO"}]
[null,null,"BRU1H0422804EURO","VARILLA","VARILLA DIR DER JETTA A3 93-99 1.8 GOLF A3 93-99 1.8 COMPLETA HIDRAULICA MARCA BRUCK GERMANY",217.44,8,5,5,5,0,0,{"$f":"+IFERROR(HYPERLINK(VLOOKUP(C20911,FOTOGRAFICO!C:E,3,FALSE),C20911),\"\")","v":"BRU1H0422804EURO"}]
[null,null,"BRU1J0422803BEUR","VARILLA","VARILLA DIR IZQ JETTA A4 99-15 2.0 BEETLE 98-11 2.0 AUDI A3   96-03 1.8 LEON 01-06 1.8 BRUCK",220.97,0,5,5,8,2,2,{"$f":"+IFERROR(HYPERLINK(VLOOKUP(C20912,FOTOGRAFICO!C:E,3,FALSE),C20912),\"\")","v":"BRU1J0422803BEUR"}]
[null,null,"BRU1J0422804BEUR","VARILLA","VARILLA DIR DER JETTA A4 99-15 2.0 BEETLE 98-11 2.0 AUDI A3   96-03 1.8 LEON 01-06 1.8 BRUCK",220.97,5,4,4,4,7,2,{"$f":"+IFERROR(HYPERLINK(VLOOKUP(C20913,FOTOGRAFICO!C:E,3,FALSE),C20913),\"\")","v":"BRU1J0422804BEUR"}]
[null,null,"BRU1J0422821EURO","VARILLA","VARILLA DIRECCION JETTA A4 99- 15 2.0 GOLF A4 99-07 2.0       BEETLE 98-11 2.0 BRUCK",129.30000000000001,0,7,5,3,4,3,{"$f":"+IFERROR(HYPERLINK(VLOOKUP(C20914,FOTOGRAFICO!C:E,3,FALSE),C20914),\"\")","v":"BRU1J0422821EURO"}]
[null,null,"BRU1K0423810AEUR","VARILLA","VARILLA DIRECCION JETTA A7 19- 20 1.4 TSI JETTA A6 11-18 2.5  BORA 05-10 2.5 FSI BRUCK",135.16,2,2,4,1,2,2,{"$f":"+IFERROR(HYPERLINK(VLOOKUP(C20915,FOTOGRAFICO!C:E,3,FALSE),C20915),\"\")","v":"BRU1K0423810AEUR"}]
[null,null,"BRU1K0423821EURO","VARILLA","VARILLA DIR IZQ JETTA A7 19-20 1.4 TSI JETTA A6 11-18 2.5     BORA 05-10 2.5 FSI BRUCK",451.33,0,3,2,7,2,0,{"$f":"+IFERROR(HYPERLINK(VLOOKUP(C20916,FOTOGRAFICO!C:E,3,FALSE),C20916),\"\")","v":"BRU1K0423821EURO"}]
[null,null,"BRU1K0423822EURO","VARILLA","VARILLA DIR DER JETTA A7 19-20 1.4 TSI JETTA A6 11-18 2.5     BORA 05-10 2.5 FSI BRUCK",451.33,0,3,2,5,0,2,{"$f":"+IFERROR(HYPERLINK(VLOOKUP(C20917,FOTOGRAFICO!C:E,3,FALSE),C20917),\"\")","v":"BRU1K0423822EURO"}]
[null,null,"BRU211415701DEUR","VARILLA","VARILLA DIRECCION COMBI 74-89  1.6 COMBI 89-01 1.8 CURVA      COMPLETA CENTRAL MARCA BRUCK",394.93,2,2,1,1,1,1,{"$f":"+IFERROR(HYPERLINK(VLOOKUP(C20918,FOTOGRAFICO!C:E,3,FALSE),C20918),\"\")","v":"BRU211415701DEUR"}]
[null,null,"BRU211415801FEUR","VARILLA","VARILLA DIR IZQ COMBI 74-89    1.6 COMBI 89-01 1.8 AJUSTABLE  COMPLETA MARCA BRUCK GERMANY",280.91000000000003,2,2,1,4,2,3,{"$f":"+IFERROR(HYPERLINK(VLOOKUP(C20919,FOTOGRAFICO!C:E,3,FALSE),C20919),\"\")","v":"BRU211415801FEUR"}]
[null,null,"BRU211415802EEUR","VARILLA","VARILLA DIR DER COMBI 74-89    1.6 COMBI 89-01 1.8 FIJA MARCA BRUCK GERMANY 211415802E-EURO",292.66000000000003,2,2,4,2,2,3,{"$f":"+IFERROR(HYPERLINK(VLOOKUP(C20920,FOTOGRAFICO!C:E,3,FALSE),C20920),\"\")","v":"BRU211415802EEUR"}]
[null,null,"BRU377422801BEUR","VARILLA","VARILLA DIR IZQ POINTER 98-10  1.8 COMPLETA AJUSTABLE         HID P/TERMINAL HEMBRA BRUCK",292.67,3,0,7,2,1,3,{"$f":"+IFERROR(HYPERLINK(VLOOKUP(C20921,FOTOGRAFICO!C:E,3,FALSE),C20921),\"\")","v":"BRU377422801BEUR"}]
[null,null,"BRU377422802DEUR","VARILLA","VARILLA DIR DER POINTER 98-10  1.8 COMPLETA AJUSTABLE         HID P/TERMINAL HEMBRA BRUCK",292.66000000000003,3,5,4,8,5,5,{"$f":"+IFERROR(HYPERLINK(VLOOKUP(C20922,FOTOGRAFICO!C:E,3,FALSE),C20922),\"\")","v":"BRU377422802DEUR"}]
[null,null,"BRU4550329836EUR","VARILLA","VARILLA DIRECCION HIACE 05-19  2.7 MARCA BRUCK GERMANY        4550329836-EURO",122.24,6,2,1,3,6,0,{"$f":"+IFERROR(HYPERLINK(VLOOKUP(C20923,FOTOGRAFICO!C:E,3,FALSE),C20923),\"\")","v":"BRU4550329836EUR"}]
[null,null,"BRU4851001G25EUR","VARILLA","VARILLA DIR DER D21 94-08 2.4  COMPLETA C/TUERCAS Y PINES     MARCA BRUCK GERMANY",249.17,8,2,0,0,0,0,{"$f":"+IFERROR(HYPERLINK(VLOOKUP(C20924,FOTOGRAFICO!C:E,3,FALSE),C20924),\"\")","v":"BRU4851001G25EUR"}]
[null,null,"BRU485173SG1ACEU","VARILLA","VARILLA DIR IZQ SENTRA B17 13- 19 1.6T 1.8 COMPLETA MARCA     BRUCK GERMANY 485173SG1AC-EURO",327.93,2,2,2,3,1,2,{"$f":"+IFERROR(HYPERLINK(VLOOKUP(C20925,FOTOGRAFICO!C:E,3,FALSE),C20925),\"\")","v":"BRU485173SG1ACEU"}]
[null,null,"BRU485183SG1ACEU","VARILLA","VARILLA DIR DER SENTRA B17 13- 19 1.6T 1.8 COMPLETA MARCA     BRUCK GERMANY 485183SG1AC-EURO",327.93,2,4,2,2,2,2,{"$f":"+IFERROR(HYPERLINK(VLOOKUP(C20926,FOTOGRAFICO!C:E,3,FALSE),C20926),\"\")","v":"BRU485183SG1ACEU"}]
[null,null,"BRU4852100QAAEUR","VARILLA","VARILLA DIRECCION PLATINA 02-  10 1.6 CLIO 02-10 1.6 KANGOO   01-08 1.6 ESTANDAR MARCA BRUCK",177.48,4,5,0,4,8,2,{"$f":"+IFERROR(HYPERLINK(VLOOKUP(C20927,FOTOGRAFICO!C:E,3,FALSE),C20927),\"\")","v":"BRU4852100QAAEUR"}]
[null,null,"BRU4852100QACEUR","VARILLA","VARILLA DIRECCION PLATINA 02-  10 1.6 CLIO 02-10 1.6 KANGOO   01-08 1.6 CON CUBREPOLVO BRUCK",163.38,4,2,2,6,2,2,{"$f":"+IFERROR(HYPERLINK(VLOOKUP(C20928,FOTOGRAFICO!C:E,3,FALSE),C20928),\"\")","v":"BRU4852100QACEUR"}]
[null,null,"BRU485211HK01A","VARILLA","VARILLA DIR IZQ VERSA 11-19    1.6 MARCH 11-19 1.6 NOTE 13-19 1.6 COMPLETA MARCA BRUCK",378.47,2,2,1,4,4,1,{"$f":"+IFERROR(HYPERLINK(VLOOKUP(C20929,FOTOGRAFICO!C:E,3,FALSE),C20929),\"\")","v":"BRU485211HK01A"}]
[null,null,"BRU485211HK02A","VARILLA","VARILLA DIR DER VERSA 11-19    1.6 MARCH 11-19 1.6 NOTE 13-19 1.6 COMPLETA MARCA BRUCK",378.47,1,3,1,2,4,4,{"$f":"+IFERROR(HYPERLINK(VLOOKUP(C20930,FOTOGRAFICO!C:E,3,FALSE),C20930),\"\")","v":"BRU485211HK02A"}]
[null,null,"BRU485213SG1AEUR","VARILLA","VARILLA DIRECCION SENTRA B17   13-19 1.6T 1.8 MARCA BRUCK     GERMANY 485213SG1A-EURO",117.54,2,2,2,2,2,2,{"$f":"+IFERROR(HYPERLINK(VLOOKUP(C20931,FOTOGRAFICO!C:E,3,FALSE),C20931),\"\")","v":"BRU485213SG1AEUR"}]
[null,null,"BRU485213U021EUR","VARILLA","VARILLA DIR IZQ TIIDA 07-18    1.8 COMPLETA C/ABRAZADERAS     MARCA BRUCK GERMANY",252.7,2,2,7,2,0,2,{"$f":"+IFERROR(HYPERLINK(VLOOKUP(C20932,FOTOGRAFICO!C:E,3,FALSE),C20932),\"\")","v":"BRU485213U021EUR"}]
[null,null,"BRU485213U022EUR","VARILLA","VARILLA DIR DER TIIDA 07-18    1.8 COMPLETA CON ABRAZADERAS   MARCA BRUCK GERMANY",252.7,3,3,7,4,0,2,{"$f":"+IFERROR(HYPERLINK(VLOOKUP(C20933,FOTOGRAFICO!C:E,3,FALSE),C20933),\"\")","v":"BRU485213U022EUR"}]
[null,null,"BRU485214B000EUR","VARILLA","VARILLA DIRECCION SENTRA B14   95-99 1.6 SENTRA B15 00-06 1.8 HIDRAULICA MARCA BRUCK GERMANY",91.68,5,5,6,5,6,4,{"$f":"+IFERROR(HYPERLINK(VLOOKUP(C20934,FOTOGRAFICO!C:E,3,FALSE),C20934),\"\")","v":"BRU485214B000EUR"}]
[null,null,"BRU4852153M00EUR","VARILLA","VARILLA DIRECCION TSURU II 88- 91 1.6 ESTANDAR MARCA BRUCK    GERMANY 4852153M00-EURO",102.25,8,0,0,0,4,5,{"$f":"+IFERROR(HYPERLINK(VLOOKUP(C20935,FOTOGRAFICO!C:E,3,FALSE),C20935),\"\")","v":"BRU4852153M00EUR"}]
[null,null,"BRU48521ET00AEUR","VARILLA","VARILLA DIRECCION SENTRA B16   06-12 2.0 HIDRAULICA MARCA     BRUCK GERMANY 48521ET00A-EURO",114.02,4,1,0,4,8,3,{"$f":"+IFERROR(HYPERLINK(VLOOKUP(C20936,FOTOGRAFICO!C:E,3,FALSE),C20936),\"\")","v":"BRU48521ET00AEUR"}]
[null,null,"BRU48521VW025EUR","VARILLA","VARILLA DIRECCION URVAN 01-12  2.4 CON CUBREPOLVO Y           ABRAZADERAS MARCA BRUCK",218.61,0,0,0,13,2,2,{"$f":"+IFERROR(HYPERLINK(VLOOKUP(C20937,FOTOGRAFICO!C:E,3,FALSE),C20937),\"\")","v":"BRU48521VW025EUR"}]
[null,null,"BRU48521Y02G0AEU","VARILLA","VARILLA DIRECCION TSURU III 92 -17 1.6 COMPLETA ESTANDAR      MARCA BRUCK GERMANY",239.77,2,0,2,2,2,4,{"$f":"+IFERROR(HYPERLINK(VLOOKUP(C20938,FOTOGRAFICO!C:E,3,FALSE),C20938),\"\")","v":"BRU48521Y02G0AEU"}]
[null,null,"BRU4856001G25EUR","VARILLA","VARILLA DIRECCION D21 94-08    2.4 COMPLETA CENTRAL LARGA     MARCA BRUCK GERMANY",572.4,1,2,2,2,3,2,{"$f":"+IFERROR(HYPERLINK(VLOOKUP(C20939,FOTOGRAFICO!C:E,3,FALSE),C20939),\"\")","v":"BRU4856001G25EUR"}]
[null,null,"BRU485603S185EUR","VARILLA","VARILLA DIRECCION NP300 09-20  2.4 D22 02-08 2.4 CENTRAL      MARCA BRUCK GERMANY",545.35,2,2,2,2,2,2,{"$f":"+IFERROR(HYPERLINK(VLOOKUP(C20940,FOTOGRAFICO!C:E,3,FALSE),C20940),\"\")","v":"BRU485603S185EUR"}]
[null,null,"BRU486302S485EUR","VARILLA","VARILLA DIRECCION D22 02-08    2.4 COMPLETA MARCA BRUCK       GERMANY 486302S485-EURO",310.3,2,2,2,2,2,2,{"$f":"+IFERROR(HYPERLINK(VLOOKUP(C20941,FOTOGRAFICO!C:E,3,FALSE),C20941),\"\")","v":"BRU486302S485EUR"}]
[null,null,"BRU6Q0423801","VARILLA","VARILLA DIRECCION IBIZA 03-08  1.6 CORDOBA 03-09 1.6 POLO 03- 07 1.6 LUPO 05-09 1.6 BRUCK",124.58,0,0,0,12,0,2,{"$f":"+IFERROR(HYPERLINK(VLOOKUP(C20942,FOTOGRAFICO!C:E,3,FALSE),C20942),\"\")","v":"BRU6Q0423801"}]
[null,null,"BRU6Q0423803EURO","VARILLA","VARILLA DIR IZQ IBIZA 03-08    1.6 CORDOBA 03-09 1.6 POLO 03- 07 1.6 LUPO 05-09 1.6 BRUCK",259.76,7,0,2,2,2,0,{"$f":"+IFERROR(HYPERLINK(VLOOKUP(C20943,FOTOGRAFICO!C:E,3,FALSE),C20943),\"\")","v":"BRU6Q0423803EURO"}]
[null,null,"BRU6Q0423804EURO","VARILLA","VARILLA DIR DER IBIZA 03-08    1.6 CORDOBA 03-09 1.6 POLO 03- 07 1.6 LUPO 05-09 1.6 BRUCK",259.76,0,2,2,6,0,6,{"$f":"+IFERROR(HYPERLINK(VLOOKUP(C20944,FOTOGRAFICO!C:E,3,FALSE),C20944),\"\")","v":"BRU6Q0423804EURO"}]
[null,null,"BRU6QE4198101","VARILLA","VARILLA DIR IZQ GOL 09-20 1.6  SAVEIRO 09-20 1.6 COMPLETA     TRANSMISION ESTANDAR BRUCK",290.31,4,3,1,1,0,3,{"$f":"+IFERROR(HYPERLINK(VLOOKUP(C20945,FOTOGRAFICO!C:E,3,FALSE),C20945),\"\")","v":"BRU6QE4198101"}]
[null,null,"BRU6QE4198102","VARILLA","VARILLA DIR DER GOL 09-20 1.6  SAVEIRO 09-20 1.6 COMPLETA     TRANSMISION ESTANDAR BRUCK",322.05,2,2,0,2,2,3,{"$f":"+IFERROR(HYPERLINK(VLOOKUP(C20946,FOTOGRAFICO!C:E,3,FALSE),C20946),\"\")","v":"BRU6QE4198102"}]
[null,null,"BRU6QE419810EURO","VARILLA","VARILLA DIRECCION GOL 09-20    1.6 SAVEIRO 09-20 1.6 CROSSFOX 06-17 1.6 POLO 03-07 1.6 BRUCK",135.16,3,11,4,11,0,6,{"$f":"+IFERROR(HYPERLINK(VLOOKUP(C20947,FOTOGRAFICO!C:E,3,FALSE),C20947),\"\")","v":"BRU6QE419810EURO"}]
[null,null,"BRU6R0423801AEUR","VARILLA","VARILLA DIRECCION IBIZA 09-17  1.6 POLO 13-19 1.6 MARCA BRUCK GERMANY 6R0423801A-EURO",135.16999999999999,0,2,8,12,0,0,{"$f":"+IFERROR(HYPERLINK(VLOOKUP(C20948,FOTOGRAFICO!C:E,3,FALSE),C20948),\"\")","v":"BRU6R0423801AEUR"}]
[null,null,"BRU6R0423803AEUR","VARILLA","VARILLA DIR IZQ POLO 13-19 1.6 IBIZA 09-17 1.6 AUDI A1 10-19  1.4 TSI VENTO 14-19 1.6 BRUCK",238.59,3,1,0,5,2,0,{"$f":"+IFERROR(HYPERLINK(VLOOKUP(C20949,FOTOGRAFICO!C:E,3,FALSE),C20949),\"\")","v":"BRU6R0423803AEUR"}]
[null,null,"BRU6R0423804AEUR","VARILLA","VARILLA DIR DER POLO 13-19 1.6 IBIZA 09-17 1.6 AUDI A1 10-19  1.4 TSI VENTO 14-19 1.6 BRUCK",238.59,3,3,2,3,2,2,{"$f":"+IFERROR(HYPERLINK(VLOOKUP(C20950,FOTOGRAFICO!C:E,3,FALSE),C20950),\"\")","v":"BRU6R0423804AEUR"}]
[null,null,"BRU6RD4238101","VARILLA","VARILLA DIR IZQ VENTO 14-19    1.6 POLO 13-19 1.6 COMPLETA    M16 ELECTROASISTIDA BRUCK",304.42,4,1,4,3,2,3,{"$f":"+IFERROR(HYPERLINK(VLOOKUP(C20951,FOTOGRAFICO!C:E,3,FALSE),C20951),\"\")","v":"BRU6RD4238101"}]
[null,null,"BRU6RD4238102","VARILLA","VARILLA DIR DER VENTO 14-19    1.6 POLO 13-19 1.6 COMPLETA    M16 ELECTROASISTIDA BRUCK",304.42,4,1,3,1,4,3,{"$f":"+IFERROR(HYPERLINK(VLOOKUP(C20952,FOTOGRAFICO!C:E,3,FALSE),C20952),\"\")","v":"BRU6RD4238102"}]
[null,null,"BRU6RD423810EURO","VARILLA","VARILLA DIRECCION VENTO 14-19  1.6 POLO 13-19 1.6 MARCA BRUCK GERMANY 6RD423810-EURO",112.83,2,3,2,4,4,2,{"$f":"+IFERROR(HYPERLINK(VLOOKUP(C20953,FOTOGRAFICO!C:E,3,FALSE),C20953),\"\")","v":"BRU6RD423810EURO"}]
[null,null,"BRU701419805FEUR","VARILLA","VARILLA DIR IZQ EUROVAN T4 01- 04 1.9 TDI COMPLETA MARCA      BRUCK GERMANY 701419805F-EURO",238.59,2,2,2,2,2,2,{"$f":"+IFERROR(HYPERLINK(VLOOKUP(C20954,FOTOGRAFICO!C:E,3,FALSE),C20954),\"\")","v":"BRU701419805FEUR"}]
[null,null,"BRU701419806FEUR","VARILLA","VARILLA DIR DER EUROVAN T4 01- 04 1.9 TDI COMPLETA MARCA      BRUCK GERMANY 701419806F-EURO",238.59,2,2,3,2,2,2,{"$f":"+IFERROR(HYPERLINK(VLOOKUP(C20955,FOTOGRAFICO!C:E,3,FALSE),C20955),\"\")","v":"BRU701419806FEUR"}]
[null,null,"BRU7H0419801DEUR","VARILLA","VARILLA DIRECCION EUROVAN T5   05-08 2.0 TDI MARCA BRUCK      GERMANY 7H0419801D-EURO",137.52000000000001,0,2,0,8,0,2,{"$f":"+IFERROR(HYPERLINK(VLOOKUP(C20956,FOTOGRAFICO!C:E,3,FALSE),C20956),\"\")","v":"BRU7H0419801DEUR"}]
[null,null,"BRU8V513L518ACEU","VARILLA","VARILLA DIR DER FIESTA 11-17   1.6 FIGO 15-19 1.5 COMPLETA    MARCA BRUCK GERMANY",322.05,0,7,2,2,2,1,{"$f":"+IFERROR(HYPERLINK(VLOOKUP(C20957,FOTOGRAFICO!C:E,3,FALSE),C20957),\"\")","v":"BRU8V513L518ACEU"}]
[null,null,"BRU8V513L519ACEU","VARILLA","VARILLA DIR IZQ FIESTA 11-17   1.6 FIGO 15-19 1.5 COMPLETA    MARCA BRUCK GERMANY",322.05,2,7,2,2,0,2,{"$f":"+IFERROR(HYPERLINK(VLOOKUP(C20958,FOTOGRAFICO!C:E,3,FALSE),C20958),\"\")","v":"BRU8V513L519ACEU"}]
[null,null,"BRU93445900-EURO","VARILLA","VARILLA DIRECCION CHEVY 95-12  1.4 1.6 MONZA 96-02 1.4 1.6    DIR HIDRAULICA 14X1.5 BRUCK",136.33000000000001,3,2,1,4,5,6,{"$f":"+IFERROR(HYPERLINK(VLOOKUP(C20959,FOTOGRAFICO!C:E,3,FALSE),C20959),\"\")","v":""}]
[null,null,"BRU93741074-EURO","VARILLA","VARILLA DIRECCION MATIZ 05-14  1.0 ESTANDAR MARCA BRUCK       GERMANY 93741074-EURO",116.35,10,6,2,3,4,4,{"$f":"+IFERROR(HYPERLINK(VLOOKUP(C20960,FOTOGRAFICO!C:E,3,FALSE),C20960),\"\")","v":"BRU93741074-EURO"}]
[null,null,"BRU95191778CEURO","VARILLA","VARILLA DIRECCION SPARK 11-20  1.2 COMPLETA DIRECCION         ELECTROASISTIDA MARCA BRUCK",326.76,3,6,2,2,2,3,{"$f":"+IFERROR(HYPERLINK(VLOOKUP(C20961,FOTOGRAFICO!C:E,3,FALSE),C20961),\"\")","v":"BRU95191778CEURO"}]
[null,null,"BRU95218371CEURO","VARILLA","VARILLA DIRECCION SONIC 12-17  1.6 COMPLETA MARCA BRUCK       GERMANY 95218371C-EURO",256.23,0,2,11,1,8,0,{"$f":"+IFERROR(HYPERLINK(VLOOKUP(C20962,FOTOGRAFICO!C:E,3,FALSE),C20962),\"\")","v":"BRU95218371CEURO"}]
[null,null,"BRU95218372-EURO","VARILLA","VARILLA DIRECCION SONIC 12-17  1.6 MARCA BRUCK GERMANY        95218372-EURO",175.13,0,5,10,6,4,2,{"$f":"+IFERROR(HYPERLINK(VLOOKUP(C20963,FOTOGRAFICO!C:E,3,FALSE),C20963),\"\")","v":"BRU95218372-EURO"}]
[null,null,"BRU95967294-EURO","VARILLA","VARILLA DIRECCION SPARK 11-20  1.2 HIDRAULICA MARCA BRUCK     GERMANY 95967294-EURO",121.06,2,5,1,3,5,4,{"$f":"+IFERROR(HYPERLINK(VLOOKUP(C20964,FOTOGRAFICO!C:E,3,FALSE),C20964),\"\")","v":"BRU95967294-EURO"}]
[null,null,"BRU96535322-EURO","VARILLA","VARILLA DIR IZQ AVEO 08-18 1.6 G3 06-10 1.6 COMPLETA MARCA    BRUCK GERMANY 96535322-EURO",322.05,4,1,1,2,0,3,{"$f":"+IFERROR(HYPERLINK(VLOOKUP(C20965,FOTOGRAFICO!C:E,3,FALSE),C20965),\"\")","v":"BRU96535322-EURO"}]
[null,null,"BRU96535323-EURO","VARILLA","VARILLA DIR DER AVEO 08-18 1.6 G3 06-10 1.6 COMPLETA MARCA    BRUCK GERMANY 96535323-EURO",322.05,5,2,4,2,0,3,{"$f":"+IFERROR(HYPERLINK(VLOOKUP(C20966,FOTOGRAFICO!C:E,3,FALSE),C20966),\"\")","v":"BRU96535323-EURO"}]
[null,null,"BRUBE8Z3280AEURO","VARILLA","VARILLA DIRECCION FIESTA 11-17 1.6 FIGO 15-19 1.5 MARCA BRUCK GERMANY BE8Z3280A-EURO",190.42,2,6,4,2,2,2,{"$f":"+IFERROR(HYPERLINK(VLOOKUP(C20967,FOTOGRAFICO!C:E,3,FALSE),C20967),\"\")","v":"BRUBE8Z3280AEURO"}]
[null,null,"BRUM2S6C3280LBC","VARILLA","VARILLA DIR DER FIESTA 03-10   1.6 ECOSPORT 03-13 2.0         COMPLETA MARCA BRUCK GERMANY",249.17,4,2,4,5,7,0,{"$f":"+IFERROR(HYPERLINK(VLOOKUP(C20968,FOTOGRAFICO!C:E,3,FALSE),C20968),\"\")","v":"BRUM2S6C3280LBC"}]
[null,null,"BRUM2S6C3281LBC","VARILLA","VARILLA DIR IZQ FIESTA 03-10   1.6 ECOSPORT 03-13 2.0         COMPLETA MARCA BRUCK GERMANY",249.17,1,4,2,3,6,0,{"$f":"+IFERROR(HYPERLINK(VLOOKUP(C20969,FOTOGRAFICO!C:E,3,FALSE),C20969),\"\")","v":"BRUM2S6C3281LBC"}]
[null,null,"D85213XA0A-KB","VARILLA","VARILLA DIR URVAN NV350 13-18  MARCA KABUTO IMPORTADO         1316024 = SR-N660",111.4,1,0,1,2,4,2,{"$f":"+IFERROR(HYPERLINK(VLOOKUP(C20970,FOTOGRAFICO!C:E,3,FALSE),C20970),\"\")","v":"D85213XA0A-KB"}]
[null,null,"D8560-VK91ASFT","VARILLA","VARILLA DIR CENTRAL D22 NP300  09-15 FRONTIER 98-04 4X2 MARCA SAFETY 48560-3S125",410.03,1,0,2,3,1,1,{"$f":"+IFERROR(HYPERLINK(VLOOKUP(C20971,FOTOGRAFICO!C:E,3,FALSE),C20971),\"\")","v":"D8560-VK91ASFT"}]
[null,null,"DBNC0800","VARILLA","VARILLA DIR SPARK 11-15 14 MM  MARCA YOKOMITSU = 95967277CTR  = 95192778-EURO = 95967277SFT",97.6,0,2,0,6,1,3,{"$f":"+IFERROR(HYPERLINK(VLOOKUP(C20972,FOTOGRAFICO!C:E,3,FALSE),C20972),\"\")","v":""}]
[null,null,"DBNC0900","VARILLA","VARILLA DIR SONIC 1.6 12-18    MARCA YOKOMITSU PIDE LUIS ROA",77.8,6,0,9,2,3,6,{"$f":"+IFERROR(HYPERLINK(VLOOKUP(C20973,FOTOGRAFICO!C:E,3,FALSE),C20973),\"\")","v":"DBNC0900"}]
[null,null,"DBNC9900","VARILLA","VARILLA DIR AVEO 07-17 PONTIAC G3 06-09 MARCA YOKOMITSU       IMPORTADO = 96535300-EURO",91.95,0,6,2,19,12,5,{"$f":"+IFERROR(HYPERLINK(VLOOKUP(C20974,FOTOGRAFICO!C:E,3,FALSE),C20974),\"\")","v":""}]
[null,null,"DBNF0410","VARILLA","VARILLA DIREC FORD RANGER 13-1 6 2WD IZQ/DER                  MARCA YOKOMITSU",84.97,0,0,0,0,0,0,{"$f":"+IFERROR(HYPERLINK(VLOOKUP(C20975,FOTOGRAFICO!C:E,3,FALSE),C20975),\"\")","v":""}]
[null,null,"DBNN0400","VARILLA","VARILLA DIR URVAN 02-12 MARCA  YOKOMITSU IMPORTADO            = EGP48521-VE000 = SYD1316002",159.16,15,0,2,1,0,0,{"$f":"+IFERROR(HYPERLINK(VLOOKUP(C20976,FOTOGRAFICO!C:E,3,FALSE),C20976),\"\")","v":""}]
[null,null,"DBNN1500","VARILLA","VARILLA DIR TSURU III 92-17    TSUBAME 92-04 12 MM CUERDA STD P/CAJA CHINA HIDRAUL.YOKOMITSU",55.17,53,8,12,50,41,33,{"$f":"+IFERROR(HYPERLINK(VLOOKUP(C20977,FOTOGRAFICO!C:E,3,FALSE),C20977),\"\")","v":""}]
[null,null,"DBRT0400","VARILLA","VARILLA DIR HIACE 04-18        HIDRAULICA MARCA SAFETY IMPORT = 1325007 = MIZDBNT0400",112.45,21,0,12,6,0,8,{"$f":"+IFERROR(HYPERLINK(VLOOKUP(C20978,FOTOGRAFICO!C:E,3,FALSE),C20978),\"\")","v":""}]
[null,null,"ECO020141","VARILLA","VARILLA CLUTCH CARIBE 4V CORTA P/4 VELOCIDADES",19.18,18,19,6,9,1,4,{"$f":"+IFERROR(HYPERLINK(VLOOKUP(C20979,FOTOGRAFICO!C:E,3,FALSE),C20979),\"\")","v":""}]
[null,null,"ECO020141G","VARILLA","VARILLA CLUTCH GOLF 5V LARGA   CARIBE GOLF JETTA A2 A3        P/5 VELOCIDADES  34.3cm",23.69,44,17,4,15,7,15,{"$f":"+IFERROR(HYPERLINK(VLOOKUP(C20980,FOTOGRAFICO!C:E,3,FALSE),C20980),\"\")","v":""}]
[null,null,"EGP1J0422803","VARILLA","VARILLA DIR IZQ GOLF A4 99-07  JETTA A4 99-15 MACHO COMPLETA  HIDRA.TERMIN/CORTA SAFETY",170.04,3,0,3,3,0,5,{"$f":"+IFERROR(HYPERLINK(VLOOKUP(C20981,FOTOGRAFICO!C:E,3,FALSE),C20981),\"\")","v":""}]
[null,null,"EGP1J0422804","VARILLA","VARILLA DIR DER GOLF A4 99-07  JETTA A4 99-15 MACHO COMPLETA  HIDRA.TERMIN/CORTA SAFETY",170.04,1,0,7,0,0,0,{"$f":"+IFERROR(HYPERLINK(VLOOKUP(C20982,FOTOGRAFICO!C:E,3,FALSE),C20982),\"\")","v":""}]
[null,null,"EGP48521-VE000","VARILLA","VARILLA DIR URVAN 02-12 MARCA  SAFETY IMPORTADO               = SYD1316002 = DBNN0400",143.99,7,0,9,7,3,8,{"$f":"+IFERROR(HYPERLINK(VLOOKUP(C20983,FOTOGRAFICO!C:E,3,FALSE),C20983),\"\")","v":""}]
[null,null,"EGP4J0422821SFT","VARILLA","VARILLA DIR VW VENTO 14-       MARCA SAFETY 16X1.5MM",94.62,5,5,4,19,4,6,{"$f":"+IFERROR(HYPERLINK(VLOOKUP(C20984,FOTOGRAFICO!C:E,3,FALSE),C20984),\"\")","v":"EGP4J0422821SFT"}]
[null,null,"EGP6C0423810BSFT","VARILLA","VARILLA DIR VW VENTO 14- SEAT  TOLEDO 13- 14X1.5MM MARCA      SAFETY",131.63999999999999,0,0,0,6,2,4,{"$f":"+IFERROR(HYPERLINK(VLOOKUP(C20985,FOTOGRAFICO!C:E,3,FALSE),C20985),\"\")","v":"EGP6C0423810BSFT"}]
[null,null,"EGP6Q0422803","VARILLA","VARILLA DIR IZQ IBIZA 03-08    CORDOBA 03-09 CROSSFOX 07-17   MACHO COMPLETA HIDRAULICA",431.64,0,0,0,4,1,1,{"$f":"+IFERROR(HYPERLINK(VLOOKUP(C20986,FOTOGRAFICO!C:E,3,FALSE),C20986),\"\")","v":"EGP6Q0422803"}]
[null,null,"EGP6Q0422804","VARILLA","VARILLA DIR DER IBIZA 03-08    CORDOBA 03-09 CROSSFOX 07-17   MACHO COMPLETA HIDRAULICA SYD",437.91,0,0,0,4,0,1,{"$f":"+IFERROR(HYPERLINK(VLOOKUP(C20987,FOTOGRAFICO!C:E,3,FALSE),C20987),\"\")","v":""}]
[null,null,"EGPEV-128","VARILLA","VARILLA DIR NEON 95-99 SHADOW  89-98 SPIRIT 89-95 VOYAGER     CARAVAN 86-95 SAFETY IMPORTADO",89.13,4,0,4,0,0,0,{"$f":"+IFERROR(HYPERLINK(VLOOKUP(C20988,FOTOGRAFICO!C:E,3,FALSE),C20988),\"\")","v":""}]
[null,null,"EGPEV-362","VARILLA","VARILLA DIR NEON 00-05 JOURNEY 09-17 VOYAGER CARAVAN TOWN AND COUNTRY 96-07 MACHO SAFETY",94.62,7,0,9,6,0,4,{"$f":"+IFERROR(HYPERLINK(VLOOKUP(C20989,FOTOGRAFICO!C:E,3,FALSE),C20989),\"\")","v":""}]
[null,null,"EUR419804","VARILLA","VARILLA DIR EUROVAN GAS 01-04  MARCA EURO ESPANA              = SYD701422821",129.30000000000001,2,0,4,14,7,3,{"$f":"+IFERROR(HYPERLINK(VLOOKUP(C20990,FOTOGRAFICO!C:E,3,FALSE),C20990),\"\")","v":""}]
[null,null,"EURO1J0422803A","VARILLA","VARILLA DIR IZQ GOLF A4 99-07  JETTA A4 99-15 MACHO COMPLETA  HIDRA.TERMIN/CORTA EURO ESPANA",216.3,11,8,7,11,0,4,{"$f":"+IFERROR(HYPERLINK(VLOOKUP(C20991,FOTOGRAFICO!C:E,3,FALSE),C20991),\"\")","v":""}]
[null,null,"EURO1J0422804A","VARILLA","VARILLA DIR DER GOLF A4 99-07  JETTA A4 99-15 MACHO COMPLETA  HIDRA.TERMIN/CORTA EURO ESPANA",255.05,8,3,9,5,0,2,{"$f":"+IFERROR(HYPERLINK(VLOOKUP(C20992,FOTOGRAFICO!C:E,3,FALSE),C20992),\"\")","v":""}]
[null,null,"EURO7H0419803D","VARILLA","VARILLA DIR IZQ EUROVAN        TRANSPORTER 05-19 COMPLETA     EURO ESPANA",393.73,2,0,0,0,0,0,{"$f":"+IFERROR(HYPERLINK(VLOOKUP(C20993,FOTOGRAFICO!C:E,3,FALSE),C20993),\"\")","v":""}]
[null,null,"EURO7H0419804D","VARILLA","VARILLA DIR DER EUROVAN        TRANSPORTER 05-19 COMPLETA     EURO ESPANA",452.51,0,0,0,5,0,2,{"$f":"+IFERROR(HYPERLINK(VLOOKUP(C20994,FOTOGRAFICO!C:E,3,FALSE),C20994),\"\")","v":""}]
[null,null,"EV-116SFT","VARILLA","VARILLA DIR SUNFIRE Z24 95-05  VOYAGER 84-88 CUTLASS 82-96    MARCA SAFETY PIDE EDSON MARTIN",103.52,0,0,0,0,0,0,{"$f":"+IFERROR(HYPERLINK(VLOOKUP(C20995,FOTOGRAFICO!C:E,3,FALSE),C20995),\"\")","v":""}]
[null,null,"EV-181","VARILLA","VARILLA DIR TSURU III 92-17    TSUBAME 92-04 12 MM CUERDA STD P/CAJA CHINA HIDRAULICA SYD",194.99,11,7,5,6,6,9,{"$f":"+IFERROR(HYPERLINK(VLOOKUP(C20996,FOTOGRAFICO!C:E,3,FALSE),C20996),\"\")","v":""}]
[null,null,"EV-323SFT","VARILLA","VARILLA DIR STRATUS 95-06      CIRRUS 95-06 MCA: SAFETY       PEDIDO VICTOR TELLITUD",76.790000000000006,0,0,0,0,0,0,{"$f":"+IFERROR(HYPERLINK(VLOOKUP(C20997,FOTOGRAFICO!C:E,3,FALSE),C20997),\"\")","v":""}]
[null,null,"EV362-KB","VARILLA","VARILLA DIR CHEVY 09-12 GRAND  CARAVAN 96-07 VOYAGER 96-07    14 MM MILIMETRICA KABUTO",74.260000000000005,0,0,0,0,1,0,{"$f":"+IFERROR(HYPERLINK(VLOOKUP(C20998,FOTOGRAFICO!C:E,3,FALSE),C20998),\"\")","v":"EV362-KB"}]
[null,null,"EV-367SFT","VARILLA","VARILLA DIR CIVIC 96-00        MARCA SAFETY IMPORTADO EV-367",80.64,0,0,0,0,2,0,{"$f":"+IFERROR(HYPERLINK(VLOOKUP(C20999,FOTOGRAFICO!C:E,3,FALSE),C20999),\"\")","v":""}]
[null,null,"FM510003","VARILLA","VARILLA DIR IZQ COMBI 73-01    LATERAL AJUSTABLE SAFETY       IMPORTADO",268.77999999999997,5,0,0,8,3,2,{"$f":"+IFERROR(HYPERLINK(VLOOKUP(C21000,FOTOGRAFICO!C:E,3,FALSE),C21000),\"\")","v":""}]
[null,null,"FM510012","VARILLA","VARILLA DIR COMBI 73-01        CENTRAL CURVA SAFETY IMPORTADO 211-415-701-G",327.75,8,2,0,4,0,2,{"$f":"+IFERROR(HYPERLINK(VLOOKUP(C21001,FOTOGRAFICO!C:E,3,FALSE),C21001),\"\")","v":""}]
[null,null,"FM510013","VARILLA","VARILLA DIR DER COMBI 73-01    LATERAL FIJA SAFETY IMPORTADO  211-415-802-F",267.41000000000003,5,0,0,5,0,2,{"$f":"+IFERROR(HYPERLINK(VLOOKUP(C21002,FOTOGRAFICO!C:E,3,FALSE),C21002),\"\")","v":""}]
[null,null,"GM214T0700","VARILLA","VARILLA DIR CHEVY 94-12 STD    CUERDA 12 MM HEMBRA MARCA      SAFETY = 26030381-EURO",113.82,24,1,9,2,13,18,{"$f":"+IFERROR(HYPERLINK(VLOOKUP(C21003,FOTOGRAFICO!C:E,3,FALSE),C21003),\"\")","v":""}]
[null,null,"GM214T0710","VARILLA","VARILLA DIR CHEVY 94-12        TORNADO 11-18 ESTANDAR CUERDA  14 MM MACHO SAFETY IMPORTADO",94.62,8,4,8,8,12,3,{"$f":"+IFERROR(HYPERLINK(VLOOKUP(C21004,FOTOGRAFICO!C:E,3,FALSE),C21004),\"\")","v":""}]
[null,null,"GM214T0730","VARILLA","VARILLA DIR CHEVY STD 94-12    CORSA 02-03 MERIVA 03-03 HID   CUERDA 14 MM HEMBRA SAFETY",83.65,6,14,0,13,9,8,{"$f":"+IFERROR(HYPERLINK(VLOOKUP(C21005,FOTOGRAFICO!C:E,3,FALSE),C21005),\"\")","v":""}]
[null,null,"MIZDBNT0400","VARILLA","VARILLA DIR HIACE 04-18        HIDRAULICA MARCA YOKOMITSU     = DBRT0400 = 1325007",124.48,18,0,11,0,6,0,{"$f":"+IFERROR(HYPERLINK(VLOOKUP(C21006,FOTOGRAFICO!C:E,3,FALSE),C21006),\"\")","v":""}]
[null,null,"NAK419801D","VARILLA","VARILLA DIR IZQ POINTER 97-09  POINTER PICKUP 97-10 LATERAL   RECTA ESTANDAR COMPLETA SAFETY",244.1,7,0,4,3,0,7,{"$f":"+IFERROR(HYPERLINK(VLOOKUP(C21007,FOTOGRAFICO!C:E,3,FALSE),C21007),\"\")","v":""}]
[null,null,"NAK419802H","VARILLA","VARILLA DIR DER POINTER 97-09  POINTER PICKUP 97-10 LATERAL   CURVA ESTANDAR COMPLETA SAFETY",231.75,4,0,7,3,0,2,{"$f":"+IFERROR(HYPERLINK(VLOOKUP(C21008,FOTOGRAFICO!C:E,3,FALSE),C21008),\"\")","v":""}]
[null,null,"NAK422801B","VARILLA","VARILLA DIR IZQ POINTER 97-09  POINTER PICKUP 97-10 LATERAL   RECTA HIDRAULI.COMPLETA SAFETY",245.47,0,7,0,0,0,0,{"$f":"+IFERROR(HYPERLINK(VLOOKUP(C21009,FOTOGRAFICO!C:E,3,FALSE),C21009),\"\")","v":""}]
[null,null,"NAK422802D","VARILLA","VARILLA DIR DER POINTER 97-09  POINTER PICKUP 97-10 LATERAL   CURVA HIDRA.COMPLETA IMPORTADO",226.75,2,7,3,0,0,0,{"$f":"+IFERROR(HYPERLINK(VLOOKUP(C21010,FOTOGRAFICO!C:E,3,FALSE),C21010),\"\")","v":""}]
[null,null,"NIS107T0720","VARILLA","VARILLA DIR TSURU III 92-17    TSUBAME 92-04 14 MM CUERDA STD DIRECCION HIDRAULICA YOKOMITSU",55.17,29,11,6,37,0,45,{"$f":"+IFERROR(HYPERLINK(VLOOKUP(C21011,FOTOGRAFICO!C:E,3,FALSE),C21011),\"\")","v":""}]
[null,null,"NIS107T0730","VARILLA","VARILLA DIR TSURU III 92-17    12 MM CUERDA FINA DIR.MECANICA YOKOMITSU = 48521Y02G0-EURO",69.31,31,54,48,2,0,12,{"$f":"+IFERROR(HYPERLINK(VLOOKUP(C21012,FOTOGRAFICO!C:E,3,FALSE),C21012),\"\")","v":""}]
[null,null,"NIS124T0700","VARILLA","VARILLA DIR PLATINA CLIO 02-10 KANGOO 04-17 CUERDA 12 MM      DIRECCION ESTANDAR YOKOMITSU",91.95,7,1,12,3,0,3,{"$f":"+IFERROR(HYPERLINK(VLOOKUP(C21013,FOTOGRAFICO!C:E,3,FALSE),C21013),\"\")","v":""}]
[null,null,"NIS48521-4B000","VARILLA","VARILLA DIR SENTRA 96-06 SCALA 10-13 ALMERA 01-05 LUCINO      96-00 = 48521-4Z001CTR",78.16,12,6,8,13,3,18,{"$f":"+IFERROR(HYPERLINK(VLOOKUP(C21014,FOTOGRAFICO!C:E,3,FALSE),C21014),\"\")","v":""}]
[null,null,"ORI2000","VARILLA","VARILLA DIR ATOS 00-12 MARCA   EURO ESPANA 52035775           = ORI5654002000 = TEBO501152",130.46,1,6,9,21,15,7,{"$f":"+IFERROR(HYPERLINK(VLOOKUP(C21015,FOTOGRAFICO!C:E,3,FALSE),C21015),\"\")","v":""}]
[null,null,"ORI5654002000","VARILLA","VARILLA DIR ATOS 00-12 MARCA   SAFETY IMPORTADO 52035775      = ORI2000 = TEBO501152",94.62,2,0,20,17,11,7,{"$f":"+IFERROR(HYPERLINK(VLOOKUP(C21016,FOTOGRAFICO!C:E,3,FALSE),C21016),\"\")","v":""}]
[null,null,"SAN285","VARILLA","VARILLA VEL CARIBE C/BUJES ZET ZETA C/BUJES",36.26,1,0,0,0,0,0,{"$f":"+IFERROR(HYPERLINK(VLOOKUP(C21017,FOTOGRAFICO!C:E,3,FALSE),C21017),\"\")","v":""}]
[null,null,"SAN404-S","VARILLA","VARILLA PALANCA HUESO PLASTICO DE VELOCIDADES DE CORSA Y ASTR",35.1,18,8,6,0,4,0,{"$f":"+IFERROR(HYPERLINK(VLOOKUP(C21018,FOTOGRAFICO!C:E,3,FALSE),C21018),\"\")","v":""}]
[null,null,"SAN407","VARILLA","VARILLA VEL POINTER C/BUJES ZE ZETA C/BUJES LARGA CURVA",106.25,69,33,12,21,11,7,{"$f":"+IFERROR(HYPERLINK(VLOOKUP(C21019,FOTOGRAFICO!C:E,3,FALSE),C21019),\"\")","v":""}]
[null,null,"SAN415","VARILLA","VARILLA PAL VEL CHEVY LARGA    HUESO",31.08,38,0,4,12,4,4,{"$f":"+IFERROR(HYPERLINK(VLOOKUP(C21020,FOTOGRAFICO!C:E,3,FALSE),C21020),\"\")","v":""}]
[null,null,"SR-4740","VARILLA","VARILLA DIR TSURU III 92-17    12 MM CUERDA FINA DIR.MECANICA MARCA 555 = NIS107T0730",222.7,18,0,1,0,0,0,{"$f":"+IFERROR(HYPERLINK(VLOOKUP(C21021,FOTOGRAFICO!C:E,3,FALSE),C21021),\"\")","v":""}]
[null,null,"SR-4741","VARILLA","VARILLA DIR TSURU III 92-17    TSUBAME 92-04 14 MM CUERDA STD DIRECCION HIDRAULICA MARCA 555",200.1,5,0,0,0,0,1,{"$f":"+IFERROR(HYPERLINK(VLOOKUP(C21022,FOTOGRAFICO!C:E,3,FALSE),C21022),\"\")","v":""}]
[null,null,"SR-4950","VARILLA","VARILLA DIR TIIDA 06-18 CUBE   09-14 LEAF 12-17 MARCA         555 JAPONES ORIGINAL",281.88,1,1,1,1,0,1,{"$f":"+IFERROR(HYPERLINK(VLOOKUP(C21023,FOTOGRAFICO!C:E,3,FALSE),C21023),\"\")","v":""}]
[null,null,"SR-N330","VARILLA","VARILLA DIR VERSA 12-18 MARCH  11-18 V-DRIVE 20-21 MARCA 555  JAPONESA ORIGINAL",223.15,1,3,1,1,1,6,{"$f":"+IFERROR(HYPERLINK(VLOOKUP(C21024,FOTOGRAFICO!C:E,3,FALSE),C21024),\"\")","v":""}]
[null,null,"SR-N660","VARILLA","VARILLA DIR URVAN NV350 13-18  MARCA 555 HECHO EN JAPON       1316024 = 48521-3XA0ASFT",594.41999999999996,3,0,2,5,0,3,{"$f":"+IFERROR(HYPERLINK(VLOOKUP(C21025,FOTOGRAFICO!C:E,3,FALSE),C21025),\"\")","v":""}]
[null,null,"SS-3970","VARILLA","VARILLA DIR HIACE 04-18        HIDRAULICA CON TERMINAL MARCA  555 JAPONESA ORIGINAL",629.66,0,0,0,1,2,2,{"$f":"+IFERROR(HYPERLINK(VLOOKUP(C21026,FOTOGRAFICO!C:E,3,FALSE),C21026),\"\")","v":""}]
[null,null,"SYD1303021","VARILLA","VARILLA INT ESCALADE 07-11     PEDIDO DANIEL CASTILLO",196.39,0,0,0,0,0,0,{"$f":"+IFERROR(HYPERLINK(VLOOKUP(C21027,FOTOGRAFICO!C:E,3,FALSE),C21027),\"\")","v":""}]
[null,null,"SYD1306018","VARILLA","VARILLA DIR I10 12-14 MARCA    SYD 1306018                    = 57724-0X010CTR",291.94,0,0,5,1,0,1,{"$f":"+IFERROR(HYPERLINK(VLOOKUP(C21028,FOTOGRAFICO!C:E,3,FALSE),C21028),\"\")","v":""}]
[null,null,"SYD1316002","VARILLA","VARILLA DIR URVAN 02-12 MARCA  SYD                            = EGP48521-VE000 = DBNN0400",300.85000000000002,7,0,14,4,0,1,{"$f":"+IFERROR(HYPERLINK(VLOOKUP(C21029,FOTOGRAFICO!C:E,3,FALSE),C21029),\"\")","v":""}]
[null,null,"SYD1325013","VARILLA","VARILLA DIRECC RAV4 TOYOTA 06- 12 MCA: SYD",301.06,0,0,0,0,0,0,{"$f":"+IFERROR(HYPERLINK(VLOOKUP(C21030,FOTOGRAFICO!C:E,3,FALSE),C21030),\"\")","v":""}]
[null,null,"SYD1J0422803","VARILLA","VARILLA DIR IZQ GOLF A4 99-07  JETTA A4 99-15 MACHO COMPLETA  HIDRA.TERMIN/CORTA SYD",410.05,2,0,0,0,0,0,{"$f":"+IFERROR(HYPERLINK(VLOOKUP(C21031,FOTOGRAFICO!C:E,3,FALSE),C21031),\"\")","v":""}]
[null,null,"SYD1J0422804","VARILLA","VARILLA DIR DER GOLF A4 99-07  JETTA A4 99-15 MACHO COMPLETA  HIDRA.TERMIN/CORTA SYD",410.05,0,1,0,1,0,1,{"$f":"+IFERROR(HYPERLINK(VLOOKUP(C21032,FOTOGRAFICO!C:E,3,FALSE),C21032),\"\")","v":""}]
[null,null,"SYD2108067","VARILLA","VARILLA DIR DEL FORD TRANSIT   07-13 MARCA SYD PEDIDO         HECTOR PEREZ",219.66,0,0,0,0,0,0,{"$f":"+IFERROR(HYPERLINK(VLOOKUP(C21033,FOTOGRAFICO!C:E,3,FALSE),C21033),\"\")","v":""}]
[null,null,"SYD4342539","VARILLA","VARILLA DIR FIESTA 03-12       ECOSPORT 03-12 MARCA SYD       4342539 = TEBO501307",201.68,2,0,4,1,0,3,{"$f":"+IFERROR(HYPERLINK(VLOOKUP(C21034,FOTOGRAFICO!C:E,3,FALSE),C21034),\"\")","v":""}]
[null,null,"SYD48521-Y02G0","VARILLA","VARILLA DIR TSURU III 92-17    TSUBAME 92-04 14 MM CUERDA STD DIRECCION HIDRAULICA MARCA SYD",173.83,0,6,0,1,5,0,{"$f":"+IFERROR(HYPERLINK(VLOOKUP(C21035,FOTOGRAFICO!C:E,3,FALSE),C21035),\"\")","v":""}]
[null,null,"SYD4J0422803B","VARILLA","VARILLA DIR IZQ GOLF A4 98-15  JETTA A4 98-15 MACHO COMPLETA  HIDRA.TERMIN/LARGA SYD BEETLE",402.25,4,1,5,1,2,2,{"$f":"+IFERROR(HYPERLINK(VLOOKUP(C21036,FOTOGRAFICO!C:E,3,FALSE),C21036),\"\")","v":"SYD4J0422803B"}]
[null,null,"SYD701422821","VARILLA","VARILLA DIR EUROVAN GAS 01-04  MARCA SYD = EUR419804",231.75,0,0,0,2,0,1,{"$f":"+IFERROR(HYPERLINK(VLOOKUP(C21037,FOTOGRAFICO!C:E,3,FALSE),C21037),\"\")","v":""}]
[null,null,"SYDEV-362","VARILLA","VARILLA DIR NEON 00-05 JOURNEY 09-17 VOYAGER CARAVAN TOWN AND COUNTRY 96-07 MACHO SYD",127.33,0,0,0,0,0,0,{"$f":"+IFERROR(HYPERLINK(VLOOKUP(C21038,FOTOGRAFICO!C:E,3,FALSE),C21038),\"\")","v":""}]
[null,null,"TEB510001","VARILLA","VARILLA DIR IZQ VW SEDAN 73-04 BRASILIA 73-83 SAFARI 70-81    CORTA SAFETY IMPORTADO",300.32,2,0,0,0,0,0,{"$f":"+IFERROR(HYPERLINK(VLOOKUP(C21039,FOTOGRAFICO!C:E,3,FALSE),C21039),\"\")","v":"TEB510001"}]
[null,null,"TEB510002","VARILLA","VARILLA DIR DER VW SEDAN 73-04 BRASILIA 73-83 SAFARI 70-81    C/OJILLO LARGA SAFETY",329.12,5,0,0,0,0,0,{"$f":"+IFERROR(HYPERLINK(VLOOKUP(C21040,FOTOGRAFICO!C:E,3,FALSE),C21040),\"\")","v":"TEB510002"}]
[null,null,"TEBO501052","VARILLA","VARILLA DIR TSURU I II 84-91   12 MM CUERDA FINA DIR.MECANICA MARCA TEBO 48521-70A00",181.5,0,4,0,4,0,4,{"$f":"+IFERROR(HYPERLINK(VLOOKUP(C21041,FOTOGRAFICO!C:E,3,FALSE),C21041),\"\")","v":"TEBO501052"}]
[null,null,"TEBO501070","VARILLA","VARILLA DIR TSURU III 92-17    12 MM CUERDA FINA DIR.MECANICA MARCA TEBO = 48521-Y02G0CTR",188.32,4,4,7,29,5,3,{"$f":"+IFERROR(HYPERLINK(VLOOKUP(C21042,FOTOGRAFICO!C:E,3,FALSE),C21042),\"\")","v":"TEBO501070"}]
[null,null,"TEBO501105","VARILLA","VARILLA DIR CHEVY 94-12 STD    CUERDA 12 MM HEMBRA MARCA      TEBO = GM214T0700",161.28,6,7,6,7,0,1,{"$f":"+IFERROR(HYPERLINK(VLOOKUP(C21043,FOTOGRAFICO!C:E,3,FALSE),C21043),\"\")","v":"TEBO501105"}]
[null,null,"TEBO501118","VARILLA","VARILLA DIR GOLF A4 98-07      JETTA A4 98-15 BEETLE 98-11    VENTO 14-19 TEBO ORIGINAL",218.35,14,8,9,13,6,5,{"$f":"+IFERROR(HYPERLINK(VLOOKUP(C21044,FOTOGRAFICO!C:E,3,FALSE),C21044),\"\")","v":"TEBO501118"}]
[null,null,"TEBO501125","VARILLA","VARILLA DIR TSURU III 92-17    TSUBAME 92-04 14 MM CUERDA STD DIRECCION HIDRAULICA TEBO",159.66999999999999,8,6,4,6,1,2,{"$f":"+IFERROR(HYPERLINK(VLOOKUP(C21045,FOTOGRAFICO!C:E,3,FALSE),C21045),\"\")","v":"TEBO501125"}]
[null,null,"TEBO501141","VARILLA","VARILLA DIR PLATINA CLIO 02-10 CUERDA 14 MM HIDRAULICA TEBO   ORIGINAL = 48521-00QAASFT",170.84,6,3,10,13,4,4,{"$f":"+IFERROR(HYPERLINK(VLOOKUP(C21046,FOTOGRAFICO!C:E,3,FALSE),C21046),\"\")","v":"TEBO501141"}]
[null,null,"TEBO501152","VARILLA","VARILLA DIR ATOS 00-12 MARCA   TEBO ORIGINAL 52035775         = ORI2000 = ORI5654002000",158.30000000000001,3,2,7,7,6,4,{"$f":"+IFERROR(HYPERLINK(VLOOKUP(C21047,FOTOGRAFICO!C:E,3,FALSE),C21047),\"\")","v":"TEBO501152"}]
[null,null,"TEBO501156","VARILLA","VARILLA DIR FIESTA IKON 98-11  FIESTA COURIER 00-12 CHEVY     PICKUP 99-03 TEBO = 1044014",157.44,7,0,0,6,0,4,{"$f":"+IFERROR(HYPERLINK(VLOOKUP(C21048,FOTOGRAFICO!C:E,3,FALSE),C21048),\"\")","v":"TEBO501156"}]
[null,null,"TEBO501172","VARILLA","VARILLA DIR CROSSFOX 07-17     IBIZA 03-08 CORDOBA 03-09 POLO 03-07 MACHO HIDRAULICA TEBO",173.31,4,3,4,4,0,3,{"$f":"+IFERROR(HYPERLINK(VLOOKUP(C21049,FOTOGRAFICO!C:E,3,FALSE),C21049),\"\")","v":"TEBO501172"}]
[null,null,"TEBO501294","VARILLA","VARILLA DIR MATIZ 04-15        ESTANDAR MARCA TEBO ORIGINAL   = 1303001SFT = SYD1303001",188.94,0,0,5,3,0,2,{"$f":"+IFERROR(HYPERLINK(VLOOKUP(C21050,FOTOGRAFICO!C:E,3,FALSE),C21050),\"\")","v":"TEBO501294"}]
[null,null,"TEBO501297","VARILLA","VARILLA DIR PLATINA CLIO 02-10 KANGOO 04-17 CUERDA 12 MM      DIRECCION ESTANDAR TEBO ORIGIN",157.44,3,0,11,2,0,2,{"$f":"+IFERROR(HYPERLINK(VLOOKUP(C21051,FOTOGRAFICO!C:E,3,FALSE),C21051),\"\")","v":"TEBO501297"}]
[null,null,"TEBO501307","VARILLA","VARILLA DIR FIESTA 03-12       ECOSPORT 03-12 MARCA TEBO      ORIGINAL 4342539 = SYD4342539",167.85,5,3,1,4,3,3,{"$f":"+IFERROR(HYPERLINK(VLOOKUP(C21052,FOTOGRAFICO!C:E,3,FALSE),C21052),\"\")","v":"TEBO501307"}]
[null,null,"717-1303042","VARILLA","VARILLA DIRECC INT AVEO 1.5    18-22 MARCA SYD 1303042 PIDE   OSVALDO SANCHEZ",196.91,0,0,0,0,0,0,{"$f":"+IFERROR(HYPERLINK(VLOOKUP(C21053,FOTOGRAFICO!C:E,3,FALSE),C21053),\"\")","v":""}]
[null,null,"90532603","VARILLA","VARILLA SOPORTE COFRE CHEVY 96 -03 MARCA GM ORIGINAL PIDE     SERGIO MOSTRADOR",223.89,0,0,0,0,0,0,{"$f":"+IFERROR(HYPERLINK(VLOOKUP(C21054,FOTOGRAFICO!C:E,3,FALSE),C21054),\"\")","v":""}]
[null,null,"DBNC9910","VARILLA","VARILLA INT ELEC AVEO 1.5 18-  22 MARCA YOKOMITZU",91.95,0,4,5,0,1,0,{"$f":"+IFERROR(HYPERLINK(VLOOKUP(C21055,FOTOGRAFICO!C:E,3,FALSE),C21055),\"\")","v":"DBNC9910"}]
[null,null,"NIS107T0730-PROM","VARILLA","VARILLA DIR TSURU III 92-17    12 MM CUERDA FINA DIR.MECANICA YOKOMITSU = 48521Y02G0-EURO",55.17,0,0,28,0,0,0,{"$f":"+IFERROR(HYPERLINK(VLOOKUP(C21056,FOTOGRAFICO!C:E,3,FALSE),C21056),\"\")","v":""}]
[null,null,"SYD4J0422804B","VARILLA","VARILLA DIR DER GOLF A4 98-15  JETTA A4 98-15 MACHO COMPLETA  HIDRA.TERMIN/LARGA SYD BEETLE",396.5,0,0,2,0,0,0,{"$f":"+IFERROR(HYPERLINK(VLOOKUP(C21057,FOTOGRAFICO!C:E,3,FALSE),C21057),\"\")","v":""}]
[null,null,"UD1316011","VARILLA","VARILLA DIR SENTRA 07-12 MARCA UNICAR PIDE OSVALDO 1316011",144.1,0,0,0,0,0,0,{"$f":"+IFERROR(HYPERLINK(VLOOKUP(C21058,FOTOGRAFICO!C:E,3,FALSE),C21058),\"\")","v":""}]
[null,null,"1303032SFT","VARILLA","VARILLA DIR GM SONIC 12-18     AMBOS LADOS = 2794032 MARCA:   SAFETY",141.24,0,6,0,0,0,0,{"$f":"+IFERROR(HYPERLINK(VLOOKUP(C21059,FOTOGRAFICO!C:E,3,FALSE),C21059),\"\")","v":"1303032SFT"}]
[null,null,"1308016SFT","VARILLA","VARILLA DIR FIGO 16-21 FIESTA  11-19 MARCA SAFETY",128.9,0,13,0,7,2,8,{"$f":"+IFERROR(HYPERLINK(VLOOKUP(C21060,FOTOGRAFICO!C:E,3,FALSE),C21060),\"\")","v":""}]
[null,null,"1313001SFT","VARILLA","VARILLA DIR INT MAZDA 3 03-13  MAZDA 5 03-14 MARCA SAFETY     IMPORTADO 1313001",116.56,0,1,0,0,1,0,{"$f":"+IFERROR(HYPERLINK(VLOOKUP(C21061,FOTOGRAFICO!C:E,3,FALSE),C21061),\"\")","v":"1313001SFT"}]
[null,null,"94580711-K","VARILLA","VARILLA LARGA PAL VEL AVEO 08- 17 1.6L TORNADO 07-11 1.8      HUESO ORIGINAL KOREA",47.99,0,0,0,0,0,0,{"$f":"+IFERROR(HYPERLINK(VLOOKUP(C21062,FOTOGRAFICO!C:E,3,FALSE),C21062),\"\")","v":""}]
[null,null,"EV126-KB","VARILLA","VARILLA INTERIOR AVENGER 07-14 CALIBER 07-12 CARAVAN 01-04    MARCA KABUTO CUERDA EXT STD",84.87,0,1,0,2,1,2,{"$f":"+IFERROR(HYPERLINK(VLOOKUP(C21063,FOTOGRAFICO!C:E,3,FALSE),C21063),\"\")","v":"EV126-KB"}]
[null,null,"SYD1306029","VARILLA","VARILLA DIR ATTITUDE 15-22     MIRAGE 15-22 MARCA SYD PIDE    MOY 1306029",258.11,0,0,0,0,0,0,{"$f":"+IFERROR(HYPERLINK(VLOOKUP(C21064,FOTOGRAFICO!C:E,3,FALSE),C21064),\"\")","v":""}]
[null,null,"1603213SFT","VARILLA","VARILLA DIR ASTRA 00-06 ZAFIRA 02-08 VECTRA 03-05 MARCA       SAFETY",102.85,0,0,0,0,0,0,{"$f":"+IFERROR(HYPERLINK(VLOOKUP(C21065,FOTOGRAFICO!C:E,3,FALSE),C21065),\"\")","v":""}]
[null,null,"48510-3S525SFT","VARILLA","VARILLA DIR LATERAL D22 NP300  09-15 FRONTIER X-TERRA 98-04   4X4 COMPLETA SAFETY 1216001",252.32,0,0,0,1,1,1,{"$f":"+IFERROR(HYPERLINK(VLOOKUP(C21066,FOTOGRAFICO!C:E,3,FALSE),C21066),\"\")","v":""}]
[null,null,"96649237","VARILLA","VARILLA APUERTURA CAJUELA      CHEVY 94-12 AVEO 1.6 08-17     PIDE LUIS ARMANDO MARCA GM",226.11,0,0,0,0,0,0,{"$f":"+IFERROR(HYPERLINK(VLOOKUP(C21067,FOTOGRAFICO!C:E,3,FALSE),C21067),\"\")","v":""}]
[null,null,"EV-315SFT","VARILLA","VARILLA DIR WINDSTAR 95-03     FREESTAR 04-07 SAFETY",108.33,0,0,0,0,0,0,{"$f":"+IFERROR(HYPERLINK(VLOOKUP(C21068,FOTOGRAFICO!C:E,3,FALSE),C21068),\"\")","v":""}]
[null,null,"EV317-KB","VARILLA","VARILLA DIR RANGER 98-12       EXPLORER 95-04 4X2 MARCA       KABUTO",79.569999999999993,0,0,0,2,1,1,{"$f":"+IFERROR(HYPERLINK(VLOOKUP(C21069,FOTOGRAFICO!C:E,3,FALSE),C21069),\"\")","v":"EV317-KB"}]
[null,null,"GM214T0710-PROMO","VARILLA","VARILLA DIR CHEVY 94-12        TORNADO 11-18 ESTANDAR CUERDA  14 MM MACHO SAFETY IMPORTADO",90.1,0,0,0,0,0,0,{"$f":"+IFERROR(HYPERLINK(VLOOKUP(C21070,FOTOGRAFICO!C:E,3,FALSE),C21070),\"\")","v":""}]
[null,null,"GM96649237","VARILLA","VARILLA CAJUELA AVEO 08-17     PONTIAC G3 07-10 MARCA GM",267.35000000000002,0,0,0,0,0,0,{"$f":"+IFERROR(HYPERLINK(VLOOKUP(C21071,FOTOGRAFICO!C:E,3,FALSE),C21071),\"\")","v":""}]
[null,null,"OP377422802D","VARILLA","VARILLA DIR POINTER 1.8 99-04  DERECHA MARCA OEP IMPORTADO    PIDE EDGAR DUARTE",0,0,0,0,0,0,0,{"$f":"+IFERROR(HYPERLINK(VLOOKUP(C21072,FOTOGRAFICO!C:E,3,FALSE),C21072),\"\")","v":""}]
[null,null,"BOTANA-28","VASO","VASO PLASTICO # 8 MARCA REYMAR",1.86,0,0,2,0,0,0,{"$f":"+IFERROR(HYPERLINK(VLOOKUP(C21073,FOTOGRAFICO!C:E,3,FALSE),C21073),\"\")","v":""}]
[null,null,"CAFE","VASO","VASO CAFE SABOR CAPUCHINO NUEZ MOKACCINO VAINILLA CHOCOLATE",7.81,38,0,25,0,33,19,{"$f":"+IFERROR(HYPERLINK(VLOOKUP(C21074,FOTOGRAFICO!C:E,3,FALSE),C21074),\"\")","v":""}]
[null,null,"116-0161VP","VENTILADOR","VENTILADOR URVAN 2.4 01-04     CENTRO REDONDO 8 ASPAS MARCA   HB NACIONAL",224.84,5,0,0,0,0,0,{"$f":"+IFERROR(HYPERLINK(VLOOKUP(C21075,FOTOGRAFICO!C:E,3,FALSE),C21075),\"\")","v":"116-0161VP"}]
[null,null,"16361-75030HQ","VENTILADOR","VENTILADOR RADIADOR HIACE 06-  19 PRINCIPAL-AUX MARCA BEST    COOLING IMPORTADO",239.98,0,0,18,0,15,5,{"$f":"+IFERROR(HYPERLINK(VLOOKUP(C21076,FOTOGRAFICO!C:E,3,FALSE),C21076),\"\")","v":""}]
[null,null,"21060-VW200BC","VENTILADOR","VENTILADOR URVAN 2.5 3.0 08-14 MARCA BEST COOLING IMPORTADO   = MMTN0410",260.55,2,0,28,19,3,11,{"$f":"+IFERROR(HYPERLINK(VLOOKUP(C21077,FOTOGRAFICO!C:E,3,FALSE),C21077),\"\")","v":"21060-VW200BC"}]
[null,null,"93294288A","VENTILADOR","VENTILADOR CHEVY MONZA 6 ASPAS MCA SMIDTD GERMANY ALTA        CALIDAD",82.47,1,0,0,1,0,1,{"$f":"+IFERROR(HYPERLINK(VLOOKUP(C21078,FOTOGRAFICO!C:E,3,FALSE),C21078),\"\")","v":"93294288A"}]
[null,null,"ASVE-ATOS","VENTILADOR","VENTILADOR ASPA ATOS 99-04     ASPAS                          MARCA: ROMEX, HECHO EN MEXICO",102.62,0,0,3,0,0,0,{"$f":"+IFERROR(HYPERLINK(VLOOKUP(C21079,FOTOGRAFICO!C:E,3,FALSE),C21079),\"\")","v":"ASVE-ATOS"}]
[null,null,"AW-3022","VENTILADOR","VENTILADOR 6 AUTOMOTRIZ        CON PROTECCION METAL           ASPA PLASTICO",198.46,6,14,0,7,0,7,{"$f":"+IFERROR(HYPERLINK(VLOOKUP(C21080,FOTOGRAFICO!C:E,3,FALSE),C21080),\"\")","v":"AW-3022"}]
[null,null,"FS-16","VENTILADOR","VENTILADOR UNIVERSAL CON PINZA RECARGABLE CON CABLE           MARCA IMPORTADO",128.09,16,0,1,9,0,9,{"$f":"+IFERROR(HYPERLINK(VLOOKUP(C21081,FOTOGRAFICO!C:E,3,FALSE),C21081),\"\")","v":"FS-16"}]
[null,null,"FS-8808","VENTILADOR","VENTILADOR UNIVERSAL P/TABLERO RECARGABLE CON CABLE           MARCA IMPORTADO",71.16,0,0,0,0,0,0,{"$f":"+IFERROR(HYPERLINK(VLOOKUP(C21082,FOTOGRAFICO!C:E,3,FALSE),C21082),\"\")","v":""}]
[null,null,"FS-K7","VENTILADOR","VENTILADOR UNIVERSAL CON PINZA RECARGABLE CON CABLE           MARCA IMPORTADO",142.33000000000001,0,0,0,2,0,3,{"$f":"+IFERROR(HYPERLINK(VLOOKUP(C21083,FOTOGRAFICO!C:E,3,FALSE),C21083),\"\")","v":""}]
[null,null,"MMTN0410","VENTILADOR","VENTILADOR URVAN 2.5 URVAN     MARCA MIZUMO",421.56,3,0,4,4,2,5,{"$f":"+IFERROR(HYPERLINK(VLOOKUP(C21084,FOTOGRAFICO!C:E,3,FALSE),C21084),\"\")","v":""}]
[null,null,"NIS21060-N8425","VENTILADOR","VENTILADOR JAPAN URVAN 2.5     07/12 KISHIO JAPAN ALTA CALIDA 3 MESES GAR 8 ASPAS",277.67,3,0,7,4,6,2,{"$f":"+IFERROR(HYPERLINK(VLOOKUP(C21085,FOTOGRAFICO!C:E,3,FALSE),C21085),\"\")","v":""}]
[null,null,"NIS21060-VW000","VENTILADOR","VENTILADOR URVAN ORIGINAL JAPA N 2.4 02-10 ASPAS KISHIO ALTA  CALIDAD",264.33,5,0,2,6,4,2,{"$f":"+IFERROR(HYPERLINK(VLOOKUP(C21086,FOTOGRAFICO!C:E,3,FALSE),C21086),\"\")","v":""}]
[null,null,"USBMINI","VENTILADOR","VENTILADOR UNIVERSAL P/TABLERO ENTRADA USB 12VOLTS            MARCA MASAUSTU CHINA CALIDAD",82.5,0,0,0,0,0,0,{"$f":"+IFERROR(HYPERLINK(VLOOKUP(C21087,FOTOGRAFICO!C:E,3,FALSE),C21087),\"\")","v":"USBMINI"}]
[null,null,"VE6M","VENTILADOR","VENTILADOR OSCILATORIO 6 ASPA  METALICA 2 VELOCIDADES CABLE   AL ENCENDEDOR MARCA TUNIX",262.12,3,3,4,5,5,3,{"$f":"+IFERROR(HYPERLINK(VLOOKUP(C21088,FOTOGRAFICO!C:E,3,FALSE),C21088),\"\")","v":""}]
[null,null,"VE6P","VENTILADOR","VENTILADOR OSCILATORIO 6 ASPA  PLASTICO CABLE AL ENCENDEDOR   MARCA TUNIX",163.12,3,4,5,4,5,3,{"$f":"+IFERROR(HYPERLINK(VLOOKUP(C21089,FOTOGRAFICO!C:E,3,FALSE),C21089),\"\")","v":""}]
[null,null,"VE8P","VENTILADOR","VENTILADOR OSCILATORIO 8 ASPA  PLASTICO CABLE AL ENCENDEDOR   MARCA TUNIX",173.09,4,3,5,4,5,0,{"$f":"+IFERROR(HYPERLINK(VLOOKUP(C21090,FOTOGRAFICO!C:E,3,FALSE),C21090),\"\")","v":""}]
[null,null,"VE8PC","VENTILADOR","VENTILADOR OSCILATORIO 8 ASPA  PLASTICO CON PINZA CABLE AL    ENCENDEDOR MARCA TUNIX",173.1,4,4,5,5,5,4,{"$f":"+IFERROR(HYPERLINK(VLOOKUP(C21091,FOTOGRAFICO!C:E,3,FALSE),C21091),\"\")","v":""}]
[null,null,"VEN38","VENTILADOR","VENTILADOR 8 ASPAS METALICAS   12V",338.35,4,3,5,5,5,4,{"$f":"+IFERROR(HYPERLINK(VLOOKUP(C21092,FOTOGRAFICO!C:E,3,FALSE),C21092),\"\")","v":""}]
[null,null,"VEPM45","VENTILADOR","VENTILADOR DOBLE 4.5 ASPAS     PLASTICO BASE PLANA MARCA      TUNIX",223.1,4,3,5,5,4,1,{"$f":"+IFERROR(HYPERLINK(VLOOKUP(C21093,FOTOGRAFICO!C:E,3,FALSE),C21093),\"\")","v":""}]
[null,null,"VINIL-CARBON","VINIL","VINIL TIPO FIBRA DE CARBON     POR METRO",102.47,0,0,0,0,0,0,{"$f":"+IFERROR(HYPERLINK(VLOOKUP(C21094,FOTOGRAFICO!C:E,3,FALSE),C21094),\"\")","v":""}]
[null,null,"BRA111821715A","VIVO","VIVO SALP VW SEDAN NEGRO       NOTA:LLEVA 4 VIVOS 1 X RUEDA",26.74,81,93,16,29,10,8,{"$f":"+IFERROR(HYPERLINK(VLOOKUP(C21095,FOTOGRAFICO!C:E,3,FALSE),C21095),\"\")","v":"BRA111821715A"}]
[null,null,"SAN400-NEG","VIVO","VIVO SALP VW SEDAN NEGRO GRUES NEGRO DEL TRAS IZQ DER",30,61,33,21,72,14,18,{"$f":"+IFERROR(HYPERLINK(VLOOKUP(C21096,FOTOGRAFICO!C:E,3,FALSE),C21096),\"\")","v":"SAN400-NEG"}]
[null,null,"1010AZUL","VOLANTE","VOLANTE MOTOR POINTER",755.84,4,0,0,0,0,0,{"$f":"+IFERROR(HYPERLINK(VLOOKUP(C21097,FOTOGRAFICO!C:E,3,FALSE),C21097),\"\")","v":"1010AZUL"}]
[null,null,"123103XM0AKB","VOLANTE","VOLANTE MOTOR CLUTCH URVAN 2.5 NV350 2.5 08-23 MARCA KABUTO   IMPORTADO 123103XM0A-KB",1167.07,1,0,2,1,1,0,{"$f":"+IFERROR(HYPERLINK(VLOOKUP(C21098,FOTOGRAFICO!C:E,3,FALSE),C21098),\"\")","v":""}]
[null,null,"12310-3XM0ATE","VOLANTE","VOLANTE MOTOR URVAN TODOS 2.5  L 08-21 INCLUYE NV350 SOLIDO   MARCA TOP ENGINE",1411.11,0,0,7,8,2,8,{"$f":"+IFERROR(HYPERLINK(VLOOKUP(C21099,FOTOGRAFICO!C:E,3,FALSE),C21099),\"\")","v":""}]
[null,null,"BRA311105271C","VOLANTE","VOLANTE MOTOR VW SEDAN 1600    MARCA BRUCK CON GARANTIA 3MESE S MADE IN ITALIA",1317.56,0,0,0,3,0,2,{"$f":"+IFERROR(HYPERLINK(VLOOKUP(C21100,FOTOGRAFICO!C:E,3,FALSE),C21100),\"\")","v":"BRA311105271C"}]
[null,null,"BRU96184353","VOLANTE","VOLANTE MOTOR AVEO 08-18 1.6   G3 06-10 1.6 MARCA BRUCK       GERMANY 96184353",1047.24,4,1,1,2,1,1,{"$f":"+IFERROR(HYPERLINK(VLOOKUP(C21101,FOTOGRAFICO!C:E,3,FALSE),C21101),\"\")","v":"BRU96184353"}]
[null,null,"EGP0471052691","VOLANTE","VOLANTE MOTOR VW SEDAN 1600 EG COMBI 1600 EGP                 NUEVO",1234.21,2,4,0,4,0,3,{"$f":"+IFERROR(HYPERLINK(VLOOKUP(C21102,FOTOGRAFICO!C:E,3,FALSE),C21102),\"\")","v":""}]
[null,null,"GM96518411","VOLANTE","VOLANTE MOTOR SPARK 1.2 11-17  BEAT 1.2 18-20 MATIZ 1.0 04-15 MARCA GM PIDE TELLITUD",2775.12,1,0,0,0,0,0,{"$f":"+IFERROR(HYPERLINK(VLOOKUP(C21103,FOTOGRAFICO!C:E,3,FALSE),C21103),\"\")","v":""}]
[null,null,"ORI037105269","VOLANTE","VOLANTE MOTOR COMBI 1800       MARCA EGP",1210.9000000000001,4,1,0,0,0,0,{"$f":"+IFERROR(HYPERLINK(VLOOKUP(C21104,FOTOGRAFICO!C:E,3,FALSE),C21104),\"\")","v":""}]
[null,null,"USA053105","VOLANTE","VOLANTE MOTOR SEMI NUEVO GOLF  JETTA 1800 2 PERNOS",813.98,2,0,0,0,0,0,{"$f":"+IFERROR(HYPERLINK(VLOOKUP(C21105,FOTOGRAFICO!C:E,3,FALSE),C21105),\"\")","v":"USA053105"}]
[null,null,"VOL804","VOLANTE","VOLANTE DEPORTIVO VINIL ROJO   32 CM MARCA TUNIX",402.46,3,2,1,1,1,0,{"$f":"+IFERROR(HYPERLINK(VLOOKUP(C21106,FOTOGRAFICO!C:E,3,FALSE),C21106),\"\")","v":"VOL804"}]
[null,null,"VOL804B","VOLANTE","VOLANTE DEPORTIVO VINIL TIPO   FIBRA DE CARBON AZUL 32 CM     MARCA TUNIX",392.81,0,0,1,0,0,0,{"$f":"+IFERROR(HYPERLINK(VLOOKUP(C21107,FOTOGRAFICO!C:E,3,FALSE),C21107),\"\")","v":""}]
[null,null,"VOL804N","VOLANTE","VOLANTE DEPORTIVO VINIL TIPO   FIBRA DE CARBON NEGRO 32 CM    MARCA TUNIX",392.3,12,4,5,5,5,1,{"$f":"+IFERROR(HYPERLINK(VLOOKUP(C21108,FOTOGRAFICO!C:E,3,FALSE),C21108),\"\")","v":"VOL804N"}]
[null,null,"VOLANTE","VOLANTE","VOLANTE DEPORTIVO VARIOS MODEL",392.3,15,14,15,5,3,3,{"$f":"+IFERROR(HYPERLINK(VLOOKUP(C21109,FOTOGRAFICO!C:E,3,FALSE),C21109),\"\")","v":"VOLANTE"}]
[null,null,"036105269M","VOLANTE","VOLANTE MOTOR VENTO 14-22 POLO 03-07 POLO 13-22 CROSSFOX 06-  17 TRANSMISION STD MARCA BRUCK",1084.75,0,0,0,1,0,0,{"$f":"+IFERROR(HYPERLINK(VLOOKUP(C21110,FOTOGRAFICO!C:E,3,FALSE),C21110),\"\")","v":"036105269M"}]
[null,null,"RSGRL12030BU","VOLTIMETRO","VOLTIMETRO CON CARGADOR DOS    PUERTOS USB Y SOPORTE PARA     MANUBRIO AZUL",143.68,0,0,1,2,2,2,{"$f":"+IFERROR(HYPERLINK(VLOOKUP(C21111,FOTOGRAFICO!C:E,3,FALSE),C21111),\"\")","v":""}]
[null,null,"RSGRL12030R","VOLTIMETRO","VOLTIMETRO CON CARGADOR DOS    PUERTOS USB Y SOPORTE PARA     MANUBRIO ROJO",239.48,2,2,1,1,2,2,{"$f":"+IFERROR(HYPERLINK(VLOOKUP(C21112,FOTOGRAFICO!C:E,3,FALSE),C21112),\"\")","v":""}]
[null,null,"SI-021005F5","VOLTIMETRO","VOLTIMETRO 12V-16V SENCILLO",178.23,1,2,0,2,1,1,{"$f":"+IFERROR(HYPERLINK(VLOOKUP(C21113,FOTOGRAFICO!C:E,3,FALSE),C21113),\"\")","v":""}]
[null,null,"SI-021112C3","VOLTIMETRO","VOLTIMETRO TIPO VDO 12V",280.70999999999998,1,1,0,1,0,1,{"$f":"+IFERROR(HYPERLINK(VLOOKUP(C21114,FOTOGRAFICO!C:E,3,FALSE),C21114),\"\")","v":""}]
[null,null,"USA03907","VOLTIMETRO","VOLTIMETRO DE 8-16 VOLS ECONOM ICO 52mm BISEL NEGRO REDONDO",278.01,0,0,0,0,0,0,{"$f":"+IFERROR(HYPERLINK(VLOOKUP(C21115,FOTOGRAFICO!C:E,3,FALSE),C21115),\"\")","v":""}]
[null,null,"111823507F","ZETA","ZETA COFRE VW SEDAN TODO METAL CERRADURA COFRE VWSEDAN SUPERI OR TODOS MOD MCA BRUCK GERMANY",102.25,8,3,0,6,0,2,{"$f":"+IFERROR(HYPERLINK(VLOOKUP(C21116,FOTOGRAFICO!C:E,3,FALSE),C21116),\"\")","v":"111823507F"}]
[null,null,"ECOZ","ZETA","ZETA COFRE VW SEDAN",52.33,6,6,0,0,0,0,{"$f":"+IFERROR(HYPERLINK(VLOOKUP(C21117,FOTOGRAFICO!C:E,3,FALSE),C21117),\"\")","v":""}]
[null,null,"G60LAR","ZETA","ZETA PEDAL ACELERA COMBI LARGA 1800 MARCA HB NACIONAL",13.14,9,0,0,2,0,2,{"$f":"+IFERROR(HYPERLINK(VLOOKUP(C21118,FOTOGRAFICO!C:E,3,FALSE),C21118),\"\")","v":""}]
[null,null,"G60ZC","ZETA","ZETA PEDAL ACELERA COMBI CORTA 1800 MARCA HB NACIONAL",11.97,2,0,0,0,3,4,{"$f":"+IFERROR(HYPERLINK(VLOOKUP(C21119,FOTOGRAFICO!C:E,3,FALSE),C21119),\"\")","v":""}]

{"sheet":"IMPRIMIR","index":1,"n_rows":50,"n_cols":10,"rows_kept":50,"cut":false,"hidden":false,"merged":[[35,1,35,3],[36,1,36,3],[49,5,50,5],[49,6,50,6],[5,2,6,3],[8,1,8,2],[9,1,9,3],[22,5,23,5],[22,6,23,6],[33,2,34,3]]}
[]
[]
[]
[]
[null,null,null,null,null,"Tel: 55 5776 5589"]
[null,null,"Refaccionaria González: Av. Circunvalación. Sur 32, Jardines de Casa Nueva, C.P. 55430 Ecatepec de Morelos, Méx. "]
[null,null,null,null,null,"FECHA",{"$f":"TODAY()","v":"2024-07-26"}]
[]
["VENDEDOR:",{"$f":"IFERROR(VLOOKUP(Lista!H1,Vendedores!A:B,2,FALSE),\"Nota General\")","v":"----"}]
["NOTA;"]
[]
["PARTIDA","CLAVE","PRODUCTO","CANTIDAD","UBICACIÓN","PRECIO","TOTAL"]
["A",{"$f":"Lista!G3","v":"-"},{"$f":"Lista!H3","v":"-"},{"$f":"Lista!N3","v":"-"},{"$f":"Lista!O3","v":"-"},{"$f":"Lista!P3","v":"-"},{"$f":"IFERROR(D13*F13,\"-\")","v":"-"}]
["B",{"$f":"Lista!G4","v":"-"},{"$f":"Lista!H4","v":"-"},{"$f":"Lista!N4","v":"-"},{"$f":"Lista!O4","v":"-"},{"$f":"Lista!P4","v":"-"},"-",null,null," "]
["C",{"$f":"Lista!G5","v":"-"},{"$f":"Lista!H5","v":"-"},{"$f":"Lista!N5","v":"-"},{"$f":"Lista!O5","v":"-"},{"$f":"Lista!P5","v":"-"},"-"]
["D",{"$f":"Lista!G6","v":"-"},{"$f":"Lista!H6","v":"-"},{"$f":"Lista!N6","v":"-"},{"$f":"Lista!O6","v":"-"},{"$f":"Lista!P6","v":"-"},"-"]
["E",{"$f":"Lista!G7","v":"-"},{"$f":"Lista!H7","v":"-"},{"$f":"Lista!N7","v":"-"},{"$f":"Lista!O7","v":"-"},{"$f":"Lista!P7","v":"-"},"-"]
["F",{"$f":"Lista!G8","v":"-"},{"$f":"Lista!H8","v":"-"},{"$f":"Lista!N8","v":"-"},{"$f":"Lista!O8","v":"-"},{"$f":"Lista!P8","v":"-"},"-"]
["G",{"$f":"Lista!G9","v":"-"},{"$f":"Lista!H9","v":"-"},{"$f":"Lista!N9","v":"-"},{"$f":"Lista!O9","v":"-"},{"$f":"Lista!P9","v":"-"},"-"]
["H",{"$f":"Lista!G10","v":"-"},{"$f":"Lista!H10","v":"-"},{"$f":"Lista!N10","v":"-"},{"$f":"Lista!O10","v":"-"},{"$f":"Lista!P10","v":"-"},"-"]
["I",{"$f":"Lista!G11","v":"-"},{"$f":"Lista!H11","v":"-"},{"$f":"Lista!N11","v":"-"},{"$f":"Lista!O11","v":"-"},{"$f":"Lista!P11","v":"-"},"-"]
[]
[null,null,null,null,null,"TOTAL:",{"$f":"ROUNDUP(SUMIF(G13:G21,\">0\",G13:G21),0)","v":0}]
[]
[]
[]
[]
[]
[]
[]
[]
[]
[null,null,null,null,null,"Tel: 55 5776 5589"]
[null,null,"Refaccionaria González: Av. Circunvalación. Sur 32, Jardines de Casa Nueva, C.P. 55430 Ecatepec de Morelos, Méx. "]
[]
["VENDEDOR;",{"$f":"B9","v":"----"},null,null,null,"FECHA",{"$f":"G7","v":"2024-07-26"}]
["NOTA;"]
[]
["PARTIDA","CLAVE","PRODUCTO","CANTIDAD","UBICACIÓN","PRECIO","TOTAL"]
["A",{"$f":"VLOOKUP(A40,A13:G21,2,FALSE)","v":"-"},{"$f":"VLOOKUP(A40,A13:G21,3,FALSE)","v":"-"},{"$f":"VLOOKUP(A40,A13:G21,4,FALSE)","v":"-"},{"$f":"VLOOKUP(A40,A13:G21,5,FALSE)","v":"-"},{"$f":"VLOOKUP(A40,A13:G21,6,FALSE)","v":"-"},{"$f":"VLOOKUP(A40,A13:G21,7,FALSE)","v":"-"}]
["B",{"$f":"VLOOKUP(A41,A14:G22,2,FALSE)","v":"-"},{"$f":"VLOOKUP(A41,A14:G22,3,FALSE)","v":"-"},{"$f":"VLOOKUP(A41,A14:G22,4,FALSE)","v":"-"},{"$f":"VLOOKUP(A41,A14:G22,5,FALSE)","v":"-"},{"$f":"VLOOKUP(A41,A14:G22,6,FALSE)","v":"-"},{"$f":"VLOOKUP(A41,A14:G22,7,FALSE)","v":"-"}]
["C",{"$f":"VLOOKUP(A42,A15:G23,2,FALSE)","v":"-"},{"$f":"VLOOKUP(A42,A15:G23,3,FALSE)","v":"-"},{"$f":"VLOOKUP(A42,A15:G23,4,FALSE)","v":"-"},{"$f":"VLOOKUP(A42,A15:G23,5,FALSE)","v":"-"},{"$f":"VLOOKUP(A42,A15:G23,6,FALSE)","v":"-"},{"$f":"VLOOKUP(A42,A15:G23,7,FALSE)","v":"-"}]
["D",{"$f":"VLOOKUP(A43,A16:G24,2,FALSE)","v":"-"},{"$f":"VLOOKUP(A43,A16:G24,3,FALSE)","v":"-"},{"$f":"VLOOKUP(A43,A16:G24,4,FALSE)","v":"-"},{"$f":"VLOOKUP(A43,A16:G24,5,FALSE)","v":"-"},{"$f":"VLOOKUP(A43,A16:G24,6,FALSE)","v":"-"},{"$f":"VLOOKUP(A43,A16:G24,7,FALSE)","v":"-"}]
["E",{"$f":"VLOOKUP(A44,A17:G25,2,FALSE)","v":"-"},{"$f":"VLOOKUP(A44,A17:G25,3,FALSE)","v":"-"},{"$f":"VLOOKUP(A44,A17:G25,4,FALSE)","v":"-"},{"$f":"VLOOKUP(A44,A17:G25,5,FALSE)","v":"-"},{"$f":"VLOOKUP(A44,A17:G25,6,FALSE)","v":"-"},{"$f":"VLOOKUP(A44,A17:G25,7,FALSE)","v":"-"}]
["F",{"$f":"VLOOKUP(A45,A18:G25,2,FALSE)","v":"-"},{"$f":"VLOOKUP(A45,A18:G25,3,FALSE)","v":"-"},{"$f":"VLOOKUP(A45,A18:G25,4,FALSE)","v":"-"},{"$f":"VLOOKUP(A45,A18:G25,5,FALSE)","v":"-"},{"$f":"VLOOKUP(A45,A18:G25,6,FALSE)","v":"-"},{"$f":"VLOOKUP(A45,A18:G25,7,FALSE)","v":"-"}]
["G",{"$f":"VLOOKUP(A46,A19:G25,2,FALSE)","v":"-"},{"$f":"VLOOKUP(A46,A19:G25,3,FALSE)","v":"-"},{"$f":"VLOOKUP(A46,A19:G25,4,FALSE)","v":"-"},{"$f":"VLOOKUP(A46,A19:G25,5,FALSE)","v":"-"},{"$f":"VLOOKUP(A46,A19:G25,6,FALSE)","v":"-"},{"$f":"VLOOKUP(A46,A19:G25,7,FALSE)","v":"-"}]
["H",{"$f":"VLOOKUP(A47,A20:G26,2,FALSE)","v":"-"},{"$f":"VLOOKUP(A47,A20:G26,3,FALSE)","v":"-"},{"$f":"VLOOKUP(A47,A20:G26,4,FALSE)","v":"-"},{"$f":"VLOOKUP(A47,A20:G26,5,FALSE)","v":"-"},{"$f":"VLOOKUP(A47,A20:G26,6,FALSE)","v":"-"},{"$f":"VLOOKUP(A47,A20:G26,7,FALSE)","v":"-"}]
["I",{"$f":"VLOOKUP(A48,A21:G27,2,FALSE)","v":"-"},{"$f":"VLOOKUP(A48,A21:G27,3,FALSE)","v":"-"},{"$f":"VLOOKUP(A48,A21:G27,4,FALSE)","v":"-"},{"$f":"VLOOKUP(A48,A21:G27,5,FALSE)","v":"-"},{"$f":"VLOOKUP(A48,A21:G27,6,FALSE)","v":"-"},{"$f":"VLOOKUP(A48,A21:G27,7,FALSE)","v":"-"}]
[]
[null,null,null,null,null,"TOTAL:",{"$f":"ROUNDUP(SUMIF(G40:G48,\">0\",G40:G48),0)","v":0}]

{"sheet":"Vendedores","index":2,"n_rows":12,"n_cols":2,"rows_kept":12,"cut":false,"hidden":false,"merged":[]}
[1,"----"]
[2,"----"]
[3,"----"]
[4,"----"]
[5,"----"]
[6,"----"]
[7,"----"]
[8,"----"]
[9,"----"]
[10,"----"]
[11,"----"]
[12,"----"]

{"sheet":"FOTOGRAFICO","index":3,"n_rows":39894,"n_cols":5,"rows_kept":4500,"cut":true,"hidden":true,"merged":[],"bounds":{"rows_first":2000,"rows_last":500,"rows_between":2000,"halvings":0}}
["Last modified",null,"CODIGO MVPLUS","Name"]
["2020-09-29T18:18:00",{"$f":"+FIND(\"_\",D2)","v":6},{"$f":"+LEFT(D2,B2-1)","v":"001-B"},"001-B_1.jpg",{"$f":"+GetURL(D2)","v":"https://www.refaccionariagonzalez.com/alta/0/001-B_1.jpg"}]
["2020-09-29T18:10:00",12,"002-2321-04","002-2321-04_1.jpg",{"$f":"+GetURL(D3)","v":"https://www.refaccionariagonzalez.com/alta/0/002-2321-04_1.jpg"}]
["2020-09-29T18:43:00",12,"002-2321-04","002-2321-04_2.jpg",{"$f":"+GetURL(D4)","v":"https://www.refaccionariagonzalez.com/alta/0/002-2321-04_2.jpg"}]
["2020-09-29T18:40:00",12,"002-2321-04","002-2321-04_3.jpg",{"$f":"+GetURL(D5)","v":"https://www.refaccionariagonzalez.com/alta/0/002-2321-04_3.jpg"}]
["2021-08-13T16:04:00",12,"003-0614-08","003-0614-08_1.jpg",{"$f":"+GetURL(D6)","v":"https://www.refaccionariagonzalez.com/alta/0/003-0614-08_1.jpg"}]
["2021-08-13T16:04:00",12,"003-0614-08","003-0614-08_2.jpg",{"$f":"+GetURL(D7)","v":"https://www.refaccionariagonzalez.com/alta/0/003-0614-08_2.jpg"}]
["2021-08-13T16:04:00",12,"003-0614-08","003-0614-08_3.jpg",{"$f":"+GetURL(D8)","v":"https://www.refaccionariagonzalez.com/alta/0/003-0614-08_3.jpg"}]
["2021-08-13T16:04:00",12,"003-0614-09","003-0614-09_1.jpg",{"$f":"+GetURL(D9)","v":"https://www.refaccionariagonzalez.com/alta/0/003-0614-09_1.jpg"}]
["2021-08-13T16:04:00",12,"003-0614-09","003-0614-09_2.jpg",{"$f":"+GetURL(D10)","v":"https://www.refaccionariagonzalez.com/alta/0/003-0614-09_2.jpg"}]
["2021-10-01T12:02:00",12,"003-1303-10","003-1303-10_1.jpg",{"$f":"+GetURL(D11)","v":"https://www.refaccionariagonzalez.com/alta/0/003-1303-10_1.jpg"}]
["2021-10-01T12:02:00",12,"003-1303-10","003-1303-10_2.jpg",{"$f":"+GetURL(D12)","v":"https://www.refaccionariagonzalez.com/alta/0/003-1303-10_2.jpg"}]
["2021-10-01T12:02:00",12,"003-1303-10","003-1303-10_3.jpg",{"$f":"+GetURL(D13)","v":"https://www.refaccionariagonzalez.com/alta/0/003-1303-10_3.jpg"}]
["2021-10-01T12:02:00",12,"003-1303-11","003-1303-11_1.jpg",{"$f":"+GetURL(D14)","v":"https://www.refaccionariagonzalez.com/alta/0/003-1303-11_1.jpg"}]
["2021-10-01T12:02:00",12,"003-1303-11","003-1303-11_2.jpg",{"$f":"+GetURL(D15)","v":"https://www.refaccionariagonzalez.com/alta/0/003-1303-11_2.jpg"}]
["2021-10-01T12:02:00",12,"003-1303-11","003-1303-11_3.jpg",{"$f":"+GetURL(D16)","v":"https://www.refaccionariagonzalez.com/alta/0/003-1303-11_3.jpg"}]
["2022-02-18T13:59:00",12,"003-2318-02","003-2318-02_1.jpg",{"$f":"+GetURL(D17)","v":"https://www.refaccionariagonzalez.com/alta/0/003-2318-02_1.jpg"}]
["2022-02-18T13:59:00",12,"003-2318-02","003-2318-02_2.jpg",{"$f":"+GetURL(D18)","v":"https://www.refaccionariagonzalez.com/alta/0/003-2318-02_2.jpg"}]
["2020-09-29T17:44:00",12,"003-2704-00","003-2704-00_1.jpg",{"$f":"+GetURL(D19)","v":"https://www.refaccionariagonzalez.com/alta/0/003-2704-00_1.jpg"}]
["2020-09-29T18:50:00",12,"003-2704-01","003-2704-01_1.jpg",{"$f":"+GetURL(D20)","v":"https://www.refaccionariagonzalez.com/alta/0/003-2704-01_1.jpg"}]
["2020-09-29T17:45:00",12,"003-2704-01","003-2704-01_2.jpg",{"$f":"+GetURL(D21)","v":"https://www.refaccionariagonzalez.com/alta/0/003-2704-01_2.jpg"}]
["2020-09-29T18:34:00",12,"003-2704-02","003-2704-02_1.jpg",{"$f":"+GetURL(D22)","v":"https://www.refaccionariagonzalez.com/alta/0/003-2704-02_1.jpg"}]
["2020-09-29T18:00:00",12,"003-2704-02","003-2704-02_2.jpg",{"$f":"+GetURL(D23)","v":"https://www.refaccionariagonzalez.com/alta/0/003-2704-02_2.jpg"}]
["2020-09-29T17:49:00",12,"003-2704-03","003-2704-03_1.jpg",{"$f":"+GetURL(D24)","v":"https://www.refaccionariagonzalez.com/alta/0/003-2704-03_1.jpg"}]
["2020-09-29T18:48:00",12,"003-2704-03","003-2704-03_2.jpg",{"$f":"+GetURL(D25)","v":"https://www.refaccionariagonzalez.com/alta/0/003-2704-03_2.jpg"}]
["2021-08-23T16:58:00",12,"003-2704-04","003-2704-04_1.jpg",{"$f":"+GetURL(D26)","v":"https://www.refaccionariagonzalez.com/alta/0/003-2704-04_1.jpg"}]
["2021-08-23T16:58:00",12,"003-2704-05","003-2704-05_1.jpg",{"$f":"+GetURL(D27)","v":"https://www.refaccionariagonzalez.com/alta/0/003-2704-05_1.jpg"}]
["2021-08-23T16:58:00",12,"003-2704-05","003-2704-05_2.jpg",{"$f":"+GetURL(D28)","v":"https://www.refaccionariagonzalez.com/alta/0/003-2704-05_2.jpg"}]
["2020-09-29T19:00:00",12,"003-2704-08","003-2704-08_1.jpg",{"$f":"+GetURL(D29)","v":"https://www.refaccionariagonzalez.com/alta/0/003-2704-08_1.jpg"}]
["2021-06-22T11:53:00",12,"003-2704-15","003-2704-15_1.JPG",{"$f":"+GetURL(D30)","v":"https://www.refaccionariagonzalez.com/alta/0/003-2704-15_1.JPG"}]
["2020-09-29T18:52:00",12,"003-2704-15","003-2704-15_1.jpg",{"$f":"+GetURL(D31)","v":"https://www.refaccionariagonzalez.com/alta/0/003-2704-15_1.jpg"}]
["2021-06-22T11:53:00",12,"003-2704-15","003-2704-15_2.JPG",{"$f":"+GetURL(D32)","v":"https://www.refaccionariagonzalez.com/alta/0/003-2704-15_2.JPG"}]
["2020-09-29T17:41:00",12,"003-2704-15","003-2704-15_2.jpg",{"$f":"+GetURL(D33)","v":"https://www.refaccionariagonzalez.com/alta/0/003-2704-15_2.jpg"}]
["2023-11-09T16:31:00",12,"003-3005-03","003-3005-03_1.jpg",{"$f":"+GetURL(D34)","v":"https://www.refaccionariagonzalez.com/alta/0/003-3005-03_1.jpg"}]
["2022-05-13T10:52:00",12,"003-3108-02","003-3108-02_1.jpg",{"$f":"+GetURL(D35)","v":"https://www.refaccionariagonzalez.com/alta/0/003-3108-02_1.jpg"}]
["2022-05-13T10:52:00",12,"003-3108-02","003-3108-02_2.jpg",{"$f":"+GetURL(D36)","v":"https://www.refaccionariagonzalez.com/alta/0/003-3108-02_2.jpg"}]
["2022-05-13T10:52:00",12,"003-3110-02","003-3110-02_1.jpg",{"$f":"+GetURL(D37)","v":"https://www.refaccionariagonzalez.com/alta/0/003-3110-02_1.jpg"}]
["2022-05-13T10:52:00",12,"003-3110-02","003-3110-02_2.jpg",{"$f":"+GetURL(D38)","v":"https://www.refaccionariagonzalez.com/alta/0/003-3110-02_2.jpg"}]
["2024-05-16T08:11:00",{"$f":"+FIND(\".\",D39)","v":12},"003-3132-23","003-3132-23.jpg",{"$f":"+GetURL(D39)","v":"https://www.refaccionariagonzalez.com/alta/0/003-3132-23.jpg"}]
["2021-03-23T14:51:00",12,"004-0703-02","004-0703-02_1.jpg",{"$f":"+GetURL(D40)","v":"https://www.refaccionariagonzalez.com/alta/0/004-0703-02_1.jpg"}]
["2020-09-29T18:26:00",12,"004-1217-01","004-1217-01_1.jpg",{"$f":"+GetURL(D41)","v":"https://www.refaccionariagonzalez.com/alta/0/004-1217-01_1.jpg"}]
["2020-09-29T18:29:00",13,"005-127-025B","005-127-025B_1.jpg",{"$f":"+GetURL(D42)","v":"https://www.refaccionariagonzalez.com/alta/0/005-127-025B_1.jpg"}]
["2020-09-29T18:06:00",13,"005-127-025B","005-127-025B_2.jpg",{"$f":"+GetURL(D43)","v":"https://www.refaccionariagonzalez.com/alta/0/005-127-025B_2.jpg"}]
["2024-05-06T09:23:00",{"$f":"+FIND(\".\",D44)","v":5},"0053","0053.jpg",{"$f":"+GetURL(D44)","v":"https://www.refaccionariagonzalez.com/alta/0/0053.jpg"}]
["2020-09-29T18:31:00",5,"0053","0053_1.jpg",{"$f":"+GetURL(D45)","v":"https://www.refaccionariagonzalez.com/alta/0/0053_1.jpg"}]
["2020-09-29T18:57:00",5,"0053","0053_2.jpg",{"$f":"+GetURL(D46)","v":"https://www.refaccionariagonzalez.com/alta/0/0053_2.jpg"}]
["2021-02-18T11:23:00",12,"007-0901-01","007-0901-01_1.jpg",{"$f":"+GetURL(D47)","v":"https://www.refaccionariagonzalez.com/alta/0/007-0901-01_1.jpg"}]
["2020-09-29T18:00:00",5,"0075","0075_1.jpg",{"$f":"+GetURL(D48)","v":"https://www.refaccionariagonzalez.com/alta/0/0075_1.jpg"}]
["2020-09-29T18:31:00",5,"0075","0075_2.jpg",{"$f":"+GetURL(D49)","v":"https://www.refaccionariagonzalez.com/alta/0/0075_2.jpg"}]
["2020-09-29T18:09:00",5,"0075","0075_3.jpg",{"$f":"+GetURL(D50)","v":"https://www.refaccionariagonzalez.com/alta/0/0075_3.jpg"}]
["2020-09-29T18:53:00",5,"0075","0075_9.jpg_4.jpg",{"$f":"+GetURL(D51)","v":"https://www.refaccionariagonzalez.com/alta/0/0075_9.jpg_4.jpg"}]
["2020-09-29T17:53:00",12,"008-3105-00","008-3105-00_1.jpg",{"$f":"+GetURL(D52)","v":"https://www.refaccionariagonzalez.com/alta/0/008-3105-00_1.jpg"}]
["2020-09-29T18:33:00",12,"008-3105-00","008-3105-00_2.jpg",{"$f":"+GetURL(D53)","v":"https://www.refaccionariagonzalez.com/alta/0/008-3105-00_2.jpg"}]
["2020-09-29T17:51:00",12,"008-3105-01","008-3105-01_1.jpg",{"$f":"+GetURL(D54)","v":"https://www.refaccionariagonzalez.com/alta/0/008-3105-01_1.jpg"}]
["2020-09-29T18:36:00",12,"008-3105-01","008-3105-01_2.jpg",{"$f":"+GetURL(D55)","v":"https://www.refaccionariagonzalez.com/alta/0/008-3105-01_2.jpg"}]
["2020-09-29T18:57:00",12,"008-3105-01","008-3105-01_3.jpg",{"$f":"+GetURL(D56)","v":"https://www.refaccionariagonzalez.com/alta/0/008-3105-01_3.jpg"}]
["2020-09-29T18:47:00",12,"008-3105-01","008-3105-01_9.jpg_4.jpg",{"$f":"+GetURL(D57)","v":"https://www.refaccionariagonzalez.com/alta/0/008-3105-01_9.jpg_4.jpg"}]
["2024-05-17T08:33:00",{"$f":"+FIND(\".\",D58)","v":12},"009-2321-08","009-2321-08.jpg",{"$f":"+GetURL(D58)","v":"https://www.refaccionariagonzalez.com/alta/0/009-2321-08.jpg"}]
["2020-09-29T17:48:00",8,"01-0089","01-0089_1.jpg",{"$f":"+GetURL(D59)","v":"https://www.refaccionariagonzalez.com/alta/0/01-0089_1.jpg"}]
["2020-09-29T17:49:00",8,"01-0090","01-0090_1.jpg",{"$f":"+GetURL(D60)","v":"https://www.refaccionariagonzalez.com/alta/0/01-0090_1.jpg"}]
["2020-09-29T17:44:00",8,"01-0090","01-0090_2.jpg",{"$f":"+GetURL(D61)","v":"https://www.refaccionariagonzalez.com/alta/0/01-0090_2.jpg"}]
["2020-09-29T18:25:00",8,"01-PUMA","01-PUMA_1.jpg",{"$f":"+GetURL(D62)","v":"https://www.refaccionariagonzalez.com/alta/0/01-PUMA_1.jpg"}]
["2020-09-29T18:58:00",10,"01M321407","01M321407_1.jpg",{"$f":"+GetURL(D63)","v":"https://www.refaccionariagonzalez.com/alta/0/01M321407_1.jpg"}]
["2020-09-29T18:11:00",5,"01SL","01SL_1.jpg",{"$f":"+GetURL(D64)","v":"https://www.refaccionariagonzalez.com/alta/0/01SL_1.jpg"}]
["2020-09-29T18:48:00",12,"011-0604-02","011-0604-02_1.jpg",{"$f":"+GetURL(D65)","v":"https://www.refaccionariagonzalez.com/alta/0/011-0604-02_1.jpg"}]
["2020-09-29T18:57:00",{"$f":"+FIND(\"_\",D66)","v":12},{"$f":"+LEFT(D66,B66-1)","v":"011-0604-02"},"011-0604-02_2.jpg",{"$f":"+GetURL(D66)","v":"https://www.refaccionariagonzalez.com/alta/0/011-0604-02_2.jpg"}]
["2021-07-30T09:37:00",12,"011-0614-22","011-0614-22_1.jpg",{"$f":"+GetURL(D67)","v":"https://www.refaccionariagonzalez.com/alta/0/011-0614-22_1.jpg"}]
["2021-07-30T09:37:00",12,"011-0614-22","011-0614-22_2.jpg",{"$f":"+GetURL(D68)","v":"https://www.refaccionariagonzalez.com/alta/0/011-0614-22_2.jpg"}]
["2022-05-13T10:52:00",12,"011-0614-23","011-0614-23_1.jpg",{"$f":"+GetURL(D69)","v":"https://www.refaccionariagonzalez.com/alta/0/011-0614-23_1.jpg"}]
["2022-05-13T10:52:00",12,"011-0614-23","011-0614-23_2.jpg",{"$f":"+GetURL(D70)","v":"https://www.refaccionariagonzalez.com/alta/0/011-0614-23_2.jpg"}]
["2021-10-01T12:02:00",12,"011-0614-34","011-0614-34_1.jpg",{"$f":"+GetURL(D71)","v":"https://www.refaccionariagonzalez.com/alta/0/011-0614-34_1.jpg"}]
["2021-10-01T12:02:00",12,"011-0614-34","011-0614-34_2.jpg",{"$f":"+GetURL(D72)","v":"https://www.refaccionariagonzalez.com/alta/0/011-0614-34_2.jpg"}]
["2021-10-01T12:02:00",12,"011-0614-35","011-0614-35_1.jpg",{"$f":"+GetURL(D73)","v":"https://www.refaccionariagonzalez.com/alta/0/011-0614-35_1.jpg"}]
["2021-10-01T12:02:00",12,"011-0614-35","011-0614-35_2.jpg",{"$f":"+GetURL(D74)","v":"https://www.refaccionariagonzalez.com/alta/0/011-0614-35_2.jpg"}]
["2020-09-29T18:10:00",12,"011-1901-06","011-1901-06_1.jpg",{"$f":"+GetURL(D75)","v":"https://www.refaccionariagonzalez.com/alta/0/011-1901-06_1.jpg"}]
["2020-09-29T18:28:00",12,"011-1901-06","011-1901-06_2.jpg",{"$f":"+GetURL(D76)","v":"https://www.refaccionariagonzalez.com/alta/0/011-1901-06_2.jpg"}]
["2020-09-29T17:41:00",12,"011-1901-06","011-1901-06_3.jpg",{"$f":"+GetURL(D77)","v":"https://www.refaccionariagonzalez.com/alta/0/011-1901-06_3.jpg"}]
["2020-09-29T18:43:00",12,"011-1901-07","011-1901-07_1.jpg",{"$f":"+GetURL(D78)","v":"https://www.refaccionariagonzalez.com/alta/0/011-1901-07_1.jpg"}]
["2020-09-29T18:05:00",12,"011-1901-07","011-1901-07_2.jpg",{"$f":"+GetURL(D79)","v":"https://www.refaccionariagonzalez.com/alta/0/011-1901-07_2.jpg"}]
["2020-09-29T18:10:00",12,"011-1901-07","011-1901-07_3.jpg",{"$f":"+GetURL(D80)","v":"https://www.refaccionariagonzalez.com/alta/0/011-1901-07_3.jpg"}]
["2022-01-24T18:04:00",11,"011-3112-1","011-3112-1_6.jpg",{"$f":"+GetURL(D81)","v":"https://www.refaccionariagonzalez.com/alta/0/011-3112-1_6.jpg"}]
["2022-01-24T18:04:00",11,"011-3115-0","011-3115-0_4.jpg",{"$f":"+GetURL(D82)","v":"https://www.refaccionariagonzalez.com/alta/0/011-3115-0_4.jpg"}]
["2022-01-24T18:04:00",12,"011-3115-04","011-3115-04_01.jpg",{"$f":"+GetURL(D83)","v":"https://www.refaccionariagonzalez.com/alta/0/011-3115-04_01.jpg"}]
["2022-01-24T18:04:00",{"$f":"+FIND(\".\",D84)","v":12},"011-3115-05","011-3115-05.jpg",{"$f":"+GetURL(D84)","v":"https://www.refaccionariagonzalez.com/alta/0/011-3115-05.jpg"}]
["2022-01-24T18:04:00",12,"011-3115-05","011-3115-05_01.jpg",{"$f":"+GetURL(D85)","v":"https://www.refaccionariagonzalez.com/alta/0/011-3115-05_01.jpg"}]
["2020-09-29T17:57:00",9,"011009B1","011009B1_1.jpg",{"$f":"+GetURL(D86)","v":"https://www.refaccionariagonzalez.com/alta/0/011009B1_1.jpg"}]
["2020-09-29T18:34:00",9,"011009B1","011009B1_2.jpg",{"$f":"+GetURL(D87)","v":"https://www.refaccionariagonzalez.com/alta/0/011009B1_2.jpg"}]
["2024-05-17T08:58:00",{"$f":"+FIND(\".\",D88)","v":12},"012-0604-10","012-0604-10.jpg",{"$f":"+GetURL(D88)","v":"https://www.refaccionariagonzalez.com/alta/0/012-0604-10.jpg"}]
["2021-08-13T16:04:00",12,"012-0666-05","012-0666-05_1.jpg",{"$f":"+GetURL(D89)","v":"https://www.refaccionariagonzalez.com/alta/0/012-0666-05_1.jpg"}]
["2021-08-13T16:04:00",12,"012-0666-05","012-0666-05_2.jpg",{"$f":"+GetURL(D90)","v":"https://www.refaccionariagonzalez.com/alta/0/012-0666-05_2.jpg"}]
["2020-09-29T17:52:00",12,"012-0901-10","012-0901-10_1.jpg",{"$f":"+GetURL(D91)","v":"https://www.refaccionariagonzalez.com/alta/0/012-0901-10_1.jpg"}]
["2020-09-29T18:37:00",12,"012-0901-10","012-0901-10_2.jpg",{"$f":"+GetURL(D92)","v":"https://www.refaccionariagonzalez.com/alta/0/012-0901-10_2.jpg"}]
["2020-09-29T18:04:00",12,"012-1214-01","012-1214-01_1.jpg",{"$f":"+GetURL(D93)","v":"https://www.refaccionariagonzalez.com/alta/0/012-1214-01_1.jpg"}]
["2020-09-29T18:11:00",12,"012-1214-01","012-1214-01_2.jpg",{"$f":"+GetURL(D94)","v":"https://www.refaccionariagonzalez.com/alta/0/012-1214-01_2.jpg"}]
["2020-09-29T18:29:00",12,"012-1214-01","012-1214-01_3.jpg",{"$f":"+GetURL(D95)","v":"https://www.refaccionariagonzalez.com/alta/0/012-1214-01_3.jpg"}]
["2020-09-29T18:31:00",12,"012-1214-01","012-1214-01_9.jpg",{"$f":"+GetURL(D96)","v":"https://www.refaccionariagonzalez.com/alta/0/012-1214-01_9.jpg"}]
["2020-09-29T18:02:00",12,"012-1217-02","012-1217-02_1.jpg",{"$f":"+GetURL(D97)","v":"https://www.refaccionariagonzalez.com/alta/0/012-1217-02_1.jpg"}]
["2020-09-29T17:45:00",12,"012-1217-02","012-1217-02_2.jpg",{"$f":"+GetURL(D98)","v":"https://www.refaccionariagonzalez.com/alta/0/012-1217-02_2.jpg"}]
["2020-09-29T18:49:00",12,"012-1217-02","012-1217-02_3.jpg",{"$f":"+GetURL(D99)","v":"https://www.refaccionariagonzalez.com/alta/0/012-1217-02_3.jpg"}]
["2020-09-29T18:37:00",12,"012-1217-03","012-1217-03_1.jpg",{"$f":"+GetURL(D100)","v":"https://www.refaccionariagonzalez.com/alta/0/012-1217-03_1.jpg"}]
["2020-09-29T17:51:00",12,"012-1217-03","012-1217-03_9.jpg",{"$f":"+GetURL(D101)","v":"https://www.refaccionariagonzalez.com/alta/0/012-1217-03_9.jpg"}]
["2020-09-29T17:52:00",12,"012-1217-14","012-1217-14_1.jpg",{"$f":"+GetURL(D102)","v":"https://www.refaccionariagonzalez.com/alta/0/012-1217-14_1.jpg"}]
["2020-09-29T18:10:00",12,"012-1217-14","012-1217-14_9.jpg",{"$f":"+GetURL(D103)","v":"https://www.refaccionariagonzalez.com/alta/0/012-1217-14_9.jpg"}]
["2020-09-29T18:55:00",12,"012-1217-15","012-1217-15_1.jpg",{"$f":"+GetURL(D104)","v":"https://www.refaccionariagonzalez.com/alta/0/012-1217-15_1.jpg"}]
["2020-09-29T18:47:00",12,"012-1217-15","012-1217-15_9.jpg",{"$f":"+GetURL(D105)","v":"https://www.refaccionariagonzalez.com/alta/0/012-1217-15_9.jpg"}]
["2020-09-29T18:40:00",12,"012-1230-02","012-1230-02_1.jpg",{"$f":"+GetURL(D106)","v":"https://www.refaccionariagonzalez.com/alta/0/012-1230-02_1.jpg"}]
["2020-09-29T18:04:00",12,"012-1230-02","012-1230-02_2.jpg",{"$f":"+GetURL(D107)","v":"https://www.refaccionariagonzalez.com/alta/0/012-1230-02_2.jpg"}]
["2020-09-29T17:41:00",12,"012-1230-02","012-1230-02_3.jpg",{"$f":"+GetURL(D108)","v":"https://www.refaccionariagonzalez.com/alta/0/012-1230-02_3.jpg"}]
["2020-09-29T18:46:00",12,"012-1230-06","012-1230-06_1.jpg",{"$f":"+GetURL(D109)","v":"https://www.refaccionariagonzalez.com/alta/0/012-1230-06_1.jpg"}]
["2020-09-29T17:52:00",12,"012-1230-06","012-1230-06_9.jpg",{"$f":"+GetURL(D110)","v":"https://www.refaccionariagonzalez.com/alta/0/012-1230-06_9.jpg"}]
["2020-09-29T18:03:00",12,"012-1230-10","012-1230-10_1.jpg",{"$f":"+GetURL(D111)","v":"https://www.refaccionariagonzalez.com/alta/0/012-1230-10_1.jpg"}]
["2020-09-29T18:40:00",12,"012-1230-10","012-1230-10_2.jpg",{"$f":"+GetURL(D112)","v":"https://www.refaccionariagonzalez.com/alta/0/012-1230-10_2.jpg"}]
["2020-09-29T19:00:00",12,"012-1230-14","012-1230-14_1.jpg",{"$f":"+GetURL(D113)","v":"https://www.refaccionariagonzalez.com/alta/0/012-1230-14_1.jpg"}]
["2020-09-29T18:09:00",12,"012-1230-14","012-1230-14_2.jpg",{"$f":"+GetURL(D114)","v":"https://www.refaccionariagonzalez.com/alta/0/012-1230-14_2.jpg"}]
["2020-09-29T18:16:00",12,"012-1230-14","012-1230-14_3.jpg",{"$f":"+GetURL(D115)","v":"https://www.refaccionariagonzalez.com/alta/0/012-1230-14_3.jpg"}]
["2020-09-29T19:00:00",12,"012-2314-00","012-2314-00_1.jpg",{"$f":"+GetURL(D116)","v":"https://www.refaccionariagonzalez.com/alta/0/012-2314-00_1.jpg"}]
["2020-09-29T18:23:00",12,"012-2314-00","012-2314-00_9.jpg",{"$f":"+GetURL(D117)","v":"https://www.refaccionariagonzalez.com/alta/0/012-2314-00_9.jpg"}]
["2020-09-29T18:02:00",12,"012-2314-01","012-2314-01_1.jpg",{"$f":"+GetURL(D118)","v":"https://www.refaccionariagonzalez.com/alta/0/012-2314-01_1.jpg"}]
["2020-09-29T18:06:00",12,"012-2314-01","012-2314-01_9.jpg",{"$f":"+GetURL(D119)","v":"https://www.refaccionariagonzalez.com/alta/0/012-2314-01_9.jpg"}]
["2020-09-29T18:30:00",12,"012-2314-02","012-2314-02_1.jpg",{"$f":"+GetURL(D120)","v":"https://www.refaccionariagonzalez.com/alta/0/012-2314-02_1.jpg"}]
["2020-09-29T18:50:00",12,"012-2314-02","012-2314-02_9.jpg",{"$f":"+GetURL(D121)","v":"https://www.refaccionariagonzalez.com/alta/0/012-2314-02_9.jpg"}]
["2020-09-29T18:46:00",12,"012-2314-03","012-2314-03_1.jpg",{"$f":"+GetURL(D122)","v":"https://www.refaccionariagonzalez.com/alta/0/012-2314-03_1.jpg"}]
["2020-09-29T18:19:00",12,"012-2314-03","012-2314-03_9.jpg",{"$f":"+GetURL(D123)","v":"https://www.refaccionariagonzalez.com/alta/0/012-2314-03_9.jpg"}]
["2024-05-06T09:23:00",{"$f":"+FIND(\".\",D124)","v":12},"012-2318-22","012-2318-22.jpg",{"$f":"+GetURL(D124)","v":"https://www.refaccionariagonzalez.com/alta/0/012-2318-22.jpg"}]
["2020-09-29T17:50:00",12,"012-2321-04","012-2321-04_1.jpg",{"$f":"+GetURL(D125)","v":"https://www.refaccionariagonzalez.com/alta/0/012-2321-04_1.jpg"}]
["2020-09-29T18:08:00",12,"012-2321-04","012-2321-04_9.jpg",{"$f":"+GetURL(D126)","v":"https://www.refaccionariagonzalez.com/alta/0/012-2321-04_9.jpg"}]
["2020-09-29T17:56:00",12,"012-2321-05","012-2321-05_1.jpg",{"$f":"+GetURL(D127)","v":"https://www.refaccionariagonzalez.com/alta/0/012-2321-05_1.jpg"}]
["2020-09-29T18:38:00",12,"012-2321-05","012-2321-05_9.jpg",{"$f":"+GetURL(D128)","v":"https://www.refaccionariagonzalez.com/alta/0/012-2321-05_9.jpg"}]
["2022-01-24T18:04:00",{"$f":"+FIND(\".\",D129)","v":12},"012-2506-02","012-2506-02.jpg",{"$f":"+GetURL(D129)","v":"https://www.refaccionariagonzalez.com/alta/0/012-2506-02.jpg"}]
["2022-01-24T18:04:00",{"$f":"+FIND(\"_\",D130)","v":12},{"$f":"+LEFT(D130,B130-1)","v":"012-2506-02"},"012-2506-02_01.jpg",{"$f":"+GetURL(D130)","v":"https://www.refaccionariagonzalez.com/alta/0/012-2506-02_01.jpg"}]
["2020-09-29T17:41:00",12,"012-2506-06","012-2506-06_1.jpg",{"$f":"+GetURL(D131)","v":"https://www.refaccionariagonzalez.com/alta/0/012-2506-06_1.jpg"}]
["2020-09-29T18:46:00",12,"012-2506-06","012-2506-06_2.jpg",{"$f":"+GetURL(D132)","v":"https://www.refaccionariagonzalez.com/alta/0/012-2506-06_2.jpg"}]
["2020-09-29T18:58:00",12,"012-2704-05","012-2704-05_1.jpg",{"$f":"+GetURL(D133)","v":"https://www.refaccionariagonzalez.com/alta/0/012-2704-05_1.jpg"}]
["2020-09-29T18:06:00",12,"012-2704-05","012-2704-05_9.jpg",{"$f":"+GetURL(D134)","v":"https://www.refaccionariagonzalez.com/alta/0/012-2704-05_9.jpg"}]
["2024-05-17T08:58:00",{"$f":"+FIND(\".\",D135)","v":12},"012-2704-14","012-2704-14.jpg",{"$f":"+GetURL(D135)","v":"https://www.refaccionariagonzalez.com/alta/0/012-2704-14.jpg"}]
["2022-01-24T18:04:00",11,"012-3102-0","012-3102-0_5.jpg",{"$f":"+GetURL(D136)","v":"https://www.refaccionariagonzalez.com/alta/0/012-3102-0_5.jpg"}]
["2022-01-24T18:04:00",12,"012-3102-05","012-3102-05_01.jpg",{"$f":"+GetURL(D137)","v":"https://www.refaccionariagonzalez.com/alta/0/012-3102-05_01.jpg"}]
["2020-09-29T18:37:00",12,"012-3115-12","012-3115-12_1.jpg",{"$f":"+GetURL(D138)","v":"https://www.refaccionariagonzalez.com/alta/0/012-3115-12_1.jpg"}]
["2020-09-29T17:41:00",12,"012-3115-12","012-3115-12_2.jpg",{"$f":"+GetURL(D139)","v":"https://www.refaccionariagonzalez.com/alta/0/012-3115-12_2.jpg"}]
["2020-09-29T18:48:00",12,"012-3115-12","012-3115-12_3.jpg",{"$f":"+GetURL(D140)","v":"https://www.refaccionariagonzalez.com/alta/0/012-3115-12_3.jpg"}]
["2020-09-29T18:24:00",12,"012-3115-12","012-3115-12_9.jpg",{"$f":"+GetURL(D141)","v":"https://www.refaccionariagonzalez.com/alta/0/012-3115-12_9.jpg"}]
["2020-09-29T18:22:00",12,"012-3115-13","012-3115-13_1.jpg",{"$f":"+GetURL(D142)","v":"https://www.refaccionariagonzalez.com/alta/0/012-3115-13_1.jpg"}]
["2020-09-29T18:22:00",12,"012-3115-13","012-3115-13_2.jpg",{"$f":"+GetURL(D143)","v":"https://www.refaccionariagonzalez.com/alta/0/012-3115-13_2.jpg"}]
["2020-09-29T18:33:00",12,"012-3115-13","012-3115-13_3.jpg",{"$f":"+GetURL(D144)","v":"https://www.refaccionariagonzalez.com/alta/0/012-3115-13_3.jpg"}]
["2020-09-29T18:29:00",12,"013-1214-02","013-1214-02_1.jpg",{"$f":"+GetURL(D145)","v":"https://www.refaccionariagonzalez.com/alta/0/013-1214-02_1.jpg"}]
["2020-09-29T17:45:00",12,"013-1214-02","013-1214-02_9.jpg",{"$f":"+GetURL(D146)","v":"https://www.refaccionariagonzalez.com/alta/0/013-1214-02_9.jpg"}]
["2020-09-29T18:28:00",12,"013-1214-03","013-1214-03_1.jpg",{"$f":"+GetURL(D147)","v":"https://www.refaccionariagonzalez.com/alta/0/013-1214-03_1.jpg"}]
["2020-09-29T17:46:00",12,"013-1214-03","013-1214-03_2.jpg",{"$f":"+GetURL(D148)","v":"https://www.refaccionariagonzalez.com/alta/0/013-1214-03_2.jpg"}]
["2020-09-29T18:07:00",12,"013-1214-10","013-1214-10_1.jpg",{"$f":"+GetURL(D149)","v":"https://www.refaccionariagonzalez.com/alta/0/013-1214-10_1.jpg"}]
["2020-09-29T17:48:00",12,"013-1214-10","013-1214-10_9.jpg",{"$f":"+GetURL(D150)","v":"https://www.refaccionariagonzalez.com/alta/0/013-1214-10_9.jpg"}]
["2020-09-29T18:06:00",12,"013-1214-11","013-1214-11_1.jpg",{"$f":"+GetURL(D151)","v":"https://www.refaccionariagonzalez.com/alta/0/013-1214-11_1.jpg"}]
["2020-09-29T18:56:00",12,"013-1214-11","013-1214-11_9.jpg",{"$f":"+GetURL(D152)","v":"https://www.refaccionariagonzalez.com/alta/0/013-1214-11_9.jpg"}]
["2024-05-17T08:33:00",{"$f":"+FIND(\".\",D153)","v":12},"013-1219-16","013-1219-16.jpg",{"$f":"+GetURL(D153)","v":"https://www.refaccionariagonzalez.com/alta/0/013-1219-16.jpg"}]
["2020-09-29T18:32:00",12,"013-1608-00","013-1608-00_1.jpg",{"$f":"+GetURL(D154)","v":"https://www.refaccionariagonzalez.com/alta/0/013-1608-00_1.jpg"}]
["2020-09-29T17:43:00",12,"013-1608-00","013-1608-00_2.jpg",{"$f":"+GetURL(D155)","v":"https://www.refaccionariagonzalez.com/alta/0/013-1608-00_2.jpg"}]
["2020-09-29T17:41:00",12,"013-2305-12","013-2305-12_1.jpg",{"$f":"+GetURL(D156)","v":"https://www.refaccionariagonzalez.com/alta/0/013-2305-12_1.jpg"}]
["2020-09-29T18:37:00",12,"013-2305-12","013-2305-12_2.jpg",{"$f":"+GetURL(D157)","v":"https://www.refaccionariagonzalez.com/alta/0/013-2305-12_2.jpg"}]
["2020-09-29T18:20:00",12,"013-2305-12","013-2305-12_3.jpg",{"$f":"+GetURL(D158)","v":"https://www.refaccionariagonzalez.com/alta/0/013-2305-12_3.jpg"}]
["2020-09-29T18:42:00",12,"013-2321-05","013-2321-05_1.jpg",{"$f":"+GetURL(D159)","v":"https://www.refaccionariagonzalez.com/alta/0/013-2321-05_1.jpg"}]
["2020-09-29T18:44:00",12,"013-2321-05","013-2321-05_2.jpg",{"$f":"+GetURL(D160)","v":"https://www.refaccionariagonzalez.com/alta/0/013-2321-05_2.jpg"}]
["2020-09-29T17:46:00",12,"013-2321-05","013-2321-05_3.jpg",{"$f":"+GetURL(D161)","v":"https://www.refaccionariagonzalez.com/alta/0/013-2321-05_3.jpg"}]
["2020-09-29T18:54:00",12,"013-2321-06","013-2321-06_1.jpg",{"$f":"+GetURL(D162)","v":"https://www.refaccionariagonzalez.com/alta/0/013-2321-06_1.jpg"}]
["2020-09-29T18:30:00",12,"013-2321-06","013-2321-06_9.jpg",{"$f":"+GetURL(D163)","v":"https://www.refaccionariagonzalez.com/alta/0/013-2321-06_9.jpg"}]
["2020-09-29T18:28:00",12,"013-2321-07","013-2321-07_1.jpg",{"$f":"+GetURL(D164)","v":"https://www.refaccionariagonzalez.com/alta/0/013-2321-07_1.jpg"}]
["2020-09-29T18:27:00",12,"013-2321-07","013-2321-07_9.jpg",{"$f":"+GetURL(D165)","v":"https://www.refaccionariagonzalez.com/alta/0/013-2321-07_9.jpg"}]
["2020-09-29T17:42:00",12,"013-2321-12","013-2321-12_1.jpg",{"$f":"+GetURL(D166)","v":"https://www.refaccionariagonzalez.com/alta/0/013-2321-12_1.jpg"}]
["2020-09-29T18:27:00",12,"013-2321-12","013-2321-12_9.jpg",{"$f":"+GetURL(D167)","v":"https://www.refaccionariagonzalez.com/alta/0/013-2321-12_9.jpg"}]
["2020-09-29T17:44:00",12,"013-2321-13","013-2321-13_1.jpg",{"$f":"+GetURL(D168)","v":"https://www.refaccionariagonzalez.com/alta/0/013-2321-13_1.jpg"}]
["2020-09-29T18:34:00",12,"013-2321-13","013-2321-13_9.jpg",{"$f":"+GetURL(D169)","v":"https://www.refaccionariagonzalez.com/alta/0/013-2321-13_9.jpg"}]
["2020-09-29T17:49:00",12,"013-2321-26","013-2321-26_1.jpg",{"$f":"+GetURL(D170)","v":"https://www.refaccionariagonzalez.com/alta/0/013-2321-26_1.jpg"}]
["2020-09-29T18:06:00",12,"013-2321-26","013-2321-26_9.jpg",{"$f":"+GetURL(D171)","v":"https://www.refaccionariagonzalez.com/alta/0/013-2321-26_9.jpg"}]
["2024-05-17T08:33:00",{"$f":"+FIND(\".\",D172)","v":12},"013-2321-27","013-2321-27.jpg",{"$f":"+GetURL(D172)","v":"https://www.refaccionariagonzalez.com/alta/0/013-2321-27.jpg"}]
["2020-09-29T18:50:00",12,"013-2321-27","013-2321-27_1.jpg",{"$f":"+GetURL(D173)","v":"https://www.refaccionariagonzalez.com/alta/0/013-2321-27_1.jpg"}]
["2020-09-29T18:49:00",12,"013-2321-27","013-2321-27_9.jpg",{"$f":"+GetURL(D174)","v":"https://www.refaccionariagonzalez.com/alta/0/013-2321-27_9.jpg"}]
["2020-09-29T18:40:00",12,"013-2321-30","013-2321-30_1.jpg",{"$f":"+GetURL(D175)","v":"https://www.refaccionariagonzalez.com/alta/0/013-2321-30_1.jpg"}]
["2020-09-29T17:53:00",12,"013-2321-30","013-2321-30_9.jpg",{"$f":"+GetURL(D176)","v":"https://www.refaccionariagonzalez.com/alta/0/013-2321-30_9.jpg"}]
["2020-09-29T18:52:00",12,"013-2322-08","013-2322-08_1.jpg",{"$f":"+GetURL(D177)","v":"https://www.refaccionariagonzalez.com/alta/0/013-2322-08_1.jpg"}]
["2020-09-29T18:13:00",12,"013-2322-08","013-2322-08_9.jpg",{"$f":"+GetURL(D178)","v":"https://www.refaccionariagonzalez.com/alta/0/013-2322-08_9.jpg"}]
["2020-09-29T17:41:00",12,"013-2322-09","013-2322-09_1.jpg",{"$f":"+GetURL(D179)","v":"https://www.refaccionariagonzalez.com/alta/0/013-2322-09_1.jpg"}]
["2020-09-29T18:26:00",12,"013-2322-09","013-2322-09_9.jpg",{"$f":"+GetURL(D180)","v":"https://www.refaccionariagonzalez.com/alta/0/013-2322-09_9.jpg"}]
["2020-09-29T18:54:00",12,"013-2506-07","013-2506-07_1.jpg",{"$f":"+GetURL(D181)","v":"https://www.refaccionariagonzalez.com/alta/0/013-2506-07_1.jpg"}]
["2020-09-29T17:54:00",12,"013-2506-07","013-2506-07_2.jpg",{"$f":"+GetURL(D182)","v":"https://www.refaccionariagonzalez.com/alta/0/013-2506-07_2.jpg"}]
["2021-07-23T08:54:00",12,"013-3111-06","013-3111-06_2.jpg",{"$f":"+GetURL(D183)","v":"https://www.refaccionariagonzalez.com/alta/0/013-3111-06_2.jpg"}]
["2021-07-23T08:54:00",12,"013-3111-06","013-3111-06_3.jpg",{"$f":"+GetURL(D184)","v":"https://www.refaccionariagonzalez.com/alta/0/013-3111-06_3.jpg"}]
["2024-05-17T08:33:00",{"$f":"+FIND(\".\",D185)","v":12},"013-3112-03","013-3112-03.jpg",{"$f":"+GetURL(D185)","v":"https://www.refaccionariagonzalez.com/alta/0/013-3112-03.jpg"}]
["2020-09-29T18:49:00",11,"013945415A","013945415A_1.jpg",{"$f":"+GetURL(D186)","v":"https://www.refaccionariagonzalez.com/alta/0/013945415A_1.jpg"}]
["2020-09-29T18:27:00",11,"013945415A","013945415A_2.jpg",{"$f":"+GetURL(D187)","v":"https://www.refaccionariagonzalez.com/alta/0/013945415A_2.jpg"}]
["2020-09-29T17:51:00",11,"013945415A","013945415A_3.jpg",{"$f":"+GetURL(D188)","v":"https://www.refaccionariagonzalez.com/alta/0/013945415A_3.jpg"}]
["2020-09-29T17:47:00",13,"014-311-5511","014-311-5511_1.jpg",{"$f":"+GetURL(D189)","v":"https://www.refaccionariagonzalez.com/alta/0/014-311-5511_1.jpg"}]
["2020-09-29T18:13:00",13,"014-311-5511","014-311-5511_9.jpg",{"$f":"+GetURL(D190)","v":"https://www.refaccionariagonzalez.com/alta/0/014-311-5511_9.jpg"}]
["2020-09-29T17:47:00",13,"014-311-5611","014-311-5611_1.jpg",{"$f":"+GetURL(D191)","v":"https://www.refaccionariagonzalez.com/alta/0/014-311-5611_1.jpg"}]
["2020-09-29T17:57:00",13,"014-311-5611","014-311-5611_2.jpg",{"$f":"+GetURL(D192)","v":"https://www.refaccionariagonzalez.com/alta/0/014-311-5611_2.jpg"}]
["2020-09-29T18:27:00",13,"014-311-5611","014-311-5611_3.jpg",{"$f":"+GetURL(D193)","v":"https://www.refaccionariagonzalez.com/alta/0/014-311-5611_3.jpg"}]
["2021-05-28T17:43:00",{"$f":"+FIND(\"_\",D194)","v":12},{"$f":"+LEFT(D194,B194-1)","v":"015-0604-04"},"015-0604-04_1.jpg",{"$f":"+GetURL(D194)","v":"https://www.refaccionariagonzalez.com/alta/0/015-0604-04_1.jpg"}]
["2021-05-28T17:43:00",12,"015-0604-04","015-0604-04_2.jpg",{"$f":"+GetURL(D195)","v":"https://www.refaccionariagonzalez.com/alta/0/015-0604-04_2.jpg"}]
["2021-05-14T18:14:00",12,"015-0604-04","015-0604-04_3.jpg",{"$f":"+GetURL(D196)","v":"https://www.refaccionariagonzalez.com/alta/0/015-0604-04_3.jpg"}]
["2020-09-29T18:36:00",12,"015-0614-04","015-0614-04_1.jpg",{"$f":"+GetURL(D197)","v":"https://www.refaccionariagonzalez.com/alta/0/015-0614-04_1.jpg"}]
["2020-09-29T18:31:00",12,"015-0614-04","015-0614-04_2.jpg",{"$f":"+GetURL(D198)","v":"https://www.refaccionariagonzalez.com/alta/0/015-0614-04_2.jpg"}]
["2020-09-29T18:51:00",12,"015-0614-04","015-0614-04_3.jpg",{"$f":"+GetURL(D199)","v":"https://www.refaccionariagonzalez.com/alta/0/015-0614-04_3.jpg"}]
["2020-09-29T17:48:00",12,"015-0614-05","015-0614-05_1.jpg",{"$f":"+GetURL(D200)","v":"https://www.refaccionariagonzalez.com/alta/0/015-0614-05_1.jpg"}]
["2020-09-29T18:21:00",12,"015-0614-05","015-0614-05_2.jpg",{"$f":"+GetURL(D201)","v":"https://www.refaccionariagonzalez.com/alta/0/015-0614-05_2.jpg"}]
["2020-09-29T18:08:00",12,"015-0614-05","015-0614-05_3.jpg",{"$f":"+GetURL(D202)","v":"https://www.refaccionariagonzalez.com/alta/0/015-0614-05_3.jpg"}]
["2020-09-29T18:48:00",12,"015-0666-00","015-0666-00_1.jpg",{"$f":"+GetURL(D203)","v":"https://www.refaccionariagonzalez.com/alta/0/015-0666-00_1.jpg"}]
["2020-09-29T18:12:00",12,"015-0666-00","015-0666-00_2.jpg",{"$f":"+GetURL(D204)","v":"https://www.refaccionariagonzalez.com/alta/0/015-0666-00_2.jpg"}]
["2020-09-29T18:18:00",12,"015-0666-01","015-0666-01_1.jpg",{"$f":"+GetURL(D205)","v":"https://www.refaccionariagonzalez.com/alta/0/015-0666-01_1.jpg"}]
["2020-09-29T18:36:00",12,"015-0666-01","015-0666-01_2.jpg",{"$f":"+GetURL(D206)","v":"https://www.refaccionariagonzalez.com/alta/0/015-0666-01_2.jpg"}]
["2020-09-29T18:43:00",12,"015-1208-00","015-1208-00_1.jpg",{"$f":"+GetURL(D207)","v":"https://www.refaccionariagonzalez.com/alta/0/015-1208-00_1.jpg"}]
["2020-09-29T18:15:00",12,"015-1208-00","015-1208-00_2.jpg",{"$f":"+GetURL(D208)","v":"https://www.refaccionariagonzalez.com/alta/0/015-1208-00_2.jpg"}]
["2020-09-29T18:04:00",12,"015-1208-00","015-1208-00_3.jpg",{"$f":"+GetURL(D209)","v":"https://www.refaccionariagonzalez.com/alta/0/015-1208-00_3.jpg"}]
["2020-09-29T18:45:00",12,"015-1208-03","015-1208-03_1.jpg",{"$f":"+GetURL(D210)","v":"https://www.refaccionariagonzalez.com/alta/0/015-1208-03_1.jpg"}]
["2020-09-29T18:37:00",12,"015-1208-03","015-1208-03_2.jpg",{"$f":"+GetURL(D211)","v":"https://www.refaccionariagonzalez.com/alta/0/015-1208-03_2.jpg"}]
["2020-09-29T19:00:00",12,"015-1208-03","015-1208-03_3.jpg",{"$f":"+GetURL(D212)","v":"https://www.refaccionariagonzalez.com/alta/0/015-1208-03_3.jpg"}]
["2020-09-29T17:58:00",12,"015-1209-00","015-1209-00_1.jpg",{"$f":"+GetURL(D213)","v":"https://www.refaccionariagonzalez.com/alta/0/015-1209-00_1.jpg"}]
["2020-09-29T18:01:00",12,"015-1209-00","015-1209-00_9.jpg",{"$f":"+GetURL(D214)","v":"https://www.refaccionariagonzalez.com/alta/0/015-1209-00_9.jpg"}]
["2020-09-29T18:27:00",12,"015-1209-01","015-1209-01_1.jpg",{"$f":"+GetURL(D215)","v":"https://www.refaccionariagonzalez.com/alta/0/015-1209-01_1.jpg"}]
["2020-09-29T17:54:00",12,"015-1209-01","015-1209-01_9.jpg",{"$f":"+GetURL(D216)","v":"https://www.refaccionariagonzalez.com/alta/0/015-1209-01_9.jpg"}]
["2020-09-29T18:18:00",12,"015-1209-02","015-1209-02_1.jpg",{"$f":"+GetURL(D217)","v":"https://www.refaccionariagonzalez.com/alta/0/015-1209-02_1.jpg"}]
["2020-09-29T18:40:00",12,"015-1209-02","015-1209-02_2.jpg",{"$f":"+GetURL(D218)","v":"https://www.refaccionariagonzalez.com/alta/0/015-1209-02_2.jpg"}]
["2020-09-29T18:30:00",12,"015-1209-02","015-1209-02_3.jpg",{"$f":"+GetURL(D219)","v":"https://www.refaccionariagonzalez.com/alta/0/015-1209-02_3.jpg"}]
["2020-09-29T17:45:00",12,"015-1226-04","015-1226-04_1.jpg",{"$f":"+GetURL(D220)","v":"https://www.refaccionariagonzalez.com/alta/0/015-1226-04_1.jpg"}]
["2020-09-29T17:47:00",12,"015-1226-04","015-1226-04_9.jpg",{"$f":"+GetURL(D221)","v":"https://www.refaccionariagonzalez.com/alta/0/015-1226-04_9.jpg"}]
["2020-09-29T18:22:00",12,"015-1226-05","015-1226-05_1.jpg",{"$f":"+GetURL(D222)","v":"https://www.refaccionariagonzalez.com/alta/0/015-1226-05_1.jpg"}]
["2020-09-29T17:46:00",12,"015-1226-05","015-1226-05_9.jpg",{"$f":"+GetURL(D223)","v":"https://www.refaccionariagonzalez.com/alta/0/015-1226-05_9.jpg"}]
["2022-06-29T17:28:00",12,"015-2314-00","015-2314-00_1.jpg",{"$f":"+GetURL(D224)","v":"https://www.refaccionariagonzalez.com/alta/0/015-2314-00_1.jpg"}]
["2022-06-29T17:28:00",12,"015-2314-00","015-2314-00_2.jpg",{"$f":"+GetURL(D225)","v":"https://www.refaccionariagonzalez.com/alta/0/015-2314-00_2.jpg"}]
["2022-06-29T17:28:00",12,"015-2314-00","015-2314-00_3.jpg",{"$f":"+GetURL(D226)","v":"https://www.refaccionariagonzalez.com/alta/0/015-2314-00_3.jpg"}]
["2020-11-17T18:53:00",12,"015-2705-00","015-2705-00_1.jpg",{"$f":"+GetURL(D227)","v":"https://www.refaccionariagonzalez.com/alta/0/015-2705-00_1.jpg"}]
["2020-11-17T18:53:00",12,"015-2705-00","015-2705-00_2.jpg",{"$f":"+GetURL(D228)","v":"https://www.refaccionariagonzalez.com/alta/0/015-2705-00_2.jpg"}]
["2020-11-17T18:54:00",12,"015-2705-00","015-2705-00_3.jpg",{"$f":"+GetURL(D229)","v":"https://www.refaccionariagonzalez.com/alta/0/015-2705-00_3.jpg"}]
["2020-11-17T18:54:00",12,"015-2705-00","015-2705-00_4.jpg",{"$f":"+GetURL(D230)","v":"https://www.refaccionariagonzalez.com/alta/0/015-2705-00_4.jpg"}]
["2022-05-13T10:52:00",12,"015-3018-00","015-3018-00_1.jpg",{"$f":"+GetURL(D231)","v":"https://www.refaccionariagonzalez.com/alta/0/015-3018-00_1.jpg"}]
["2022-05-13T10:52:00",12,"015-3018-00","015-3018-00_2.jpg",{"$f":"+GetURL(D232)","v":"https://www.refaccionariagonzalez.com/alta/0/015-3018-00_2.jpg"}]
["2022-05-13T10:53:00",12,"015-3018-00","015-3018-00_3.jpg",{"$f":"+GetURL(D233)","v":"https://www.refaccionariagonzalez.com/alta/0/015-3018-00_3.jpg"}]
["2022-05-13T10:53:00",12,"015-3018-00","015-3018-00_4.jpg",{"$f":"+GetURL(D234)","v":"https://www.refaccionariagonzalez.com/alta/0/015-3018-00_4.jpg"}]
["2020-09-29T18:08:00",10,"015311201","015311201_1.jpg",{"$f":"+GetURL(D235)","v":"https://www.refaccionariagonzalez.com/alta/0/015311201_1.jpg"}]
["2020-09-29T18:10:00",10,"015311201","015311201_2.jpg",{"$f":"+GetURL(D236)","v":"https://www.refaccionariagonzalez.com/alta/0/015311201_2.jpg"}]
["2020-09-29T18:20:00",10,"015311201","015311201_3.jpg",{"$f":"+GetURL(D237)","v":"https://www.refaccionariagonzalez.com/alta/0/015311201_3.jpg"}]
["2020-09-29T18:44:00",12,"016-0683-00","016-0683-00_1.jpg",{"$f":"+GetURL(D238)","v":"https://www.refaccionariagonzalez.com/alta/0/016-0683-00_1.jpg"}]
["2020-09-29T17:53:00",12,"016-0683-00","016-0683-00_2.jpg",{"$f":"+GetURL(D239)","v":"https://www.refaccionariagonzalez.com/alta/0/016-0683-00_2.jpg"}]
["2024-04-25T10:11:00",11,"017-0601-2","017-0601-2_5.jpg",{"$f":"+GetURL(D240)","v":"https://www.refaccionariagonzalez.com/alta/0/017-0601-2_5.jpg"}]
["2020-09-29T18:43:00",12,"017-0604-12","017-0604-12_1.jpg",{"$f":"+GetURL(D241)","v":"https://www.refaccionariagonzalez.com/alta/0/017-0604-12_1.jpg"}]
["2020-09-29T18:53:00",12,"017-0604-12","017-0604-12_2.jpg",{"$f":"+GetURL(D242)","v":"https://www.refaccionariagonzalez.com/alta/0/017-0604-12_2.jpg"}]
["2020-09-29T18:21:00",12,"017-0604-12","017-0604-12_3.jpg",{"$f":"+GetURL(D243)","v":"https://www.refaccionariagonzalez.com/alta/0/017-0604-12_3.jpg"}]
["2020-09-29T18:31:00",12,"017-0604-12","017-0604-12_5.jpg",{"$f":"+GetURL(D244)","v":"https://www.refaccionariagonzalez.com/alta/0/017-0604-12_5.jpg"}]
["2020-09-29T18:59:00",12,"017-0604-13","017-0604-13_1.jpg",{"$f":"+GetURL(D245)","v":"https://www.refaccionariagonzalez.com/alta/0/017-0604-13_1.jpg"}]
["2020-09-29T18:59:00",12,"017-0604-13","017-0604-13_2.jpg",{"$f":"+GetURL(D246)","v":"https://www.refaccionariagonzalez.com/alta/0/017-0604-13_2.jpg"}]
["2020-09-29T18:31:00",12,"017-0604-13","017-0604-13_3.jpg",{"$f":"+GetURL(D247)","v":"https://www.refaccionariagonzalez.com/alta/0/017-0604-13_3.jpg"}]
["2020-09-29T17:52:00",12,"017-0604-13","017-0604-13_5.jpg",{"$f":"+GetURL(D248)","v":"https://www.refaccionariagonzalez.com/alta/0/017-0604-13_5.jpg"}]
["2020-09-29T18:38:00",12,"017-0614-08","017-0614-08_1.jpg",{"$f":"+GetURL(D249)","v":"https://www.refaccionariagonzalez.com/alta/0/017-0614-08_1.jpg"}]
["2020-09-29T18:58:00",12,"017-0614-08","017-0614-08_2.jpg",{"$f":"+GetURL(D250)","v":"https://www.refaccionariagonzalez.com/alta/0/017-0614-08_2.jpg"}]
["2020-09-29T18:02:00",12,"017-0614-08","017-0614-08_3.jpg",{"$f":"+GetURL(D251)","v":"https://www.refaccionariagonzalez.com/alta/0/017-0614-08_3.jpg"}]
["2020-09-29T18:35:00",12,"017-0614-09","017-0614-09_1.jpg",{"$f":"+GetURL(D252)","v":"https://www.refaccionariagonzalez.com/alta/0/017-0614-09_1.jpg"}]
["2020-09-29T18:05:00",12,"017-0614-09","017-0614-09_2.jpg",{"$f":"+GetURL(D253)","v":"https://www.refaccionariagonzalez.com/alta/0/017-0614-09_2.jpg"}]
["2020-09-29T18:40:00",12,"017-0614-09","017-0614-09_3.jpg",{"$f":"+GetURL(D254)","v":"https://www.refaccionariagonzalez.com/alta/0/017-0614-09_3.jpg"}]
["2020-09-29T17:41:00",12,"017-0614-68","017-0614-68_1.jpg",{"$f":"+GetURL(D255)","v":"https://www.refaccionariagonzalez.com/alta/0/017-0614-68_1.jpg"}]
["2020-09-29T18:53:00",12,"017-0614-68","017-0614-68_9.jpg",{"$f":"+GetURL(D256)","v":"https://www.refaccionariagonzalez.com/alta/0/017-0614-68_9.jpg"}]
["2020-09-29T18:17:00",12,"017-0614-73","017-0614-73_1.jpg",{"$f":"+GetURL(D257)","v":"https://www.refaccionariagonzalez.com/alta/0/017-0614-73_1.jpg"}]
["2020-09-29T17:58:00",{"$f":"+FIND(\"_\",D258)","v":12},{"$f":"+LEFT(D258,B258-1)","v":"017-0614-73"},"017-0614-73_9.jpg",{"$f":"+GetURL(D258)","v":"https://www.refaccionariagonzalez.com/alta/0/017-0614-73_9.jpg"}]
["2020-09-29T18:38:00",12,"017-0617-02","017-0617-02_1.jpg",{"$f":"+GetURL(D259)","v":"https://www.refaccionariagonzalez.com/alta/0/017-0617-02_1.jpg"}]
["2020-09-29T18:09:00",12,"017-0617-02","017-0617-02_2.jpg",{"$f":"+GetURL(D260)","v":"https://www.refaccionariagonzalez.com/alta/0/017-0617-02_2.jpg"}]
["2020-09-29T17:47:00",12,"017-0617-02","017-0617-02_3.jpg",{"$f":"+GetURL(D261)","v":"https://www.refaccionariagonzalez.com/alta/0/017-0617-02_3.jpg"}]
["2020-09-29T18:35:00",12,"017-0617-03","017-0617-03_1.jpg",{"$f":"+GetURL(D262)","v":"https://www.refaccionariagonzalez.com/alta/0/017-0617-03_1.jpg"}]
["2020-09-29T18:46:00",12,"017-0617-03","017-0617-03_2.jpg",{"$f":"+GetURL(D263)","v":"https://www.refaccionariagonzalez.com/alta/0/017-0617-03_2.jpg"}]
["2020-09-29T17:49:00",12,"017-0617-03","017-0617-03_3.jpg",{"$f":"+GetURL(D264)","v":"https://www.refaccionariagonzalez.com/alta/0/017-0617-03_3.jpg"}]
["2022-01-24T18:04:00",11,"017-0683-0","017-0683-0_4.jpg",{"$f":"+GetURL(D265)","v":"https://www.refaccionariagonzalez.com/alta/0/017-0683-0_4.jpg"}]
["2022-01-24T18:04:00",12,"017-0683-04","017-0683-04_01.jpg",{"$f":"+GetURL(D266)","v":"https://www.refaccionariagonzalez.com/alta/0/017-0683-04_01.jpg"}]
["2021-04-14T18:57:00",12,"017-0683-04","017-0683-04_1.jpg",{"$f":"+GetURL(D267)","v":"https://www.refaccionariagonzalez.com/alta/0/017-0683-04_1.jpg"}]
["2020-09-29T17:51:00",12,"017-0703-00","017-0703-00_1.jpg",{"$f":"+GetURL(D268)","v":"https://www.refaccionariagonzalez.com/alta/0/017-0703-00_1.jpg"}]
["2020-09-29T17:54:00",12,"017-0703-00","017-0703-00_9.jpg",{"$f":"+GetURL(D269)","v":"https://www.refaccionariagonzalez.com/alta/0/017-0703-00_9.jpg"}]
["2020-09-29T18:09:00",12,"017-0703-01","017-0703-01_1.jpg",{"$f":"+GetURL(D270)","v":"https://www.refaccionariagonzalez.com/alta/0/017-0703-01_1.jpg"}]
["2020-09-29T17:43:00",12,"017-0703-01","017-0703-01_9.jpg",{"$f":"+GetURL(D271)","v":"https://www.refaccionariagonzalez.com/alta/0/017-0703-01_9.jpg"}]
["2020-09-29T18:41:00",12,"017-0703-02","017-0703-02_1.jpg",{"$f":"+GetURL(D272)","v":"https://www.refaccionariagonzalez.com/alta/0/017-0703-02_1.jpg"}]
["2020-09-29T18:50:00",12,"017-0703-02","017-0703-02_9.jpg",{"$f":"+GetURL(D273)","v":"https://www.refaccionariagonzalez.com/alta/0/017-0703-02_9.jpg"}]
["2020-09-29T18:51:00",12,"017-0703-03","017-0703-03_1.jpg",{"$f":"+GetURL(D274)","v":"https://www.refaccionariagonzalez.com/alta/0/017-0703-03_1.jpg"}]
["2020-09-29T18:03:00",12,"017-0703-03","017-0703-03_9.jpg",{"$f":"+GetURL(D275)","v":"https://www.refaccionariagonzalez.com/alta/0/017-0703-03_9.jpg"}]
["2020-09-29T18:11:00",12,"017-0703-05","017-0703-05_1.jpg",{"$f":"+GetURL(D276)","v":"https://www.refaccionariagonzalez.com/alta/0/017-0703-05_1.jpg"}]
["2020-09-29T18:38:00",12,"017-0703-05","017-0703-05_9.jpg",{"$f":"+GetURL(D277)","v":"https://www.refaccionariagonzalez.com/alta/0/017-0703-05_9.jpg"}]
["2020-09-29T17:59:00",12,"017-0703-06","017-0703-06_1.jpg",{"$f":"+GetURL(D278)","v":"https://www.refaccionariagonzalez.com/alta/0/017-0703-06_1.jpg"}]
["2020-09-29T18:15:00",12,"017-0703-06","017-0703-06_9.jpg",{"$f":"+GetURL(D279)","v":"https://www.refaccionariagonzalez.com/alta/0/017-0703-06_9.jpg"}]
["2020-09-29T18:11:00",12,"017-0703-07","017-0703-07_1.jpg",{"$f":"+GetURL(D280)","v":"https://www.refaccionariagonzalez.com/alta/0/017-0703-07_1.jpg"}]
["2020-09-29T18:14:00",12,"017-0703-07","017-0703-07_2.jpg",{"$f":"+GetURL(D281)","v":"https://www.refaccionariagonzalez.com/alta/0/017-0703-07_2.jpg"}]
["2020-09-29T17:48:00",12,"017-0703-07","017-0703-07_3.jpg",{"$f":"+GetURL(D282)","v":"https://www.refaccionariagonzalez.com/alta/0/017-0703-07_3.jpg"}]
["2020-09-29T18:39:00",12,"017-0703-08","017-0703-08_1.jpg",{"$f":"+GetURL(D283)","v":"https://www.refaccionariagonzalez.com/alta/0/017-0703-08_1.jpg"}]
["2020-09-29T18:39:00",12,"017-0703-08","017-0703-08_2.jpg",{"$f":"+GetURL(D284)","v":"https://www.refaccionariagonzalez.com/alta/0/017-0703-08_2.jpg"}]
["2020-09-29T18:58:00",12,"017-0703-09","017-0703-09_1.jpg",{"$f":"+GetURL(D285)","v":"https://www.refaccionariagonzalez.com/alta/0/017-0703-09_1.jpg"}]
["2020-09-29T18:18:00",12,"017-0703-09","017-0703-09_9.jpg",{"$f":"+GetURL(D286)","v":"https://www.refaccionariagonzalez.com/alta/0/017-0703-09_9.jpg"}]
["2020-09-29T18:41:00",12,"017-0703-10","017-0703-10_1.jpg",{"$f":"+GetURL(D287)","v":"https://www.refaccionariagonzalez.com/alta/0/017-0703-10_1.jpg"}]
["2020-09-29T17:43:00",12,"017-0703-10","017-0703-10_9.jpg",{"$f":"+GetURL(D288)","v":"https://www.refaccionariagonzalez.com/alta/0/017-0703-10_9.jpg"}]
["2020-09-29T17:43:00",12,"017-0703-11","017-0703-11_1.jpg",{"$f":"+GetURL(D289)","v":"https://www.refaccionariagonzalez.com/alta/0/017-0703-11_1.jpg"}]
["2020-09-29T17:47:00",12,"017-0703-11","017-0703-11_9.jpg",{"$f":"+GetURL(D290)","v":"https://www.refaccionariagonzalez.com/alta/0/017-0703-11_9.jpg"}]
["2020-09-29T18:59:00",12,"017-0912-02","017-0912-02_1.jpg",{"$f":"+GetURL(D291)","v":"https://www.refaccionariagonzalez.com/alta/0/017-0912-02_1.jpg"}]
["2020-09-29T18:49:00",12,"017-0912-02","017-0912-02_9.jpg",{"$f":"+GetURL(D292)","v":"https://www.refaccionariagonzalez.com/alta/0/017-0912-02_9.jpg"}]
["2020-09-29T19:00:00",12,"017-0912-03","017-0912-03_1.jpg",{"$f":"+GetURL(D293)","v":"https://www.refaccionariagonzalez.com/alta/0/017-0912-03_1.jpg"}]
["2020-09-29T17:44:00",12,"017-0912-03","017-0912-03_9.jpg",{"$f":"+GetURL(D294)","v":"https://www.refaccionariagonzalez.com/alta/0/017-0912-03_9.jpg"}]
["2020-09-29T18:48:00",12,"017-0912-04","017-0912-04_1.jpg",{"$f":"+GetURL(D295)","v":"https://www.refaccionariagonzalez.com/alta/0/017-0912-04_1.jpg"}]
["2020-09-29T18:27:00",12,"017-0912-04","017-0912-04_2.jpg",{"$f":"+GetURL(D296)","v":"https://www.refaccionariagonzalez.com/alta/0/017-0912-04_2.jpg"}]
["2020-09-29T18:50:00",12,"017-0912-04","017-0912-04_3.jpg",{"$f":"+GetURL(D297)","v":"https://www.refaccionariagonzalez.com/alta/0/017-0912-04_3.jpg"}]
["2020-09-29T17:52:00",12,"017-0912-04","017-0912-04_9.jpg",{"$f":"+GetURL(D298)","v":"https://www.refaccionariagonzalez.com/alta/0/017-0912-04_9.jpg"}]
["2020-09-29T18:54:00",12,"017-0916-10","017-0916-10_1.jpg",{"$f":"+GetURL(D299)","v":"https://www.refaccionariagonzalez.com/alta/0/017-0916-10_1.jpg"}]
["2020-09-29T17:49:00",12,"017-0916-10","017-0916-10_2.jpg",{"$f":"+GetURL(D300)","v":"https://www.refaccionariagonzalez.com/alta/0/017-0916-10_2.jpg"}]
["2020-09-29T18:57:00",12,"017-0916-10","017-0916-10_9.jpg",{"$f":"+GetURL(D301)","v":"https://www.refaccionariagonzalez.com/alta/0/017-0916-10_9.jpg"}]
["2020-09-29T17:44:00",12,"017-0916-11","017-0916-11_1.jpg",{"$f":"+GetURL(D302)","v":"https://www.refaccionariagonzalez.com/alta/0/017-0916-11_1.jpg"}]
["2020-09-29T18:28:00",12,"017-0916-11","017-0916-11_2.jpg",{"$f":"+GetURL(D303)","v":"https://www.refaccionariagonzalez.com/alta/0/017-0916-11_2.jpg"}]
["2020-09-29T18:23:00",12,"017-0916-11","017-0916-11_9.jpg",{"$f":"+GetURL(D304)","v":"https://www.refaccionariagonzalez.com/alta/0/017-0916-11_9.jpg"}]
["2020-09-29T17:57:00",12,"017-0920-01","017-0920-01_1.jpg",{"$f":"+GetURL(D305)","v":"https://www.refaccionariagonzalez.com/alta/0/017-0920-01_1.jpg"}]
["2020-09-29T18:37:00",12,"017-0920-01","017-0920-01_2.jpg",{"$f":"+GetURL(D306)","v":"https://www.refaccionariagonzalez.com/alta/0/017-0920-01_2.jpg"}]
["2020-09-29T18:40:00",12,"017-0920-01","017-0920-01_9.jpg",{"$f":"+GetURL(D307)","v":"https://www.refaccionariagonzalez.com/alta/0/017-0920-01_9.jpg"}]
["2020-09-29T18:28:00",12,"017-1208-00","017-1208-00_1.jpg",{"$f":"+GetURL(D308)","v":"https://www.refaccionariagonzalez.com/alta/0/017-1208-00_1.jpg"}]
["2020-09-29T17:50:00",12,"017-1208-00","017-1208-00_9.jpg",{"$f":"+GetURL(D309)","v":"https://www.refaccionariagonzalez.com/alta/0/017-1208-00_9.jpg"}]
["2020-09-29T17:46:00",12,"017-1208-01","017-1208-01_1.jpg",{"$f":"+GetURL(D310)","v":"https://www.refaccionariagonzalez.com/alta/0/017-1208-01_1.jpg"}]
["2020-09-29T18:24:00",12,"017-1208-01","017-1208-01_9.jpg",{"$f":"+GetURL(D311)","v":"https://www.refaccionariagonzalez.com/alta/0/017-1208-01_9.jpg"}]
["2020-09-29T18:22:00",12,"017-1208-02","017-1208-02_1.jpg",{"$f":"+GetURL(D312)","v":"https://www.refaccionariagonzalez.com/alta/0/017-1208-02_1.jpg"}]
["2020-09-29T18:22:00",12,"017-1208-02","017-1208-02_9.jpg",{"$f":"+GetURL(D313)","v":"https://www.refaccionariagonzalez.com/alta/0/017-1208-02_9.jpg"}]
["2020-09-29T17:49:00",12,"017-1208-03","017-1208-03_1.jpg",{"$f":"+GetURL(D314)","v":"https://www.refaccionariagonzalez.com/alta/0/017-1208-03_1.jpg"}]
["2020-09-29T18:50:00",12,"017-1208-03","017-1208-03_9.jpg",{"$f":"+GetURL(D315)","v":"https://www.refaccionariagonzalez.com/alta/0/017-1208-03_9.jpg"}]
["2020-09-29T18:47:00",12,"017-1209-01","017-1209-01_1.jpg",{"$f":"+GetURL(D316)","v":"https://www.refaccionariagonzalez.com/alta/0/017-1209-01_1.jpg"}]
["2020-09-29T18:32:00",12,"017-1209-01","017-1209-01_9.jpg",{"$f":"+GetURL(D317)","v":"https://www.refaccionariagonzalez.com/alta/0/017-1209-01_9.jpg"}]
["2020-09-29T17:58:00",12,"017-1209-02","017-1209-02_1.jpg",{"$f":"+GetURL(D318)","v":"https://www.refaccionariagonzalez.com/alta/0/017-1209-02_1.jpg"}]
["2020-09-29T18:15:00",12,"017-1209-02","017-1209-02_9.jpg",{"$f":"+GetURL(D319)","v":"https://www.refaccionariagonzalez.com/alta/0/017-1209-02_9.jpg"}]
["2020-09-29T18:12:00",12,"017-1209-03","017-1209-03_1.jpg",{"$f":"+GetURL(D320)","v":"https://www.refaccionariagonzalez.com/alta/0/017-1209-03_1.jpg"}]
["2020-09-29T18:17:00",12,"017-1209-03","017-1209-03_9.jpg",{"$f":"+GetURL(D321)","v":"https://www.refaccionariagonzalez.com/alta/0/017-1209-03_9.jpg"}]
["2020-09-29T18:20:00",{"$f":"+FIND(\"_\",D322)","v":12},{"$f":"+LEFT(D322,B322-1)","v":"017-1210-00"},"017-1210-00_1.jpg",{"$f":"+GetURL(D322)","v":"https://www.refaccionariagonzalez.com/alta/0/017-1210-00_1.jpg"}]
["2020-09-29T18:17:00",12,"017-1210-00","017-1210-00_2.jpg",{"$f":"+GetURL(D323)","v":"https://www.refaccionariagonzalez.com/alta/0/017-1210-00_2.jpg"}]
["2020-09-29T19:00:00",12,"017-1210-00","017-1210-00_3.jpg",{"$f":"+GetURL(D324)","v":"https://www.refaccionariagonzalez.com/alta/0/017-1210-00_3.jpg"}]
["2020-09-29T17:48:00",12,"017-1210-00","017-1210-00_9.jpg",{"$f":"+GetURL(D325)","v":"https://www.refaccionariagonzalez.com/alta/0/017-1210-00_9.jpg"}]
["2020-09-29T18:20:00",12,"017-1214-00","017-1214-00_1.jpg",{"$f":"+GetURL(D326)","v":"https://www.refaccionariagonzalez.com/alta/0/017-1214-00_1.jpg"}]
["2020-09-29T18:53:00",12,"017-1214-00","017-1214-00_2.jpg",{"$f":"+GetURL(D327)","v":"https://www.refaccionariagonzalez.com/alta/0/017-1214-00_2.jpg"}]
["2020-09-29T18:46:00",12,"017-1214-00","017-1214-00_9.jpg",{"$f":"+GetURL(D328)","v":"https://www.refaccionariagonzalez.com/alta/0/017-1214-00_9.jpg"}]
["2020-09-29T18:47:00",12,"017-1214-01","017-1214-01_1.jpg",{"$f":"+GetURL(D329)","v":"https://www.refaccionariagonzalez.com/alta/0/017-1214-01_1.jpg"}]
["2020-09-29T18:35:00",12,"017-1214-01","017-1214-01_2.jpg",{"$f":"+GetURL(D330)","v":"https://www.refaccionariagonzalez.com/alta/0/017-1214-01_2.jpg"}]
["2020-09-29T17:57:00",12,"017-1214-01","017-1214-01_9.jpg",{"$f":"+GetURL(D331)","v":"https://www.refaccionariagonzalez.com/alta/0/017-1214-01_9.jpg"}]
["2020-09-29T18:00:00",12,"017-1214-32","017-1214-32_1.jpg",{"$f":"+GetURL(D332)","v":"https://www.refaccionariagonzalez.com/alta/0/017-1214-32_1.jpg"}]
["2020-09-29T17:46:00",12,"017-1214-32","017-1214-32_2.jpg",{"$f":"+GetURL(D333)","v":"https://www.refaccionariagonzalez.com/alta/0/017-1214-32_2.jpg"}]
["2020-09-29T18:06:00",12,"017-1214-32","017-1214-32_3.jpg",{"$f":"+GetURL(D334)","v":"https://www.refaccionariagonzalez.com/alta/0/017-1214-32_3.jpg"}]
["2020-09-29T18:26:00",12,"017-1214-32","017-1214-32_9.jpg",{"$f":"+GetURL(D335)","v":"https://www.refaccionariagonzalez.com/alta/0/017-1214-32_9.jpg"}]
["2020-09-29T19:00:00",12,"017-1214-33","017-1214-33_1.jpg",{"$f":"+GetURL(D336)","v":"https://www.refaccionariagonzalez.com/alta/0/017-1214-33_1.jpg"}]
["2020-09-29T18:23:00",12,"017-1214-33","017-1214-33_2.jpg",{"$f":"+GetURL(D337)","v":"https://www.refaccionariagonzalez.com/alta/0/017-1214-33_2.jpg"}]
["2020-09-29T18:51:00",12,"017-1214-33","017-1214-33_3.jpg",{"$f":"+GetURL(D338)","v":"https://www.refaccionariagonzalez.com/alta/0/017-1214-33_3.jpg"}]
["2020-09-29T19:00:00",12,"017-1214-33","017-1214-33_9.jpg",{"$f":"+GetURL(D339)","v":"https://www.refaccionariagonzalez.com/alta/0/017-1214-33_9.jpg"}]
["2020-09-29T18:20:00",12,"017-1217-02","017-1217-02_1.jpg",{"$f":"+GetURL(D340)","v":"https://www.refaccionariagonzalez.com/alta/0/017-1217-02_1.jpg"}]
["2020-09-29T18:06:00",12,"017-1217-02","017-1217-02_2.jpg",{"$f":"+GetURL(D341)","v":"https://www.refaccionariagonzalez.com/alta/0/017-1217-02_2.jpg"}]
["2020-09-29T18:29:00",12,"017-1217-02","017-1217-02_3.jpg",{"$f":"+GetURL(D342)","v":"https://www.refaccionariagonzalez.com/alta/0/017-1217-02_3.jpg"}]
["2020-09-29T17:40:00",12,"017-1217-02","017-1217-02_9.jpg",{"$f":"+GetURL(D343)","v":"https://www.refaccionariagonzalez.com/alta/0/017-1217-02_9.jpg"}]
["2020-09-29T18:11:00",12,"017-1217-10","017-1217-10_1.jpg",{"$f":"+GetURL(D344)","v":"https://www.refaccionariagonzalez.com/alta/0/017-1217-10_1.jpg"}]
["2020-09-29T18:57:00",12,"017-1217-10","017-1217-10_9.jpg",{"$f":"+GetURL(D345)","v":"https://www.refaccionariagonzalez.com/alta/0/017-1217-10_9.jpg"}]
["2020-09-29T18:23:00",12,"017-1217-11","017-1217-11_1.jpg",{"$f":"+GetURL(D346)","v":"https://www.refaccionariagonzalez.com/alta/0/017-1217-11_1.jpg"}]
["2020-09-29T18:38:00",12,"017-1217-11","017-1217-11_2.jpg",{"$f":"+GetURL(D347)","v":"https://www.refaccionariagonzalez.com/alta/0/017-1217-11_2.jpg"}]
["2020-09-29T18:47:00",12,"017-1217-11","017-1217-11_3.jpg",{"$f":"+GetURL(D348)","v":"https://www.refaccionariagonzalez.com/alta/0/017-1217-11_3.jpg"}]
["2020-09-29T18:12:00",12,"017-1217-11","017-1217-11_9.jpg",{"$f":"+GetURL(D349)","v":"https://www.refaccionariagonzalez.com/alta/0/017-1217-11_9.jpg"}]
["2022-05-13T10:53:00",12,"017-1217-30","017-1217-30_1.jpg",{"$f":"+GetURL(D350)","v":"https://www.refaccionariagonzalez.com/alta/0/017-1217-30_1.jpg"}]
["2022-05-13T10:53:00",12,"017-1217-30","017-1217-30_2.jpg",{"$f":"+GetURL(D351)","v":"https://www.refaccionariagonzalez.com/alta/0/017-1217-30_2.jpg"}]
["2022-05-13T10:53:00",12,"017-1217-30","017-1217-30_3.jpg",{"$f":"+GetURL(D352)","v":"https://www.refaccionariagonzalez.com/alta/0/017-1217-30_3.jpg"}]
["2020-09-29T18:45:00",12,"017-1219-01","017-1219-01_1.jpg",{"$f":"+GetURL(D353)","v":"https://www.refaccionariagonzalez.com/alta/0/017-1219-01_1.jpg"}]
["2020-09-29T18:24:00",12,"017-1219-01","017-1219-01_9.jpg",{"$f":"+GetURL(D354)","v":"https://www.refaccionariagonzalez.com/alta/0/017-1219-01_9.jpg"}]
["2020-09-29T18:50:00",12,"017-1219-02","017-1219-02_1.jpg",{"$f":"+GetURL(D355)","v":"https://www.refaccionariagonzalez.com/alta/0/017-1219-02_1.jpg"}]
["2020-09-29T18:07:00",12,"017-1219-02","017-1219-02_9.jpg",{"$f":"+GetURL(D356)","v":"https://www.refaccionariagonzalez.com/alta/0/017-1219-02_9.jpg"}]
["2020-09-29T18:31:00",12,"017-1219-03","017-1219-03_1.jpg",{"$f":"+GetURL(D357)","v":"https://www.refaccionariagonzalez.com/alta/0/017-1219-03_1.jpg"}]
["2020-09-29T17:55:00",12,"017-1219-03","017-1219-03_9.jpg",{"$f":"+GetURL(D358)","v":"https://www.refaccionariagonzalez.com/alta/0/017-1219-03_9.jpg"}]
["2020-09-29T18:00:00",12,"017-1219-04","017-1219-04_1.jpg",{"$f":"+GetURL(D359)","v":"https://www.refaccionariagonzalez.com/alta/0/017-1219-04_1.jpg"}]
["2020-09-29T18:11:00",12,"017-1219-04","017-1219-04_9.jpg",{"$f":"+GetURL(D360)","v":"https://www.refaccionariagonzalez.com/alta/0/017-1219-04_9.jpg"}]
["2020-09-29T18:43:00",12,"017-1219-05","017-1219-05_1.jpg",{"$f":"+GetURL(D361)","v":"https://www.refaccionariagonzalez.com/alta/0/017-1219-05_1.jpg"}]
["2020-09-29T18:03:00",12,"017-1219-05","017-1219-05_9.jpg",{"$f":"+GetURL(D362)","v":"https://www.refaccionariagonzalez.com/alta/0/017-1219-05_9.jpg"}]
["2020-09-29T18:18:00",12,"017-1219-06","017-1219-06_1.jpg",{"$f":"+GetURL(D363)","v":"https://www.refaccionariagonzalez.com/alta/0/017-1219-06_1.jpg"}]
["2020-09-29T18:09:00",12,"017-1219-06","017-1219-06_9.jpg",{"$f":"+GetURL(D364)","v":"https://www.refaccionariagonzalez.com/alta/0/017-1219-06_9.jpg"}]
["2020-09-29T18:17:00",12,"017-1219-10","017-1219-10_1.jpg",{"$f":"+GetURL(D365)","v":"https://www.refaccionariagonzalez.com/alta/0/017-1219-10_1.jpg"}]
["2020-09-29T18:11:00",12,"017-1219-10","017-1219-10_9.jpg",{"$f":"+GetURL(D366)","v":"https://www.refaccionariagonzalez.com/alta/0/017-1219-10_9.jpg"}]
["2020-09-29T18:11:00",12,"017-1219-26","017-1219-26_1.jpg",{"$f":"+GetURL(D367)","v":"https://www.refaccionariagonzalez.com/alta/0/017-1219-26_1.jpg"}]
["2020-09-29T18:52:00",12,"017-1219-26","017-1219-26_9.jpg",{"$f":"+GetURL(D368)","v":"https://www.refaccionariagonzalez.com/alta/0/017-1219-26_9.jpg"}]
["2020-09-29T18:06:00",12,"017-1219-27","017-1219-27_1.jpg",{"$f":"+GetURL(D369)","v":"https://www.refaccionariagonzalez.com/alta/0/017-1219-27_1.jpg"}]
["2020-09-29T18:00:00",12,"017-1219-27","017-1219-27_9.jpg",{"$f":"+GetURL(D370)","v":"https://www.refaccionariagonzalez.com/alta/0/017-1219-27_9.jpg"}]
["2020-09-29T18:56:00",12,"017-1226-00","017-1226-00_1.jpg",{"$f":"+GetURL(D371)","v":"https://www.refaccionariagonzalez.com/alta/0/017-1226-00_1.jpg"}]
["2020-09-29T18:31:00",12,"017-1226-00","017-1226-00_2.jpg",{"$f":"+GetURL(D372)","v":"https://www.refaccionariagonzalez.com/alta/0/017-1226-00_2.jpg"}]
["2020-09-29T17:56:00",12,"017-1226-00","017-1226-00_9.jpg",{"$f":"+GetURL(D373)","v":"https://www.refaccionariagonzalez.com/alta/0/017-1226-00_9.jpg"}]
["2020-09-29T18:36:00",12,"017-1226-12","017-1226-12_1.jpg",{"$f":"+GetURL(D374)","v":"https://www.refaccionariagonzalez.com/alta/0/017-1226-12_1.jpg"}]
["2020-09-29T18:59:00",12,"017-1226-12","017-1226-12_9.jpg",{"$f":"+GetURL(D375)","v":"https://www.refaccionariagonzalez.com/alta/0/017-1226-12_9.jpg"}]
["2020-09-29T18:16:00",12,"017-1226-13","017-1226-13_1.jpg",{"$f":"+GetURL(D376)","v":"https://www.refaccionariagonzalez.com/alta/0/017-1226-13_1.jpg"}]
["2020-09-29T17:43:00",12,"017-1226-13","017-1226-13_9.jpg",{"$f":"+GetURL(D377)","v":"https://www.refaccionariagonzalez.com/alta/0/017-1226-13_9.jpg"}]
["2020-09-29T18:25:00",12,"017-1230-00","017-1230-00_1.jpg",{"$f":"+GetURL(D378)","v":"https://www.refaccionariagonzalez.com/alta/0/017-1230-00_1.jpg"}]
["2020-09-29T17:46:00",12,"017-1230-00","017-1230-00_9.jpg",{"$f":"+GetURL(D379)","v":"https://www.refaccionariagonzalez.com/alta/0/017-1230-00_9.jpg"}]
["2020-09-29T18:25:00",12,"017-1230-01","017-1230-01_1.jpg",{"$f":"+GetURL(D380)","v":"https://www.refaccionariagonzalez.com/alta/0/017-1230-01_1.jpg"}]
["2020-09-29T18:02:00",12,"017-1230-01","017-1230-01_9.jpg",{"$f":"+GetURL(D381)","v":"https://www.refaccionariagonzalez.com/alta/0/017-1230-01_9.jpg"}]
["2020-09-29T18:25:00",12,"017-1230-02","017-1230-02_1.jpg",{"$f":"+GetURL(D382)","v":"https://www.refaccionariagonzalez.com/alta/0/017-1230-02_1.jpg"}]
["2020-09-29T18:10:00",12,"017-1230-02","017-1230-02_2.jpg",{"$f":"+GetURL(D383)","v":"https://www.refaccionariagonzalez.com/alta/0/017-1230-02_2.jpg"}]
["2020-09-29T18:28:00",12,"017-1230-02","017-1230-02_3.jpg",{"$f":"+GetURL(D384)","v":"https://www.refaccionariagonzalez.com/alta/0/017-1230-02_3.jpg"}]
["2020-09-29T17:58:00",12,"017-1230-02","017-1230-02_9.jpg",{"$f":"+GetURL(D385)","v":"https://www.refaccionariagonzalez.com/alta/0/017-1230-02_9.jpg"}]
["2020-09-29T18:10:00",{"$f":"+FIND(\"_\",D386)","v":12},{"$f":"+LEFT(D386,B386-1)","v":"017-1230-03"},"017-1230-03_1.jpg",{"$f":"+GetURL(D386)","v":"https://www.refaccionariagonzalez.com/alta/0/017-1230-03_1.jpg"}]
["2020-09-29T18:22:00",12,"017-1230-03","017-1230-03_9.jpg",{"$f":"+GetURL(D387)","v":"https://www.refaccionariagonzalez.com/alta/0/017-1230-03_9.jpg"}]
["2020-09-29T18:53:00",12,"017-1230-06","017-1230-06_1.jpg",{"$f":"+GetURL(D388)","v":"https://www.refaccionariagonzalez.com/alta/0/017-1230-06_1.jpg"}]
["2020-09-29T17:59:00",12,"017-1230-06","017-1230-06_2.jpg",{"$f":"+GetURL(D389)","v":"https://www.refaccionariagonzalez.com/alta/0/017-1230-06_2.jpg"}]
["2020-09-29T18:21:00",12,"017-1230-06","017-1230-06_3.jpg",{"$f":"+GetURL(D390)","v":"https://www.refaccionariagonzalez.com/alta/0/017-1230-06_3.jpg"}]
["2020-09-29T18:16:00",12,"017-1230-06","017-1230-06_9.jpg",{"$f":"+GetURL(D391)","v":"https://www.refaccionariagonzalez.com/alta/0/017-1230-06_9.jpg"}]
["2023-05-17T11:21:00",12,"017-1230-07","017-1230-07_1.jpg",{"$f":"+GetURL(D392)","v":"https://www.refaccionariagonzalez.com/alta/0/017-1230-07_1.jpg"}]
["2020-09-29T17:54:00",12,"017-1230-07","017-1230-07_2.jpg",{"$f":"+GetURL(D393)","v":"https://www.refaccionariagonzalez.com/alta/0/017-1230-07_2.jpg"}]
["2020-09-29T17:51:00",12,"017-1230-07","017-1230-07_3.jpg",{"$f":"+GetURL(D394)","v":"https://www.refaccionariagonzalez.com/alta/0/017-1230-07_3.jpg"}]
["2020-09-29T17:41:00",12,"017-1230-07","017-1230-07_9.jpg",{"$f":"+GetURL(D395)","v":"https://www.refaccionariagonzalez.com/alta/0/017-1230-07_9.jpg"}]
["2020-09-29T18:46:00",12,"017-1230-12","017-1230-12_1.jpg",{"$f":"+GetURL(D396)","v":"https://www.refaccionariagonzalez.com/alta/0/017-1230-12_1.jpg"}]
["2020-09-29T18:00:00",12,"017-1230-12","017-1230-12_9.jpg",{"$f":"+GetURL(D397)","v":"https://www.refaccionariagonzalez.com/alta/0/017-1230-12_9.jpg"}]
["2020-09-29T18:09:00",12,"017-1230-13","017-1230-13_1.jpg",{"$f":"+GetURL(D398)","v":"https://www.refaccionariagonzalez.com/alta/0/017-1230-13_1.jpg"}]
["2020-09-29T18:54:00",12,"017-1230-13","017-1230-13_9.jpg",{"$f":"+GetURL(D399)","v":"https://www.refaccionariagonzalez.com/alta/0/017-1230-13_9.jpg"}]
["2020-09-29T18:21:00",12,"017-1241-02","017-1241-02_1.jpg",{"$f":"+GetURL(D400)","v":"https://www.refaccionariagonzalez.com/alta/0/017-1241-02_1.jpg"}]
["2020-09-29T18:38:00",12,"017-1241-02","017-1241-02_2.jpg",{"$f":"+GetURL(D401)","v":"https://www.refaccionariagonzalez.com/alta/0/017-1241-02_2.jpg"}]
["2020-09-29T18:51:00",12,"017-1241-02","017-1241-02_9.jpg",{"$f":"+GetURL(D402)","v":"https://www.refaccionariagonzalez.com/alta/0/017-1241-02_9.jpg"}]
["2023-11-09T16:31:00",12,"017-2206-09","017-2206-09_1.jpg",{"$f":"+GetURL(D403)","v":"https://www.refaccionariagonzalez.com/alta/0/017-2206-09_1.jpg"}]
["2023-11-09T16:31:00",12,"017-2206-09","017-2206-09_2.jpg",{"$f":"+GetURL(D404)","v":"https://www.refaccionariagonzalez.com/alta/0/017-2206-09_2.jpg"}]
["2021-09-03T11:41:00",12,"017-2305-04","017-2305-04_1.jpg",{"$f":"+GetURL(D405)","v":"https://www.refaccionariagonzalez.com/alta/0/017-2305-04_1.jpg"}]
["2021-09-03T11:41:00",12,"017-2305-04","017-2305-04_2.jpg",{"$f":"+GetURL(D406)","v":"https://www.refaccionariagonzalez.com/alta/0/017-2305-04_2.jpg"}]
["2021-09-03T11:41:00",12,"017-2305-04","017-2305-04_4.jpg",{"$f":"+GetURL(D407)","v":"https://www.refaccionariagonzalez.com/alta/0/017-2305-04_4.jpg"}]
["2020-09-29T17:43:00",12,"017-2305-04","017-2305-04_9.jpg",{"$f":"+GetURL(D408)","v":"https://www.refaccionariagonzalez.com/alta/0/017-2305-04_9.jpg"}]
["2021-09-03T11:41:00",12,"017-2305-05","017-2305-05_1.jpg",{"$f":"+GetURL(D409)","v":"https://www.refaccionariagonzalez.com/alta/0/017-2305-05_1.jpg"}]
["2021-09-03T11:41:00",12,"017-2305-05","017-2305-05_3.jpg",{"$f":"+GetURL(D410)","v":"https://www.refaccionariagonzalez.com/alta/0/017-2305-05_3.jpg"}]
["2020-09-29T17:43:00",12,"017-2305-05","017-2305-05_9.jpg",{"$f":"+GetURL(D411)","v":"https://www.refaccionariagonzalez.com/alta/0/017-2305-05_9.jpg"}]
["2022-06-27T15:32:00",12,"017-2316-03","017-2316-03_1.jpg",{"$f":"+GetURL(D412)","v":"https://www.refaccionariagonzalez.com/alta/0/017-2316-03_1.jpg"}]
["2022-06-27T15:32:00",12,"017-2316-03","017-2316-03_2.jpg",{"$f":"+GetURL(D413)","v":"https://www.refaccionariagonzalez.com/alta/0/017-2316-03_2.jpg"}]
["2022-06-27T15:32:00",12,"017-2316-03","017-2316-03_3.jpg",{"$f":"+GetURL(D414)","v":"https://www.refaccionariagonzalez.com/alta/0/017-2316-03_3.jpg"}]
["2020-09-29T18:33:00",12,"017-2318-02","017-2318-02_1.jpg",{"$f":"+GetURL(D415)","v":"https://www.refaccionariagonzalez.com/alta/0/017-2318-02_1.jpg"}]
["2020-09-29T18:21:00",12,"017-2318-02","017-2318-02_2.jpg",{"$f":"+GetURL(D416)","v":"https://www.refaccionariagonzalez.com/alta/0/017-2318-02_2.jpg"}]
["2020-09-29T18:46:00",12,"017-2318-02","017-2318-02_3.jpg",{"$f":"+GetURL(D417)","v":"https://www.refaccionariagonzalez.com/alta/0/017-2318-02_3.jpg"}]
["2020-09-29T18:20:00",12,"017-2318-02","017-2318-02_9.jpg",{"$f":"+GetURL(D418)","v":"https://www.refaccionariagonzalez.com/alta/0/017-2318-02_9.jpg"}]
["2020-09-29T18:00:00",12,"017-2318-03","017-2318-03_1.jpg",{"$f":"+GetURL(D419)","v":"https://www.refaccionariagonzalez.com/alta/0/017-2318-03_1.jpg"}]
["2020-09-29T18:31:00",12,"017-2318-03","017-2318-03_2.jpg",{"$f":"+GetURL(D420)","v":"https://www.refaccionariagonzalez.com/alta/0/017-2318-03_2.jpg"}]
["2020-09-29T18:54:00",12,"017-2318-03","017-2318-03_3.jpg",{"$f":"+GetURL(D421)","v":"https://www.refaccionariagonzalez.com/alta/0/017-2318-03_3.jpg"}]
["2020-09-29T18:14:00",12,"017-2318-03","017-2318-03_9.jpg",{"$f":"+GetURL(D422)","v":"https://www.refaccionariagonzalez.com/alta/0/017-2318-03_9.jpg"}]
["2020-09-29T17:48:00",12,"017-2318-05","017-2318-05_1.jpg",{"$f":"+GetURL(D423)","v":"https://www.refaccionariagonzalez.com/alta/0/017-2318-05_1.jpg"}]
["2020-09-29T17:47:00",12,"017-2318-05","017-2318-05_2.jpg",{"$f":"+GetURL(D424)","v":"https://www.refaccionariagonzalez.com/alta/0/017-2318-05_2.jpg"}]
["2020-09-29T18:23:00",12,"017-2318-05","017-2318-05_9.jpg",{"$f":"+GetURL(D425)","v":"https://www.refaccionariagonzalez.com/alta/0/017-2318-05_9.jpg"}]
["2020-09-29T18:11:00",12,"017-2321-06","017-2321-06_1.jpg",{"$f":"+GetURL(D426)","v":"https://www.refaccionariagonzalez.com/alta/0/017-2321-06_1.jpg"}]
["2020-09-29T18:53:00",12,"017-2321-06","017-2321-06_9.jpg",{"$f":"+GetURL(D427)","v":"https://www.refaccionariagonzalez.com/alta/0/017-2321-06_9.jpg"}]
["2020-09-29T18:55:00",12,"017-2321-20","017-2321-20_1.jpg",{"$f":"+GetURL(D428)","v":"https://www.refaccionariagonzalez.com/alta/0/017-2321-20_1.jpg"}]
["2020-09-29T18:39:00",12,"017-2321-20","017-2321-20_9.jpg",{"$f":"+GetURL(D429)","v":"https://www.refaccionariagonzalez.com/alta/0/017-2321-20_9.jpg"}]
["2020-09-29T18:02:00",12,"017-2321-21","017-2321-21_1.jpg",{"$f":"+GetURL(D430)","v":"https://www.refaccionariagonzalez.com/alta/0/017-2321-21_1.jpg"}]
["2020-09-29T18:58:00",12,"017-2321-21","017-2321-21_9.jpg",{"$f":"+GetURL(D431)","v":"https://www.refaccionariagonzalez.com/alta/0/017-2321-21_9.jpg"}]
["2020-09-29T18:14:00",12,"017-2322-16","017-2322-16_1.jpg",{"$f":"+GetURL(D432)","v":"https://www.refaccionariagonzalez.com/alta/0/017-2322-16_1.jpg"}]
["2020-09-29T18:45:00",12,"017-2322-16","017-2322-16_2.jpg",{"$f":"+GetURL(D433)","v":"https://www.refaccionariagonzalez.com/alta/0/017-2322-16_2.jpg"}]
["2020-09-29T18:34:00",12,"017-2322-16","017-2322-16_3.jpg",{"$f":"+GetURL(D434)","v":"https://www.refaccionariagonzalez.com/alta/0/017-2322-16_3.jpg"}]
["2022-04-30T08:23:00",12,"017-2322-17","017-2322-17_1.jpg",{"$f":"+GetURL(D435)","v":"https://www.refaccionariagonzalez.com/alta/0/017-2322-17_1.jpg"}]
["2022-05-09T09:13:00",12,"017-2322-17","017-2322-17_2.jpg",{"$f":"+GetURL(D436)","v":"https://www.refaccionariagonzalez.com/alta/0/017-2322-17_2.jpg"}]
["2020-09-29T17:52:00",12,"017-2322-17","017-2322-17_9.jpg",{"$f":"+GetURL(D437)","v":"https://www.refaccionariagonzalez.com/alta/0/017-2322-17_9.jpg"}]
["2020-09-29T17:58:00",12,"017-2324-02","017-2324-02_1.jpg",{"$f":"+GetURL(D438)","v":"https://www.refaccionariagonzalez.com/alta/0/017-2324-02_1.jpg"}]
["2020-09-29T18:48:00",12,"017-2324-02","017-2324-02_2.jpg",{"$f":"+GetURL(D439)","v":"https://www.refaccionariagonzalez.com/alta/0/017-2324-02_2.jpg"}]
["2020-09-29T18:58:00",12,"017-2324-02","017-2324-02_9.jpg",{"$f":"+GetURL(D440)","v":"https://www.refaccionariagonzalez.com/alta/0/017-2324-02_9.jpg"}]
["2020-09-29T18:22:00",12,"017-2407-06","017-2407-06_1.jpg",{"$f":"+GetURL(D441)","v":"https://www.refaccionariagonzalez.com/alta/0/017-2407-06_1.jpg"}]
["2020-09-29T18:22:00",12,"017-2407-06","017-2407-06_2.jpg",{"$f":"+GetURL(D442)","v":"https://www.refaccionariagonzalez.com/alta/0/017-2407-06_2.jpg"}]
["2020-09-29T18:57:00",12,"017-2407-06","017-2407-06_9.jpg",{"$f":"+GetURL(D443)","v":"https://www.refaccionariagonzalez.com/alta/0/017-2407-06_9.jpg"}]
["2020-09-29T18:59:00",12,"017-2506-00","017-2506-00_1.jpg",{"$f":"+GetURL(D444)","v":"https://www.refaccionariagonzalez.com/alta/0/017-2506-00_1.jpg"}]
["2020-09-29T18:45:00",12,"017-2506-00","017-2506-00_2.jpg",{"$f":"+GetURL(D445)","v":"https://www.refaccionariagonzalez.com/alta/0/017-2506-00_2.jpg"}]
["2020-09-29T18:47:00",12,"017-2506-00","017-2506-00_3.jpg",{"$f":"+GetURL(D446)","v":"https://www.refaccionariagonzalez.com/alta/0/017-2506-00_3.jpg"}]
["2020-09-29T18:44:00",12,"017-2506-00","017-2506-00_9.jpg",{"$f":"+GetURL(D447)","v":"https://www.refaccionariagonzalez.com/alta/0/017-2506-00_9.jpg"}]
["2020-09-29T19:00:00",12,"017-2506-01","017-2506-01_1.jpg",{"$f":"+GetURL(D448)","v":"https://www.refaccionariagonzalez.com/alta/0/017-2506-01_1.jpg"}]
["2020-09-29T18:02:00",12,"017-2506-01","017-2506-01_2.jpg",{"$f":"+GetURL(D449)","v":"https://www.refaccionariagonzalez.com/alta/0/017-2506-01_2.jpg"}]
["2020-09-29T17:59:00",{"$f":"+FIND(\"_\",D450)","v":12},{"$f":"+LEFT(D450,B450-1)","v":"017-2506-01"},"017-2506-01_3.jpg",{"$f":"+GetURL(D450)","v":"https://www.refaccionariagonzalez.com/alta/0/017-2506-01_3.jpg"}]
["2020-09-29T18:22:00",12,"017-2506-01","017-2506-01_9.jpg",{"$f":"+GetURL(D451)","v":"https://www.refaccionariagonzalez.com/alta/0/017-2506-01_9.jpg"}]
["2020-09-29T18:08:00",12,"017-2506-02","017-2506-02_1.jpg",{"$f":"+GetURL(D452)","v":"https://www.refaccionariagonzalez.com/alta/0/017-2506-02_1.jpg"}]
["2020-09-29T18:14:00",12,"017-2506-02","017-2506-02_2.jpg",{"$f":"+GetURL(D453)","v":"https://www.refaccionariagonzalez.com/alta/0/017-2506-02_2.jpg"}]
["2020-09-29T18:41:00",12,"017-2506-02","017-2506-02_3.jpg",{"$f":"+GetURL(D454)","v":"https://www.refaccionariagonzalez.com/alta/0/017-2506-02_3.jpg"}]
["2020-09-29T17:44:00",12,"017-2506-02","017-2506-02_9.jpg",{"$f":"+GetURL(D455)","v":"https://www.refaccionariagonzalez.com/alta/0/017-2506-02_9.jpg"}]
["2020-09-29T17:59:00",12,"017-2506-03","017-2506-03_1.jpg",{"$f":"+GetURL(D456)","v":"https://www.refaccionariagonzalez.com/alta/0/017-2506-03_1.jpg"}]
["2020-09-29T17:50:00",12,"017-2506-03","017-2506-03_2.jpg",{"$f":"+GetURL(D457)","v":"https://www.refaccionariagonzalez.com/alta/0/017-2506-03_2.jpg"}]
["2020-09-29T18:32:00",12,"017-2506-03","017-2506-03_3.jpg",{"$f":"+GetURL(D458)","v":"https://www.refaccionariagonzalez.com/alta/0/017-2506-03_3.jpg"}]
["2020-09-29T18:21:00",12,"017-2506-03","017-2506-03_9.jpg",{"$f":"+GetURL(D459)","v":"https://www.refaccionariagonzalez.com/alta/0/017-2506-03_9.jpg"}]
["2024-05-03T09:40:00",11,"017-2903-0","017-2903-0_8.jpg",{"$f":"+GetURL(D460)","v":"https://www.refaccionariagonzalez.com/alta/0/017-2903-0_8.jpg"}]
["2024-04-24T18:36:00",11,"017-2903-0","017-2903-0_9.jpg",{"$f":"+GetURL(D461)","v":"https://www.refaccionariagonzalez.com/alta/0/017-2903-0_9.jpg"}]
["2024-05-06T09:23:00",{"$f":"+FIND(\".\",D462)","v":12},"017-2903-08","017-2903-08.jpg",{"$f":"+GetURL(D462)","v":"https://www.refaccionariagonzalez.com/alta/0/017-2903-08.jpg"}]
["2024-04-24T18:36:00",12,"017-2903-09","017-2903-09_2.jpg",{"$f":"+GetURL(D463)","v":"https://www.refaccionariagonzalez.com/alta/0/017-2903-09_2.jpg"}]
["2020-12-18T12:26:00",11,"017-3005-0","017-3005-0_51.jpg",{"$f":"+GetURL(D464)","v":"https://www.refaccionariagonzalez.com/alta/0/017-3005-0_51.jpg"}]
["2020-09-29T18:47:00",12,"017-3005-04","017-3005-04_1.jpg",{"$f":"+GetURL(D465)","v":"https://www.refaccionariagonzalez.com/alta/0/017-3005-04_1.jpg"}]
["2020-09-29T19:00:00",12,"017-3005-04","017-3005-04_2.jpg",{"$f":"+GetURL(D466)","v":"https://www.refaccionariagonzalez.com/alta/0/017-3005-04_2.jpg"}]
["2020-09-29T18:46:00",12,"017-3005-04","017-3005-04_3.jpg",{"$f":"+GetURL(D467)","v":"https://www.refaccionariagonzalez.com/alta/0/017-3005-04_3.jpg"}]
["2020-09-29T18:04:00",12,"017-3005-04","017-3005-04_9.jpg",{"$f":"+GetURL(D468)","v":"https://www.refaccionariagonzalez.com/alta/0/017-3005-04_9.jpg"}]
["2020-09-29T18:48:00",12,"017-3005-05","017-3005-05_1.jpg",{"$f":"+GetURL(D469)","v":"https://www.refaccionariagonzalez.com/alta/0/017-3005-05_1.jpg"}]
["2020-12-18T12:26:00",12,"017-3005-05","017-3005-05_2.jpg",{"$f":"+GetURL(D470)","v":"https://www.refaccionariagonzalez.com/alta/0/017-3005-05_2.jpg"}]
["2020-12-18T12:26:00",12,"017-3005-05","017-3005-05_3.jpg",{"$f":"+GetURL(D471)","v":"https://www.refaccionariagonzalez.com/alta/0/017-3005-05_3.jpg"}]
["2020-09-29T18:12:00",12,"017-3005-05","017-3005-05_9.jpg",{"$f":"+GetURL(D472)","v":"https://www.refaccionariagonzalez.com/alta/0/017-3005-05_9.jpg"}]
["2020-09-29T17:48:00",12,"017-3107-02","017-3107-02_1.jpg",{"$f":"+GetURL(D473)","v":"https://www.refaccionariagonzalez.com/alta/0/017-3107-02_1.jpg"}]
["2020-09-29T18:20:00",12,"017-3107-02","017-3107-02_2.jpg",{"$f":"+GetURL(D474)","v":"https://www.refaccionariagonzalez.com/alta/0/017-3107-02_2.jpg"}]
["2020-09-29T18:06:00",12,"017-3107-02","017-3107-02_3.jpg",{"$f":"+GetURL(D475)","v":"https://www.refaccionariagonzalez.com/alta/0/017-3107-02_3.jpg"}]
["2020-09-29T18:50:00",12,"017-3107-02","017-3107-02_9.jpg",{"$f":"+GetURL(D476)","v":"https://www.refaccionariagonzalez.com/alta/0/017-3107-02_9.jpg"}]
["2020-09-29T18:04:00",12,"017-3108-02","017-3108-02_1.jpg",{"$f":"+GetURL(D477)","v":"https://www.refaccionariagonzalez.com/alta/0/017-3108-02_1.jpg"}]
["2020-09-29T18:13:00",12,"017-3108-02","017-3108-02_2.jpg",{"$f":"+GetURL(D478)","v":"https://www.refaccionariagonzalez.com/alta/0/017-3108-02_2.jpg"}]
["2020-09-29T18:53:00",12,"017-3108-02","017-3108-02_9.jpg",{"$f":"+GetURL(D479)","v":"https://www.refaccionariagonzalez.com/alta/0/017-3108-02_9.jpg"}]
["2020-09-29T18:25:00",12,"017-3108-03","017-3108-03_1.jpg",{"$f":"+GetURL(D480)","v":"https://www.refaccionariagonzalez.com/alta/0/017-3108-03_1.jpg"}]
["2020-09-29T18:34:00",12,"017-3108-03","017-3108-03_2.jpg",{"$f":"+GetURL(D481)","v":"https://www.refaccionariagonzalez.com/alta/0/017-3108-03_2.jpg"}]
["2020-09-29T18:56:00",12,"017-3108-03","017-3108-03_9.jpg",{"$f":"+GetURL(D482)","v":"https://www.refaccionariagonzalez.com/alta/0/017-3108-03_9.jpg"}]
["2020-09-29T17:43:00",12,"017-3110-00","017-3110-00_1.jpg",{"$f":"+GetURL(D483)","v":"https://www.refaccionariagonzalez.com/alta/0/017-3110-00_1.jpg"}]
["2020-09-29T18:17:00",12,"017-3110-00","017-3110-00_2.jpg",{"$f":"+GetURL(D484)","v":"https://www.refaccionariagonzalez.com/alta/0/017-3110-00_2.jpg"}]
["2020-09-29T18:37:00",12,"017-3110-00","017-3110-00_3.jpg",{"$f":"+GetURL(D485)","v":"https://www.refaccionariagonzalez.com/alta/0/017-3110-00_3.jpg"}]
["2020-09-29T18:41:00",12,"017-3110-00","017-3110-00_9.jpg",{"$f":"+GetURL(D486)","v":"https://www.refaccionariagonzalez.com/alta/0/017-3110-00_9.jpg"}]
["2020-09-29T18:39:00",12,"017-3110-01","017-3110-01_1.jpg",{"$f":"+GetURL(D487)","v":"https://www.refaccionariagonzalez.com/alta/0/017-3110-01_1.jpg"}]
["2020-09-29T18:07:00",12,"017-3110-01","017-3110-01_2.jpg",{"$f":"+GetURL(D488)","v":"https://www.refaccionariagonzalez.com/alta/0/017-3110-01_2.jpg"}]
["2020-09-29T17:45:00",12,"017-3110-01","017-3110-01_3.jpg",{"$f":"+GetURL(D489)","v":"https://www.refaccionariagonzalez.com/alta/0/017-3110-01_3.jpg"}]
["2020-09-29T18:29:00",12,"017-3110-01","017-3110-01_9.jpg",{"$f":"+GetURL(D490)","v":"https://www.refaccionariagonzalez.com/alta/0/017-3110-01_9.jpg"}]
["2020-09-29T18:14:00",12,"017-3110-20","017-3110-20_1.jpg",{"$f":"+GetURL(D491)","v":"https://www.refaccionariagonzalez.com/alta/0/017-3110-20_1.jpg"}]
["2020-09-29T18:15:00",12,"017-3110-20","017-3110-20_2.jpg",{"$f":"+GetURL(D492)","v":"https://www.refaccionariagonzalez.com/alta/0/017-3110-20_2.jpg"}]
["2020-09-29T18:59:00",12,"017-3110-20","017-3110-20_9.jpg",{"$f":"+GetURL(D493)","v":"https://www.refaccionariagonzalez.com/alta/0/017-3110-20_9.jpg"}]
["2020-11-30T18:00:00",11,"017-3112-1","017-3112-1_11.jpg",{"$f":"+GetURL(D494)","v":"https://www.refaccionariagonzalez.com/alta/0/017-3112-1_11.jpg"}]
["2020-11-30T18:00:00",11,"017-3112-1","017-3112-1_12.jpg",{"$f":"+GetURL(D495)","v":"https://www.refaccionariagonzalez.com/alta/0/017-3112-1_12.jpg"}]
["2021-03-29T13:14:00",12,"017-3112-10","017-3112-10_1.jpg",{"$f":"+GetURL(D496)","v":"https://www.refaccionariagonzalez.com/alta/0/017-3112-10_1.jpg"}]
["2021-03-29T13:14:00",12,"017-3112-10","017-3112-10_2.jpg",{"$f":"+GetURL(D497)","v":"https://www.refaccionariagonzalez.com/alta/0/017-3112-10_2.jpg"}]
["2020-09-29T18:56:00",12,"017-3112-10","017-3112-10_3.jpg",{"$f":"+GetURL(D498)","v":"https://www.refaccionariagonzalez.com/alta/0/017-3112-10_3.jpg"}]
["2020-09-29T18:48:00",12,"017-3112-10","017-3112-10_9.jpg",{"$f":"+GetURL(D499)","v":"https://www.refaccionariagonzalez.com/alta/0/017-3112-10_9.jpg"}]
["2021-03-29T13:14:00",12,"017-3112-11","017-3112-11_1.jpg",{"$f":"+GetURL(D500)","v":"https://www.refaccionariagonzalez.com/alta/0/017-3112-11_1.jpg"}]
["2021-03-29T13:14:00",12,"017-3112-11","017-3112-11_2.jpg",{"$f":"+GetURL(D501)","v":"https://www.refaccionariagonzalez.com/alta/0/017-3112-11_2.jpg"}]
["2020-09-29T18:33:00",12,"017-3112-36","017-3112-36_1.jpg",{"$f":"+GetURL(D502)","v":"https://www.refaccionariagonzalez.com/alta/0/017-3112-36_1.jpg"}]
["2020-09-29T17:46:00",12,"017-3112-36","017-3112-36_2.jpg",{"$f":"+GetURL(D503)","v":"https://www.refaccionariagonzalez.com/alta/0/017-3112-36_2.jpg"}]
["2020-09-29T18:26:00",12,"017-3112-36","017-3112-36_9.jpg",{"$f":"+GetURL(D504)","v":"https://www.refaccionariagonzalez.com/alta/0/017-3112-36_9.jpg"}]
["2020-09-29T18:44:00",12,"017-3112-38","017-3112-38_1.jpg",{"$f":"+GetURL(D505)","v":"https://www.refaccionariagonzalez.com/alta/0/017-3112-38_1.jpg"}]
["2020-09-29T17:58:00",12,"017-3112-38","017-3112-38_9.jpg",{"$f":"+GetURL(D506)","v":"https://www.refaccionariagonzalez.com/alta/0/017-3112-38_9.jpg"}]
["2020-09-29T18:19:00",12,"017-3112-39","017-3112-39_1.jpg",{"$f":"+GetURL(D507)","v":"https://www.refaccionariagonzalez.com/alta/0/017-3112-39_1.jpg"}]
["2020-09-29T18:31:00",12,"017-3112-39","017-3112-39_9.jpg",{"$f":"+GetURL(D508)","v":"https://www.refaccionariagonzalez.com/alta/0/017-3112-39_9.jpg"}]
["2020-09-29T18:56:00",12,"017-3115-10","017-3115-10_1.jpg",{"$f":"+GetURL(D509)","v":"https://www.refaccionariagonzalez.com/alta/0/017-3115-10_1.jpg"}]
["2020-09-29T18:31:00",12,"017-3115-10","017-3115-10_9.jpg",{"$f":"+GetURL(D510)","v":"https://www.refaccionariagonzalez.com/alta/0/017-3115-10_9.jpg"}]
["2020-09-29T18:51:00",12,"017-3115-11","017-3115-11_1.jpg",{"$f":"+GetURL(D511)","v":"https://www.refaccionariagonzalez.com/alta/0/017-3115-11_1.jpg"}]
["2020-09-29T18:16:00",12,"017-3115-11","017-3115-11_2.jpg",{"$f":"+GetURL(D512)","v":"https://www.refaccionariagonzalez.com/alta/0/017-3115-11_2.jpg"}]
["2020-09-29T18:02:00",12,"017-3115-11","017-3115-11_3.jpg",{"$f":"+GetURL(D513)","v":"https://www.refaccionariagonzalez.com/alta/0/017-3115-11_3.jpg"}]
["2020-09-29T18:41:00",{"$f":"+FIND(\"_\",D514)","v":12},{"$f":"+LEFT(D514,B514-1)","v":"017-3115-11"},"017-3115-11_9.jpg",{"$f":"+GetURL(D514)","v":"https://www.refaccionariagonzalez.com/alta/0/017-3115-11_9.jpg"}]
["2020-09-29T18:51:00",12,"017-3115-18","017-3115-18_1.jpg",{"$f":"+GetURL(D515)","v":"https://www.refaccionariagonzalez.com/alta/0/017-3115-18_1.jpg"}]
["2020-09-29T18:42:00",12,"017-3115-18","017-3115-18_9.jpg",{"$f":"+GetURL(D516)","v":"https://www.refaccionariagonzalez.com/alta/0/017-3115-18_9.jpg"}]
["2020-09-29T18:30:00",12,"017-3115-20","017-3115-20_1.jpg",{"$f":"+GetURL(D517)","v":"https://www.refaccionariagonzalez.com/alta/0/017-3115-20_1.jpg"}]
["2020-09-29T17:50:00",12,"017-3115-20","017-3115-20_9.jpg",{"$f":"+GetURL(D518)","v":"https://www.refaccionariagonzalez.com/alta/0/017-3115-20_9.jpg"}]
["2020-09-29T17:43:00",12,"017-3116-06","017-3116-06_1.jpg",{"$f":"+GetURL(D519)","v":"https://www.refaccionariagonzalez.com/alta/0/017-3116-06_1.jpg"}]
["2020-09-29T18:54:00",12,"017-3116-06","017-3116-06_2.jpg",{"$f":"+GetURL(D520)","v":"https://www.refaccionariagonzalez.com/alta/0/017-3116-06_2.jpg"}]
["2020-09-29T17:52:00",12,"017-3116-06","017-3116-06_9.jpg",{"$f":"+GetURL(D521)","v":"https://www.refaccionariagonzalez.com/alta/0/017-3116-06_9.jpg"}]
["2020-09-29T18:41:00",12,"017-3116-07","017-3116-07_1.jpg",{"$f":"+GetURL(D522)","v":"https://www.refaccionariagonzalez.com/alta/0/017-3116-07_1.jpg"}]
["2020-09-29T19:00:00",12,"017-3116-07","017-3116-07_2.jpg",{"$f":"+GetURL(D523)","v":"https://www.refaccionariagonzalez.com/alta/0/017-3116-07_2.jpg"}]
["2020-09-29T18:18:00",12,"017-3116-07","017-3116-07_9.jpg",{"$f":"+GetURL(D524)","v":"https://www.refaccionariagonzalez.com/alta/0/017-3116-07_9.jpg"}]
["2024-05-17T08:58:00",{"$f":"+FIND(\".\",D525)","v":12},"017-3408-05","017-3408-05.jpg",{"$f":"+GetURL(D525)","v":"https://www.refaccionariagonzalez.com/alta/0/017-3408-05.jpg"}]
["2024-05-17T08:58:00",12,"017-3408-05","017-3408-05_1.jpg",{"$f":"+GetURL(D526)","v":"https://www.refaccionariagonzalez.com/alta/0/017-3408-05_1.jpg"}]
["2020-09-29T18:58:00",12,"018-0614-00","018-0614-00_1.jpg",{"$f":"+GetURL(D527)","v":"https://www.refaccionariagonzalez.com/alta/0/018-0614-00_1.jpg"}]
["2020-09-29T18:17:00",12,"018-0614-00","018-0614-00_2.jpg",{"$f":"+GetURL(D528)","v":"https://www.refaccionariagonzalez.com/alta/0/018-0614-00_2.jpg"}]
["2020-09-29T18:53:00",12,"018-0614-00","018-0614-00_3.jpg",{"$f":"+GetURL(D529)","v":"https://www.refaccionariagonzalez.com/alta/0/018-0614-00_3.jpg"}]
["2020-09-29T18:25:00",12,"018-0614-00","018-0614-00_9.jpg",{"$f":"+GetURL(D530)","v":"https://www.refaccionariagonzalez.com/alta/0/018-0614-00_9.jpg"}]
["2020-09-29T18:41:00",12,"018-0614-01","018-0614-01_1.jpg",{"$f":"+GetURL(D531)","v":"https://www.refaccionariagonzalez.com/alta/0/018-0614-01_1.jpg"}]
["2020-09-29T17:58:00",12,"018-0614-01","018-0614-01_2.jpg",{"$f":"+GetURL(D532)","v":"https://www.refaccionariagonzalez.com/alta/0/018-0614-01_2.jpg"}]
["2020-09-29T17:46:00",12,"018-0614-01","018-0614-01_3.jpg",{"$f":"+GetURL(D533)","v":"https://www.refaccionariagonzalez.com/alta/0/018-0614-01_3.jpg"}]
["2020-09-29T18:08:00",12,"018-0614-01","018-0614-01_9.jpg",{"$f":"+GetURL(D534)","v":"https://www.refaccionariagonzalez.com/alta/0/018-0614-01_9.jpg"}]
["2023-11-09T16:31:00",12,"018-0614-14","018-0614-14_1.jpg",{"$f":"+GetURL(D535)","v":"https://www.refaccionariagonzalez.com/alta/0/018-0614-14_1.jpg"}]
["2023-11-09T16:31:00",12,"018-0614-14","018-0614-14_2.jpg",{"$f":"+GetURL(D536)","v":"https://www.refaccionariagonzalez.com/alta/0/018-0614-14_2.jpg"}]
["2020-09-29T17:43:00",12,"018-0617-04","018-0617-04_1.jpg",{"$f":"+GetURL(D537)","v":"https://www.refaccionariagonzalez.com/alta/0/018-0617-04_1.jpg"}]
["2020-09-29T18:48:00",12,"018-0617-04","018-0617-04_2.jpg",{"$f":"+GetURL(D538)","v":"https://www.refaccionariagonzalez.com/alta/0/018-0617-04_2.jpg"}]
["2020-09-29T18:53:00",12,"018-0617-04","018-0617-04_3.jpg",{"$f":"+GetURL(D539)","v":"https://www.refaccionariagonzalez.com/alta/0/018-0617-04_3.jpg"}]
["2020-09-29T19:00:00",12,"018-0617-04","018-0617-04_9.jpg",{"$f":"+GetURL(D540)","v":"https://www.refaccionariagonzalez.com/alta/0/018-0617-04_9.jpg"}]
["2020-09-29T18:20:00",12,"018-0617-05","018-0617-05_1.jpg",{"$f":"+GetURL(D541)","v":"https://www.refaccionariagonzalez.com/alta/0/018-0617-05_1.jpg"}]
["2020-09-29T18:32:00",12,"018-0617-05","018-0617-05_2.jpg",{"$f":"+GetURL(D542)","v":"https://www.refaccionariagonzalez.com/alta/0/018-0617-05_2.jpg"}]
["2020-09-29T18:56:00",12,"018-0617-05","018-0617-05_3.jpg",{"$f":"+GetURL(D543)","v":"https://www.refaccionariagonzalez.com/alta/0/018-0617-05_3.jpg"}]
["2020-09-29T18:47:00",12,"018-0617-05","018-0617-05_9.jpg",{"$f":"+GetURL(D544)","v":"https://www.refaccionariagonzalez.com/alta/0/018-0617-05_9.jpg"}]
["2020-09-29T18:39:00",12,"018-0630-07","018-0630-07_1.jpg",{"$f":"+GetURL(D545)","v":"https://www.refaccionariagonzalez.com/alta/0/018-0630-07_1.jpg"}]
["2020-09-29T18:47:00",12,"018-0630-07","018-0630-07_2.jpg",{"$f":"+GetURL(D546)","v":"https://www.refaccionariagonzalez.com/alta/0/018-0630-07_2.jpg"}]
["2020-09-29T18:56:00",12,"018-0630-07","018-0630-07_3.jpg",{"$f":"+GetURL(D547)","v":"https://www.refaccionariagonzalez.com/alta/0/018-0630-07_3.jpg"}]
["2020-09-29T18:58:00",12,"018-0630-07","018-0630-07_9.jpg",{"$f":"+GetURL(D548)","v":"https://www.refaccionariagonzalez.com/alta/0/018-0630-07_9.jpg"}]
["2020-09-29T18:11:00",12,"018-0635-19","018-0635-19_1.jpg",{"$f":"+GetURL(D549)","v":"https://www.refaccionariagonzalez.com/alta/0/018-0635-19_1.jpg"}]
["2020-09-29T17:54:00",12,"018-0635-19","018-0635-19_2.jpg",{"$f":"+GetURL(D550)","v":"https://www.refaccionariagonzalez.com/alta/0/018-0635-19_2.jpg"}]
["2020-09-29T17:48:00",12,"018-0635-19","018-0635-19_3.jpg",{"$f":"+GetURL(D551)","v":"https://www.refaccionariagonzalez.com/alta/0/018-0635-19_3.jpg"}]
["2020-09-29T18:02:00",12,"018-0635-19","018-0635-19_9.jpg",{"$f":"+GetURL(D552)","v":"https://www.refaccionariagonzalez.com/alta/0/018-0635-19_9.jpg"}]
["2020-09-29T18:50:00",12,"018-0703-02","018-0703-02_1.jpg",{"$f":"+GetURL(D553)","v":"https://www.refaccionariagonzalez.com/alta/0/018-0703-02_1.jpg"}]
["2020-09-29T18:22:00",12,"018-0703-02","018-0703-02_9.jpg",{"$f":"+GetURL(D554)","v":"https://www.refaccionariagonzalez.com/alta/0/018-0703-02_9.jpg"}]
["2020-09-29T18:41:00",12,"018-0703-03","018-0703-03_1.jpg",{"$f":"+GetURL(D555)","v":"https://www.refaccionariagonzalez.com/alta/0/018-0703-03_1.jpg"}]
["2020-09-29T18:39:00",12,"018-0703-03","018-0703-03_2.jpg",{"$f":"+GetURL(D556)","v":"https://www.refaccionariagonzalez.com/alta/0/018-0703-03_2.jpg"}]
["2020-09-29T18:22:00",12,"018-0703-03","018-0703-03_9.jpg",{"$f":"+GetURL(D557)","v":"https://www.refaccionariagonzalez.com/alta/0/018-0703-03_9.jpg"}]
["2020-09-29T18:52:00",12,"018-0703-08","018-0703-08_1.jpg",{"$f":"+GetURL(D558)","v":"https://www.refaccionariagonzalez.com/alta/0/018-0703-08_1.jpg"}]
["2020-09-29T18:11:00",12,"018-0703-08","018-0703-08_2.jpg",{"$f":"+GetURL(D559)","v":"https://www.refaccionariagonzalez.com/alta/0/018-0703-08_2.jpg"}]
["2020-09-29T18:14:00",12,"018-0703-08","018-0703-08_3.jpg",{"$f":"+GetURL(D560)","v":"https://www.refaccionariagonzalez.com/alta/0/018-0703-08_3.jpg"}]
["2020-09-29T18:52:00",12,"018-0703-08","018-0703-08_9.jpg",{"$f":"+GetURL(D561)","v":"https://www.refaccionariagonzalez.com/alta/0/018-0703-08_9.jpg"}]
["2020-09-29T18:01:00",12,"018-0703-09","018-0703-09_1.jpg",{"$f":"+GetURL(D562)","v":"https://www.refaccionariagonzalez.com/alta/0/018-0703-09_1.jpg"}]
["2020-09-29T18:05:00",12,"018-0703-09","018-0703-09_2.jpg",{"$f":"+GetURL(D563)","v":"https://www.refaccionariagonzalez.com/alta/0/018-0703-09_2.jpg"}]
["2020-09-29T18:35:00",12,"018-0703-09","018-0703-09_3.jpg",{"$f":"+GetURL(D564)","v":"https://www.refaccionariagonzalez.com/alta/0/018-0703-09_3.jpg"}]
["2020-09-29T17:48:00",12,"018-0703-09","018-0703-09_9.jpg",{"$f":"+GetURL(D565)","v":"https://www.refaccionariagonzalez.com/alta/0/018-0703-09_9.jpg"}]
["2020-09-29T18:22:00",12,"018-0703-12","018-0703-12_1.jpg",{"$f":"+GetURL(D566)","v":"https://www.refaccionariagonzalez.com/alta/0/018-0703-12_1.jpg"}]
["2020-09-29T18:52:00",12,"018-0703-12","018-0703-12_9.jpg",{"$f":"+GetURL(D567)","v":"https://www.refaccionariagonzalez.com/alta/0/018-0703-12_9.jpg"}]
["2020-09-29T18:54:00",12,"018-0703-13","018-0703-13_1.jpg",{"$f":"+GetURL(D568)","v":"https://www.refaccionariagonzalez.com/alta/0/018-0703-13_1.jpg"}]
["2020-09-29T18:08:00",12,"018-0703-13","018-0703-13_9.jpg",{"$f":"+GetURL(D569)","v":"https://www.refaccionariagonzalez.com/alta/0/018-0703-13_9.jpg"}]
["2020-09-29T18:40:00",12,"018-0901-00","018-0901-00_1.jpg",{"$f":"+GetURL(D570)","v":"https://www.refaccionariagonzalez.com/alta/0/018-0901-00_1.jpg"}]
["2020-09-29T18:19:00",12,"018-0901-00","018-0901-00_2.jpg",{"$f":"+GetURL(D571)","v":"https://www.refaccionariagonzalez.com/alta/0/018-0901-00_2.jpg"}]
["2020-09-29T18:35:00",12,"018-0901-00","018-0901-00_3.jpg",{"$f":"+GetURL(D572)","v":"https://www.refaccionariagonzalez.com/alta/0/018-0901-00_3.jpg"}]
["2020-09-29T18:11:00",12,"018-0901-00","018-0901-00_9.jpg",{"$f":"+GetURL(D573)","v":"https://www.refaccionariagonzalez.com/alta/0/018-0901-00_9.jpg"}]
["2020-09-29T18:36:00",12,"018-0901-01","018-0901-01_1.jpg",{"$f":"+GetURL(D574)","v":"https://www.refaccionariagonzalez.com/alta/0/018-0901-01_1.jpg"}]
["2020-09-29T17:56:00",12,"018-0901-01","018-0901-01_2.jpg",{"$f":"+GetURL(D575)","v":"https://www.refaccionariagonzalez.com/alta/0/018-0901-01_2.jpg"}]
["2020-09-29T17:42:00",12,"018-0901-01","018-0901-01_3.jpg",{"$f":"+GetURL(D576)","v":"https://www.refaccionariagonzalez.com/alta/0/018-0901-01_3.jpg"}]
["2020-09-29T18:43:00",12,"018-0901-01","018-0901-01_9.jpg",{"$f":"+GetURL(D577)","v":"https://www.refaccionariagonzalez.com/alta/0/018-0901-01_9.jpg"}]
["2020-09-29T18:13:00",{"$f":"+FIND(\"_\",D578)","v":12},{"$f":"+LEFT(D578,B578-1)","v":"018-0912-06"},"018-0912-06_1.jpg",{"$f":"+GetURL(D578)","v":"https://www.refaccionariagonzalez.com/alta/0/018-0912-06_1.jpg"}]
["2020-09-29T18:45:00",12,"018-0912-06","018-0912-06_2.jpg",{"$f":"+GetURL(D579)","v":"https://www.refaccionariagonzalez.com/alta/0/018-0912-06_2.jpg"}]
["2020-09-29T18:17:00",12,"018-0912-06","018-0912-06_3.jpg",{"$f":"+GetURL(D580)","v":"https://www.refaccionariagonzalez.com/alta/0/018-0912-06_3.jpg"}]
["2020-09-29T18:56:00",12,"018-0912-06","018-0912-06_9.jpg",{"$f":"+GetURL(D581)","v":"https://www.refaccionariagonzalez.com/alta/0/018-0912-06_9.jpg"}]
["2024-05-02T10:11:00",11,"018-0918-0","018-0918-0_0.jpg",{"$f":"+GetURL(D582)","v":"https://www.refaccionariagonzalez.com/alta/0/018-0918-0_0.jpg"}]
["2024-04-25T10:11:00",11,"018-0918-0","018-0918-0_1.jpg",{"$f":"+GetURL(D583)","v":"https://www.refaccionariagonzalez.com/alta/0/018-0918-0_1.jpg"}]
["2024-05-02T10:12:00",{"$f":"+FIND(\".\",D584)","v":12},"018-0918-00","018-0918-00.jpg",{"$f":"+GetURL(D584)","v":"https://www.refaccionariagonzalez.com/alta/0/018-0918-00.jpg"}]
["2020-09-29T18:12:00",12,"018-1208-06","018-1208-06_1.jpg",{"$f":"+GetURL(D585)","v":"https://www.refaccionariagonzalez.com/alta/0/018-1208-06_1.jpg"}]
["2020-09-29T17:47:00",12,"018-1208-06","018-1208-06_2.jpg",{"$f":"+GetURL(D586)","v":"https://www.refaccionariagonzalez.com/alta/0/018-1208-06_2.jpg"}]
["2020-09-29T18:56:00",12,"018-1208-06","018-1208-06_9.jpg",{"$f":"+GetURL(D587)","v":"https://www.refaccionariagonzalez.com/alta/0/018-1208-06_9.jpg"}]
["2020-09-29T18:43:00",12,"018-1208-07","018-1208-07_1.jpg",{"$f":"+GetURL(D588)","v":"https://www.refaccionariagonzalez.com/alta/0/018-1208-07_1.jpg"}]
["2020-09-29T18:55:00",12,"018-1208-07","018-1208-07_9.jpg",{"$f":"+GetURL(D589)","v":"https://www.refaccionariagonzalez.com/alta/0/018-1208-07_9.jpg"}]
["2020-09-29T18:23:00",12,"018-1209-00","018-1209-00_1.jpg",{"$f":"+GetURL(D590)","v":"https://www.refaccionariagonzalez.com/alta/0/018-1209-00_1.jpg"}]
["2020-09-29T18:31:00",12,"018-1209-00","018-1209-00_2.jpg",{"$f":"+GetURL(D591)","v":"https://www.refaccionariagonzalez.com/alta/0/018-1209-00_2.jpg"}]
["2020-09-29T18:08:00",12,"018-1209-00","018-1209-00_3.jpg",{"$f":"+GetURL(D592)","v":"https://www.refaccionariagonzalez.com/alta/0/018-1209-00_3.jpg"}]
["2020-09-29T18:47:00",12,"018-1209-00","018-1209-00_9.jpg",{"$f":"+GetURL(D593)","v":"https://www.refaccionariagonzalez.com/alta/0/018-1209-00_9.jpg"}]
["2020-09-29T18:49:00",12,"018-1209-01","018-1209-01_1.jpg",{"$f":"+GetURL(D594)","v":"https://www.refaccionariagonzalez.com/alta/0/018-1209-01_1.jpg"}]
["2020-09-29T18:49:00",12,"018-1209-01","018-1209-01_9.jpg",{"$f":"+GetURL(D595)","v":"https://www.refaccionariagonzalez.com/alta/0/018-1209-01_9.jpg"}]
["2020-09-29T18:15:00",12,"018-1209-02","018-1209-02_1.jpg",{"$f":"+GetURL(D596)","v":"https://www.refaccionariagonzalez.com/alta/0/018-1209-02_1.jpg"}]
["2020-09-29T18:12:00",12,"018-1209-02","018-1209-02_2.jpg",{"$f":"+GetURL(D597)","v":"https://www.refaccionariagonzalez.com/alta/0/018-1209-02_2.jpg"}]
["2020-09-29T18:41:00",12,"018-1209-02","018-1209-02_3.jpg",{"$f":"+GetURL(D598)","v":"https://www.refaccionariagonzalez.com/alta/0/018-1209-02_3.jpg"}]
["2020-09-29T18:48:00",12,"018-1209-02","018-1209-02_9.jpg",{"$f":"+GetURL(D599)","v":"https://www.refaccionariagonzalez.com/alta/0/018-1209-02_9.jpg"}]
["2020-09-29T18:35:00",12,"018-1209-03","018-1209-03_1.jpg",{"$f":"+GetURL(D600)","v":"https://www.refaccionariagonzalez.com/alta/0/018-1209-03_1.jpg"}]
["2020-09-29T18:30:00",12,"018-1209-03","018-1209-03_2.jpg",{"$f":"+GetURL(D601)","v":"https://www.refaccionariagonzalez.com/alta/0/018-1209-03_2.jpg"}]
["2020-09-29T18:25:00",12,"018-1209-03","018-1209-03_3.jpg",{"$f":"+GetURL(D602)","v":"https://www.refaccionariagonzalez.com/alta/0/018-1209-03_3.jpg"}]
["2020-09-29T18:21:00",12,"018-1209-03","018-1209-03_9.jpg",{"$f":"+GetURL(D603)","v":"https://www.refaccionariagonzalez.com/alta/0/018-1209-03_9.jpg"}]
["2020-09-29T18:59:00",12,"018-1209-04","018-1209-04_1.jpg",{"$f":"+GetURL(D604)","v":"https://www.refaccionariagonzalez.com/alta/0/018-1209-04_1.jpg"}]
["2020-09-29T18:29:00",12,"018-1209-04","018-1209-04_2.jpg",{"$f":"+GetURL(D605)","v":"https://www.refaccionariagonzalez.com/alta/0/018-1209-04_2.jpg"}]
["2020-09-29T18:21:00",12,"018-1209-04","018-1209-04_9.jpg",{"$f":"+GetURL(D606)","v":"https://www.refaccionariagonzalez.com/alta/0/018-1209-04_9.jpg"}]
["2020-09-29T18:50:00",12,"018-1209-05","018-1209-05_1.jpg",{"$f":"+GetURL(D607)","v":"https://www.refaccionariagonzalez.com/alta/0/018-1209-05_1.jpg"}]
["2020-09-29T18:23:00",12,"018-1209-05","018-1209-05_9.jpg",{"$f":"+GetURL(D608)","v":"https://www.refaccionariagonzalez.com/alta/0/018-1209-05_9.jpg"}]
["2020-09-29T17:53:00",12,"018-1209-07","018-1209-07_1.jpg",{"$f":"+GetURL(D609)","v":"https://www.refaccionariagonzalez.com/alta/0/018-1209-07_1.jpg"}]
["2020-09-29T18:16:00",12,"018-1209-07","018-1209-07_2.jpg",{"$f":"+GetURL(D610)","v":"https://www.refaccionariagonzalez.com/alta/0/018-1209-07_2.jpg"}]
["2020-09-29T18:25:00",12,"018-1209-07","018-1209-07_3.jpg",{"$f":"+GetURL(D611)","v":"https://www.refaccionariagonzalez.com/alta/0/018-1209-07_3.jpg"}]
["2020-09-29T18:40:00",12,"018-1209-07","018-1209-07_9.jpg",{"$f":"+GetURL(D612)","v":"https://www.refaccionariagonzalez.com/alta/0/018-1209-07_9.jpg"}]
["2020-09-29T18:33:00",12,"018-1209-08","018-1209-08_1.jpg",{"$f":"+GetURL(D613)","v":"https://www.refaccionariagonzalez.com/alta/0/018-1209-08_1.jpg"}]
["2020-09-29T18:22:00",12,"018-1209-08","018-1209-08_9.jpg",{"$f":"+GetURL(D614)","v":"https://www.refaccionariagonzalez.com/alta/0/018-1209-08_9.jpg"}]
["2020-09-29T18:36:00",12,"018-1209-09","018-1209-09_1.jpg",{"$f":"+GetURL(D615)","v":"https://www.refaccionariagonzalez.com/alta/0/018-1209-09_1.jpg"}]
["2020-09-29T17:54:00",12,"018-1209-09","018-1209-09_9.jpg",{"$f":"+GetURL(D616)","v":"https://www.refaccionariagonzalez.com/alta/0/018-1209-09_9.jpg"}]
["2020-09-29T18:20:00",12,"018-1209-10","018-1209-10_1.jpg",{"$f":"+GetURL(D617)","v":"https://www.refaccionariagonzalez.com/alta/0/018-1209-10_1.jpg"}]
["2020-09-29T18:49:00",12,"018-1209-10","018-1209-10_9.jpg",{"$f":"+GetURL(D618)","v":"https://www.refaccionariagonzalez.com/alta/0/018-1209-10_9.jpg"}]
["2020-09-29T18:58:00",12,"018-1209-11","018-1209-11_1.jpg",{"$f":"+GetURL(D619)","v":"https://www.refaccionariagonzalez.com/alta/0/018-1209-11_1.jpg"}]
["2020-09-29T18:07:00",12,"018-1209-11","018-1209-11_2.jpg",{"$f":"+GetURL(D620)","v":"https://www.refaccionariagonzalez.com/alta/0/018-1209-11_2.jpg"}]
["2020-09-29T18:12:00",12,"018-1209-11","018-1209-11_3.jpg",{"$f":"+GetURL(D621)","v":"https://www.refaccionariagonzalez.com/alta/0/018-1209-11_3.jpg"}]
["2020-09-29T18:47:00",12,"018-1209-11","018-1209-11_9.jpg",{"$f":"+GetURL(D622)","v":"https://www.refaccionariagonzalez.com/alta/0/018-1209-11_9.jpg"}]
["2020-09-29T18:31:00",12,"018-1217-00","018-1217-00_1.jpg",{"$f":"+GetURL(D623)","v":"https://www.refaccionariagonzalez.com/alta/0/018-1217-00_1.jpg"}]
["2020-09-29T18:07:00",12,"018-1217-00","018-1217-00_2.jpg",{"$f":"+GetURL(D624)","v":"https://www.refaccionariagonzalez.com/alta/0/018-1217-00_2.jpg"}]
["2020-09-29T18:28:00",12,"018-1217-00","018-1217-00_3.jpg",{"$f":"+GetURL(D625)","v":"https://www.refaccionariagonzalez.com/alta/0/018-1217-00_3.jpg"}]
["2020-09-29T17:46:00",12,"018-1217-00","018-1217-00_9.jpg",{"$f":"+GetURL(D626)","v":"https://www.refaccionariagonzalez.com/alta/0/018-1217-00_9.jpg"}]
["2020-09-29T18:16:00",12,"018-1217-01","018-1217-01_1.jpg",{"$f":"+GetURL(D627)","v":"https://www.refaccionariagonzalez.com/alta/0/018-1217-01_1.jpg"}]
["2020-09-29T17:56:00",12,"018-1217-01","018-1217-01_2.jpg",{"$f":"+GetURL(D628)","v":"https://www.refaccionariagonzalez.com/alta/0/018-1217-01_2.jpg"}]
["2020-09-29T18:08:00",12,"018-1217-01","018-1217-01_3.jpg",{"$f":"+GetURL(D629)","v":"https://www.refaccionariagonzalez.com/alta/0/018-1217-01_3.jpg"}]
["2020-09-29T18:02:00",12,"018-1217-01","018-1217-01_9.jpg",{"$f":"+GetURL(D630)","v":"https://www.refaccionariagonzalez.com/alta/0/018-1217-01_9.jpg"}]
["2024-05-16T08:43:00",{"$f":"+FIND(\".\",D631)","v":12},"018-1217-03","018-1217-03.jpg",{"$f":"+GetURL(D631)","v":"https://www.refaccionariagonzalez.com/alta/0/018-1217-03.jpg"}]
["2020-09-29T18:08:00",12,"018-1219-16","018-1219-16_1.jpg",{"$f":"+GetURL(D632)","v":"https://www.refaccionariagonzalez.com/alta/0/018-1219-16_1.jpg"}]
["2020-09-29T18:22:00",12,"018-1219-16","018-1219-16_2.jpg",{"$f":"+GetURL(D633)","v":"https://www.refaccionariagonzalez.com/alta/0/018-1219-16_2.jpg"}]
["2020-09-29T18:07:00",12,"018-1219-16","018-1219-16_3.jpg",{"$f":"+GetURL(D634)","v":"https://www.refaccionariagonzalez.com/alta/0/018-1219-16_3.jpg"}]
["2020-09-29T17:41:00",12,"018-1219-16","018-1219-16_9.jpg",{"$f":"+GetURL(D635)","v":"https://www.refaccionariagonzalez.com/alta/0/018-1219-16_9.jpg"}]
["2020-09-29T18:37:00",12,"018-1219-17","018-1219-17_1.jpg",{"$f":"+GetURL(D636)","v":"https://www.refaccionariagonzalez.com/alta/0/018-1219-17_1.jpg"}]
["2020-09-29T18:20:00",12,"018-1219-17","018-1219-17_2.jpg",{"$f":"+GetURL(D637)","v":"https://www.refaccionariagonzalez.com/alta/0/018-1219-17_2.jpg"}]
["2020-09-29T18:35:00",12,"018-1219-17","018-1219-17_3.jpg",{"$f":"+GetURL(D638)","v":"https://www.refaccionariagonzalez.com/alta/0/018-1219-17_3.jpg"}]
["2020-09-29T18:29:00",12,"018-1219-17","018-1219-17_9.jpg",{"$f":"+GetURL(D639)","v":"https://www.refaccionariagonzalez.com/alta/0/018-1219-17_9.jpg"}]
["2020-09-29T18:03:00",12,"018-1219-31","018-1219-31_1.jpg",{"$f":"+GetURL(D640)","v":"https://www.refaccionariagonzalez.com/alta/0/018-1219-31_1.jpg"}]
["2020-09-29T18:23:00",12,"018-1219-31","018-1219-31_2.jpg",{"$f":"+GetURL(D641)","v":"https://www.refaccionariagonzalez.com/alta/0/018-1219-31_2.jpg"}]
["2020-09-29T18:17:00",{"$f":"+FIND(\"_\",D642)","v":12},{"$f":"+LEFT(D642,B642-1)","v":"018-1219-31"},"018-1219-31_9.jpg",{"$f":"+GetURL(D642)","v":"https://www.refaccionariagonzalez.com/alta/0/018-1219-31_9.jpg"}]
["2020-09-29T18:16:00",12,"018-1230-05","018-1230-05_1.jpg",{"$f":"+GetURL(D643)","v":"https://www.refaccionariagonzalez.com/alta/0/018-1230-05_1.jpg"}]
["2020-09-29T19:00:00",12,"018-1230-05","018-1230-05_2.jpg",{"$f":"+GetURL(D644)","v":"https://www.refaccionariagonzalez.com/alta/0/018-1230-05_2.jpg"}]
["2020-09-29T18:48:00",12,"018-1230-05","018-1230-05_3.jpg",{"$f":"+GetURL(D645)","v":"https://www.refaccionariagonzalez.com/alta/0/018-1230-05_3.jpg"}]
["2024-05-03T09:40:00",11,"018-2305-0","018-2305-0_3.jpg",{"$f":"+GetURL(D646)","v":"https://www.refaccionariagonzalez.com/alta/0/018-2305-0_3.jpg"}]
["2020-09-29T17:43:00",12,"018-2305-02","018-2305-02_1.jpg",{"$f":"+GetURL(D647)","v":"https://www.refaccionariagonzalez.com/alta/0/018-2305-02_1.jpg"}]
["2020-09-29T18:15:00",12,"018-2305-02","018-2305-02_9.jpg",{"$f":"+GetURL(D648)","v":"https://www.refaccionariagonzalez.com/alta/0/018-2305-02_9.jpg"}]
["2024-05-06T09:23:00",{"$f":"+FIND(\".\",D649)","v":12},"018-2305-03","018-2305-03.jpg",{"$f":"+GetURL(D649)","v":"https://www.refaccionariagonzalez.com/alta/0/018-2305-03.jpg"}]
["2020-09-29T18:39:00",12,"018-2316-03","018-2316-03_1.jpg",{"$f":"+GetURL(D650)","v":"https://www.refaccionariagonzalez.com/alta/0/018-2316-03_1.jpg"}]
["2020-09-29T17:47:00",12,"018-2316-03","018-2316-03_9.jpg",{"$f":"+GetURL(D651)","v":"https://www.refaccionariagonzalez.com/alta/0/018-2316-03_9.jpg"}]
["2020-09-29T18:32:00",12,"018-2318-02","018-2318-02_1.jpg",{"$f":"+GetURL(D652)","v":"https://www.refaccionariagonzalez.com/alta/0/018-2318-02_1.jpg"}]
["2020-09-29T17:45:00",12,"018-2318-02","018-2318-02_9.jpg",{"$f":"+GetURL(D653)","v":"https://www.refaccionariagonzalez.com/alta/0/018-2318-02_9.jpg"}]
["2020-09-29T18:51:00",12,"018-2318-03","018-2318-03_1.jpg",{"$f":"+GetURL(D654)","v":"https://www.refaccionariagonzalez.com/alta/0/018-2318-03_1.jpg"}]
["2020-09-29T18:42:00",12,"018-2318-03","018-2318-03_9.jpg",{"$f":"+GetURL(D655)","v":"https://www.refaccionariagonzalez.com/alta/0/018-2318-03_9.jpg"}]
["2020-09-29T18:16:00",12,"018-2318-04","018-2318-04_1.jpg",{"$f":"+GetURL(D656)","v":"https://www.refaccionariagonzalez.com/alta/0/018-2318-04_1.jpg"}]
["2020-09-29T18:39:00",12,"018-2318-04","018-2318-04_2.jpg",{"$f":"+GetURL(D657)","v":"https://www.refaccionariagonzalez.com/alta/0/018-2318-04_2.jpg"}]
["2020-09-29T18:02:00",12,"018-2318-04","018-2318-04_3.jpg",{"$f":"+GetURL(D658)","v":"https://www.refaccionariagonzalez.com/alta/0/018-2318-04_3.jpg"}]
["2020-09-29T18:20:00",12,"018-2318-04","018-2318-04_9.jpg",{"$f":"+GetURL(D659)","v":"https://www.refaccionariagonzalez.com/alta/0/018-2318-04_9.jpg"}]
["2020-09-29T17:58:00",12,"018-2318-05","018-2318-05_1.jpg",{"$f":"+GetURL(D660)","v":"https://www.refaccionariagonzalez.com/alta/0/018-2318-05_1.jpg"}]
["2020-09-29T18:54:00",12,"018-2318-05","018-2318-05_9.jpg",{"$f":"+GetURL(D661)","v":"https://www.refaccionariagonzalez.com/alta/0/018-2318-05_9.jpg"}]
["2020-09-29T17:56:00",12,"018-2321-04","018-2321-04_1.jpg",{"$f":"+GetURL(D662)","v":"https://www.refaccionariagonzalez.com/alta/0/018-2321-04_1.jpg"}]
["2020-09-29T18:42:00",12,"018-2321-04","018-2321-04_2.jpg",{"$f":"+GetURL(D663)","v":"https://www.refaccionariagonzalez.com/alta/0/018-2321-04_2.jpg"}]
["2020-09-29T18:17:00",12,"018-2321-04","018-2321-04_9.jpg",{"$f":"+GetURL(D664)","v":"https://www.refaccionariagonzalez.com/alta/0/018-2321-04_9.jpg"}]
["2020-09-29T18:27:00",12,"018-2322-00","018-2322-00_1.jpg",{"$f":"+GetURL(D665)","v":"https://www.refaccionariagonzalez.com/alta/0/018-2322-00_1.jpg"}]
["2020-09-29T18:19:00",12,"018-2322-00","018-2322-00_2.jpg",{"$f":"+GetURL(D666)","v":"https://www.refaccionariagonzalez.com/alta/0/018-2322-00_2.jpg"}]
["2020-09-29T17:48:00",12,"018-2322-00","018-2322-00_3.jpg",{"$f":"+GetURL(D667)","v":"https://www.refaccionariagonzalez.com/alta/0/018-2322-00_3.jpg"}]
["2020-09-29T18:04:00",12,"018-2322-00","018-2322-00_9.jpg",{"$f":"+GetURL(D668)","v":"https://www.refaccionariagonzalez.com/alta/0/018-2322-00_9.jpg"}]
["2020-09-29T18:54:00",12,"018-2322-01","018-2322-01_1.jpg",{"$f":"+GetURL(D669)","v":"https://www.refaccionariagonzalez.com/alta/0/018-2322-01_1.jpg"}]
["2020-09-29T18:33:00",12,"018-2322-01","018-2322-01_3.jpg",{"$f":"+GetURL(D670)","v":"https://www.refaccionariagonzalez.com/alta/0/018-2322-01_3.jpg"}]
["2020-09-29T18:32:00",12,"018-2322-01","018-2322-01_9.jpg",{"$f":"+GetURL(D671)","v":"https://www.refaccionariagonzalez.com/alta/0/018-2322-01_9.jpg"}]
["2024-04-25T10:11:00",11,"018-2505-0","018-2505-0_9.jpg",{"$f":"+GetURL(D672)","v":"https://www.refaccionariagonzalez.com/alta/0/018-2505-0_9.jpg"}]
["2020-11-04T17:28:00",11,"018-3005-0","018-3005-0_12.jpg",{"$f":"+GetURL(D673)","v":"https://www.refaccionariagonzalez.com/alta/0/018-3005-0_12.jpg"}]
["2020-11-04T17:28:00",12,"018-3005-00","018-3005-00_1.jpg",{"$f":"+GetURL(D674)","v":"https://www.refaccionariagonzalez.com/alta/0/018-3005-00_1.jpg"}]
["2020-11-04T17:28:00",12,"018-3005-01","018-3005-01_1.jpg",{"$f":"+GetURL(D675)","v":"https://www.refaccionariagonzalez.com/alta/0/018-3005-01_1.jpg"}]
["2024-05-17T08:58:00",{"$f":"+FIND(\".\",D676)","v":12},"018-3005-07","018-3005-07.jpg",{"$f":"+GetURL(D676)","v":"https://www.refaccionariagonzalez.com/alta/0/018-3005-07.jpg"}]
["2024-05-17T08:58:00",12,"018-3005-07","018-3005-07_1.jpg",{"$f":"+GetURL(D677)","v":"https://www.refaccionariagonzalez.com/alta/0/018-3005-07_1.jpg"}]
["2024-05-02T10:31:00",11,"018-3005-1","018-3005-1_6.jpg",{"$f":"+GetURL(D678)","v":"https://www.refaccionariagonzalez.com/alta/0/018-3005-1_6.jpg"}]
["2024-05-02T10:31:00",11,"018-3005-1","018-3005-1_7.jpg",{"$f":"+GetURL(D679)","v":"https://www.refaccionariagonzalez.com/alta/0/018-3005-1_7.jpg"}]
["2020-09-29T17:47:00",12,"018-3110-02","018-3110-02_1.jpg",{"$f":"+GetURL(D680)","v":"https://www.refaccionariagonzalez.com/alta/0/018-3110-02_1.jpg"}]
["2020-09-29T18:58:00",12,"018-3110-02","018-3110-02_2.jpg",{"$f":"+GetURL(D681)","v":"https://www.refaccionariagonzalez.com/alta/0/018-3110-02_2.jpg"}]
["2020-09-29T18:23:00",12,"018-3110-02","018-3110-02_9.jpg",{"$f":"+GetURL(D682)","v":"https://www.refaccionariagonzalez.com/alta/0/018-3110-02_9.jpg"}]
["2020-09-29T18:07:00",12,"018-3110-03","018-3110-03_1.jpg",{"$f":"+GetURL(D683)","v":"https://www.refaccionariagonzalez.com/alta/0/018-3110-03_1.jpg"}]
["2020-09-29T18:42:00",12,"018-3110-03","018-3110-03_9.jpg",{"$f":"+GetURL(D684)","v":"https://www.refaccionariagonzalez.com/alta/0/018-3110-03_9.jpg"}]
["2022-01-24T18:04:00",11,"018-3111-1","018-3111-1_0.jpg",{"$f":"+GetURL(D685)","v":"https://www.refaccionariagonzalez.com/alta/0/018-3111-1_0.jpg"}]
["2022-01-24T18:04:00",12,"018-3111-10","018-3111-10_01.jpg",{"$f":"+GetURL(D686)","v":"https://www.refaccionariagonzalez.com/alta/0/018-3111-10_01.jpg"}]
["2020-09-29T18:12:00",12,"018-3111-13","018-3111-13_1.jpg",{"$f":"+GetURL(D687)","v":"https://www.refaccionariagonzalez.com/alta/0/018-3111-13_1.jpg"}]
["2020-09-29T18:44:00",12,"018-3111-13","018-3111-13_9.jpg",{"$f":"+GetURL(D688)","v":"https://www.refaccionariagonzalez.com/alta/0/018-3111-13_9.jpg"}]
["2020-09-29T18:35:00",12,"018-3112-02","018-3112-02_1.jpg",{"$f":"+GetURL(D689)","v":"https://www.refaccionariagonzalez.com/alta/0/018-3112-02_1.jpg"}]
["2020-09-29T18:56:00",12,"018-3112-02","018-3112-02_2.jpg",{"$f":"+GetURL(D690)","v":"https://www.refaccionariagonzalez.com/alta/0/018-3112-02_2.jpg"}]
["2020-09-29T17:42:00",12,"018-3112-02","018-3112-02_3.jpg",{"$f":"+GetURL(D691)","v":"https://www.refaccionariagonzalez.com/alta/0/018-3112-02_3.jpg"}]
["2020-09-29T17:45:00",12,"018-3112-02","018-3112-02_9.jpg",{"$f":"+GetURL(D692)","v":"https://www.refaccionariagonzalez.com/alta/0/018-3112-02_9.jpg"}]
["2020-09-29T18:29:00",12,"018-3112-03","018-3112-03_1.jpg",{"$f":"+GetURL(D693)","v":"https://www.refaccionariagonzalez.com/alta/0/018-3112-03_1.jpg"}]
["2020-09-29T18:16:00",12,"018-3112-03","018-3112-03_2.jpg",{"$f":"+GetURL(D694)","v":"https://www.refaccionariagonzalez.com/alta/0/018-3112-03_2.jpg"}]
["2020-09-29T18:04:00",12,"018-3112-03","018-3112-03_3.jpg",{"$f":"+GetURL(D695)","v":"https://www.refaccionariagonzalez.com/alta/0/018-3112-03_3.jpg"}]
["2020-09-29T18:41:00",12,"018-3112-03","018-3112-03_6.jpg",{"$f":"+GetURL(D696)","v":"https://www.refaccionariagonzalez.com/alta/0/018-3112-03_6.jpg"}]
["2020-09-29T17:46:00",12,"018-3112-03","018-3112-03_9.jpg",{"$f":"+GetURL(D697)","v":"https://www.refaccionariagonzalez.com/alta/0/018-3112-03_9.jpg"}]
["2020-09-29T18:40:00",12,"018-3112-21","018-3112-21_1.jpg",{"$f":"+GetURL(D698)","v":"https://www.refaccionariagonzalez.com/alta/0/018-3112-21_1.jpg"}]
["2020-09-29T18:56:00",12,"018-3112-21","018-3112-21_2.jpg",{"$f":"+GetURL(D699)","v":"https://www.refaccionariagonzalez.com/alta/0/018-3112-21_2.jpg"}]
["2020-09-29T18:47:00",12,"018-3112-21","018-3112-21_3.jpg",{"$f":"+GetURL(D700)","v":"https://www.refaccionariagonzalez.com/alta/0/018-3112-21_3.jpg"}]
["2020-09-29T18:39:00",12,"018-3112-21","018-3112-21_9.jpg",{"$f":"+GetURL(D701)","v":"https://www.refaccionariagonzalez.com/alta/0/018-3112-21_9.jpg"}]
["2024-05-17T08:58:00",{"$f":"+FIND(\".\",D702)","v":12},"018-3115-46","018-3115-46.jpg",{"$f":"+GetURL(D702)","v":"https://www.refaccionariagonzalez.com/alta/0/018-3115-46.jpg"}]
["2024-05-17T08:58:00",12,"018-3115-46","018-3115-46_1.jpg",{"$f":"+GetURL(D703)","v":"https://www.refaccionariagonzalez.com/alta/0/018-3115-46_1.jpg"}]
["2024-05-17T08:33:00",{"$f":"+FIND(\".\",D704)","v":12},"018-3115-47","018-3115-47.jpg",{"$f":"+GetURL(D704)","v":"https://www.refaccionariagonzalez.com/alta/0/018-3115-47.jpg"}]
["2020-09-29T18:55:00",12,"018-3116-01","018-3116-01_1.jpg",{"$f":"+GetURL(D705)","v":"https://www.refaccionariagonzalez.com/alta/0/018-3116-01_1.jpg"}]
["2020-09-29T18:09:00",{"$f":"+FIND(\"_\",D706)","v":12},{"$f":"+LEFT(D706,B706-1)","v":"018-3116-01"},"018-3116-01_2.jpg",{"$f":"+GetURL(D706)","v":"https://www.refaccionariagonzalez.com/alta/0/018-3116-01_2.jpg"}]
["2020-09-29T17:51:00",12,"018-3116-01","018-3116-01_9.jpg",{"$f":"+GetURL(D707)","v":"https://www.refaccionariagonzalez.com/alta/0/018-3116-01_9.jpg"}]
["2024-05-17T08:33:00",{"$f":"+FIND(\".\",D708)","v":12},"018-3405-10","018-3405-10.jpg",{"$f":"+GetURL(D708)","v":"https://www.refaccionariagonzalez.com/alta/0/018-3405-10.jpg"}]
["2024-05-17T08:33:00",12,"018-3405-11","018-3405-11.jpg",{"$f":"+GetURL(D709)","v":"https://www.refaccionariagonzalez.com/alta/0/018-3405-11.jpg"}]
["2020-09-29T18:19:00",12,"019-0601-01","019-0601-01_1.jpg",{"$f":"+GetURL(D710)","v":"https://www.refaccionariagonzalez.com/alta/0/019-0601-01_1.jpg"}]
["2020-09-29T17:52:00",12,"019-0601-01","019-0601-01_2.jpg",{"$f":"+GetURL(D711)","v":"https://www.refaccionariagonzalez.com/alta/0/019-0601-01_2.jpg"}]
["2020-09-29T17:44:00",12,"019-0601-01","019-0601-01_9.jpg",{"$f":"+GetURL(D712)","v":"https://www.refaccionariagonzalez.com/alta/0/019-0601-01_9.jpg"}]
["2020-09-29T18:52:00",12,"019-0601-16","019-0601-16_1.jpg",{"$f":"+GetURL(D713)","v":"https://www.refaccionariagonzalez.com/alta/0/019-0601-16_1.jpg"}]
["2020-09-29T18:44:00",12,"019-0601-16","019-0601-16_2.jpg",{"$f":"+GetURL(D714)","v":"https://www.refaccionariagonzalez.com/alta/0/019-0601-16_2.jpg"}]
["2020-09-29T18:19:00",12,"019-0601-16","019-0601-16_3.jpg",{"$f":"+GetURL(D715)","v":"https://www.refaccionariagonzalez.com/alta/0/019-0601-16_3.jpg"}]
["2020-09-29T18:27:00",12,"019-0601-16","019-0601-16_9.jpg",{"$f":"+GetURL(D716)","v":"https://www.refaccionariagonzalez.com/alta/0/019-0601-16_9.jpg"}]
["2020-09-29T18:38:00",12,"019-0601-17","019-0601-17_1.jpg",{"$f":"+GetURL(D717)","v":"https://www.refaccionariagonzalez.com/alta/0/019-0601-17_1.jpg"}]
["2020-09-29T17:41:00",12,"019-0601-17","019-0601-17_2.jpg",{"$f":"+GetURL(D718)","v":"https://www.refaccionariagonzalez.com/alta/0/019-0601-17_2.jpg"}]
["2020-09-29T17:47:00",12,"019-0601-17","019-0601-17_3.jpg",{"$f":"+GetURL(D719)","v":"https://www.refaccionariagonzalez.com/alta/0/019-0601-17_3.jpg"}]
["2020-09-29T18:43:00",12,"019-0601-17","019-0601-17_9.jpg",{"$f":"+GetURL(D720)","v":"https://www.refaccionariagonzalez.com/alta/0/019-0601-17_9.jpg"}]
["2020-09-29T17:41:00",12,"019-0614-00","019-0614-00_1.jpg",{"$f":"+GetURL(D721)","v":"https://www.refaccionariagonzalez.com/alta/0/019-0614-00_1.jpg"}]
["2020-09-29T17:53:00",12,"019-0614-00","019-0614-00_9.jpg",{"$f":"+GetURL(D722)","v":"https://www.refaccionariagonzalez.com/alta/0/019-0614-00_9.jpg"}]
["2020-09-29T18:57:00",12,"019-0614-01","019-0614-01_1.jpg",{"$f":"+GetURL(D723)","v":"https://www.refaccionariagonzalez.com/alta/0/019-0614-01_1.jpg"}]
["2020-09-29T19:00:00",12,"019-0614-01","019-0614-01_2.jpg",{"$f":"+GetURL(D724)","v":"https://www.refaccionariagonzalez.com/alta/0/019-0614-01_2.jpg"}]
["2020-09-29T18:19:00",12,"019-0614-01","019-0614-01_3.jpg",{"$f":"+GetURL(D725)","v":"https://www.refaccionariagonzalez.com/alta/0/019-0614-01_3.jpg"}]
["2020-09-29T18:02:00",12,"019-0614-01","019-0614-01_4.jpg",{"$f":"+GetURL(D726)","v":"https://www.refaccionariagonzalez.com/alta/0/019-0614-01_4.jpg"}]
["2020-09-29T18:47:00",12,"019-0614-01","019-0614-01_6.jpg",{"$f":"+GetURL(D727)","v":"https://www.refaccionariagonzalez.com/alta/0/019-0614-01_6.jpg"}]
["2020-09-29T18:39:00",12,"019-0614-01","019-0614-01_8.jpg",{"$f":"+GetURL(D728)","v":"https://www.refaccionariagonzalez.com/alta/0/019-0614-01_8.jpg"}]
["2020-09-29T18:34:00",12,"019-0614-04","019-0614-04_1.jpg",{"$f":"+GetURL(D729)","v":"https://www.refaccionariagonzalez.com/alta/0/019-0614-04_1.jpg"}]
["2020-09-29T17:41:00",12,"019-0614-04","019-0614-04_2.jpg",{"$f":"+GetURL(D730)","v":"https://www.refaccionariagonzalez.com/alta/0/019-0614-04_2.jpg"}]
["2020-09-29T18:32:00",12,"019-0614-05","019-0614-05_1.jpg",{"$f":"+GetURL(D731)","v":"https://www.refaccionariagonzalez.com/alta/0/019-0614-05_1.jpg"}]
["2020-09-29T18:57:00",12,"019-0614-05","019-0614-05_2.jpg",{"$f":"+GetURL(D732)","v":"https://www.refaccionariagonzalez.com/alta/0/019-0614-05_2.jpg"}]
["2020-09-29T18:42:00",12,"019-0614-29","019-0614-29_1.jpg",{"$f":"+GetURL(D733)","v":"https://www.refaccionariagonzalez.com/alta/0/019-0614-29_1.jpg"}]
["2020-09-29T18:47:00",12,"019-0614-29","019-0614-29_2.jpg",{"$f":"+GetURL(D734)","v":"https://www.refaccionariagonzalez.com/alta/0/019-0614-29_2.jpg"}]
["2024-04-24T18:36:00",11,"019-0633-0","019-0633-0_1.jpg",{"$f":"+GetURL(D735)","v":"https://www.refaccionariagonzalez.com/alta/0/019-0633-0_1.jpg"}]
["2024-04-24T18:36:00",12,"019-0633-01","019-0633-01_2.jpg",{"$f":"+GetURL(D736)","v":"https://www.refaccionariagonzalez.com/alta/0/019-0633-01_2.jpg"}]
["2020-09-29T18:26:00",12,"019-0650-00","019-0650-00_1.jpg",{"$f":"+GetURL(D737)","v":"https://www.refaccionariagonzalez.com/alta/0/019-0650-00_1.jpg"}]
["2020-09-29T18:45:00",12,"019-0650-00","019-0650-00_2.jpg",{"$f":"+GetURL(D738)","v":"https://www.refaccionariagonzalez.com/alta/0/019-0650-00_2.jpg"}]
["2020-09-29T17:47:00",12,"019-0650-00","019-0650-00_3.jpg",{"$f":"+GetURL(D739)","v":"https://www.refaccionariagonzalez.com/alta/0/019-0650-00_3.jpg"}]
["2020-09-29T17:43:00",12,"019-0666-00","019-0666-00_1.jpg",{"$f":"+GetURL(D740)","v":"https://www.refaccionariagonzalez.com/alta/0/019-0666-00_1.jpg"}]
["2020-09-29T18:58:00",12,"019-0666-00","019-0666-00_2.jpg",{"$f":"+GetURL(D741)","v":"https://www.refaccionariagonzalez.com/alta/0/019-0666-00_2.jpg"}]
["2020-09-29T17:44:00",12,"019-0666-00","019-0666-00_3.jpg",{"$f":"+GetURL(D742)","v":"https://www.refaccionariagonzalez.com/alta/0/019-0666-00_3.jpg"}]
["2021-06-22T11:53:00",12,"019-0666-01","019-0666-01_1.JPG",{"$f":"+GetURL(D743)","v":"https://www.refaccionariagonzalez.com/alta/0/019-0666-01_1.JPG"}]
["2020-09-29T18:17:00",12,"019-0666-01","019-0666-01_1.jpg",{"$f":"+GetURL(D744)","v":"https://www.refaccionariagonzalez.com/alta/0/019-0666-01_1.jpg"}]
["2021-06-22T11:53:00",12,"019-0666-01","019-0666-01_2.JPG",{"$f":"+GetURL(D745)","v":"https://www.refaccionariagonzalez.com/alta/0/019-0666-01_2.JPG"}]
["2020-09-29T17:53:00",12,"019-0666-01","019-0666-01_2.jpg",{"$f":"+GetURL(D746)","v":"https://www.refaccionariagonzalez.com/alta/0/019-0666-01_2.jpg"}]
["2021-06-22T11:53:00",12,"019-0666-01","019-0666-01_3.JPG",{"$f":"+GetURL(D747)","v":"https://www.refaccionariagonzalez.com/alta/0/019-0666-01_3.JPG"}]
["2020-09-29T18:19:00",12,"019-0666-01","019-0666-01_3.jpg",{"$f":"+GetURL(D748)","v":"https://www.refaccionariagonzalez.com/alta/0/019-0666-01_3.jpg"}]
["2020-09-29T17:53:00",12,"019-0670-03","019-0670-03_1.jpg",{"$f":"+GetURL(D749)","v":"https://www.refaccionariagonzalez.com/alta/0/019-0670-03_1.jpg"}]
["2020-09-29T18:12:00",12,"019-0670-03","019-0670-03_2.jpg",{"$f":"+GetURL(D750)","v":"https://www.refaccionariagonzalez.com/alta/0/019-0670-03_2.jpg"}]
["2020-09-29T18:14:00",12,"019-0670-03","019-0670-03_3.jpg",{"$f":"+GetURL(D751)","v":"https://www.refaccionariagonzalez.com/alta/0/019-0670-03_3.jpg"}]
["2020-09-29T18:26:00",12,"019-0670-03","019-0670-03_4.jpg",{"$f":"+GetURL(D752)","v":"https://www.refaccionariagonzalez.com/alta/0/019-0670-03_4.jpg"}]
["2020-09-29T18:30:00",12,"019-0703-00","019-0703-00_1.jpg",{"$f":"+GetURL(D753)","v":"https://www.refaccionariagonzalez.com/alta/0/019-0703-00_1.jpg"}]
["2020-09-29T18:10:00",12,"019-0703-00","019-0703-00_2.jpg",{"$f":"+GetURL(D754)","v":"https://www.refaccionariagonzalez.com/alta/0/019-0703-00_2.jpg"}]
["2020-09-29T17:47:00",12,"019-0703-01","019-0703-01_1.jpg",{"$f":"+GetURL(D755)","v":"https://www.refaccionariagonzalez.com/alta/0/019-0703-01_1.jpg"}]
["2020-09-29T18:26:00",12,"019-0703-01","019-0703-01_2.jpg",{"$f":"+GetURL(D756)","v":"https://www.refaccionariagonzalez.com/alta/0/019-0703-01_2.jpg"}]
["2020-11-30T18:00:00",13,"019-0703-02.","019-0703-02._1.jpg",{"$f":"+GetURL(D757)","v":"https://www.refaccionariagonzalez.com/alta/0/019-0703-02._1.jpg"}]
["2020-11-30T18:00:00",13,"019-0703-02.","019-0703-02._2.jpg",{"$f":"+GetURL(D758)","v":"https://www.refaccionariagonzalez.com/alta/0/019-0703-02._2.jpg"}]
["2020-11-30T18:00:00",13,"019-0703-02.","019-0703-02._3.jpg",{"$f":"+GetURL(D759)","v":"https://www.refaccionariagonzalez.com/alta/0/019-0703-02._3.jpg"}]
["2020-09-29T18:12:00",12,"019-0703-02","019-0703-02_1.jpg",{"$f":"+GetURL(D760)","v":"https://www.refaccionariagonzalez.com/alta/0/019-0703-02_1.jpg"}]
["2020-09-29T18:32:00",12,"019-0703-02","019-0703-02_2.jpg",{"$f":"+GetURL(D761)","v":"https://www.refaccionariagonzalez.com/alta/0/019-0703-02_2.jpg"}]
["2020-11-30T18:00:00",13,"019-0703-03.","019-0703-03._1.jpg",{"$f":"+GetURL(D762)","v":"https://www.refaccionariagonzalez.com/alta/0/019-0703-03._1.jpg"}]
["2020-11-30T18:00:00",13,"019-0703-03.","019-0703-03._2.jpg",{"$f":"+GetURL(D763)","v":"https://www.refaccionariagonzalez.com/alta/0/019-0703-03._2.jpg"}]
["2020-11-30T18:00:00",13,"019-0703-03.","019-0703-03._3.jpg",{"$f":"+GetURL(D764)","v":"https://www.refaccionariagonzalez.com/alta/0/019-0703-03._3.jpg"}]
["2020-09-29T18:24:00",12,"019-0703-03","019-0703-03_1.jpg",{"$f":"+GetURL(D765)","v":"https://www.refaccionariagonzalez.com/alta/0/019-0703-03_1.jpg"}]
["2020-09-29T18:11:00",12,"019-0703-03","019-0703-03_2.jpg",{"$f":"+GetURL(D766)","v":"https://www.refaccionariagonzalez.com/alta/0/019-0703-03_2.jpg"}]
["2020-09-29T18:02:00",12,"019-0703-04","019-0703-04_1.jpg",{"$f":"+GetURL(D767)","v":"https://www.refaccionariagonzalez.com/alta/0/019-0703-04_1.jpg"}]
["2020-09-29T18:22:00",12,"019-0703-04","019-0703-04_2.jpg",{"$f":"+GetURL(D768)","v":"https://www.refaccionariagonzalez.com/alta/0/019-0703-04_2.jpg"}]
["2020-09-29T18:16:00",12,"019-0703-05","019-0703-05_1.jpg",{"$f":"+GetURL(D769)","v":"https://www.refaccionariagonzalez.com/alta/0/019-0703-05_1.jpg"}]
["2020-09-29T18:54:00",{"$f":"+FIND(\"_\",D770)","v":12},{"$f":"+LEFT(D770,B770-1)","v":"019-0703-05"},"019-0703-05_2.jpg",{"$f":"+GetURL(D770)","v":"https://www.refaccionariagonzalez.com/alta/0/019-0703-05_2.jpg"}]
["2020-09-29T18:53:00",12,"019-0703-06","019-0703-06_1.jpg",{"$f":"+GetURL(D771)","v":"https://www.refaccionariagonzalez.com/alta/0/019-0703-06_1.jpg"}]
["2020-09-29T17:53:00",12,"019-0703-06","019-0703-06_2.jpg",{"$f":"+GetURL(D772)","v":"https://www.refaccionariagonzalez.com/alta/0/019-0703-06_2.jpg"}]
["2020-09-29T18:09:00",12,"019-0703-07","019-0703-07_1.jpg",{"$f":"+GetURL(D773)","v":"https://www.refaccionariagonzalez.com/alta/0/019-0703-07_1.jpg"}]
["2020-09-29T18:53:00",12,"019-0703-07","019-0703-07_2.jpg",{"$f":"+GetURL(D774)","v":"https://www.refaccionariagonzalez.com/alta/0/019-0703-07_2.jpg"}]
["2020-09-29T17:59:00",12,"019-0901-00","019-0901-00_1.jpg",{"$f":"+GetURL(D775)","v":"https://www.refaccionariagonzalez.com/alta/0/019-0901-00_1.jpg"}]
["2020-09-29T18:52:00",12,"019-0901-00","019-0901-00_2.jpg",{"$f":"+GetURL(D776)","v":"https://www.refaccionariagonzalez.com/alta/0/019-0901-00_2.jpg"}]
["2020-09-29T18:50:00",12,"019-0901-01","019-0901-01_1.jpg",{"$f":"+GetURL(D777)","v":"https://www.refaccionariagonzalez.com/alta/0/019-0901-01_1.jpg"}]
["2020-09-29T18:51:00",12,"019-0901-01","019-0901-01_2.jpg",{"$f":"+GetURL(D778)","v":"https://www.refaccionariagonzalez.com/alta/0/019-0901-01_2.jpg"}]
["2024-05-16T08:43:00",{"$f":"+FIND(\".\",D779)","v":12},"019-0901-02","019-0901-02.jpg",{"$f":"+GetURL(D779)","v":"https://www.refaccionariagonzalez.com/alta/0/019-0901-02.jpg"}]
["2024-05-16T08:43:00",12,"019-0901-02","019-0901-02_1.jpg",{"$f":"+GetURL(D780)","v":"https://www.refaccionariagonzalez.com/alta/0/019-0901-02_1.jpg"}]
["2020-09-29T18:07:00",12,"019-0902-02","019-0902-02_1.jpg",{"$f":"+GetURL(D781)","v":"https://www.refaccionariagonzalez.com/alta/0/019-0902-02_1.jpg"}]
["2020-09-29T18:15:00",12,"019-0902-02","019-0902-02_2.jpg",{"$f":"+GetURL(D782)","v":"https://www.refaccionariagonzalez.com/alta/0/019-0902-02_2.jpg"}]
["2020-09-29T18:58:00",12,"019-0902-03","019-0902-03_1.jpg",{"$f":"+GetURL(D783)","v":"https://www.refaccionariagonzalez.com/alta/0/019-0902-03_1.jpg"}]
["2020-09-29T17:56:00",12,"019-0902-03","019-0902-03_2.jpg",{"$f":"+GetURL(D784)","v":"https://www.refaccionariagonzalez.com/alta/0/019-0902-03_2.jpg"}]
["2020-09-29T18:43:00",12,"019-0912-04","019-0912-04_1.jpg",{"$f":"+GetURL(D785)","v":"https://www.refaccionariagonzalez.com/alta/0/019-0912-04_1.jpg"}]
["2020-09-29T18:59:00",12,"019-0912-04","019-0912-04_2.jpg",{"$f":"+GetURL(D786)","v":"https://www.refaccionariagonzalez.com/alta/0/019-0912-04_2.jpg"}]
["2020-09-29T18:24:00",12,"019-0912-05","019-0912-05_1.jpg",{"$f":"+GetURL(D787)","v":"https://www.refaccionariagonzalez.com/alta/0/019-0912-05_1.jpg"}]
["2020-09-29T18:52:00",12,"019-0912-05","019-0912-05_2.jpg",{"$f":"+GetURL(D788)","v":"https://www.refaccionariagonzalez.com/alta/0/019-0912-05_2.jpg"}]
["2020-09-29T18:00:00",12,"019-0912-05","019-0912-05_3.jpg",{"$f":"+GetURL(D789)","v":"https://www.refaccionariagonzalez.com/alta/0/019-0912-05_3.jpg"}]
["2020-09-29T17:55:00",12,"019-0912-08","019-0912-08_1.jpg",{"$f":"+GetURL(D790)","v":"https://www.refaccionariagonzalez.com/alta/0/019-0912-08_1.jpg"}]
["2020-09-29T18:45:00",12,"019-0912-08","019-0912-08_2.jpg",{"$f":"+GetURL(D791)","v":"https://www.refaccionariagonzalez.com/alta/0/019-0912-08_2.jpg"}]
["2020-09-29T18:41:00",12,"019-0912-08","019-0912-08_3.jpg",{"$f":"+GetURL(D792)","v":"https://www.refaccionariagonzalez.com/alta/0/019-0912-08_3.jpg"}]
["2020-09-29T18:13:00",12,"019-0912-09","019-0912-09_1.jpg",{"$f":"+GetURL(D793)","v":"https://www.refaccionariagonzalez.com/alta/0/019-0912-09_1.jpg"}]
["2020-09-29T18:47:00",12,"019-0912-09","019-0912-09_2.jpg",{"$f":"+GetURL(D794)","v":"https://www.refaccionariagonzalez.com/alta/0/019-0912-09_2.jpg"}]
["2020-09-29T18:47:00",12,"019-0918-05","019-0918-05_1.jpg",{"$f":"+GetURL(D795)","v":"https://www.refaccionariagonzalez.com/alta/0/019-0918-05_1.jpg"}]
["2020-09-29T18:43:00",12,"019-0918-05","019-0918-05_2.jpg",{"$f":"+GetURL(D796)","v":"https://www.refaccionariagonzalez.com/alta/0/019-0918-05_2.jpg"}]
["2020-09-29T18:52:00",12,"019-0918-05","019-0918-05_3.jpg",{"$f":"+GetURL(D797)","v":"https://www.refaccionariagonzalez.com/alta/0/019-0918-05_3.jpg"}]
["2020-09-29T18:41:00",12,"019-0918-05","019-0918-05_4.jpg",{"$f":"+GetURL(D798)","v":"https://www.refaccionariagonzalez.com/alta/0/019-0918-05_4.jpg"}]
["2020-09-29T18:27:00",12,"019-1208-02","019-1208-02_1.jpg",{"$f":"+GetURL(D799)","v":"https://www.refaccionariagonzalez.com/alta/0/019-1208-02_1.jpg"}]
["2020-09-29T18:08:00",12,"019-1208-02","019-1208-02_2.jpg",{"$f":"+GetURL(D800)","v":"https://www.refaccionariagonzalez.com/alta/0/019-1208-02_2.jpg"}]
["2020-09-29T18:28:00",12,"019-1208-10","019-1208-10_1.jpg",{"$f":"+GetURL(D801)","v":"https://www.refaccionariagonzalez.com/alta/0/019-1208-10_1.jpg"}]
["2020-09-29T18:13:00",12,"019-1208-10","019-1208-10_2.jpg",{"$f":"+GetURL(D802)","v":"https://www.refaccionariagonzalez.com/alta/0/019-1208-10_2.jpg"}]
["2020-09-29T18:38:00",12,"019-1208-11","019-1208-11_1.jpg",{"$f":"+GetURL(D803)","v":"https://www.refaccionariagonzalez.com/alta/0/019-1208-11_1.jpg"}]
["2020-09-29T18:56:00",12,"019-1208-11","019-1208-11_2.jpg",{"$f":"+GetURL(D804)","v":"https://www.refaccionariagonzalez.com/alta/0/019-1208-11_2.jpg"}]
["2020-09-29T18:01:00",12,"019-1209-00","019-1209-00_1.jpg",{"$f":"+GetURL(D805)","v":"https://www.refaccionariagonzalez.com/alta/0/019-1209-00_1.jpg"}]
["2020-09-29T19:00:00",12,"019-1209-00","019-1209-00_2.jpg",{"$f":"+GetURL(D806)","v":"https://www.refaccionariagonzalez.com/alta/0/019-1209-00_2.jpg"}]
["2020-09-29T18:17:00",12,"019-1209-01","019-1209-01_1.jpg",{"$f":"+GetURL(D807)","v":"https://www.refaccionariagonzalez.com/alta/0/019-1209-01_1.jpg"}]
["2020-09-29T17:56:00",12,"019-1209-01","019-1209-01_2.jpg",{"$f":"+GetURL(D808)","v":"https://www.refaccionariagonzalez.com/alta/0/019-1209-01_2.jpg"}]
["2020-09-29T18:39:00",12,"019-1209-02","019-1209-02_1.jpg",{"$f":"+GetURL(D809)","v":"https://www.refaccionariagonzalez.com/alta/0/019-1209-02_1.jpg"}]
["2020-09-29T17:49:00",12,"019-1209-02","019-1209-02_2.jpg",{"$f":"+GetURL(D810)","v":"https://www.refaccionariagonzalez.com/alta/0/019-1209-02_2.jpg"}]
["2020-09-29T18:39:00",12,"019-1209-03","019-1209-03_1.jpg",{"$f":"+GetURL(D811)","v":"https://www.refaccionariagonzalez.com/alta/0/019-1209-03_1.jpg"}]
["2020-09-29T17:55:00",12,"019-1209-03","019-1209-03_2.jpg",{"$f":"+GetURL(D812)","v":"https://www.refaccionariagonzalez.com/alta/0/019-1209-03_2.jpg"}]
["2020-09-29T18:12:00",12,"019-1209-16","019-1209-16_1.jpg",{"$f":"+GetURL(D813)","v":"https://www.refaccionariagonzalez.com/alta/0/019-1209-16_1.jpg"}]
["2020-09-29T18:39:00",12,"019-1209-16","019-1209-16_2.jpg",{"$f":"+GetURL(D814)","v":"https://www.refaccionariagonzalez.com/alta/0/019-1209-16_2.jpg"}]
["2020-09-29T18:29:00",12,"019-1209-17","019-1209-17_1.jpg",{"$f":"+GetURL(D815)","v":"https://www.refaccionariagonzalez.com/alta/0/019-1209-17_1.jpg"}]
["2020-09-29T18:46:00",12,"019-1209-17","019-1209-17_2.jpg",{"$f":"+GetURL(D816)","v":"https://www.refaccionariagonzalez.com/alta/0/019-1209-17_2.jpg"}]
["2020-09-29T17:56:00",12,"019-1210-04","019-1210-04_1.jpg",{"$f":"+GetURL(D817)","v":"https://www.refaccionariagonzalez.com/alta/0/019-1210-04_1.jpg"}]
["2020-09-29T18:08:00",12,"019-1210-04","019-1210-04_2.jpg",{"$f":"+GetURL(D818)","v":"https://www.refaccionariagonzalez.com/alta/0/019-1210-04_2.jpg"}]
["2020-09-29T17:45:00",12,"019-1210-05","019-1210-05_1.jpg",{"$f":"+GetURL(D819)","v":"https://www.refaccionariagonzalez.com/alta/0/019-1210-05_1.jpg"}]
["2020-09-29T18:02:00",12,"019-1210-05","019-1210-05_2.jpg",{"$f":"+GetURL(D820)","v":"https://www.refaccionariagonzalez.com/alta/0/019-1210-05_2.jpg"}]
["2020-09-29T18:22:00",12,"019-1210-05","019-1210-05_3.jpg",{"$f":"+GetURL(D821)","v":"https://www.refaccionariagonzalez.com/alta/0/019-1210-05_3.jpg"}]
["2020-09-29T18:19:00",12,"019-1210-05","019-1210-05_4.jpg",{"$f":"+GetURL(D822)","v":"https://www.refaccionariagonzalez.com/alta/0/019-1210-05_4.jpg"}]
["2020-09-29T17:58:00",12,"019-1214-02","019-1214-02_1.jpg",{"$f":"+GetURL(D823)","v":"https://www.refaccionariagonzalez.com/alta/0/019-1214-02_1.jpg"}]
["2020-09-29T17:53:00",12,"019-1214-02","019-1214-02_2.jpg",{"$f":"+GetURL(D824)","v":"https://www.refaccionariagonzalez.com/alta/0/019-1214-02_2.jpg"}]
["2020-09-29T18:26:00",12,"019-1214-03","019-1214-03_1.jpg",{"$f":"+GetURL(D825)","v":"https://www.refaccionariagonzalez.com/alta/0/019-1214-03_1.jpg"}]
["2020-09-29T18:31:00",12,"019-1214-03","019-1214-03_2.jpg",{"$f":"+GetURL(D826)","v":"https://www.refaccionariagonzalez.com/alta/0/019-1214-03_2.jpg"}]
["2020-09-29T18:02:00",12,"019-1228-00","019-1228-00_1.jpg",{"$f":"+GetURL(D827)","v":"https://www.refaccionariagonzalez.com/alta/0/019-1228-00_1.jpg"}]
["2020-09-29T18:41:00",12,"019-1228-00","019-1228-00_2.jpg",{"$f":"+GetURL(D828)","v":"https://www.refaccionariagonzalez.com/alta/0/019-1228-00_2.jpg"}]
["2020-09-29T18:31:00",12,"019-1228-01","019-1228-01_1.jpg",{"$f":"+GetURL(D829)","v":"https://www.refaccionariagonzalez.com/alta/0/019-1228-01_1.jpg"}]
["2020-09-29T17:47:00",12,"019-1228-01","019-1228-01_2.jpg",{"$f":"+GetURL(D830)","v":"https://www.refaccionariagonzalez.com/alta/0/019-1228-01_2.jpg"}]
["2020-09-29T18:10:00",12,"019-1237-01","019-1237-01_1.jpg",{"$f":"+GetURL(D831)","v":"https://www.refaccionariagonzalez.com/alta/0/019-1237-01_1.jpg"}]
["2020-09-29T18:41:00",12,"019-1237-01","019-1237-01_2.jpg",{"$f":"+GetURL(D832)","v":"https://www.refaccionariagonzalez.com/alta/0/019-1237-01_2.jpg"}]
["2020-09-29T17:51:00",12,"019-2303-01","019-2303-01_1.jpg",{"$f":"+GetURL(D833)","v":"https://www.refaccionariagonzalez.com/alta/0/019-2303-01_1.jpg"}]
["2020-09-29T17:43:00",{"$f":"+FIND(\"_\",D834)","v":12},{"$f":"+LEFT(D834,B834-1)","v":"019-2303-01"},"019-2303-01_2.jpg",{"$f":"+GetURL(D834)","v":"https://www.refaccionariagonzalez.com/alta/0/019-2303-01_2.jpg"}]
["2020-09-29T18:39:00",12,"019-2306-00","019-2306-00_1.jpg",{"$f":"+GetURL(D835)","v":"https://www.refaccionariagonzalez.com/alta/0/019-2306-00_1.jpg"}]
["2020-09-29T17:58:00",12,"019-2306-00","019-2306-00_2.jpg",{"$f":"+GetURL(D836)","v":"https://www.refaccionariagonzalez.com/alta/0/019-2306-00_2.jpg"}]
["2020-09-29T18:18:00",12,"019-2306-01","019-2306-01_1.jpg",{"$f":"+GetURL(D837)","v":"https://www.refaccionariagonzalez.com/alta/0/019-2306-01_1.jpg"}]
["2020-09-29T18:31:00",12,"019-2306-01","019-2306-01_2.jpg",{"$f":"+GetURL(D838)","v":"https://www.refaccionariagonzalez.com/alta/0/019-2306-01_2.jpg"}]
["2020-09-29T18:21:00",12,"019-2314-00","019-2314-00_1.jpg",{"$f":"+GetURL(D839)","v":"https://www.refaccionariagonzalez.com/alta/0/019-2314-00_1.jpg"}]
["2020-09-29T18:41:00",12,"019-2314-00","019-2314-00_2.jpg",{"$f":"+GetURL(D840)","v":"https://www.refaccionariagonzalez.com/alta/0/019-2314-00_2.jpg"}]
["2020-09-29T17:52:00",12,"019-2314-01","019-2314-01_1.jpg",{"$f":"+GetURL(D841)","v":"https://www.refaccionariagonzalez.com/alta/0/019-2314-01_1.jpg"}]
["2020-09-29T18:14:00",12,"019-2314-01","019-2314-01_2.jpg",{"$f":"+GetURL(D842)","v":"https://www.refaccionariagonzalez.com/alta/0/019-2314-01_2.jpg"}]
["2022-01-24T18:04:00",12,"019-2316-52","019-2316-52_.jpg",{"$f":"+GetURL(D843)","v":"https://www.refaccionariagonzalez.com/alta/0/019-2316-52_.jpg"}]
["2022-01-24T18:04:00",12,"019-2316-52","019-2316-52_01.jpg",{"$f":"+GetURL(D844)","v":"https://www.refaccionariagonzalez.com/alta/0/019-2316-52_01.jpg"}]
["2020-09-29T18:03:00",12,"019-2321-02","019-2321-02_1.jpg",{"$f":"+GetURL(D845)","v":"https://www.refaccionariagonzalez.com/alta/0/019-2321-02_1.jpg"}]
["2020-09-29T18:08:00",12,"019-2321-02","019-2321-02_2.jpg",{"$f":"+GetURL(D846)","v":"https://www.refaccionariagonzalez.com/alta/0/019-2321-02_2.jpg"}]
["2020-09-29T18:12:00",12,"019-2321-03","019-2321-03_1.jpg",{"$f":"+GetURL(D847)","v":"https://www.refaccionariagonzalez.com/alta/0/019-2321-03_1.jpg"}]
["2020-09-29T18:26:00",12,"019-2321-03","019-2321-03_2.jpg",{"$f":"+GetURL(D848)","v":"https://www.refaccionariagonzalez.com/alta/0/019-2321-03_2.jpg"}]
["2020-09-29T18:23:00",12,"019-2321-03","019-2321-03_3.jpg",{"$f":"+GetURL(D849)","v":"https://www.refaccionariagonzalez.com/alta/0/019-2321-03_3.jpg"}]
["2020-09-29T18:39:00",12,"019-2321-03","019-2321-03_4.jpg",{"$f":"+GetURL(D850)","v":"https://www.refaccionariagonzalez.com/alta/0/019-2321-03_4.jpg"}]
["2020-09-29T17:55:00",12,"019-2321-12","019-2321-12_1.jpg",{"$f":"+GetURL(D851)","v":"https://www.refaccionariagonzalez.com/alta/0/019-2321-12_1.jpg"}]
["2020-09-29T17:41:00",12,"019-2321-12","019-2321-12_9.jpg",{"$f":"+GetURL(D852)","v":"https://www.refaccionariagonzalez.com/alta/0/019-2321-12_9.jpg"}]
["2020-09-29T17:58:00",12,"019-2321-13","019-2321-13_1.jpg",{"$f":"+GetURL(D853)","v":"https://www.refaccionariagonzalez.com/alta/0/019-2321-13_1.jpg"}]
["2020-09-29T18:53:00",12,"019-2321-13","019-2321-13_9.jpg",{"$f":"+GetURL(D854)","v":"https://www.refaccionariagonzalez.com/alta/0/019-2321-13_9.jpg"}]
["2020-09-29T18:04:00",12,"019-2322-10","019-2322-10_1.jpg",{"$f":"+GetURL(D855)","v":"https://www.refaccionariagonzalez.com/alta/0/019-2322-10_1.jpg"}]
["2020-09-29T18:51:00",12,"019-2322-10","019-2322-10_9.jpg",{"$f":"+GetURL(D856)","v":"https://www.refaccionariagonzalez.com/alta/0/019-2322-10_9.jpg"}]
["2020-09-29T18:05:00",12,"019-2322-16","019-2322-16_1.jpg",{"$f":"+GetURL(D857)","v":"https://www.refaccionariagonzalez.com/alta/0/019-2322-16_1.jpg"}]
["2020-09-29T17:56:00",12,"019-2322-16","019-2322-16_2.jpg",{"$f":"+GetURL(D858)","v":"https://www.refaccionariagonzalez.com/alta/0/019-2322-16_2.jpg"}]
["2020-09-29T18:46:00",12,"019-2322-16","019-2322-16_3.jpg",{"$f":"+GetURL(D859)","v":"https://www.refaccionariagonzalez.com/alta/0/019-2322-16_3.jpg"}]
["2020-09-29T18:54:00",12,"019-2322-16","019-2322-16_4.jpg",{"$f":"+GetURL(D860)","v":"https://www.refaccionariagonzalez.com/alta/0/019-2322-16_4.jpg"}]
["2020-09-29T18:00:00",12,"019-2322-16","019-2322-16_9.jpg",{"$f":"+GetURL(D861)","v":"https://www.refaccionariagonzalez.com/alta/0/019-2322-16_9.jpg"}]
["2020-09-29T18:11:00",12,"019-2322-17","019-2322-17_1.jpg",{"$f":"+GetURL(D862)","v":"https://www.refaccionariagonzalez.com/alta/0/019-2322-17_1.jpg"}]
["2020-09-29T18:59:00",12,"019-2322-17","019-2322-17_2.jpg",{"$f":"+GetURL(D863)","v":"https://www.refaccionariagonzalez.com/alta/0/019-2322-17_2.jpg"}]
["2020-09-29T18:47:00",12,"019-2322-17","019-2322-17_3.jpg",{"$f":"+GetURL(D864)","v":"https://www.refaccionariagonzalez.com/alta/0/019-2322-17_3.jpg"}]
["2020-09-29T18:00:00",12,"019-2322-17","019-2322-17_4.jpg",{"$f":"+GetURL(D865)","v":"https://www.refaccionariagonzalez.com/alta/0/019-2322-17_4.jpg"}]
["2020-09-29T18:06:00",12,"019-2322-17","019-2322-17_9.jpg",{"$f":"+GetURL(D866)","v":"https://www.refaccionariagonzalez.com/alta/0/019-2322-17_9.jpg"}]
["2024-05-06T09:00:00",{"$f":"+FIND(\".\",D867)","v":12},"019-2322-22","019-2322-22.jpg",{"$f":"+GetURL(D867)","v":"https://www.refaccionariagonzalez.com/alta/0/019-2322-22.jpg"}]
["2020-09-29T18:30:00",12,"019-2330-06","019-2330-06_1.jpg",{"$f":"+GetURL(D868)","v":"https://www.refaccionariagonzalez.com/alta/0/019-2330-06_1.jpg"}]
["2020-09-29T17:48:00",12,"019-2330-06","019-2330-06_9.jpg",{"$f":"+GetURL(D869)","v":"https://www.refaccionariagonzalez.com/alta/0/019-2330-06_9.jpg"}]
["2020-09-29T18:30:00",12,"019-2330-07","019-2330-07_1.jpg",{"$f":"+GetURL(D870)","v":"https://www.refaccionariagonzalez.com/alta/0/019-2330-07_1.jpg"}]
["2020-09-29T18:23:00",12,"019-2330-07","019-2330-07_2.jpg",{"$f":"+GetURL(D871)","v":"https://www.refaccionariagonzalez.com/alta/0/019-2330-07_2.jpg"}]
["2020-09-29T18:28:00",12,"019-2330-07","019-2330-07_3.jpg",{"$f":"+GetURL(D872)","v":"https://www.refaccionariagonzalez.com/alta/0/019-2330-07_3.jpg"}]
["2020-09-29T18:23:00",12,"019-2401-02","019-2401-02_1.jpg",{"$f":"+GetURL(D873)","v":"https://www.refaccionariagonzalez.com/alta/0/019-2401-02_1.jpg"}]
["2020-09-29T18:21:00",12,"019-2401-02","019-2401-02_2.jpg",{"$f":"+GetURL(D874)","v":"https://www.refaccionariagonzalez.com/alta/0/019-2401-02_2.jpg"}]
["2020-09-29T18:52:00",12,"019-2401-03","019-2401-03_1.jpg",{"$f":"+GetURL(D875)","v":"https://www.refaccionariagonzalez.com/alta/0/019-2401-03_1.jpg"}]
["2020-09-29T17:54:00",12,"019-2401-03","019-2401-03_2.jpg",{"$f":"+GetURL(D876)","v":"https://www.refaccionariagonzalez.com/alta/0/019-2401-03_2.jpg"}]
["2020-09-29T18:06:00",12,"019-2506-02","019-2506-02_1.jpg",{"$f":"+GetURL(D877)","v":"https://www.refaccionariagonzalez.com/alta/0/019-2506-02_1.jpg"}]
["2020-09-29T18:16:00",12,"019-2506-02","019-2506-02_2.jpg",{"$f":"+GetURL(D878)","v":"https://www.refaccionariagonzalez.com/alta/0/019-2506-02_2.jpg"}]
["2020-09-29T17:42:00",12,"019-2506-02","019-2506-02_3.jpg",{"$f":"+GetURL(D879)","v":"https://www.refaccionariagonzalez.com/alta/0/019-2506-02_3.jpg"}]
["2020-09-29T18:47:00",12,"019-2506-03","019-2506-03_1.jpg",{"$f":"+GetURL(D880)","v":"https://www.refaccionariagonzalez.com/alta/0/019-2506-03_1.jpg"}]
["2020-09-29T18:44:00",12,"019-2506-03","019-2506-03_2.jpg",{"$f":"+GetURL(D881)","v":"https://www.refaccionariagonzalez.com/alta/0/019-2506-03_2.jpg"}]
["2020-09-29T18:37:00",12,"019-2506-03","019-2506-03_3.jpg",{"$f":"+GetURL(D882)","v":"https://www.refaccionariagonzalez.com/alta/0/019-2506-03_3.jpg"}]
["2024-04-24T14:00:00",12,"019-2704-02","019-2704-02_.jpg",{"$f":"+GetURL(D883)","v":"https://www.refaccionariagonzalez.com/alta/0/019-2704-02_.jpg"}]
["2024-04-24T18:36:00",12,"019-2704-03","019-2704-03_.jpg",{"$f":"+GetURL(D884)","v":"https://www.refaccionariagonzalez.com/alta/0/019-2704-03_.jpg"}]
["2024-04-24T18:36:00",12,"019-2704-03","019-2704-03_2.jpg",{"$f":"+GetURL(D885)","v":"https://www.refaccionariagonzalez.com/alta/0/019-2704-03_2.jpg"}]
["2020-10-12T17:15:00",12,"019-2705-00","019-2705-00_1.jpg",{"$f":"+GetURL(D886)","v":"https://www.refaccionariagonzalez.com/alta/0/019-2705-00_1.jpg"}]
["2020-10-12T17:15:00",12,"019-2705-00","019-2705-00_2.jpg",{"$f":"+GetURL(D887)","v":"https://www.refaccionariagonzalez.com/alta/0/019-2705-00_2.jpg"}]
["2020-10-12T17:15:00",12,"019-2705-01","019-2705-01_1.jpg",{"$f":"+GetURL(D888)","v":"https://www.refaccionariagonzalez.com/alta/0/019-2705-01_1.jpg"}]
["2020-10-12T17:15:00",12,"019-2705-01","019-2705-01_2.jpg",{"$f":"+GetURL(D889)","v":"https://www.refaccionariagonzalez.com/alta/0/019-2705-01_2.jpg"}]
["2020-09-29T17:55:00",12,"019-3005-00","019-3005-00_1.jpg",{"$f":"+GetURL(D890)","v":"https://www.refaccionariagonzalez.com/alta/0/019-3005-00_1.jpg"}]
["2020-09-29T18:35:00",12,"019-3005-00","019-3005-00_2.jpg",{"$f":"+GetURL(D891)","v":"https://www.refaccionariagonzalez.com/alta/0/019-3005-00_2.jpg"}]
["2020-09-29T17:54:00",12,"019-3005-00","019-3005-00_3.jpg",{"$f":"+GetURL(D892)","v":"https://www.refaccionariagonzalez.com/alta/0/019-3005-00_3.jpg"}]
["2020-09-29T18:13:00",12,"019-3005-00","019-3005-00_4.jpg",{"$f":"+GetURL(D893)","v":"https://www.refaccionariagonzalez.com/alta/0/019-3005-00_4.jpg"}]
["2020-09-29T18:27:00",12,"019-3005-00","019-3005-00_9.jpg",{"$f":"+GetURL(D894)","v":"https://www.refaccionariagonzalez.com/alta/0/019-3005-00_9.jpg"}]
["2020-09-29T18:10:00",12,"019-3005-01","019-3005-01_1.jpg",{"$f":"+GetURL(D895)","v":"https://www.refaccionariagonzalez.com/alta/0/019-3005-01_1.jpg"}]
["2020-09-29T17:55:00",12,"019-3005-01","019-3005-01_2.jpg",{"$f":"+GetURL(D896)","v":"https://www.refaccionariagonzalez.com/alta/0/019-3005-01_2.jpg"}]
["2020-09-29T18:27:00",12,"019-3005-01","019-3005-01_3.jpg",{"$f":"+GetURL(D897)","v":"https://www.refaccionariagonzalez.com/alta/0/019-3005-01_3.jpg"}]
["2020-09-29T18:33:00",{"$f":"+FIND(\"_\",D898)","v":12},{"$f":"+LEFT(D898,B898-1)","v":"019-3005-01"},"019-3005-01_4.jpg",{"$f":"+GetURL(D898)","v":"https://www.refaccionariagonzalez.com/alta/0/019-3005-01_4.jpg"}]
["2020-09-29T17:53:00",12,"019-3005-01","019-3005-01_9.jpg",{"$f":"+GetURL(D899)","v":"https://www.refaccionariagonzalez.com/alta/0/019-3005-01_9.jpg"}]
["2020-09-29T18:38:00",12,"019-3005-08","019-3005-08_1.jpg",{"$f":"+GetURL(D900)","v":"https://www.refaccionariagonzalez.com/alta/0/019-3005-08_1.jpg"}]
["2020-09-29T18:26:00",12,"019-3005-08","019-3005-08_2.jpg",{"$f":"+GetURL(D901)","v":"https://www.refaccionariagonzalez.com/alta/0/019-3005-08_2.jpg"}]
["2020-09-29T18:02:00",12,"019-3005-08","019-3005-08_3.jpg",{"$f":"+GetURL(D902)","v":"https://www.refaccionariagonzalez.com/alta/0/019-3005-08_3.jpg"}]
["2020-09-29T18:06:00",12,"019-3005-08","019-3005-08_4.jpg",{"$f":"+GetURL(D903)","v":"https://www.refaccionariagonzalez.com/alta/0/019-3005-08_4.jpg"}]
["2020-09-29T18:56:00",12,"019-3005-08","019-3005-08_9.jpg",{"$f":"+GetURL(D904)","v":"https://www.refaccionariagonzalez.com/alta/0/019-3005-08_9.jpg"}]
["2020-09-29T18:14:00",12,"019-3005-09","019-3005-09_1.jpg",{"$f":"+GetURL(D905)","v":"https://www.refaccionariagonzalez.com/alta/0/019-3005-09_1.jpg"}]
["2020-09-29T18:11:00",12,"019-3005-09","019-3005-09_2.jpg",{"$f":"+GetURL(D906)","v":"https://www.refaccionariagonzalez.com/alta/0/019-3005-09_2.jpg"}]
["2020-09-29T18:23:00",12,"019-3005-09","019-3005-09_3.jpg",{"$f":"+GetURL(D907)","v":"https://www.refaccionariagonzalez.com/alta/0/019-3005-09_3.jpg"}]
["2020-09-29T18:20:00",12,"019-3005-09","019-3005-09_4.jpg",{"$f":"+GetURL(D908)","v":"https://www.refaccionariagonzalez.com/alta/0/019-3005-09_4.jpg"}]
["2020-09-29T18:27:00",12,"019-3005-09","019-3005-09_9.jpg",{"$f":"+GetURL(D909)","v":"https://www.refaccionariagonzalez.com/alta/0/019-3005-09_9.jpg"}]
["2020-09-29T17:45:00",12,"019-3108-02","019-3108-02_1.jpg",{"$f":"+GetURL(D910)","v":"https://www.refaccionariagonzalez.com/alta/0/019-3108-02_1.jpg"}]
["2020-09-29T18:46:00",12,"019-3108-02","019-3108-02_2.jpg",{"$f":"+GetURL(D911)","v":"https://www.refaccionariagonzalez.com/alta/0/019-3108-02_2.jpg"}]
["2020-09-29T18:15:00",12,"019-3108-03","019-3108-03_1.jpg",{"$f":"+GetURL(D912)","v":"https://www.refaccionariagonzalez.com/alta/0/019-3108-03_1.jpg"}]
["2020-09-29T19:00:00",12,"019-3108-03","019-3108-03_2.jpg",{"$f":"+GetURL(D913)","v":"https://www.refaccionariagonzalez.com/alta/0/019-3108-03_2.jpg"}]
["2020-09-29T17:47:00",12,"019-3108-03","019-3108-03_3.jpg",{"$f":"+GetURL(D914)","v":"https://www.refaccionariagonzalez.com/alta/0/019-3108-03_3.jpg"}]
["2022-06-27T15:32:00",12,"019-3108-19","019-3108-19_1.jpg",{"$f":"+GetURL(D915)","v":"https://www.refaccionariagonzalez.com/alta/0/019-3108-19_1.jpg"}]
["2022-06-27T15:32:00",12,"019-3108-19","019-3108-19_2.jpg",{"$f":"+GetURL(D916)","v":"https://www.refaccionariagonzalez.com/alta/0/019-3108-19_2.jpg"}]
["2022-06-27T15:32:00",12,"019-3108-19","019-3108-19_3.jpg",{"$f":"+GetURL(D917)","v":"https://www.refaccionariagonzalez.com/alta/0/019-3108-19_3.jpg"}]
["2022-06-27T15:32:00",12,"019-3108-19","019-3108-19_4.jpg",{"$f":"+GetURL(D918)","v":"https://www.refaccionariagonzalez.com/alta/0/019-3108-19_4.jpg"}]
["2022-06-27T15:32:00",12,"019-3108-19","019-3108-19_5.jpg",{"$f":"+GetURL(D919)","v":"https://www.refaccionariagonzalez.com/alta/0/019-3108-19_5.jpg"}]
["2020-09-29T18:06:00",12,"019-3110-00","019-3110-00_1.jpg",{"$f":"+GetURL(D920)","v":"https://www.refaccionariagonzalez.com/alta/0/019-3110-00_1.jpg"}]
["2020-09-29T18:17:00",12,"019-3110-00","019-3110-00_9.jpg",{"$f":"+GetURL(D921)","v":"https://www.refaccionariagonzalez.com/alta/0/019-3110-00_9.jpg"}]
["2020-09-29T17:53:00",12,"019-3110-01","019-3110-01_1.jpg",{"$f":"+GetURL(D922)","v":"https://www.refaccionariagonzalez.com/alta/0/019-3110-01_1.jpg"}]
["2020-09-29T17:50:00",12,"019-3110-01","019-3110-01_9.jpg",{"$f":"+GetURL(D923)","v":"https://www.refaccionariagonzalez.com/alta/0/019-3110-01_9.jpg"}]
["2020-09-29T17:45:00",12,"019-3110-10","019-3110-10_1.jpg",{"$f":"+GetURL(D924)","v":"https://www.refaccionariagonzalez.com/alta/0/019-3110-10_1.jpg"}]
["2020-09-29T18:34:00",12,"019-3110-10","019-3110-10_2.jpg",{"$f":"+GetURL(D925)","v":"https://www.refaccionariagonzalez.com/alta/0/019-3110-10_2.jpg"}]
["2020-09-29T17:57:00",12,"019-3110-10","019-3110-10_3.jpg",{"$f":"+GetURL(D926)","v":"https://www.refaccionariagonzalez.com/alta/0/019-3110-10_3.jpg"}]
["2020-09-29T18:09:00",12,"019-3110-10","019-3110-10_4.jpg",{"$f":"+GetURL(D927)","v":"https://www.refaccionariagonzalez.com/alta/0/019-3110-10_4.jpg"}]
["2020-09-29T18:54:00",12,"019-3110-10","019-3110-10_9.jpg",{"$f":"+GetURL(D928)","v":"https://www.refaccionariagonzalez.com/alta/0/019-3110-10_9.jpg"}]
["2020-09-29T18:26:00",12,"019-3110-11","019-3110-11_1.jpg",{"$f":"+GetURL(D929)","v":"https://www.refaccionariagonzalez.com/alta/0/019-3110-11_1.jpg"}]
["2020-09-29T18:45:00",12,"019-3110-11","019-3110-11_2.jpg",{"$f":"+GetURL(D930)","v":"https://www.refaccionariagonzalez.com/alta/0/019-3110-11_2.jpg"}]
["2020-09-29T17:51:00",12,"019-3110-11","019-3110-11_3.jpg",{"$f":"+GetURL(D931)","v":"https://www.refaccionariagonzalez.com/alta/0/019-3110-11_3.jpg"}]
["2020-09-29T18:13:00",12,"019-3110-11","019-3110-11_4.jpg",{"$f":"+GetURL(D932)","v":"https://www.refaccionariagonzalez.com/alta/0/019-3110-11_4.jpg"}]
["2020-09-29T18:54:00",12,"019-3110-11","019-3110-11_9.jpg",{"$f":"+GetURL(D933)","v":"https://www.refaccionariagonzalez.com/alta/0/019-3110-11_9.jpg"}]
["2020-09-29T17:46:00",12,"019-3111-02","019-3111-02_1.jpg",{"$f":"+GetURL(D934)","v":"https://www.refaccionariagonzalez.com/alta/0/019-3111-02_1.jpg"}]
["2020-09-29T18:17:00",12,"019-3111-02","019-3111-02_9.jpg",{"$f":"+GetURL(D935)","v":"https://www.refaccionariagonzalez.com/alta/0/019-3111-02_9.jpg"}]
["2020-09-29T18:01:00",12,"019-3111-03","019-3111-03_1.jpg",{"$f":"+GetURL(D936)","v":"https://www.refaccionariagonzalez.com/alta/0/019-3111-03_1.jpg"}]
["2020-09-29T18:37:00",12,"019-3111-03","019-3111-03_2.jpg",{"$f":"+GetURL(D937)","v":"https://www.refaccionariagonzalez.com/alta/0/019-3111-03_2.jpg"}]
["2020-09-29T17:48:00",12,"019-3111-03","019-3111-03_3.jpg",{"$f":"+GetURL(D938)","v":"https://www.refaccionariagonzalez.com/alta/0/019-3111-03_3.jpg"}]
["2020-09-29T18:06:00",12,"019-3111-03","019-3111-03_9.jpg",{"$f":"+GetURL(D939)","v":"https://www.refaccionariagonzalez.com/alta/0/019-3111-03_9.jpg"}]
["2020-09-29T18:26:00",12,"019-3111-10","019-3111-10_1.jpg",{"$f":"+GetURL(D940)","v":"https://www.refaccionariagonzalez.com/alta/0/019-3111-10_1.jpg"}]
["2020-09-29T17:48:00",12,"019-3111-10","019-3111-10_2.jpg",{"$f":"+GetURL(D941)","v":"https://www.refaccionariagonzalez.com/alta/0/019-3111-10_2.jpg"}]
["2020-09-29T17:49:00",12,"019-3111-10","019-3111-10_3.jpg",{"$f":"+GetURL(D942)","v":"https://www.refaccionariagonzalez.com/alta/0/019-3111-10_3.jpg"}]
["2020-09-29T18:16:00",12,"019-3111-10","019-3111-10_9.jpg",{"$f":"+GetURL(D943)","v":"https://www.refaccionariagonzalez.com/alta/0/019-3111-10_9.jpg"}]
["2020-09-29T19:00:00",12,"019-3112-14","019-3112-14_1.jpg",{"$f":"+GetURL(D944)","v":"https://www.refaccionariagonzalez.com/alta/0/019-3112-14_1.jpg"}]
["2020-09-29T17:54:00",12,"019-3112-14","019-3112-14_9.jpg",{"$f":"+GetURL(D945)","v":"https://www.refaccionariagonzalez.com/alta/0/019-3112-14_9.jpg"}]
["2020-09-29T18:23:00",12,"019-3112-15","019-3112-15_1.jpg",{"$f":"+GetURL(D946)","v":"https://www.refaccionariagonzalez.com/alta/0/019-3112-15_1.jpg"}]
["2020-09-29T18:41:00",12,"019-3112-15","019-3112-15_9.jpg",{"$f":"+GetURL(D947)","v":"https://www.refaccionariagonzalez.com/alta/0/019-3112-15_9.jpg"}]
["2020-09-29T18:41:00",12,"019-3112-28","019-3112-28_1.jpg",{"$f":"+GetURL(D948)","v":"https://www.refaccionariagonzalez.com/alta/0/019-3112-28_1.jpg"}]
["2020-09-29T18:55:00",12,"019-3112-28","019-3112-28_2.jpg",{"$f":"+GetURL(D949)","v":"https://www.refaccionariagonzalez.com/alta/0/019-3112-28_2.jpg"}]
["2020-09-29T18:01:00",12,"019-3112-28","019-3112-28_9.jpg",{"$f":"+GetURL(D950)","v":"https://www.refaccionariagonzalez.com/alta/0/019-3112-28_9.jpg"}]
["2020-09-29T17:52:00",12,"019-3112-29","019-3112-29_1.jpg",{"$f":"+GetURL(D951)","v":"https://www.refaccionariagonzalez.com/alta/0/019-3112-29_1.jpg"}]
["2020-09-29T19:00:00",12,"019-3112-29","019-3112-29_9.jpg",{"$f":"+GetURL(D952)","v":"https://www.refaccionariagonzalez.com/alta/0/019-3112-29_9.jpg"}]
["2020-10-12T17:15:00",12,"019-3115-10","019-3115-10_1.jpg",{"$f":"+GetURL(D953)","v":"https://www.refaccionariagonzalez.com/alta/0/019-3115-10_1.jpg"}]
["2020-10-12T17:15:00",12,"019-3115-10","019-3115-10_2.jpg",{"$f":"+GetURL(D954)","v":"https://www.refaccionariagonzalez.com/alta/0/019-3115-10_2.jpg"}]
["2020-10-12T17:15:00",12,"019-3115-11","019-3115-11_1.jpg",{"$f":"+GetURL(D955)","v":"https://www.refaccionariagonzalez.com/alta/0/019-3115-11_1.jpg"}]
["2020-10-12T17:15:00",12,"019-3115-11","019-3115-11_2.jpg",{"$f":"+GetURL(D956)","v":"https://www.refaccionariagonzalez.com/alta/0/019-3115-11_2.jpg"}]
["2020-09-29T18:20:00",12,"019-3115-12","019-3115-12_1.jpg",{"$f":"+GetURL(D957)","v":"https://www.refaccionariagonzalez.com/alta/0/019-3115-12_1.jpg"}]
["2020-09-29T17:54:00",12,"019-3115-12","019-3115-12_9.jpg",{"$f":"+GetURL(D958)","v":"https://www.refaccionariagonzalez.com/alta/0/019-3115-12_9.jpg"}]
["2020-09-29T18:39:00",12,"019-3115-13","019-3115-13_1.jpg",{"$f":"+GetURL(D959)","v":"https://www.refaccionariagonzalez.com/alta/0/019-3115-13_1.jpg"}]
["2020-09-29T18:04:00",12,"019-3115-13","019-3115-13_9.jpg",{"$f":"+GetURL(D960)","v":"https://www.refaccionariagonzalez.com/alta/0/019-3115-13_9.jpg"}]
["2020-09-29T17:51:00",12,"019-3115-31","019-3115-31_1.jpg",{"$f":"+GetURL(D961)","v":"https://www.refaccionariagonzalez.com/alta/0/019-3115-31_1.jpg"}]
["2020-09-29T18:04:00",{"$f":"+FIND(\"_\",D962)","v":12},{"$f":"+LEFT(D962,B962-1)","v":"019-3115-31"},"019-3115-31_2.jpg",{"$f":"+GetURL(D962)","v":"https://www.refaccionariagonzalez.com/alta/0/019-3115-31_2.jpg"}]
["2020-09-29T18:18:00",12,"019-3115-31","019-3115-31_3.jpg",{"$f":"+GetURL(D963)","v":"https://www.refaccionariagonzalez.com/alta/0/019-3115-31_3.jpg"}]
["2020-09-29T18:22:00",12,"019-3115-31","019-3115-31_9.jpg",{"$f":"+GetURL(D964)","v":"https://www.refaccionariagonzalez.com/alta/0/019-3115-31_9.jpg"}]
["2020-09-29T18:45:00",12,"019-3115-32","019-3115-32_1.jpg",{"$f":"+GetURL(D965)","v":"https://www.refaccionariagonzalez.com/alta/0/019-3115-32_1.jpg"}]
["2020-09-29T17:58:00",12,"019-3115-32","019-3115-32_2.jpg",{"$f":"+GetURL(D966)","v":"https://www.refaccionariagonzalez.com/alta/0/019-3115-32_2.jpg"}]
["2024-04-24T14:00:00",12,"019-3115-33","019-3115-33_.jpg",{"$f":"+GetURL(D967)","v":"https://www.refaccionariagonzalez.com/alta/0/019-3115-33_.jpg"}]
["2022-01-24T18:04:00",12,"019-3115-36","019-3115-36_.jpg",{"$f":"+GetURL(D968)","v":"https://www.refaccionariagonzalez.com/alta/0/019-3115-36_.jpg"}]
["2022-01-24T18:04:00",12,"019-3115-36","019-3115-36_01.jpg",{"$f":"+GetURL(D969)","v":"https://www.refaccionariagonzalez.com/alta/0/019-3115-36_01.jpg"}]
["2022-01-24T18:04:00",12,"019-3115-37","019-3115-37_.jpg",{"$f":"+GetURL(D970)","v":"https://www.refaccionariagonzalez.com/alta/0/019-3115-37_.jpg"}]
["2020-09-29T18:56:00",12,"019-3123-02","019-3123-02_1.jpg",{"$f":"+GetURL(D971)","v":"https://www.refaccionariagonzalez.com/alta/0/019-3123-02_1.jpg"}]
["2020-09-29T18:08:00",12,"019-3123-02","019-3123-02_9.jpg",{"$f":"+GetURL(D972)","v":"https://www.refaccionariagonzalez.com/alta/0/019-3123-02_9.jpg"}]
["2020-09-29T18:23:00",12,"019-3123-03","019-3123-03_1.jpg",{"$f":"+GetURL(D973)","v":"https://www.refaccionariagonzalez.com/alta/0/019-3123-03_1.jpg"}]
["2020-09-29T18:32:00",12,"019-3123-03","019-3123-03_9.jpg",{"$f":"+GetURL(D974)","v":"https://www.refaccionariagonzalez.com/alta/0/019-3123-03_9.jpg"}]
["2020-09-29T18:27:00",12,"019-3132-00","019-3132-00_1.jpg",{"$f":"+GetURL(D975)","v":"https://www.refaccionariagonzalez.com/alta/0/019-3132-00_1.jpg"}]
["2020-09-29T18:56:00",12,"019-3132-00","019-3132-00_2.jpg",{"$f":"+GetURL(D976)","v":"https://www.refaccionariagonzalez.com/alta/0/019-3132-00_2.jpg"}]
["2020-09-29T18:27:00",12,"019-3132-01","019-3132-01_1.jpg",{"$f":"+GetURL(D977)","v":"https://www.refaccionariagonzalez.com/alta/0/019-3132-01_1.jpg"}]
["2024-05-15T10:00:00",{"$f":"+FIND(\".\",D978)","v":12},"019-3134-01","019-3134-01.jpg",{"$f":"+GetURL(D978)","v":"https://www.refaccionariagonzalez.com/alta/0/019-3134-01.jpg"}]
["2020-09-29T18:27:00",13,"019-LAL-6810","019-LAL-6810_1.jpg",{"$f":"+GetURL(D979)","v":"https://www.refaccionariagonzalez.com/alta/0/019-LAL-6810_1.jpg"}]
["2020-09-29T18:39:00",13,"019-LAL-6810","019-LAL-6810_9.jpg",{"$f":"+GetURL(D980)","v":"https://www.refaccionariagonzalez.com/alta/0/019-LAL-6810_9.jpg"}]
["2020-09-29T18:18:00",13,"019-LAL-6815","019-LAL-6815_1.jpg",{"$f":"+GetURL(D981)","v":"https://www.refaccionariagonzalez.com/alta/0/019-LAL-6815_1.jpg"}]
["2020-09-29T17:45:00",13,"019-LAL-6815","019-LAL-6815_9.jpg",{"$f":"+GetURL(D982)","v":"https://www.refaccionariagonzalez.com/alta/0/019-LAL-6815_9.jpg"}]
["2024-05-17T08:33:00",{"$f":"+FIND(\".\",D983)","v":6},"02--5","02--5.jpg",{"$f":"+GetURL(D983)","v":"https://www.refaccionariagonzalez.com/alta/0/02--5.jpg"}]
["2020-09-29T18:40:00",6,"02--5","02--5_1.jpg",{"$f":"+GetURL(D984)","v":"https://www.refaccionariagonzalez.com/alta/0/02--5_1.jpg"}]
["2020-09-29T18:54:00",8,"02-0179","02-0179_1.jpg",{"$f":"+GetURL(D985)","v":"https://www.refaccionariagonzalez.com/alta/0/02-0179_1.jpg"}]
["2020-09-29T18:50:00",8,"02-0181","02-0181_1.jpg",{"$f":"+GetURL(D986)","v":"https://www.refaccionariagonzalez.com/alta/0/02-0181_1.jpg"}]
["2020-09-29T18:41:00",8,"02-0182","02-0182_1.jpg",{"$f":"+GetURL(D987)","v":"https://www.refaccionariagonzalez.com/alta/0/02-0182_1.jpg"}]
["2020-09-29T18:20:00",8,"02-0184","02-0184_1.jpg",{"$f":"+GetURL(D988)","v":"https://www.refaccionariagonzalez.com/alta/0/02-0184_1.jpg"}]
["2020-09-29T18:00:00",8,"02-0185","02-0185_1.jpg",{"$f":"+GetURL(D989)","v":"https://www.refaccionariagonzalez.com/alta/0/02-0185_1.jpg"}]
["2020-09-29T17:50:00",8,"02-0186","02-0186_1.jpg",{"$f":"+GetURL(D990)","v":"https://www.refaccionariagonzalez.com/alta/0/02-0186_1.jpg"}]
["2020-09-29T19:00:00",8,"02-0188","02-0188_1.jpg",{"$f":"+GetURL(D991)","v":"https://www.refaccionariagonzalez.com/alta/0/02-0188_1.jpg"}]
["2020-09-29T18:38:00",11,"02A141165G","02A141165G_1.jpg",{"$f":"+GetURL(D992)","v":"https://www.refaccionariagonzalez.com/alta/0/02A141165G_1.jpg"}]
["2020-09-29T17:56:00",11,"02A141165G","02A141165G_2.jpg",{"$f":"+GetURL(D993)","v":"https://www.refaccionariagonzalez.com/alta/0/02A141165G_2.jpg"}]
["2020-09-29T18:17:00",11,"02K141709A","02K141709A_1.jpg",{"$f":"+GetURL(D994)","v":"https://www.refaccionariagonzalez.com/alta/0/02K141709A_1.jpg"}]
["2021-04-14T18:57:00",15,"02T-141-153FMC","02T-141-153FMC_1.jpg",{"$f":"+GetURL(D995)","v":"https://www.refaccionariagonzalez.com/alta/0/02T-141-153FMC_1.jpg"}]
["2021-04-14T18:57:00",15,"02T-141-170MC ","02T-141-170MC _1.jpg",{"$f":"+GetURL(D996)","v":"https://www.refaccionariagonzalez.com/alta/0/02T-141-170MC _1.jpg"}]
["2024-04-24T13:35:00",13,"02T-141-170M","02T-141-170M_C.jpg",{"$f":"+GetURL(D997)","v":"https://www.refaccionariagonzalez.com/alta/0/02T-141-170M_C.jpg"}]
["2020-09-29T18:26:00",11,"02T141170C","02T141170C_1.jpg",{"$f":"+GetURL(D998)","v":"https://www.refaccionariagonzalez.com/alta/0/02T141170C_1.jpg"}]
["2020-09-29T18:03:00",11,"02T141170C","02T141170C_2.jpg",{"$f":"+GetURL(D999)","v":"https://www.refaccionariagonzalez.com/alta/0/02T141170C_2.jpg"}]
["2020-09-29T17:44:00",10,"02T141719","02T141719_1.jpg",{"$f":"+GetURL(D1000)","v":"https://www.refaccionariagonzalez.com/alta/0/02T141719_1.jpg"}]
["2020-09-29T18:37:00",10,"02T945415","02T945415_1.jpg",{"$f":"+GetURL(D1001)","v":"https://www.refaccionariagonzalez.com/alta/0/02T945415_1.jpg"}]
["2020-09-29T18:39:00",11,"020141709A","020141709A_1.jpg",{"$f":"+GetURL(D1002)","v":"https://www.refaccionariagonzalez.com/alta/0/020141709A_1.jpg"}]
["2020-09-29T18:31:00",11,"020141709A","020141709A_2.jpg",{"$f":"+GetURL(D1003)","v":"https://www.refaccionariagonzalez.com/alta/0/020141709A_2.jpg"}]
["2020-09-29T18:46:00",11,"021919081B","021919081B_1.jpg",{"$f":"+GetURL(D1004)","v":"https://www.refaccionariagonzalez.com/alta/0/021919081B_1.jpg"}]
["2020-09-29T18:29:00",11,"021919081B","021919081B_2.jpg",{"$f":"+GetURL(D1005)","v":"https://www.refaccionariagonzalez.com/alta/0/021919081B_2.jpg"}]
["2020-09-29T18:42:00",11,"021919081B","021919081B_8.jpg",{"$f":"+GetURL(D1006)","v":"https://www.refaccionariagonzalez.com/alta/0/021919081B_8.jpg"}]
["2020-09-29T18:25:00",11,"021919081B","021919081B_9.jpg",{"$f":"+GetURL(D1007)","v":"https://www.refaccionariagonzalez.com/alta/0/021919081B_9.jpg"}]
["2020-09-29T18:33:00",11,"023109111D","023109111D_1.jpg",{"$f":"+GetURL(D1008)","v":"https://www.refaccionariagonzalez.com/alta/0/023109111D_1.jpg"}]
["2020-09-29T18:58:00",11,"023109111D","023109111D_2.jpg",{"$f":"+GetURL(D1009)","v":"https://www.refaccionariagonzalez.com/alta/0/023109111D_2.jpg"}]
["2020-09-29T17:48:00",11,"023109111D","023109111D_8.jpg",{"$f":"+GetURL(D1010)","v":"https://www.refaccionariagonzalez.com/alta/0/023109111D_8.jpg"}]
["2020-09-29T18:24:00",11,"023109111D","023109111D_9.jpg",{"$f":"+GetURL(D1011)","v":"https://www.refaccionariagonzalez.com/alta/0/023109111D_9.jpg"}]
["2020-09-29T17:53:00",11,"025906041A","025906041A_1.jpg",{"$f":"+GetURL(D1012)","v":"https://www.refaccionariagonzalez.com/alta/0/025906041A_1.jpg"}]
["2020-09-29T18:58:00",11,"025906041A","025906041A_9.jpg",{"$f":"+GetURL(D1013)","v":"https://www.refaccionariagonzalez.com/alta/0/025906041A_9.jpg"}]
["2022-05-06T11:24:00",12,"026-0631-00","026-0631-00_1.jpg",{"$f":"+GetURL(D1014)","v":"https://www.refaccionariagonzalez.com/alta/0/026-0631-00_1.jpg"}]
["2022-05-06T11:24:00",12,"026-0631-00","026-0631-00_2.jpg",{"$f":"+GetURL(D1015)","v":"https://www.refaccionariagonzalez.com/alta/0/026-0631-00_2.jpg"}]
["2022-05-06T11:24:00",12,"026-0631-00","026-0631-00_3.jpg",{"$f":"+GetURL(D1016)","v":"https://www.refaccionariagonzalez.com/alta/0/026-0631-00_3.jpg"}]
["2020-09-29T18:53:00",12,"026-905-105","026-905-105_1.jpg",{"$f":"+GetURL(D1017)","v":"https://www.refaccionariagonzalez.com/alta/0/026-905-105_1.jpg"}]
["2020-09-29T18:23:00",12,"026-905-105","026-905-105_2.jpg",{"$f":"+GetURL(D1018)","v":"https://www.refaccionariagonzalez.com/alta/0/026-905-105_2.jpg"}]
["2020-09-29T18:51:00",12,"026-905-105","026-905-105_3.jpg",{"$f":"+GetURL(D1019)","v":"https://www.refaccionariagonzalez.com/alta/0/026-905-105_3.jpg"}]
["2020-09-29T18:44:00",12,"026-905-105","026-905-105_9.jpg",{"$f":"+GetURL(D1020)","v":"https://www.refaccionariagonzalez.com/alta/0/026-905-105_9.jpg"}]
["2021-10-01T12:02:00",12,"026-2302-05","026-2302-05_1.jpg",{"$f":"+GetURL(D1021)","v":"https://www.refaccionariagonzalez.com/alta/0/026-2302-05_1.jpg"}]
["2021-10-01T12:02:00",12,"026-2302-05","026-2302-05_2.jpg",{"$f":"+GetURL(D1022)","v":"https://www.refaccionariagonzalez.com/alta/0/026-2302-05_2.jpg"}]
["2021-10-01T12:02:00",12,"026-2302-05","026-2302-05_3.jpg",{"$f":"+GetURL(D1023)","v":"https://www.refaccionariagonzalez.com/alta/0/026-2302-05_3.jpg"}]
["2021-10-01T12:02:00",12,"026-2302-05","026-2302-05_4.jpg",{"$f":"+GetURL(D1024)","v":"https://www.refaccionariagonzalez.com/alta/0/026-2302-05_4.jpg"}]
["2021-10-01T12:02:00",12,"026-2302-05","026-2302-05_5.jpg",{"$f":"+GetURL(D1025)","v":"https://www.refaccionariagonzalez.com/alta/0/026-2302-05_5.jpg"}]
["2020-09-29T18:36:00",{"$f":"+FIND(\"_\",D1026)","v":11},{"$f":"+LEFT(D1026,B1026-1)","v":"026103485A"},"026103485A_1.jpg",{"$f":"+GetURL(D1026)","v":"https://www.refaccionariagonzalez.com/alta/0/026103485A_1.jpg"}]
["2020-09-29T18:41:00",11,"026103485A","026103485A_2.jpg",{"$f":"+GetURL(D1027)","v":"https://www.refaccionariagonzalez.com/alta/0/026103485A_2.jpg"}]
["2020-09-29T18:29:00",11,"026109243E","026109243E_1.jpg",{"$f":"+GetURL(D1028)","v":"https://www.refaccionariagonzalez.com/alta/0/026109243E_1.jpg"}]
["2020-09-29T17:53:00",11,"026109243E","026109243E_2.jpg",{"$f":"+GetURL(D1029)","v":"https://www.refaccionariagonzalez.com/alta/0/026109243E_2.jpg"}]
["2020-09-29T18:53:00",11,"026109243E","026109243E_8.jpg",{"$f":"+GetURL(D1030)","v":"https://www.refaccionariagonzalez.com/alta/0/026109243E_8.jpg"}]
["2020-09-29T17:50:00",11,"026109243E","026109243E_9.jpg",{"$f":"+GetURL(D1031)","v":"https://www.refaccionariagonzalez.com/alta/0/026109243E_9.jpg"}]
["2020-09-29T18:42:00",11,"026903247B","026903247B_1.jpg",{"$f":"+GetURL(D1032)","v":"https://www.refaccionariagonzalez.com/alta/0/026903247B_1.jpg"}]
["2020-09-29T17:44:00",11,"026903247B","026903247B_2.jpg",{"$f":"+GetURL(D1033)","v":"https://www.refaccionariagonzalez.com/alta/0/026903247B_2.jpg"}]
["2024-04-24T14:56:00",12,"026906247-K","026906247-K_B.jpg",{"$f":"+GetURL(D1034)","v":"https://www.refaccionariagonzalez.com/alta/0/026906247-K_B.jpg"}]
["2020-09-29T18:18:00",13,"027115611C-A","027115611C-A_1.jpg",{"$f":"+GetURL(D1035)","v":"https://www.refaccionariagonzalez.com/alta/0/027115611C-A_1.jpg"}]
["2020-09-29T18:30:00",13,"027115611C-A","027115611C-A_2.jpg",{"$f":"+GetURL(D1036)","v":"https://www.refaccionariagonzalez.com/alta/0/027115611C-A_2.jpg"}]
["2024-04-25T09:43:00",13,"027905205L-K","027905205L-K_B.jpg",{"$f":"+GetURL(D1037)","v":"https://www.refaccionariagonzalez.com/alta/0/027905205L-K_B.jpg"}]
["2023-05-17T11:25:00",11,"027905207A","027905207A_1.jpg",{"$f":"+GetURL(D1038)","v":"https://www.refaccionariagonzalez.com/alta/0/027905207A_1.jpg"}]
["2023-05-17T11:25:00",11,"027905207A","027905207A_2.jpg",{"$f":"+GetURL(D1039)","v":"https://www.refaccionariagonzalez.com/alta/0/027905207A_2.jpg"}]
["2023-05-17T11:25:00",11,"027905207A","027905207A_3.jpg",{"$f":"+GetURL(D1040)","v":"https://www.refaccionariagonzalez.com/alta/0/027905207A_3.jpg"}]
["2020-09-29T18:33:00",13,"028-919-081D","028-919-081D_1.jpg",{"$f":"+GetURL(D1041)","v":"https://www.refaccionariagonzalez.com/alta/0/028-919-081D_1.jpg"}]
["2020-09-29T18:05:00",13,"028-919-081D","028-919-081D_9.jpg",{"$f":"+GetURL(D1042)","v":"https://www.refaccionariagonzalez.com/alta/0/028-919-081D_9.jpg"}]
["2020-09-29T17:49:00",11,"028103171B","028103171B_1.jpg",{"$f":"+GetURL(D1043)","v":"https://www.refaccionariagonzalez.com/alta/0/028103171B_1.jpg"}]
["2020-09-29T18:44:00",11,"028103171B","028103171B_2.jpg",{"$f":"+GetURL(D1044)","v":"https://www.refaccionariagonzalez.com/alta/0/028103171B_2.jpg"}]
["2020-09-29T18:52:00",11,"028103171B","028103171B_8.jpg",{"$f":"+GetURL(D1045)","v":"https://www.refaccionariagonzalez.com/alta/0/028103171B_8.jpg"}]
["2020-09-29T17:42:00",11,"028103171B","028103171B_9.jpg",{"$f":"+GetURL(D1046)","v":"https://www.refaccionariagonzalez.com/alta/0/028103171B_9.jpg"}]
["2024-05-17T08:33:00",{"$f":"+FIND(\".\",D1047)","v":6},"03--2","03--2.jpg",{"$f":"+GetURL(D1047)","v":"https://www.refaccionariagonzalez.com/alta/0/03--2.jpg"}]
["2020-09-29T17:57:00",6,"03--2","03--2_1.jpg",{"$f":"+GetURL(D1048)","v":"https://www.refaccionariagonzalez.com/alta/0/03--2_1.jpg"}]
["2020-09-29T18:19:00",6,"03--2","03--2_2.jpg",{"$f":"+GetURL(D1049)","v":"https://www.refaccionariagonzalez.com/alta/0/03--2_2.jpg"}]
["2020-09-29T17:52:00",6,"03--2","03--2_3.jpg",{"$f":"+GetURL(D1050)","v":"https://www.refaccionariagonzalez.com/alta/0/03--2_3.jpg"}]
["2024-04-24T12:36:00",10,"03-109119","03-109119_E.jpg",{"$f":"+GetURL(D1051)","v":"https://www.refaccionariagonzalez.com/alta/0/03-109119_E.jpg"}]
["2020-09-29T18:40:00",13,"03C-115-561D","03C-115-561D_1.jpg",{"$f":"+GetURL(D1052)","v":"https://www.refaccionariagonzalez.com/alta/0/03C-115-561D_1.jpg"}]
["2020-09-29T19:00:00",13,"03C-115-561H","03C-115-561H_1.jpg",{"$f":"+GetURL(D1053)","v":"https://www.refaccionariagonzalez.com/alta/0/03C-115-561H_1.jpg"}]
["2020-09-29T17:50:00",14,"03C-121-008JX","03C-121-008JX_1.jpg",{"$f":"+GetURL(D1054)","v":"https://www.refaccionariagonzalez.com/alta/0/03C-121-008JX_1.jpg"}]
["2020-09-29T18:44:00",14,"03C-121-008JX","03C-121-008JX_2.jpg",{"$f":"+GetURL(D1055)","v":"https://www.refaccionariagonzalez.com/alta/0/03C-121-008JX_2.jpg"}]
["2020-09-29T18:28:00",14,"03C-121-008JX","03C-121-008JX_3.jpg",{"$f":"+GetURL(D1056)","v":"https://www.refaccionariagonzalez.com/alta/0/03C-121-008JX_3.jpg"}]
["2020-09-29T18:49:00",16,"03C-121-111AMBC","03C-121-111AMBC_1.jpg",{"$f":"+GetURL(D1057)","v":"https://www.refaccionariagonzalez.com/alta/0/03C-121-111AMBC_1.jpg"}]
["2020-09-29T18:42:00",16,"03C-121-111AMBC","03C-121-111AMBC_2.jpg",{"$f":"+GetURL(D1058)","v":"https://www.refaccionariagonzalez.com/alta/0/03C-121-111AMBC_2.jpg"}]
["2020-09-29T18:25:00",16,"03C-121-111AMBC","03C-121-111AMBC_3.jpg",{"$f":"+GetURL(D1059)","v":"https://www.refaccionariagonzalez.com/alta/0/03C-121-111AMBC_3.jpg"}]
["2020-09-29T19:00:00",15,"03C-121-118DBC","03C-121-118DBC_1.jpg",{"$f":"+GetURL(D1060)","v":"https://www.refaccionariagonzalez.com/alta/0/03C-121-118DBC_1.jpg"}]
["2020-09-29T17:44:00",15,"03C-121-118DBC","03C-121-118DBC_2.jpg",{"$f":"+GetURL(D1061)","v":"https://www.refaccionariagonzalez.com/alta/0/03C-121-118DBC_2.jpg"}]
["2020-09-29T18:11:00",15,"03C-121-118DBC","03C-121-118DBC_3.jpg",{"$f":"+GetURL(D1062)","v":"https://www.refaccionariagonzalez.com/alta/0/03C-121-118DBC_3.jpg"}]
["2020-09-29T17:44:00",15,"03C-121-121DBC","03C-121-121DBC_1.jpg",{"$f":"+GetURL(D1063)","v":"https://www.refaccionariagonzalez.com/alta/0/03C-121-121DBC_1.jpg"}]
["2020-09-29T18:01:00",15,"03C-121-121DBC","03C-121-121DBC_2.jpg",{"$f":"+GetURL(D1064)","v":"https://www.refaccionariagonzalez.com/alta/0/03C-121-121DBC_2.jpg"}]
["2020-09-29T18:58:00",15,"03C-121-121DBC","03C-121-121DBC_3.jpg",{"$f":"+GetURL(D1065)","v":"https://www.refaccionariagonzalez.com/alta/0/03C-121-121DBC_3.jpg"}]
["2020-09-29T18:18:00",12,"03C-906-051","03C-906-051_1.jpg",{"$f":"+GetURL(D1066)","v":"https://www.refaccionariagonzalez.com/alta/0/03C-906-051_1.jpg"}]
["2020-09-29T18:17:00",12,"03C-906-051","03C-906-051_2.jpg",{"$f":"+GetURL(D1067)","v":"https://www.refaccionariagonzalez.com/alta/0/03C-906-051_2.jpg"}]
["2020-09-29T18:07:00",12,"03C-906-051","03C-906-051_3.jpg",{"$f":"+GetURL(D1068)","v":"https://www.refaccionariagonzalez.com/alta/0/03C-906-051_3.jpg"}]
["2024-05-06T09:23:00",{"$f":"+FIND(\".\",D1069)","v":11},"03C115230C","03C115230C.jpg",{"$f":"+GetURL(D1069)","v":"https://www.refaccionariagonzalez.com/alta/0/03C115230C.jpg"}]
["2024-04-24T14:00:00",10,"03C115230","03C115230_C.jpg",{"$f":"+GetURL(D1070)","v":"https://www.refaccionariagonzalez.com/alta/0/03C115230_C.jpg"}]
["2024-04-24T12:29:00",12,"03C115561-K","03C115561-K_B.jpg",{"$f":"+GetURL(D1071)","v":"https://www.refaccionariagonzalez.com/alta/0/03C115561-K_B.jpg"}]
["2024-05-20T09:22:00",{"$f":"+FIND(\".\",D1072)","v":12},"03C115611AA","03C115611AA.jpg",{"$f":"+GetURL(D1072)","v":"https://www.refaccionariagonzalez.com/alta/0/03C115611AA.jpg"}]
["2024-05-02T10:11:00",14,"03C121065B-KB","03C121065B-KB.jpg",{"$f":"+GetURL(D1073)","v":"https://www.refaccionariagonzalez.com/alta/0/03C121065B-KB.jpg"}]
["2020-09-29T18:48:00",11,"03C121065B","03C121065B_1.jpg",{"$f":"+GetURL(D1074)","v":"https://www.refaccionariagonzalez.com/alta/0/03C121065B_1.jpg"}]
["2020-09-29T18:12:00",11,"03C121065B","03C121065B_2.jpg",{"$f":"+GetURL(D1075)","v":"https://www.refaccionariagonzalez.com/alta/0/03C121065B_2.jpg"}]
["2024-05-08T08:21:00",{"$f":"+FIND(\".\",D1076)","v":11},"03C121065K","03C121065K.jpg",{"$f":"+GetURL(D1076)","v":"https://www.refaccionariagonzalez.com/alta/0/03C121065K.jpg"}]
["2024-05-02T09:45:00",10,"03C121065","03C121065_K.jpg",{"$f":"+GetURL(D1077)","v":"https://www.refaccionariagonzalez.com/alta/0/03C121065_K.jpg"}]
["2020-09-29T18:29:00",12,"03C121111AE","03C121111AE_1.jpg",{"$f":"+GetURL(D1078)","v":"https://www.refaccionariagonzalez.com/alta/0/03C121111AE_1.jpg"}]
["2020-09-29T18:45:00",12,"03C121111AE","03C121111AE_2.jpg",{"$f":"+GetURL(D1079)","v":"https://www.refaccionariagonzalez.com/alta/0/03C121111AE_2.jpg"}]
["2020-09-29T18:34:00",12,"03C121111AE","03C121111AE_3.jpg",{"$f":"+GetURL(D1080)","v":"https://www.refaccionariagonzalez.com/alta/0/03C121111AE_3.jpg"}]
["2024-04-24T13:15:00",15,"03C121111AM-KB","03C121111AM-KB_2.jpg",{"$f":"+GetURL(D1081)","v":"https://www.refaccionariagonzalez.com/alta/0/03C121111AM-KB_2.jpg"}]
["2024-04-24T13:15:00",14,"03C121111AM-K","03C121111AM-K_B.jpg",{"$f":"+GetURL(D1082)","v":"https://www.refaccionariagonzalez.com/alta/0/03C121111AM-K_B.jpg"}]
["2024-05-03T09:40:00",9,"03L10911","03L10911_9.jpg",{"$f":"+GetURL(D1083)","v":"https://www.refaccionariagonzalez.com/alta/0/03L10911_9.jpg"}]
["2024-05-03T09:40:00",9,"03L12113","03L12113_2.jpg",{"$f":"+GetURL(D1084)","v":"https://www.refaccionariagonzalez.com/alta/0/03L12113_2.jpg"}]
["2024-05-06T09:23:00",{"$f":"+FIND(\".\",D1085)","v":11},"03L109119E","03L109119E.jpg",{"$f":"+GetURL(D1085)","v":"https://www.refaccionariagonzalez.com/alta/0/03L109119E.jpg"}]
["2024-04-24T14:00:00",10,"03L109119","03L109119_E.jpg",{"$f":"+GetURL(D1086)","v":"https://www.refaccionariagonzalez.com/alta/0/03L109119_E.jpg"}]
["2022-05-06T11:24:00",11,"03L115389H","03L115389H_1.jpg",{"$f":"+GetURL(D1087)","v":"https://www.refaccionariagonzalez.com/alta/0/03L115389H_1.jpg"}]
["2022-05-06T11:24:00",11,"03L115389H","03L115389H_2.jpg",{"$f":"+GetURL(D1088)","v":"https://www.refaccionariagonzalez.com/alta/0/03L115389H_2.jpg"}]
["2022-05-06T11:24:00",11,"03L115389H","03L115389H_3.jpg",{"$f":"+GetURL(D1089)","v":"https://www.refaccionariagonzalez.com/alta/0/03L115389H_3.jpg"}]
["2022-05-06T11:24:00",{"$f":"+FIND(\"_\",D1090)","v":11},{"$f":"+LEFT(D1090,B1090-1)","v":"03L115389H"},"03L115389H_4.jpg",{"$f":"+GetURL(D1090)","v":"https://www.refaccionariagonzalez.com/alta/0/03L115389H_4.jpg"}]
["2024-05-06T09:23:00",{"$f":"+FIND(\".\",D1091)","v":11},"03L121132F","03L121132F.jpg",{"$f":"+GetURL(D1091)","v":"https://www.refaccionariagonzalez.com/alta/0/03L121132F.jpg"}]
["2024-04-24T13:44:00",10,"03L121132","03L121132_F.jpg",{"$f":"+GetURL(D1092)","v":"https://www.refaccionariagonzalez.com/alta/0/03L121132_F.jpg"}]
["2024-05-13T08:29:00",{"$f":"+FIND(\".\",D1093)","v":15},"03N-115-562BMF","03N-115-562BMF.jpg",{"$f":"+GetURL(D1093)","v":"https://www.refaccionariagonzalez.com/alta/0/03N-115-562BMF.jpg"}]
["2020-09-29T17:46:00",13,"030-109-243M","030-109-243M_1.jpg",{"$f":"+GetURL(D1094)","v":"https://www.refaccionariagonzalez.com/alta/0/030-109-243M_1.jpg"}]
["2020-09-29T18:00:00",13,"030-109-243M","030-109-243M_2.jpg",{"$f":"+GetURL(D1095)","v":"https://www.refaccionariagonzalez.com/alta/0/030-109-243M_2.jpg"}]
["2020-09-29T18:32:00",13,"030-109-243M","030-109-243M_3.jpg",{"$f":"+GetURL(D1096)","v":"https://www.refaccionariagonzalez.com/alta/0/030-109-243M_3.jpg"}]
["2020-09-29T18:59:00",13,"030-109-243M","030-109-243M_9.jpg",{"$f":"+GetURL(D1097)","v":"https://www.refaccionariagonzalez.com/alta/0/030-109-243M_9.jpg"}]
["2020-09-29T18:54:00",13,"030-121-005N","030-121-005N_1.jpg",{"$f":"+GetURL(D1098)","v":"https://www.refaccionariagonzalez.com/alta/0/030-121-005N_1.jpg"}]
["2020-09-29T17:42:00",13,"030-121-005N","030-121-005N_2.jpg",{"$f":"+GetURL(D1099)","v":"https://www.refaccionariagonzalez.com/alta/0/030-121-005N_2.jpg"}]
["2020-09-29T17:42:00",13,"030-121-005N","030-121-005N_3.jpg",{"$f":"+GetURL(D1100)","v":"https://www.refaccionariagonzalez.com/alta/0/030-121-005N_3.jpg"}]
["2020-09-29T18:45:00",13,"030-121-005N","030-121-005N_4.jpg",{"$f":"+GetURL(D1101)","v":"https://www.refaccionariagonzalez.com/alta/0/030-121-005N_4.jpg"}]
["2020-09-29T19:00:00",13,"030-121-005N","030-121-005N_9.jpg",{"$f":"+GetURL(D1102)","v":"https://www.refaccionariagonzalez.com/alta/0/030-121-005N_9.jpg"}]
["2020-09-29T17:41:00",11,"030103171Q","030103171Q_1.jpg",{"$f":"+GetURL(D1103)","v":"https://www.refaccionariagonzalez.com/alta/0/030103171Q_1.jpg"}]
["2020-09-29T18:47:00",11,"030103171Q","030103171Q_9.jpg",{"$f":"+GetURL(D1104)","v":"https://www.refaccionariagonzalez.com/alta/0/030103171Q_9.jpg"}]
["2020-09-29T18:22:00",12,"030109119AB","030109119AB_1.jpg",{"$f":"+GetURL(D1105)","v":"https://www.refaccionariagonzalez.com/alta/0/030109119AB_1.jpg"}]
["2020-09-29T18:13:00",12,"030109119AB","030109119AB_2.jpg",{"$f":"+GetURL(D1106)","v":"https://www.refaccionariagonzalez.com/alta/0/030109119AB_2.jpg"}]
["2020-09-29T18:39:00",11,"030109243K","030109243K_1.jpg",{"$f":"+GetURL(D1107)","v":"https://www.refaccionariagonzalez.com/alta/0/030109243K_1.jpg"}]
["2020-09-29T18:56:00",11,"030109243K","030109243K_2.jpg",{"$f":"+GetURL(D1108)","v":"https://www.refaccionariagonzalez.com/alta/0/030109243K_2.jpg"}]
["2020-09-29T18:57:00",11,"030121121B","030121121B_1.jpg",{"$f":"+GetURL(D1109)","v":"https://www.refaccionariagonzalez.com/alta/0/030121121B_1.jpg"}]
["2020-09-29T18:04:00",11,"030121121B","030121121B_2.jpg",{"$f":"+GetURL(D1110)","v":"https://www.refaccionariagonzalez.com/alta/0/030121121B_2.jpg"}]
["2020-09-29T17:45:00",11,"030121121B","030121121B_8.jpg",{"$f":"+GetURL(D1111)","v":"https://www.refaccionariagonzalez.com/alta/0/030121121B_8.jpg"}]
["2020-09-29T18:19:00",11,"030121121B","030121121B_9.jpg",{"$f":"+GetURL(D1112)","v":"https://www.refaccionariagonzalez.com/alta/0/030121121B_9.jpg"}]
["2020-09-29T17:52:00",17,"030145933AL-ELAS","030145933AL-ELAS_1.jpg",{"$f":"+GetURL(D1113)","v":"https://www.refaccionariagonzalez.com/alta/0/030145933AL-ELAS_1.jpg"}]
["2020-09-29T18:54:00",17,"030145933AL-ELAS","030145933AL-ELAS_2.jpg",{"$f":"+GetURL(D1114)","v":"https://www.refaccionariagonzalez.com/alta/0/030145933AL-ELAS_2.jpg"}]
["2020-09-29T17:55:00",17,"030145933AL-ELAS","030145933AL-ELAS_3.jpg",{"$f":"+GetURL(D1115)","v":"https://www.refaccionariagonzalez.com/alta/0/030145933AL-ELAS_3.jpg"}]
["2020-09-29T18:41:00",17,"030145933AL-ELAS","030145933AL-ELAS_4.jpg",{"$f":"+GetURL(D1116)","v":"https://www.refaccionariagonzalez.com/alta/0/030145933AL-ELAS_4.jpg"}]
["2020-09-29T18:26:00",17,"030145933AL-ELAS","030145933AL-ELAS_9.jpg",{"$f":"+GetURL(D1117)","v":"https://www.refaccionariagonzalez.com/alta/0/030145933AL-ELAS_9.jpg"}]
["2020-09-29T17:57:00",9,"031079J2","031079J2_1.jpg",{"$f":"+GetURL(D1118)","v":"https://www.refaccionariagonzalez.com/alta/0/031079J2_1.jpg"}]
["2020-09-29T17:45:00",9,"031079J2","031079J2_2.jpg",{"$f":"+GetURL(D1119)","v":"https://www.refaccionariagonzalez.com/alta/0/031079J2_2.jpg"}]
["2020-09-29T18:42:00",9,"031079J2","031079J2_3.jpg",{"$f":"+GetURL(D1120)","v":"https://www.refaccionariagonzalez.com/alta/0/031079J2_3.jpg"}]
["2020-09-29T17:55:00",11,"032-093-M3","032-093-M3_1.jpg",{"$f":"+GetURL(D1121)","v":"https://www.refaccionariagonzalez.com/alta/0/032-093-M3_1.jpg"}]
["2020-09-29T18:52:00",11,"032-093-M3","032-093-M3_2.jpg",{"$f":"+GetURL(D1122)","v":"https://www.refaccionariagonzalez.com/alta/0/032-093-M3_2.jpg"}]
["2020-09-29T18:19:00",11,"032-093-M3","032-093-M3_4.jpg",{"$f":"+GetURL(D1123)","v":"https://www.refaccionariagonzalez.com/alta/0/032-093-M3_4.jpg"}]
["2020-09-29T17:44:00",13,"032-103-388N","032-103-388N_1.jpg",{"$f":"+GetURL(D1124)","v":"https://www.refaccionariagonzalez.com/alta/0/032-103-388N_1.jpg"}]
["2020-09-29T18:55:00",13,"032-103-388N","032-103-388N_2.jpg",{"$f":"+GetURL(D1125)","v":"https://www.refaccionariagonzalez.com/alta/0/032-103-388N_2.jpg"}]
["2020-09-29T18:14:00",13,"032-121-111B","032-121-111B_1.jpg",{"$f":"+GetURL(D1126)","v":"https://www.refaccionariagonzalez.com/alta/0/032-121-111B_1.jpg"}]
["2020-09-29T17:53:00",13,"032-121-111B","032-121-111B_2.jpg",{"$f":"+GetURL(D1127)","v":"https://www.refaccionariagonzalez.com/alta/0/032-121-111B_2.jpg"}]
["2020-09-29T18:22:00",13,"032-121-111B","032-121-111B_3.jpg",{"$f":"+GetURL(D1128)","v":"https://www.refaccionariagonzalez.com/alta/0/032-121-111B_3.jpg"}]
["2020-09-29T17:51:00",13,"032-121-111B","032-121-111B_4.jpg",{"$f":"+GetURL(D1129)","v":"https://www.refaccionariagonzalez.com/alta/0/032-121-111B_4.jpg"}]
["2020-09-29T17:50:00",14,"032-121-111CL","032-121-111CL_1.jpg",{"$f":"+GetURL(D1130)","v":"https://www.refaccionariagonzalez.com/alta/0/032-121-111CL_1.jpg"}]
["2020-09-29T18:00:00",14,"032-121-111CL","032-121-111CL_2.jpg",{"$f":"+GetURL(D1131)","v":"https://www.refaccionariagonzalez.com/alta/0/032-121-111CL_2.jpg"}]
["2020-09-29T18:02:00",14,"032-121-111CL","032-121-111CL_3.jpg",{"$f":"+GetURL(D1132)","v":"https://www.refaccionariagonzalez.com/alta/0/032-121-111CL_3.jpg"}]
["2020-09-29T18:12:00",14,"032-121-111CL","032-121-111CL_4.jpg",{"$f":"+GetURL(D1133)","v":"https://www.refaccionariagonzalez.com/alta/0/032-121-111CL_4.jpg"}]
["2022-06-28T18:01:00",15,"032-905-409BVM","032-905-409BVM_01.jpg",{"$f":"+GetURL(D1134)","v":"https://www.refaccionariagonzalez.com/alta/0/032-905-409BVM_01.jpg"}]
["2022-06-29T17:28:00",15,"032-905-409BVM","032-905-409BVM_1.jpg",{"$f":"+GetURL(D1135)","v":"https://www.refaccionariagonzalez.com/alta/0/032-905-409BVM_1.jpg"}]
["2020-09-29T18:00:00",13,"032-905-430K","032-905-430K_1.jpg",{"$f":"+GetURL(D1136)","v":"https://www.refaccionariagonzalez.com/alta/0/032-905-430K_1.jpg"}]
["2020-09-29T18:24:00",13,"032-905-430K","032-905-430K_9.jpg",{"$f":"+GetURL(D1137)","v":"https://www.refaccionariagonzalez.com/alta/0/032-905-430K_9.jpg"}]
["2020-09-29T18:52:00",11,"032103173B","032103173B_1.jpg",{"$f":"+GetURL(D1138)","v":"https://www.refaccionariagonzalez.com/alta/0/032103173B_1.jpg"}]
["2020-09-29T17:59:00",11,"032103173B","032103173B_2.jpg",{"$f":"+GetURL(D1139)","v":"https://www.refaccionariagonzalez.com/alta/0/032103173B_2.jpg"}]
["2020-09-29T17:41:00",11,"032103173B","032103173B_9.jpg",{"$f":"+GetURL(D1140)","v":"https://www.refaccionariagonzalez.com/alta/0/032103173B_9.jpg"}]
["2021-02-18T11:23:00",12,"032103493AA","032103493AA_1.jpg",{"$f":"+GetURL(D1141)","v":"https://www.refaccionariagonzalez.com/alta/0/032103493AA_1.jpg"}]
["2021-02-18T11:23:00",12,"032103493AA","032103493AA_2.jpg",{"$f":"+GetURL(D1142)","v":"https://www.refaccionariagonzalez.com/alta/0/032103493AA_2.jpg"}]
["2020-12-04T18:17:00",12,"032103493P.","032103493P._1.jpg",{"$f":"+GetURL(D1143)","v":"https://www.refaccionariagonzalez.com/alta/0/032103493P._1.jpg"}]
["2020-09-29T18:07:00",12,"032121111AP","032121111AP_1.jpg",{"$f":"+GetURL(D1144)","v":"https://www.refaccionariagonzalez.com/alta/0/032121111AP_1.jpg"}]
["2020-09-29T18:30:00",12,"032121111AP","032121111AP_2.jpg",{"$f":"+GetURL(D1145)","v":"https://www.refaccionariagonzalez.com/alta/0/032121111AP_2.jpg"}]
["2020-09-29T18:07:00",12,"032121111AP","032121111AP_3.jpg",{"$f":"+GetURL(D1146)","v":"https://www.refaccionariagonzalez.com/alta/0/032121111AP_3.jpg"}]
["2020-09-29T18:41:00",12,"032121111AP","032121111AP_9.jpg",{"$f":"+GetURL(D1147)","v":"https://www.refaccionariagonzalez.com/alta/0/032121111AP_9.jpg"}]
["2020-09-29T18:55:00",11,"032121121K","032121121K_1.jpg",{"$f":"+GetURL(D1148)","v":"https://www.refaccionariagonzalez.com/alta/0/032121121K_1.jpg"}]
["2020-09-29T18:02:00",11,"032121121K","032121121K_2.jpg",{"$f":"+GetURL(D1149)","v":"https://www.refaccionariagonzalez.com/alta/0/032121121K_2.jpg"}]
["2020-09-29T18:00:00",11,"032121121K","032121121K_8.jpg",{"$f":"+GetURL(D1150)","v":"https://www.refaccionariagonzalez.com/alta/0/032121121K_8.jpg"}]
["2020-09-29T18:52:00",11,"032121121K","032121121K_9.jpg",{"$f":"+GetURL(D1151)","v":"https://www.refaccionariagonzalez.com/alta/0/032121121K_9.jpg"}]
["2024-01-15T13:42:00",14,"032905106B-KB","032905106B-KB_1.jpg",{"$f":"+GetURL(D1152)","v":"https://www.refaccionariagonzalez.com/alta/0/032905106B-KB_1.jpg"}]
["2024-01-15T13:42:00",14,"032905106B-KB","032905106B-KB_2.jpg",{"$f":"+GetURL(D1153)","v":"https://www.refaccionariagonzalez.com/alta/0/032905106B-KB_2.jpg"}]
["2024-01-15T13:42:00",{"$f":"+FIND(\"_\",D1154)","v":14},{"$f":"+LEFT(D1154,B1154-1)","v":"032905106B-KB"},"032905106B-KB_3.jpg",{"$f":"+GetURL(D1154)","v":"https://www.refaccionariagonzalez.com/alta/0/032905106B-KB_3.jpg"}]
["2024-01-15T13:42:00",14,"032905106B-KB","032905106B-KB_4.jpg",{"$f":"+GetURL(D1155)","v":"https://www.refaccionariagonzalez.com/alta/0/032905106B-KB_4.jpg"}]
["2020-09-29T18:56:00",11,"032905106B","032905106B_1.jpg",{"$f":"+GetURL(D1156)","v":"https://www.refaccionariagonzalez.com/alta/0/032905106B_1.jpg"}]
["2020-09-29T18:16:00",11,"032905106B","032905106B_2.jpg",{"$f":"+GetURL(D1157)","v":"https://www.refaccionariagonzalez.com/alta/0/032905106B_2.jpg"}]
["2020-09-29T18:53:00",11,"032905106B","032905106B_3.jpg",{"$f":"+GetURL(D1158)","v":"https://www.refaccionariagonzalez.com/alta/0/032905106B_3.jpg"}]
["2020-09-29T19:00:00",11,"035919369C","035919369C_1.jpg",{"$f":"+GetURL(D1159)","v":"https://www.refaccionariagonzalez.com/alta/0/035919369C_1.jpg"}]
["2020-09-29T17:43:00",11,"035919369C","035919369C_2.jpg",{"$f":"+GetURL(D1160)","v":"https://www.refaccionariagonzalez.com/alta/0/035919369C_2.jpg"}]
["2020-09-29T18:09:00",11,"035919369C","035919369C_8.jpg",{"$f":"+GetURL(D1161)","v":"https://www.refaccionariagonzalez.com/alta/0/035919369C_8.jpg"}]
["2020-09-29T18:01:00",11,"035919369C","035919369C_9.jpg",{"$f":"+GetURL(D1162)","v":"https://www.refaccionariagonzalez.com/alta/0/035919369C_9.jpg"}]
["2020-09-29T18:05:00",13,"036-129-620H","036-129-620H_1.jpg",{"$f":"+GetURL(D1163)","v":"https://www.refaccionariagonzalez.com/alta/0/036-129-620H_1.jpg"}]
["2020-09-29T18:17:00",13,"036-129-620H","036-129-620H_9.jpg",{"$f":"+GetURL(D1164)","v":"https://www.refaccionariagonzalez.com/alta/0/036-129-620H_9.jpg"}]
["2020-09-29T18:11:00",11,"036-142-I6","036-142-I6_1.jpg",{"$f":"+GetURL(D1165)","v":"https://www.refaccionariagonzalez.com/alta/0/036-142-I6_1.jpg"}]
["2020-09-29T18:13:00",11,"036-142-I6","036-142-I6_2.jpg",{"$f":"+GetURL(D1166)","v":"https://www.refaccionariagonzalez.com/alta/0/036-142-I6_2.jpg"}]
["2020-09-29T17:57:00",13,"036-905-715A","036-905-715A_1.jpg",{"$f":"+GetURL(D1167)","v":"https://www.refaccionariagonzalez.com/alta/0/036-905-715A_1.jpg"}]
["2020-09-29T18:15:00",13,"036-905-715A","036-905-715A_2.jpg",{"$f":"+GetURL(D1168)","v":"https://www.refaccionariagonzalez.com/alta/0/036-905-715A_2.jpg"}]
["2020-09-29T18:39:00",13,"036-905-715A","036-905-715A_3.jpg",{"$f":"+GetURL(D1169)","v":"https://www.refaccionariagonzalez.com/alta/0/036-905-715A_3.jpg"}]
["2020-09-29T17:59:00",13,"036-905-715A","036-905-715A_4.jpg",{"$f":"+GetURL(D1170)","v":"https://www.refaccionariagonzalez.com/alta/0/036-905-715A_4.jpg"}]
["2020-09-29T18:35:00",11,"036103085G","036103085G_1.jpg",{"$f":"+GetURL(D1171)","v":"https://www.refaccionariagonzalez.com/alta/0/036103085G_1.jpg"}]
["2020-09-29T18:52:00",11,"036103085G","036103085G_2.jpg",{"$f":"+GetURL(D1172)","v":"https://www.refaccionariagonzalez.com/alta/0/036103085G_2.jpg"}]
["2020-09-29T18:34:00",11,"036103085G","036103085G_3.jpg",{"$f":"+GetURL(D1173)","v":"https://www.refaccionariagonzalez.com/alta/0/036103085G_3.jpg"}]
["2020-09-29T18:26:00",11,"036103085G","036103085G_4.jpg",{"$f":"+GetURL(D1174)","v":"https://www.refaccionariagonzalez.com/alta/0/036103085G_4.jpg"}]
["2020-09-29T18:01:00",11,"036103085G","036103085G_9.jpg",{"$f":"+GetURL(D1175)","v":"https://www.refaccionariagonzalez.com/alta/0/036103085G_9.jpg"}]
["2024-05-06T09:23:00",{"$f":"+FIND(\".\",D1176)","v":11},"036105269M","036105269M.jpg",{"$f":"+GetURL(D1176)","v":"https://www.refaccionariagonzalez.com/alta/0/036105269M.jpg"}]
["2024-05-03T09:40:00",10,"036105269","036105269_M.jpg",{"$f":"+GetURL(D1177)","v":"https://www.refaccionariagonzalez.com/alta/0/036105269_M.jpg"}]
["2024-04-24T12:37:00",14,"036121188B-KB","036121188B-KB_2.jpg",{"$f":"+GetURL(D1178)","v":"https://www.refaccionariagonzalez.com/alta/0/036121188B-KB_2.jpg"}]
["2024-04-24T12:37:00",14,"036121188B-KB","036121188B-KB_3.jpg",{"$f":"+GetURL(D1179)","v":"https://www.refaccionariagonzalez.com/alta/0/036121188B-KB_3.jpg"}]
["2024-04-24T12:37:00",14,"036121188B-KB","036121188B-KB_4.jpg",{"$f":"+GetURL(D1180)","v":"https://www.refaccionariagonzalez.com/alta/0/036121188B-KB_4.jpg"}]
["2024-04-24T13:44:00",13,"036121188B-K","036121188B-K_B.jpg",{"$f":"+GetURL(D1181)","v":"https://www.refaccionariagonzalez.com/alta/0/036121188B-K_B.jpg"}]
["2020-09-29T18:05:00",11,"036121188B","036121188B_1.jpg",{"$f":"+GetURL(D1182)","v":"https://www.refaccionariagonzalez.com/alta/0/036121188B_1.jpg"}]
["2020-09-29T18:28:00",11,"036121188B","036121188B_2.jpg",{"$f":"+GetURL(D1183)","v":"https://www.refaccionariagonzalez.com/alta/0/036121188B_2.jpg"}]
["2020-09-29T18:06:00",11,"036905715A","036905715A_1.jpg",{"$f":"+GetURL(D1184)","v":"https://www.refaccionariagonzalez.com/alta/0/036905715A_1.jpg"}]
["2020-09-29T18:11:00",11,"036905715A","036905715A_2.jpg",{"$f":"+GetURL(D1185)","v":"https://www.refaccionariagonzalez.com/alta/0/036905715A_2.jpg"}]
["2020-09-29T18:08:00",13,"037-121-132B","037-121-132B_1.jpg",{"$f":"+GetURL(D1186)","v":"https://www.refaccionariagonzalez.com/alta/0/037-121-132B_1.jpg"}]
["2020-09-29T18:34:00",13,"037-121-132B","037-121-132B_2.jpg",{"$f":"+GetURL(D1187)","v":"https://www.refaccionariagonzalez.com/alta/0/037-121-132B_2.jpg"}]
["2020-09-29T18:41:00",13,"037-121-132B","037-121-132B_3.jpg",{"$f":"+GetURL(D1188)","v":"https://www.refaccionariagonzalez.com/alta/0/037-121-132B_3.jpg"}]
["2020-09-29T18:26:00",13,"037-121-132B","037-121-132B_8.jpg",{"$f":"+GetURL(D1189)","v":"https://www.refaccionariagonzalez.com/alta/0/037-121-132B_8.jpg"}]
["2020-09-29T18:13:00",13,"037-121-132B","037-121-132B_9.jpg",{"$f":"+GetURL(D1190)","v":"https://www.refaccionariagonzalez.com/alta/0/037-121-132B_9.jpg"}]
["2020-09-29T18:55:00",13,"037-121-133E","037-121-133E_1.jpg",{"$f":"+GetURL(D1191)","v":"https://www.refaccionariagonzalez.com/alta/0/037-121-133E_1.jpg"}]
["2020-09-29T18:15:00",13,"037-121-133E","037-121-133E_2.jpg",{"$f":"+GetURL(D1192)","v":"https://www.refaccionariagonzalez.com/alta/0/037-121-133E_2.jpg"}]
["2020-09-29T18:56:00",13,"037-121-133E","037-121-133E_3.jpg",{"$f":"+GetURL(D1193)","v":"https://www.refaccionariagonzalez.com/alta/0/037-121-133E_3.jpg"}]
["2020-09-29T18:35:00",13,"037-121-133E","037-121-133E_8.jpg",{"$f":"+GetURL(D1194)","v":"https://www.refaccionariagonzalez.com/alta/0/037-121-133E_8.jpg"}]
["2020-09-29T17:57:00",13,"037-121-133E","037-121-133E_9.jpg",{"$f":"+GetURL(D1195)","v":"https://www.refaccionariagonzalez.com/alta/0/037-121-133E_9.jpg"}]
["2020-09-29T17:54:00",13,"037-121-144J","037-121-144J_1.jpg",{"$f":"+GetURL(D1196)","v":"https://www.refaccionariagonzalez.com/alta/0/037-121-144J_1.jpg"}]
["2020-09-29T18:42:00",13,"037-121-144J","037-121-144J_2.jpg",{"$f":"+GetURL(D1197)","v":"https://www.refaccionariagonzalez.com/alta/0/037-121-144J_2.jpg"}]
["2020-09-29T18:49:00",13,"037-121-144J","037-121-144J_3.jpg",{"$f":"+GetURL(D1198)","v":"https://www.refaccionariagonzalez.com/alta/0/037-121-144J_3.jpg"}]
["2020-09-29T18:28:00",13,"037-121-144J","037-121-144J_4.jpg",{"$f":"+GetURL(D1199)","v":"https://www.refaccionariagonzalez.com/alta/0/037-121-144J_4.jpg"}]
["2020-09-29T18:52:00",13,"037-121-144J","037-121-144J_9.jpg",{"$f":"+GetURL(D1200)","v":"https://www.refaccionariagonzalez.com/alta/0/037-121-144J_9.jpg"}]
["2020-09-29T18:23:00",13,"037-906-457E","037-906-457E_1.jpg",{"$f":"+GetURL(D1201)","v":"https://www.refaccionariagonzalez.com/alta/0/037-906-457E_1.jpg"}]
["2020-09-29T18:56:00",13,"037-906-457E","037-906-457E_2.jpg",{"$f":"+GetURL(D1202)","v":"https://www.refaccionariagonzalez.com/alta/0/037-906-457E_2.jpg"}]
["2020-09-29T17:47:00",13,"037-906-457E","037-906-457E_3.jpg",{"$f":"+GetURL(D1203)","v":"https://www.refaccionariagonzalez.com/alta/0/037-906-457E_3.jpg"}]
["2020-09-29T18:56:00",13,"037-906-457E","037-906-457E_8.jpg",{"$f":"+GetURL(D1204)","v":"https://www.refaccionariagonzalez.com/alta/0/037-906-457E_8.jpg"}]
["2020-09-29T18:59:00",13,"037-906-457E","037-906-457E_9.jpg",{"$f":"+GetURL(D1205)","v":"https://www.refaccionariagonzalez.com/alta/0/037-906-457E_9.jpg"}]
["2020-09-29T18:12:00",11,"037121619A","037121619A_1.jpg",{"$f":"+GetURL(D1206)","v":"https://www.refaccionariagonzalez.com/alta/0/037121619A_1.jpg"}]
["2020-09-29T18:48:00",11,"037121619A","037121619A_2.jpg",{"$f":"+GetURL(D1207)","v":"https://www.refaccionariagonzalez.com/alta/0/037121619A_2.jpg"}]
["2020-09-29T17:58:00",11,"037121619A","037121619A_9.jpg",{"$f":"+GetURL(D1208)","v":"https://www.refaccionariagonzalez.com/alta/0/037121619A_9.jpg"}]
["2024-04-25T10:30:00",13,"037905205N-K","037905205N-K_B.jpg",{"$f":"+GetURL(D1209)","v":"https://www.refaccionariagonzalez.com/alta/0/037905205N-K_B.jpg"}]
["2020-09-29T18:43:00",13,"038-101-483D","038-101-483D_1.jpg",{"$f":"+GetURL(D1210)","v":"https://www.refaccionariagonzalez.com/alta/0/038-101-483D_1.jpg"}]
["2020-09-29T18:48:00",13,"038-101-483D","038-101-483D_9.jpg",{"$f":"+GetURL(D1211)","v":"https://www.refaccionariagonzalez.com/alta/0/038-101-483D_9.jpg"}]
["2020-09-29T19:00:00",11,"038145255A","038145255A_1.jpg",{"$f":"+GetURL(D1212)","v":"https://www.refaccionariagonzalez.com/alta/0/038145255A_1.jpg"}]
["2020-09-29T18:01:00",11,"038145255A","038145255A_9.jpg",{"$f":"+GetURL(D1213)","v":"https://www.refaccionariagonzalez.com/alta/0/038145255A_9.jpg"}]
["2020-09-29T18:08:00",11,"038919081K","038919081K_1.jpg",{"$f":"+GetURL(D1214)","v":"https://www.refaccionariagonzalez.com/alta/0/038919081K_1.jpg"}]
["2020-09-29T18:27:00",11,"038919081K","038919081K_2.jpg",{"$f":"+GetURL(D1215)","v":"https://www.refaccionariagonzalez.com/alta/0/038919081K_2.jpg"}]
["2020-09-29T18:56:00",11,"038919081K","038919081K_8.jpg",{"$f":"+GetURL(D1216)","v":"https://www.refaccionariagonzalez.com/alta/0/038919081K_8.jpg"}]
["2020-09-29T18:05:00",11,"038919081K","038919081K_9.jpg",{"$f":"+GetURL(D1217)","v":"https://www.refaccionariagonzalez.com/alta/0/038919081K_9.jpg"}]
["2024-05-17T08:33:00",{"$f":"+FIND(\".\",D1218)","v":6},{"$f":"+LEFT(D1218,B1218-1)","v":"04--2"},"04--2.jpg",{"$f":"+GetURL(D1218)","v":"https://www.refaccionariagonzalez.com/alta/0/04--2.jpg"}]
["2020-09-29T17:56:00",{"$f":"+FIND(\"_\",D1219)","v":6},"04--2","04--2_1.jpg",{"$f":"+GetURL(D1219)","v":"https://www.refaccionariagonzalez.com/alta/0/04--2_1.jpg"}]
["2024-05-17T08:33:00",{"$f":"+FIND(\".\",D1220)","v":6},"04--9","04--9.jpg",{"$f":"+GetURL(D1220)","v":"https://www.refaccionariagonzalez.com/alta/0/04--9.jpg"}]
["2020-09-29T19:00:00",6,"04--9","04--9_1.jpg",{"$f":"+GetURL(D1221)","v":"https://www.refaccionariagonzalez.com/alta/0/04--9_1.jpg"}]
["2024-05-13T08:02:00",{"$f":"+FIND(\".\",D1222)","v":8},"04-0199","04-0199.jpg",{"$f":"+GetURL(D1222)","v":"https://www.refaccionariagonzalez.com/alta/0/04-0199.jpg"}]
["2020-09-29T18:11:00",13,"04C-129-620C","04C-129-620C_1.jpg",{"$f":"+GetURL(D1223)","v":"https://www.refaccionariagonzalez.com/alta/0/04C-129-620C_1.jpg"}]
["2020-09-29T18:03:00",13,"04C-129-620C","04C-129-620C_2.jpg",{"$f":"+GetURL(D1224)","v":"https://www.refaccionariagonzalez.com/alta/0/04C-129-620C_2.jpg"}]
["2020-09-29T18:42:00",13,"04C-129-620C","04C-129-620C_9.jpg",{"$f":"+GetURL(D1225)","v":"https://www.refaccionariagonzalez.com/alta/0/04C-129-620C_9.jpg"}]
["2020-09-29T17:44:00",13,"04E-115-561H","04E-115-561H_1.jpg",{"$f":"+GetURL(D1226)","v":"https://www.refaccionariagonzalez.com/alta/0/04E-115-561H_1.jpg"}]
["2020-09-29T17:59:00",13,"04E-115-561H","04E-115-561H_2.jpg",{"$f":"+GetURL(D1227)","v":"https://www.refaccionariagonzalez.com/alta/0/04E-115-561H_2.jpg"}]
["2020-09-29T18:27:00",13,"04E-115-561H","04E-115-561H_9.jpg",{"$f":"+GetURL(D1228)","v":"https://www.refaccionariagonzalez.com/alta/0/04E-115-561H_9.jpg"}]
["2024-03-25T08:55:00",15,"04E-129-620AMF","04E-129-620AMF_.jpg",{"$f":"+GetURL(D1229)","v":"https://www.refaccionariagonzalez.com/alta/0/04E-129-620AMF_.jpg"}]
["2023-12-15T13:51:00",16,"04E-129-620AMF ","04E-129-620AMF _1.jpg",{"$f":"+GetURL(D1230)","v":"https://www.refaccionariagonzalez.com/alta/0/04E-129-620AMF _1.jpg"}]
["2023-12-15T13:51:00",16,"04E-129-620AMF ","04E-129-620AMF _2.jpg",{"$f":"+GetURL(D1231)","v":"https://www.refaccionariagonzalez.com/alta/0/04E-129-620AMF _2.jpg"}]
["2020-09-29T18:26:00",12,"04E-129-620","04E-129-620_1.jpg",{"$f":"+GetURL(D1232)","v":"https://www.refaccionariagonzalez.com/alta/0/04E-129-620_1.jpg"}]
["2020-09-29T17:54:00",12,"04E-129-620","04E-129-620_2.jpg",{"$f":"+GetURL(D1233)","v":"https://www.refaccionariagonzalez.com/alta/0/04E-129-620_2.jpg"}]
["2020-09-29T18:52:00",12,"04E-129-620","04E-129-620_3.jpg",{"$f":"+GetURL(D1234)","v":"https://www.refaccionariagonzalez.com/alta/0/04E-129-620_3.jpg"}]
["2020-09-29T18:52:00",11,"040-RA-001","040-RA-001_1.jpg",{"$f":"+GetURL(D1235)","v":"https://www.refaccionariagonzalez.com/alta/0/040-RA-001_1.jpg"}]
["2020-09-29T18:31:00",11,"040-RA-001","040-RA-001_9.jpg",{"$f":"+GetURL(D1236)","v":"https://www.refaccionariagonzalez.com/alta/0/040-RA-001_9.jpg"}]
["2020-09-29T18:40:00",11,"040-RN-049","040-RN-049_1.jpg",{"$f":"+GetURL(D1237)","v":"https://www.refaccionariagonzalez.com/alta/0/040-RN-049_1.jpg"}]
["2020-09-29T18:14:00",11,"040-RN-049","040-RN-049_9.jpg",{"$f":"+GetURL(D1238)","v":"https://www.refaccionariagonzalez.com/alta/0/040-RN-049_9.jpg"}]
["2024-04-25T09:43:00",14,"043905205AD-K","043905205AD-K_B.jpg",{"$f":"+GetURL(D1239)","v":"https://www.refaccionariagonzalez.com/alta/0/043905205AD-K_B.jpg"}]
["2024-04-25T10:30:00",13,"043905205M-K","043905205M-K_B.jpg",{"$f":"+GetURL(D1240)","v":"https://www.refaccionariagonzalez.com/alta/0/043905205M-K_B.jpg"}]
["2020-09-29T18:58:00",14,"044-907-385-A","044-907-385-A_1.jpg",{"$f":"+GetURL(D1241)","v":"https://www.refaccionariagonzalez.com/alta/0/044-907-385-A_1.jpg"}]
["2020-09-29T18:15:00",14,"044-907-385-A","044-907-385-A_2.jpg",{"$f":"+GetURL(D1242)","v":"https://www.refaccionariagonzalez.com/alta/0/044-907-385-A_2.jpg"}]
["2020-09-29T18:10:00",14,"044-907-385-A","044-907-385-A_3.jpg",{"$f":"+GetURL(D1243)","v":"https://www.refaccionariagonzalez.com/alta/0/044-907-385-A_3.jpg"}]
["2020-09-29T18:15:00",14,"044-907-385-A","044-907-385-A_4.jpg",{"$f":"+GetURL(D1244)","v":"https://www.refaccionariagonzalez.com/alta/0/044-907-385-A_4.jpg"}]
["2020-09-29T17:54:00",14,"044-907-385-A","044-907-385-A_9.jpg",{"$f":"+GetURL(D1245)","v":"https://www.refaccionariagonzalez.com/alta/0/044-907-385-A_9.jpg"}]
["2020-09-29T18:31:00",11,"04412522AC","04412522AC_1.jpg",{"$f":"+GetURL(D1246)","v":"https://www.refaccionariagonzalez.com/alta/0/04412522AC_1.jpg"}]
["2020-09-29T18:03:00",11,"04412522AC","04412522AC_2.jpg",{"$f":"+GetURL(D1247)","v":"https://www.refaccionariagonzalez.com/alta/0/04412522AC_2.jpg"}]
["2020-09-29T18:42:00",11,"04412522AC","04412522AC_3.jpg",{"$f":"+GetURL(D1248)","v":"https://www.refaccionariagonzalez.com/alta/0/04412522AC_3.jpg"}]
["2020-09-29T18:56:00",11,"04412522AC","04412522AC_9.jpg",{"$f":"+GetURL(D1249)","v":"https://www.refaccionariagonzalez.com/alta/0/04412522AC_9.jpg"}]
["2020-09-29T17:48:00",9,"04456516","04456516_1.jpg",{"$f":"+GetURL(D1250)","v":"https://www.refaccionariagonzalez.com/alta/0/04456516_1.jpg"}]
["2020-09-29T18:32:00",9,"04456516","04456516_9.jpg",{"$f":"+GetURL(D1251)","v":"https://www.refaccionariagonzalez.com/alta/0/04456516_9.jpg"}]
["2020-09-29T18:12:00",14,"04491-26180NK","04491-26180NK_1.jpg",{"$f":"+GetURL(D1252)","v":"https://www.refaccionariagonzalez.com/alta/0/04491-26180NK_1.jpg"}]
["2020-09-29T18:45:00",14,"04491-26180NK","04491-26180NK_9.jpg",{"$f":"+GetURL(D1253)","v":"https://www.refaccionariagonzalez.com/alta/0/04491-26180NK_9.jpg"}]
["2024-04-24T18:43:00",13,"04491-26180N","04491-26180N_K.jpg",{"$f":"+GetURL(D1254)","v":"https://www.refaccionariagonzalez.com/alta/0/04491-26180N_K.jpg"}]
["2020-09-29T18:01:00",12,"04495-35240","04495-35240_1.jpg",{"$f":"+GetURL(D1255)","v":"https://www.refaccionariagonzalez.com/alta/0/04495-35240_1.jpg"}]
["2020-09-29T18:05:00",12,"04495-35240","04495-35240_9.jpg",{"$f":"+GetURL(D1256)","v":"https://www.refaccionariagonzalez.com/alta/0/04495-35240_9.jpg"}]
["2024-05-03T09:40:00",8,"0466719","0466719_8.jpg",{"$f":"+GetURL(D1257)","v":"https://www.refaccionariagonzalez.com/alta/0/0466719_8.jpg"}]
["2024-05-06T09:23:00",{"$f":"+FIND(\".\",D1258)","v":9},"04667198","04667198.jpg",{"$f":"+GetURL(D1258)","v":"https://www.refaccionariagonzalez.com/alta/0/04667198.jpg"}]
["2020-09-29T18:27:00",9,"04667198","04667198_1.jpg",{"$f":"+GetURL(D1259)","v":"https://www.refaccionariagonzalez.com/alta/0/04667198_1.jpg"}]
["2020-09-29T18:49:00",9,"04667198","04667198_9.jpg",{"$f":"+GetURL(D1260)","v":"https://www.refaccionariagonzalez.com/alta/0/04667198_9.jpg"}]
["2020-09-29T18:12:00",9,"04772311","04772311_1.jpg",{"$f":"+GetURL(D1261)","v":"https://www.refaccionariagonzalez.com/alta/0/04772311_1.jpg"}]
["2020-09-29T18:00:00",9,"04772311","04772311_2.jpg",{"$f":"+GetURL(D1262)","v":"https://www.refaccionariagonzalez.com/alta/0/04772311_2.jpg"}]
["2020-09-29T18:39:00",9,"04772311","04772311_9.jpg",{"$f":"+GetURL(D1263)","v":"https://www.refaccionariagonzalez.com/alta/0/04772311_9.jpg"}]
["2020-09-29T18:41:00",11,"04773841AB","04773841AB_1.jpg",{"$f":"+GetURL(D1264)","v":"https://www.refaccionariagonzalez.com/alta/0/04773841AB_1.jpg"}]
["2020-09-29T18:43:00",11,"04773841AB","04773841AB_9.jpg",{"$f":"+GetURL(D1265)","v":"https://www.refaccionariagonzalez.com/alta/0/04773841AB_9.jpg"}]
["2020-09-29T18:13:00",11,"04796975AB","04796975AB_1.jpg",{"$f":"+GetURL(D1266)","v":"https://www.refaccionariagonzalez.com/alta/0/04796975AB_1.jpg"}]
["2020-09-29T18:58:00",11,"04796975AB","04796975AB_9.jpg",{"$f":"+GetURL(D1267)","v":"https://www.refaccionariagonzalez.com/alta/0/04796975AB_9.jpg"}]
["2020-09-29T17:58:00",11,"04797685AB","04797685AB_1.jpg",{"$f":"+GetURL(D1268)","v":"https://www.refaccionariagonzalez.com/alta/0/04797685AB_1.jpg"}]
["2020-09-29T18:58:00",11,"04797685AB","04797685AB_9.jpg",{"$f":"+GetURL(D1269)","v":"https://www.refaccionariagonzalez.com/alta/0/04797685AB_9.jpg"}]
["2020-09-29T18:03:00",11,"048103609B","048103609B_1.jpg",{"$f":"+GetURL(D1270)","v":"https://www.refaccionariagonzalez.com/alta/0/048103609B_1.jpg"}]
["2020-09-29T18:08:00",13,"049-129-412C","049-129-412C_1.jpg",{"$f":"+GetURL(D1271)","v":"https://www.refaccionariagonzalez.com/alta/0/049-129-412C_1.jpg"}]
["2020-09-29T18:53:00",13,"049-129-412C","049-129-412C_2.jpg",{"$f":"+GetURL(D1272)","v":"https://www.refaccionariagonzalez.com/alta/0/049-129-412C_2.jpg"}]
["2020-09-29T18:12:00",12,"049-TA-9316","049-TA-9316_1.jpg",{"$f":"+GetURL(D1273)","v":"https://www.refaccionariagonzalez.com/alta/0/049-TA-9316_1.jpg"}]
["2020-09-29T18:12:00",12,"049-TA-9316","049-TA-9316_2.jpg",{"$f":"+GetURL(D1274)","v":"https://www.refaccionariagonzalez.com/alta/0/049-TA-9316_2.jpg"}]
["2020-09-29T18:58:00",12,"049-TA-9316","049-TA-9316_3.jpg",{"$f":"+GetURL(D1275)","v":"https://www.refaccionariagonzalez.com/alta/0/049-TA-9316_3.jpg"}]
["2020-09-29T18:20:00",12,"049-TA-9316","049-TA-9316_9.jpg",{"$f":"+GetURL(D1276)","v":"https://www.refaccionariagonzalez.com/alta/0/049-TA-9316_9.jpg"}]
["2020-09-29T17:57:00",11,"049105263C","049105263C_1.jpg",{"$f":"+GetURL(D1277)","v":"https://www.refaccionariagonzalez.com/alta/0/049105263C_1.jpg"}]
["2020-09-29T18:15:00",11,"049105263C","049105263C_2.jpg",{"$f":"+GetURL(D1278)","v":"https://www.refaccionariagonzalez.com/alta/0/049105263C_2.jpg"}]
["2020-09-29T18:24:00",11,"049105263C","049105263C_3.jpg",{"$f":"+GetURL(D1279)","v":"https://www.refaccionariagonzalez.com/alta/0/049105263C_3.jpg"}]
["2020-09-29T18:41:00",6,"05--6","05--6_1.jpg",{"$f":"+GetURL(D1280)","v":"https://www.refaccionariagonzalez.com/alta/0/05--6_1.jpg"}]
["2020-09-29T18:02:00",6,"05--6","05--6_9.jpg",{"$f":"+GetURL(D1281)","v":"https://www.refaccionariagonzalez.com/alta/0/05--6_9.jpg"}]
["2020-09-29T18:55:00",{"$f":"+FIND(\"_\",D1282)","v":8},{"$f":"+LEFT(D1282,B1282-1)","v":"05-0003"},"05-0003_1.jpg",{"$f":"+GetURL(D1282)","v":"https://www.refaccionariagonzalez.com/alta/0/05-0003_1.jpg"}]
["2020-09-29T18:33:00",8,"05-0003","05-0003_2.jpg",{"$f":"+GetURL(D1283)","v":"https://www.refaccionariagonzalez.com/alta/0/05-0003_2.jpg"}]
["2020-09-29T17:57:00",8,"05-0003","05-0003_3.jpg",{"$f":"+GetURL(D1284)","v":"https://www.refaccionariagonzalez.com/alta/0/05-0003_3.jpg"}]
["2020-09-29T18:07:00",8,"05-0003","05-0003_9.jpg",{"$f":"+GetURL(D1285)","v":"https://www.refaccionariagonzalez.com/alta/0/05-0003_9.jpg"}]
["2020-09-29T18:16:00",8,"05-0085","05-0085_1.jpg",{"$f":"+GetURL(D1286)","v":"https://www.refaccionariagonzalez.com/alta/0/05-0085_1.jpg"}]
["2020-09-29T18:50:00",8,"05-0085","05-0085_2.jpg",{"$f":"+GetURL(D1287)","v":"https://www.refaccionariagonzalez.com/alta/0/05-0085_2.jpg"}]
["2020-09-29T18:09:00",8,"05-0085","05-0085_3.jpg",{"$f":"+GetURL(D1288)","v":"https://www.refaccionariagonzalez.com/alta/0/05-0085_3.jpg"}]
["2020-09-29T18:37:00",8,"05-0085","05-0085_9.jpg",{"$f":"+GetURL(D1289)","v":"https://www.refaccionariagonzalez.com/alta/0/05-0085_9.jpg"}]
["2020-09-29T18:01:00",13,"050-696-37AA","050-696-37AA_1.jpg",{"$f":"+GetURL(D1290)","v":"https://www.refaccionariagonzalez.com/alta/0/050-696-37AA_1.jpg"}]
["2020-09-29T18:03:00",13,"050-696-37AA","050-696-37AA_2.jpg",{"$f":"+GetURL(D1291)","v":"https://www.refaccionariagonzalez.com/alta/0/050-696-37AA_2.jpg"}]
["2020-09-29T18:56:00",13,"050-696-37AA","050-696-37AA_3.jpg",{"$f":"+GetURL(D1292)","v":"https://www.refaccionariagonzalez.com/alta/0/050-696-37AA_3.jpg"}]
["2020-09-29T17:55:00",13,"050-696-57AA","050-696-57AA_1.jpg",{"$f":"+GetURL(D1293)","v":"https://www.refaccionariagonzalez.com/alta/0/050-696-57AA_1.jpg"}]
["2020-09-29T18:37:00",13,"050-696-57AA","050-696-57AA_2.jpg",{"$f":"+GetURL(D1294)","v":"https://www.refaccionariagonzalez.com/alta/0/050-696-57AA_2.jpg"}]
["2020-09-29T18:55:00",13,"050-696-57AA","050-696-57AA_8.jpg",{"$f":"+GetURL(D1295)","v":"https://www.refaccionariagonzalez.com/alta/0/050-696-57AA_8.jpg"}]
["2020-09-29T17:48:00",13,"050-696-57AA","050-696-57AA_9.jpg",{"$f":"+GetURL(D1296)","v":"https://www.refaccionariagonzalez.com/alta/0/050-696-57AA_9.jpg"}]
["2020-09-29T17:58:00",13,"050-698-07AA","050-698-07AA_1.jpg",{"$f":"+GetURL(D1297)","v":"https://www.refaccionariagonzalez.com/alta/0/050-698-07AA_1.jpg"}]
["2020-09-29T18:14:00",13,"050-698-07AA","050-698-07AA_2.jpg",{"$f":"+GetURL(D1298)","v":"https://www.refaccionariagonzalez.com/alta/0/050-698-07AA_2.jpg"}]
["2020-09-29T18:29:00",13,"050-698-07AA","050-698-07AA_8.jpg",{"$f":"+GetURL(D1299)","v":"https://www.refaccionariagonzalez.com/alta/0/050-698-07AA_8.jpg"}]
["2020-09-29T18:35:00",13,"050-698-07AA","050-698-07AA_9.jpg",{"$f":"+GetURL(D1300)","v":"https://www.refaccionariagonzalez.com/alta/0/050-698-07AA_9.jpg"}]
["2020-09-29T18:17:00",13,"050-698-79AA","050-698-79AA_1.jpg",{"$f":"+GetURL(D1301)","v":"https://www.refaccionariagonzalez.com/alta/0/050-698-79AA_1.jpg"}]
["2020-09-29T18:59:00",13,"050-698-79AA","050-698-79AA_9.jpg",{"$f":"+GetURL(D1302)","v":"https://www.refaccionariagonzalez.com/alta/0/050-698-79AA_9.jpg"}]
["2020-09-29T18:22:00",13,"050-713-31AA","050-713-31AA_1.jpg",{"$f":"+GetURL(D1303)","v":"https://www.refaccionariagonzalez.com/alta/0/050-713-31AA_1.jpg"}]
["2020-09-29T18:13:00",13,"050-713-31AA","050-713-31AA_2.jpg",{"$f":"+GetURL(D1304)","v":"https://www.refaccionariagonzalez.com/alta/0/050-713-31AA_2.jpg"}]
["2020-09-29T18:10:00",13,"050-713-31AA","050-713-31AA_3.jpg",{"$f":"+GetURL(D1305)","v":"https://www.refaccionariagonzalez.com/alta/0/050-713-31AA_3.jpg"}]
["2020-09-29T18:40:00",13,"050-713-31AA","050-713-31AA_9.jpg",{"$f":"+GetURL(D1306)","v":"https://www.refaccionariagonzalez.com/alta/0/050-713-31AA_9.jpg"}]
["2020-09-29T18:40:00",13,"050-713-71AA","050-713-71AA_1.jpg",{"$f":"+GetURL(D1307)","v":"https://www.refaccionariagonzalez.com/alta/0/050-713-71AA_1.jpg"}]
["2020-09-29T17:56:00",13,"050-713-71AA","050-713-71AA_2.jpg",{"$f":"+GetURL(D1308)","v":"https://www.refaccionariagonzalez.com/alta/0/050-713-71AA_2.jpg"}]
["2020-09-29T18:06:00",13,"050-713-71AA","050-713-71AA_9.jpg",{"$f":"+GetURL(D1309)","v":"https://www.refaccionariagonzalez.com/alta/0/050-713-71AA_9.jpg"}]
["2020-09-29T18:30:00",11,"050-713-71","050-713-71_1.jpg",{"$f":"+GetURL(D1310)","v":"https://www.refaccionariagonzalez.com/alta/0/050-713-71_1.jpg"}]
["2020-09-29T18:11:00",11,"050-713-71","050-713-71_2.jpg",{"$f":"+GetURL(D1311)","v":"https://www.refaccionariagonzalez.com/alta/0/050-713-71_2.jpg"}]
["2020-09-29T18:38:00",11,"050-713-71","050-713-71_8.jpg",{"$f":"+GetURL(D1312)","v":"https://www.refaccionariagonzalez.com/alta/0/050-713-71_8.jpg"}]
["2020-09-29T18:55:00",11,"050-713-71","050-713-71_9.jpg",{"$f":"+GetURL(D1313)","v":"https://www.refaccionariagonzalez.com/alta/0/050-713-71_9.jpg"}]
["2020-09-29T18:52:00",13,"050-713-73AA","050-713-73AA_1.jpg",{"$f":"+GetURL(D1314)","v":"https://www.refaccionariagonzalez.com/alta/0/050-713-73AA_1.jpg"}]
["2020-09-29T18:55:00",13,"050-713-73AA","050-713-73AA_9.jpg",{"$f":"+GetURL(D1315)","v":"https://www.refaccionariagonzalez.com/alta/0/050-713-73AA_9.jpg"}]
["2020-09-29T18:37:00",11,"050-713-73","050-713-73_1.jpg",{"$f":"+GetURL(D1316)","v":"https://www.refaccionariagonzalez.com/alta/0/050-713-73_1.jpg"}]
["2020-09-29T18:01:00",11,"050-713-73","050-713-73_2.jpg",{"$f":"+GetURL(D1317)","v":"https://www.refaccionariagonzalez.com/alta/0/050-713-73_2.jpg"}]
["2020-09-29T18:59:00",11,"050-713-73","050-713-73_9.jpg",{"$f":"+GetURL(D1318)","v":"https://www.refaccionariagonzalez.com/alta/0/050-713-73_9.jpg"}]
["2020-09-29T18:17:00",11,"050-713-77","050-713-77_1.jpg",{"$f":"+GetURL(D1319)","v":"https://www.refaccionariagonzalez.com/alta/0/050-713-77_1.jpg"}]
["2020-09-29T18:34:00",11,"050-713-77","050-713-77_9.jpg",{"$f":"+GetURL(D1320)","v":"https://www.refaccionariagonzalez.com/alta/0/050-713-77_9.jpg"}]
["2020-09-29T18:42:00",11,"050-713-79","050-713-79_1.jpg",{"$f":"+GetURL(D1321)","v":"https://www.refaccionariagonzalez.com/alta/0/050-713-79_1.jpg"}]
["2020-09-29T18:31:00",11,"050-713-79","050-713-79_2.jpg",{"$f":"+GetURL(D1322)","v":"https://www.refaccionariagonzalez.com/alta/0/050-713-79_2.jpg"}]
["2020-09-29T17:56:00",11,"050-713-79","050-713-79_8.jpg",{"$f":"+GetURL(D1323)","v":"https://www.refaccionariagonzalez.com/alta/0/050-713-79_8.jpg"}]
["2020-09-29T18:45:00",11,"050-713-79","050-713-79_9.jpg",{"$f":"+GetURL(D1324)","v":"https://www.refaccionariagonzalez.com/alta/0/050-713-79_9.jpg"}]
["2020-09-29T18:45:00",13,"050-714-29AA","050-714-29AA_1.jpg",{"$f":"+GetURL(D1325)","v":"https://www.refaccionariagonzalez.com/alta/0/050-714-29AA_1.jpg"}]
["2020-09-29T18:43:00",13,"050-714-29AA","050-714-29AA_9.jpg",{"$f":"+GetURL(D1326)","v":"https://www.refaccionariagonzalez.com/alta/0/050-714-29AA_9.jpg"}]
["2020-09-29T18:02:00",13,"050-714-31AA","050-714-31AA_1.jpg",{"$f":"+GetURL(D1327)","v":"https://www.refaccionariagonzalez.com/alta/0/050-714-31AA_1.jpg"}]
["2020-09-29T18:31:00",13,"050-714-31AA","050-714-31AA_2.jpg",{"$f":"+GetURL(D1328)","v":"https://www.refaccionariagonzalez.com/alta/0/050-714-31AA_2.jpg"}]
["2020-09-29T18:53:00",13,"050-714-31AA","050-714-31AA_9.jpg",{"$f":"+GetURL(D1329)","v":"https://www.refaccionariagonzalez.com/alta/0/050-714-31AA_9.jpg"}]
["2020-09-29T18:32:00",13,"050-731-36AA","050-731-36AA_1.jpg",{"$f":"+GetURL(D1330)","v":"https://www.refaccionariagonzalez.com/alta/0/050-731-36AA_1.jpg"}]
["2020-09-29T18:35:00",13,"050-731-36AA","050-731-36AA_2.jpg",{"$f":"+GetURL(D1331)","v":"https://www.refaccionariagonzalez.com/alta/0/050-731-36AA_2.jpg"}]
["2020-09-29T18:35:00",13,"050-731-36AA","050-731-36AA_4.jpg",{"$f":"+GetURL(D1332)","v":"https://www.refaccionariagonzalez.com/alta/0/050-731-36AA_4.jpg"}]
["2020-09-29T18:55:00",13,"050-731-37AA","050-731-37AA_1.jpg",{"$f":"+GetURL(D1333)","v":"https://www.refaccionariagonzalez.com/alta/0/050-731-37AA_1.jpg"}]
["2020-09-29T17:54:00",13,"050-731-37AA","050-731-37AA_2.jpg",{"$f":"+GetURL(D1334)","v":"https://www.refaccionariagonzalez.com/alta/0/050-731-37AA_2.jpg"}]
["2020-09-29T18:42:00",13,"050-731-37AA","050-731-37AA_3.jpg",{"$f":"+GetURL(D1335)","v":"https://www.refaccionariagonzalez.com/alta/0/050-731-37AA_3.jpg"}]
["2020-09-29T18:42:00",13,"050-731-64AA","050-731-64AA_1.jpg",{"$f":"+GetURL(D1336)","v":"https://www.refaccionariagonzalez.com/alta/0/050-731-64AA_1.jpg"}]
["2020-09-29T18:32:00",13,"050-731-64AA","050-731-64AA_2.jpg",{"$f":"+GetURL(D1337)","v":"https://www.refaccionariagonzalez.com/alta/0/050-731-64AA_2.jpg"}]
["2020-09-29T18:54:00",13,"050-731-64AA","050-731-64AA_8.jpg",{"$f":"+GetURL(D1338)","v":"https://www.refaccionariagonzalez.com/alta/0/050-731-64AA_8.jpg"}]
["2020-09-29T18:00:00",13,"050-731-64AA","050-731-64AA_9.jpg",{"$f":"+GetURL(D1339)","v":"https://www.refaccionariagonzalez.com/alta/0/050-731-64AA_9.jpg"}]
["2024-02-15T18:21:00",11,"05013457AA","05013457AA_1.jpg",{"$f":"+GetURL(D1340)","v":"https://www.refaccionariagonzalez.com/alta/0/05013457AA_1.jpg"}]
["2024-02-15T18:21:00",11,"05013457AA","05013457AA_2.jpg",{"$f":"+GetURL(D1341)","v":"https://www.refaccionariagonzalez.com/alta/0/05013457AA_2.jpg"}]
["2024-02-15T18:21:00",11,"05013457AA","05013457AA_3.jpg",{"$f":"+GetURL(D1342)","v":"https://www.refaccionariagonzalez.com/alta/0/05013457AA_3.jpg"}]
["2020-09-29T18:48:00",11,"05013457AA","05013457AA_9.jpg",{"$f":"+GetURL(D1343)","v":"https://www.refaccionariagonzalez.com/alta/0/05013457AA_9.jpg"}]
["2020-09-29T17:56:00",11,"05018394AG","05018394AG_1.jpg",{"$f":"+GetURL(D1344)","v":"https://www.refaccionariagonzalez.com/alta/0/05018394AG_1.jpg"}]
["2020-09-29T18:07:00",11,"05018394AG","05018394AG_9.jpg",{"$f":"+GetURL(D1345)","v":"https://www.refaccionariagonzalez.com/alta/0/05018394AG_9.jpg"}]
["2024-04-26T08:54:00",{"$f":"+FIND(\"_\",D1346)","v":11},{"$f":"+LEFT(D1346,B1346-1)","v":"05069273AB"},"05069273AB_1.jpg",{"$f":"+GetURL(D1346)","v":"https://www.refaccionariagonzalez.com/alta/0/05069273AB_1.jpg"}]
["2024-04-26T08:54:00",11,"05069273AB","05069273AB_2.jpg",{"$f":"+GetURL(D1347)","v":"https://www.refaccionariagonzalez.com/alta/0/05069273AB_2.jpg"}]
["2020-09-29T17:45:00",11,"05069357AA","05069357AA_1.jpg",{"$f":"+GetURL(D1348)","v":"https://www.refaccionariagonzalez.com/alta/0/05069357AA_1.jpg"}]
["2020-09-29T18:27:00",11,"05069357AA","05069357AA_9.jpg",{"$f":"+GetURL(D1349)","v":"https://www.refaccionariagonzalez.com/alta/0/05069357AA_9.jpg"}]
["2020-09-29T17:59:00",11,"05069627AA","05069627AA_1.jpg",{"$f":"+GetURL(D1350)","v":"https://www.refaccionariagonzalez.com/alta/0/05069627AA_1.jpg"}]
["2020-09-29T18:57:00",11,"05069627AA","05069627AA_2.jpg",{"$f":"+GetURL(D1351)","v":"https://www.refaccionariagonzalez.com/alta/0/05069627AA_2.jpg"}]
["2020-09-29T18:32:00",11,"05069627AA","05069627AA_3.jpg",{"$f":"+GetURL(D1352)","v":"https://www.refaccionariagonzalez.com/alta/0/05069627AA_3.jpg"}]
["2020-09-29T18:23:00",11,"05069627AA","05069627AA_4.jpg",{"$f":"+GetURL(D1353)","v":"https://www.refaccionariagonzalez.com/alta/0/05069627AA_4.jpg"}]
["2020-09-29T17:52:00",11,"05069627AA","05069627AA_9.jpg",{"$f":"+GetURL(D1354)","v":"https://www.refaccionariagonzalez.com/alta/0/05069627AA_9.jpg"}]
["2020-09-29T18:17:00",11,"05069629AA","05069629AA_1.jpg",{"$f":"+GetURL(D1355)","v":"https://www.refaccionariagonzalez.com/alta/0/05069629AA_1.jpg"}]
["2020-09-29T18:05:00",11,"05069629AA","05069629AA_2.jpg",{"$f":"+GetURL(D1356)","v":"https://www.refaccionariagonzalez.com/alta/0/05069629AA_2.jpg"}]
["2020-09-29T18:01:00",11,"05069629AA","05069629AA_3.jpg",{"$f":"+GetURL(D1357)","v":"https://www.refaccionariagonzalez.com/alta/0/05069629AA_3.jpg"}]
["2020-09-29T18:09:00",11,"05069629AA","05069629AA_4.jpg",{"$f":"+GetURL(D1358)","v":"https://www.refaccionariagonzalez.com/alta/0/05069629AA_4.jpg"}]
["2020-09-29T17:53:00",11,"05069629AA","05069629AA_9.jpg",{"$f":"+GetURL(D1359)","v":"https://www.refaccionariagonzalez.com/alta/0/05069629AA_9.jpg"}]
["2020-09-29T17:43:00",11,"05069631AA","05069631AA_1.jpg",{"$f":"+GetURL(D1360)","v":"https://www.refaccionariagonzalez.com/alta/0/05069631AA_1.jpg"}]
["2020-09-29T18:05:00",11,"05069631AA","05069631AA_2.jpg",{"$f":"+GetURL(D1361)","v":"https://www.refaccionariagonzalez.com/alta/0/05069631AA_2.jpg"}]
["2020-09-29T17:58:00",11,"05069631AA","05069631AA_8.jpg",{"$f":"+GetURL(D1362)","v":"https://www.refaccionariagonzalez.com/alta/0/05069631AA_8.jpg"}]
["2020-09-29T18:17:00",11,"05069631AA","05069631AA_9.jpg",{"$f":"+GetURL(D1363)","v":"https://www.refaccionariagonzalez.com/alta/0/05069631AA_9.jpg"}]
["2020-09-29T18:06:00",11,"05069652AA","05069652AA_1.jpg",{"$f":"+GetURL(D1364)","v":"https://www.refaccionariagonzalez.com/alta/0/05069652AA_1.jpg"}]
["2020-09-29T18:34:00",11,"05069652AA","05069652AA_2.jpg",{"$f":"+GetURL(D1365)","v":"https://www.refaccionariagonzalez.com/alta/0/05069652AA_2.jpg"}]
["2020-09-29T18:16:00",11,"05071378AA","05071378AA_1.jpg",{"$f":"+GetURL(D1366)","v":"https://www.refaccionariagonzalez.com/alta/0/05071378AA_1.jpg"}]
["2020-09-29T18:31:00",11,"05071378AA","05071378AA_9.jpg",{"$f":"+GetURL(D1367)","v":"https://www.refaccionariagonzalez.com/alta/0/05071378AA_9.jpg"}]
["2020-09-29T17:42:00",11,"05071799AA","05071799AA_1.jpg",{"$f":"+GetURL(D1368)","v":"https://www.refaccionariagonzalez.com/alta/0/05071799AA_1.jpg"}]
["2020-09-29T18:49:00",11,"05071799AA","05071799AA_9.jpg",{"$f":"+GetURL(D1369)","v":"https://www.refaccionariagonzalez.com/alta/0/05071799AA_9.jpg"}]
["2020-09-29T17:44:00",11,"05083485AA","05083485AA_1.jpg",{"$f":"+GetURL(D1370)","v":"https://www.refaccionariagonzalez.com/alta/0/05083485AA_1.jpg"}]
["2020-09-29T18:20:00",11,"05083485AA","05083485AA_9.jpg",{"$f":"+GetURL(D1371)","v":"https://www.refaccionariagonzalez.com/alta/0/05083485AA_9.jpg"}]
["2020-09-29T18:36:00",11,"05083893AC","05083893AC_1.jpg",{"$f":"+GetURL(D1372)","v":"https://www.refaccionariagonzalez.com/alta/0/05083893AC_1.jpg"}]
["2020-09-29T18:00:00",11,"05083893AC","05083893AC_9.jpg",{"$f":"+GetURL(D1373)","v":"https://www.refaccionariagonzalez.com/alta/0/05083893AC_9.jpg"}]
["2020-09-29T18:08:00",11,"05096934AA","05096934AA_1.jpg",{"$f":"+GetURL(D1374)","v":"https://www.refaccionariagonzalez.com/alta/0/05096934AA_1.jpg"}]
["2020-09-29T18:52:00",11,"05096934AA","05096934AA_9.jpg",{"$f":"+GetURL(D1375)","v":"https://www.refaccionariagonzalez.com/alta/0/05096934AA_9.jpg"}]
["2020-09-29T18:41:00",13,"051-611-44AA","051-611-44AA_1.jpg",{"$f":"+GetURL(D1376)","v":"https://www.refaccionariagonzalez.com/alta/0/051-611-44AA_1.jpg"}]
["2020-09-29T18:07:00",13,"051-611-44AA","051-611-44AA_9.jpg",{"$f":"+GetURL(D1377)","v":"https://www.refaccionariagonzalez.com/alta/0/051-611-44AA_9.jpg"}]
["2020-09-29T18:20:00",11,"05114225AA","05114225AA_1.jpg",{"$f":"+GetURL(D1378)","v":"https://www.refaccionariagonzalez.com/alta/0/05114225AA_1.jpg"}]
["2024-03-04T12:40:00",11,"05114225AA","05114225AA_2.jpg",{"$f":"+GetURL(D1379)","v":"https://www.refaccionariagonzalez.com/alta/0/05114225AA_2.jpg"}]
["2020-09-29T18:26:00",11,"05114225AA","05114225AA_9.jpg",{"$f":"+GetURL(D1380)","v":"https://www.refaccionariagonzalez.com/alta/0/05114225AA_9.jpg"}]
["2024-03-04T12:41:00",10,"05114225A","05114225A_A.jpg",{"$f":"+GetURL(D1381)","v":"https://www.refaccionariagonzalez.com/alta/0/05114225A_A.jpg"}]
["2020-09-29T18:29:00",11,"05114226AA","05114226AA_1.jpg",{"$f":"+GetURL(D1382)","v":"https://www.refaccionariagonzalez.com/alta/0/05114226AA_1.jpg"}]
["2020-09-29T18:16:00",11,"05114226AA","05114226AA_9.jpg",{"$f":"+GetURL(D1383)","v":"https://www.refaccionariagonzalez.com/alta/0/05114226AA_9.jpg"}]
["2020-09-29T18:08:00",11,"05273431AB","05273431AB_1.jpg",{"$f":"+GetURL(D1384)","v":"https://www.refaccionariagonzalez.com/alta/0/05273431AB_1.jpg"}]
["2020-09-29T18:43:00",11,"05273431AB","05273431AB_2.jpg",{"$f":"+GetURL(D1385)","v":"https://www.refaccionariagonzalez.com/alta/0/05273431AB_2.jpg"}]
["2020-09-29T17:43:00",11,"05273431AB","05273431AB_3.jpg",{"$f":"+GetURL(D1386)","v":"https://www.refaccionariagonzalez.com/alta/0/05273431AB_3.jpg"}]
["2020-09-29T18:39:00",11,"05273431AB","05273431AB_4.jpg",{"$f":"+GetURL(D1387)","v":"https://www.refaccionariagonzalez.com/alta/0/05273431AB_4.jpg"}]
["2020-09-29T17:41:00",11,"05273431AB","05273431AB_9.jpg",{"$f":"+GetURL(D1388)","v":"https://www.refaccionariagonzalez.com/alta/0/05273431AB_9.jpg"}]
["2020-09-29T18:50:00",10,"0533307AC","0533307AC_1.jpg",{"$f":"+GetURL(D1389)","v":"https://www.refaccionariagonzalez.com/alta/0/0533307AC_1.jpg"}]
["2020-09-29T18:14:00",10,"0533307AC","0533307AC_2.jpg",{"$f":"+GetURL(D1390)","v":"https://www.refaccionariagonzalez.com/alta/0/0533307AC_2.jpg"}]
["2020-09-29T18:29:00",10,"0533307AC","0533307AC_3.jpg",{"$f":"+GetURL(D1391)","v":"https://www.refaccionariagonzalez.com/alta/0/0533307AC_3.jpg"}]
["2020-09-29T18:45:00",10,"0533307AC","0533307AC_9.jpg",{"$f":"+GetURL(D1392)","v":"https://www.refaccionariagonzalez.com/alta/0/0533307AC_9.jpg"}]
["2020-09-29T18:38:00",13,"055-129-051G","055-129-051G_1.jpg",{"$f":"+GetURL(D1393)","v":"https://www.refaccionariagonzalez.com/alta/0/055-129-051G_1.jpg"}]
["2020-09-29T18:10:00",13,"055-129-051G","055-129-051G_9.jpg",{"$f":"+GetURL(D1394)","v":"https://www.refaccionariagonzalez.com/alta/0/055-129-051G_9.jpg"}]
["2020-09-29T18:55:00",13,"055-129-051H","055-129-051H_1.jpg",{"$f":"+GetURL(D1395)","v":"https://www.refaccionariagonzalez.com/alta/0/055-129-051H_1.jpg"}]
["2020-09-29T18:26:00",13,"055-129-051H","055-129-051H_9.jpg",{"$f":"+GetURL(D1396)","v":"https://www.refaccionariagonzalez.com/alta/0/055-129-051H_9.jpg"}]
["2024-05-06T08:59:00",{"$f":"+FIND(\".\",D1397)","v":11},"055129761C","055129761C.jpg",{"$f":"+GetURL(D1397)","v":"https://www.refaccionariagonzalez.com/alta/0/055129761C.jpg"}]
["2024-05-06T08:59:00",11,"055129761C","055129761C_2.jpg",{"$f":"+GetURL(D1398)","v":"https://www.refaccionariagonzalez.com/alta/0/055129761C_2.jpg"}]
["2023-05-17T11:25:00",11,"055905225B","055905225B_2.jpg",{"$f":"+GetURL(D1399)","v":"https://www.refaccionariagonzalez.com/alta/0/055905225B_2.jpg"}]
["2024-04-24T15:05:00",13,"056115561G-K","056115561G-K_B.jpg",{"$f":"+GetURL(D1400)","v":"https://www.refaccionariagonzalez.com/alta/0/056115561G-K_B.jpg"}]
["2020-09-29T18:08:00",11,"056919081C","056919081C_1.jpg",{"$f":"+GetURL(D1401)","v":"https://www.refaccionariagonzalez.com/alta/0/056919081C_1.jpg"}]
["2020-09-29T18:39:00",11,"056919081C","056919081C_9.jpg",{"$f":"+GetURL(D1402)","v":"https://www.refaccionariagonzalez.com/alta/0/056919081C_9.jpg"}]
["2020-09-29T17:57:00",11,"056919081E","056919081E_1.jpg",{"$f":"+GetURL(D1403)","v":"https://www.refaccionariagonzalez.com/alta/0/056919081E_1.jpg"}]
["2020-09-29T18:54:00",11,"056919081E","056919081E_2.jpg",{"$f":"+GetURL(D1404)","v":"https://www.refaccionariagonzalez.com/alta/0/056919081E_2.jpg"}]
["2020-09-29T18:40:00",11,"056919081E","056919081E_8.jpg",{"$f":"+GetURL(D1405)","v":"https://www.refaccionariagonzalez.com/alta/0/056919081E_8.jpg"}]
["2020-09-29T17:58:00",11,"056919081E","056919081E_9.jpg",{"$f":"+GetURL(D1406)","v":"https://www.refaccionariagonzalez.com/alta/0/056919081E_9.jpg"}]
["2020-09-29T17:41:00",8,"06-0489","06-0489_1.jpg",{"$f":"+GetURL(D1407)","v":"https://www.refaccionariagonzalez.com/alta/0/06-0489_1.jpg"}]
["2020-09-29T18:24:00",8,"06-0489","06-0489_9.jpg",{"$f":"+GetURL(D1408)","v":"https://www.refaccionariagonzalez.com/alta/0/06-0489_9.jpg"}]
["2020-09-29T18:57:00",9,"06-JC240","06-JC240_1.jpg",{"$f":"+GetURL(D1409)","v":"https://www.refaccionariagonzalez.com/alta/0/06-JC240_1.jpg"}]
["2020-09-29T18:32:00",{"$f":"+FIND(\"_\",D1410)","v":9},{"$f":"+LEFT(D1410,B1410-1)","v":"06-JC240"},"06-JC240_2.jpg",{"$f":"+GetURL(D1410)","v":"https://www.refaccionariagonzalez.com/alta/0/06-JC240_2.jpg"}]
["2020-09-29T18:25:00",9,"06-JC240","06-JC240_9.jpg",{"$f":"+GetURL(D1411)","v":"https://www.refaccionariagonzalez.com/alta/0/06-JC240_9.jpg"}]
["2020-09-29T18:41:00",13,"06A-121-132C","06A-121-132C_1.jpg",{"$f":"+GetURL(D1412)","v":"https://www.refaccionariagonzalez.com/alta/0/06A-121-132C_1.jpg"}]
["2020-09-29T17:46:00",13,"06A-121-132C","06A-121-132C_2.jpg",{"$f":"+GetURL(D1413)","v":"https://www.refaccionariagonzalez.com/alta/0/06A-121-132C_2.jpg"}]
["2020-09-29T18:38:00",13,"06A-121-132C","06A-121-132C_3.jpg",{"$f":"+GetURL(D1414)","v":"https://www.refaccionariagonzalez.com/alta/0/06A-121-132C_3.jpg"}]
["2020-09-29T17:48:00",13,"06A-121-132C","06A-121-132C_4.jpg",{"$f":"+GetURL(D1415)","v":"https://www.refaccionariagonzalez.com/alta/0/06A-121-132C_4.jpg"}]
["2020-09-29T18:13:00",13,"06A-121-132C","06A-121-132C_7.jpg",{"$f":"+GetURL(D1416)","v":"https://www.refaccionariagonzalez.com/alta/0/06A-121-132C_7.jpg"}]
["2020-09-29T18:43:00",13,"06A-121-132C","06A-121-132C_8.jpg",{"$f":"+GetURL(D1417)","v":"https://www.refaccionariagonzalez.com/alta/0/06A-121-132C_8.jpg"}]
["2020-09-29T17:41:00",13,"06A-121-132C","06A-121-132C_9.jpg",{"$f":"+GetURL(D1418)","v":"https://www.refaccionariagonzalez.com/alta/0/06A-121-132C_9.jpg"}]
["2020-09-29T18:20:00",13,"06A-905-161B","06A-905-161B_1.jpg",{"$f":"+GetURL(D1419)","v":"https://www.refaccionariagonzalez.com/alta/0/06A-905-161B_1.jpg"}]
["2020-09-29T18:19:00",13,"06A-905-161B","06A-905-161B_9.jpg",{"$f":"+GetURL(D1420)","v":"https://www.refaccionariagonzalez.com/alta/0/06A-905-161B_9.jpg"}]
["2020-09-29T18:46:00",13,"06A-906-461B","06A-906-461B_1.jpg",{"$f":"+GetURL(D1421)","v":"https://www.refaccionariagonzalez.com/alta/0/06A-906-461B_1.jpg"}]
["2020-09-29T18:40:00",13,"06A-906-461B","06A-906-461B_2.jpg",{"$f":"+GetURL(D1422)","v":"https://www.refaccionariagonzalez.com/alta/0/06A-906-461B_2.jpg"}]
["2020-09-29T18:42:00",13,"06A-906-461B","06A-906-461B_3.jpg",{"$f":"+GetURL(D1423)","v":"https://www.refaccionariagonzalez.com/alta/0/06A-906-461B_3.jpg"}]
["2020-09-29T18:07:00",13,"06A-906-461B","06A-906-461B_8.jpg",{"$f":"+GetURL(D1424)","v":"https://www.refaccionariagonzalez.com/alta/0/06A-906-461B_8.jpg"}]
["2020-09-29T18:45:00",13,"06A-906-461B","06A-906-461B_9.jpg",{"$f":"+GetURL(D1425)","v":"https://www.refaccionariagonzalez.com/alta/0/06A-906-461B_9.jpg"}]
["2020-09-29T18:58:00",13,"06A-919-081A","06A-919-081A_1.jpg",{"$f":"+GetURL(D1426)","v":"https://www.refaccionariagonzalez.com/alta/0/06A-919-081A_1.jpg"}]
["2020-09-29T17:52:00",13,"06A-919-081A","06A-919-081A_2.jpg",{"$f":"+GetURL(D1427)","v":"https://www.refaccionariagonzalez.com/alta/0/06A-919-081A_2.jpg"}]
["2020-09-29T18:35:00",13,"06A-919-081A","06A-919-081A_8.jpg",{"$f":"+GetURL(D1428)","v":"https://www.refaccionariagonzalez.com/alta/0/06A-919-081A_8.jpg"}]
["2020-09-29T18:07:00",13,"06A-919-081A","06A-919-081A_9.jpg",{"$f":"+GetURL(D1429)","v":"https://www.refaccionariagonzalez.com/alta/0/06A-919-081A_9.jpg"}]
["2020-09-29T18:51:00",10,"06A103544","06A103544_1.jpg",{"$f":"+GetURL(D1430)","v":"https://www.refaccionariagonzalez.com/alta/0/06A103544_1.jpg"}]
["2020-09-29T17:56:00",10,"06A103544","06A103544_2.jpg",{"$f":"+GetURL(D1431)","v":"https://www.refaccionariagonzalez.com/alta/0/06A103544_2.jpg"}]
["2020-09-29T18:14:00",10,"06A103544","06A103544_3.jpg",{"$f":"+GetURL(D1432)","v":"https://www.refaccionariagonzalez.com/alta/0/06A103544_3.jpg"}]
["2020-09-29T17:45:00",12,"06A103601AA","06A103601AA_1.jpg",{"$f":"+GetURL(D1433)","v":"https://www.refaccionariagonzalez.com/alta/0/06A103601AA_1.jpg"}]
["2020-09-29T18:06:00",12,"06A103601AA","06A103601AA_2.jpg",{"$f":"+GetURL(D1434)","v":"https://www.refaccionariagonzalez.com/alta/0/06A103601AA_2.jpg"}]
["2020-09-29T18:48:00",12,"06A103601AA","06A103601AA_3.jpg",{"$f":"+GetURL(D1435)","v":"https://www.refaccionariagonzalez.com/alta/0/06A103601AA_3.jpg"}]
["2020-09-29T18:13:00",12,"06A103601AA","06A103601AA_4.jpg",{"$f":"+GetURL(D1436)","v":"https://www.refaccionariagonzalez.com/alta/0/06A103601AA_4.jpg"}]
["2020-09-29T17:47:00",12,"06A103601AA","06A103601AA_7.jpg",{"$f":"+GetURL(D1437)","v":"https://www.refaccionariagonzalez.com/alta/0/06A103601AA_7.jpg"}]
["2020-09-29T18:11:00",12,"06A103601AA","06A103601AA_8.jpg",{"$f":"+GetURL(D1438)","v":"https://www.refaccionariagonzalez.com/alta/0/06A103601AA_8.jpg"}]
["2020-09-29T17:58:00",12,"06A103601AA","06A103601AA_9.jpg",{"$f":"+GetURL(D1439)","v":"https://www.refaccionariagonzalez.com/alta/0/06A103601AA_9.jpg"}]
["2020-09-29T18:13:00",11,"06A103663C","06A103663C_1.jpg",{"$f":"+GetURL(D1440)","v":"https://www.refaccionariagonzalez.com/alta/0/06A103663C_1.jpg"}]
["2020-09-29T18:10:00",11,"06A109108B","06A109108B_1.jpg",{"$f":"+GetURL(D1441)","v":"https://www.refaccionariagonzalez.com/alta/0/06A109108B_1.jpg"}]
["2020-09-29T18:23:00",11,"06A109108B","06A109108B_2.jpg",{"$f":"+GetURL(D1442)","v":"https://www.refaccionariagonzalez.com/alta/0/06A109108B_2.jpg"}]
["2020-09-29T18:55:00",11,"06A109108B","06A109108B_8.jpg",{"$f":"+GetURL(D1443)","v":"https://www.refaccionariagonzalez.com/alta/0/06A109108B_8.jpg"}]
["2020-09-29T17:43:00",11,"06A109108B","06A109108B_9.jpg",{"$f":"+GetURL(D1444)","v":"https://www.refaccionariagonzalez.com/alta/0/06A109108B_9.jpg"}]
["2024-05-02T09:55:00",{"$f":"+FIND(\".\",D1445)","v":14},"06A109479C-KB","06A109479C-KB.jpg",{"$f":"+GetURL(D1445)","v":"https://www.refaccionariagonzalez.com/alta/0/06A109479C-KB.jpg"}]
["2024-04-24T14:28:00",13,"06A109479C-K","06A109479C-K_B.jpg",{"$f":"+GetURL(D1446)","v":"https://www.refaccionariagonzalez.com/alta/0/06A109479C-K_B.jpg"}]
["2020-12-04T18:17:00",11,"06A133240.","06A133240._1.jpg",{"$f":"+GetURL(D1447)","v":"https://www.refaccionariagonzalez.com/alta/0/06A133240._1.jpg"}]
["2020-09-29T18:56:00",11,"06A905161B","06A905161B_1.jpg",{"$f":"+GetURL(D1448)","v":"https://www.refaccionariagonzalez.com/alta/0/06A905161B_1.jpg"}]
["2020-09-29T17:50:00",11,"06A905161B","06A905161B_2.jpg",{"$f":"+GetURL(D1449)","v":"https://www.refaccionariagonzalez.com/alta/0/06A905161B_2.jpg"}]
["2020-09-29T17:55:00",11,"06A905161B","06A905161B_9.jpg",{"$f":"+GetURL(D1450)","v":"https://www.refaccionariagonzalez.com/alta/0/06A905161B_9.jpg"}]
["2020-09-29T18:35:00",11,"06A919081B","06A919081B_1.jpg",{"$f":"+GetURL(D1451)","v":"https://www.refaccionariagonzalez.com/alta/0/06A919081B_1.jpg"}]
["2020-09-29T18:09:00",11,"06A919081B","06A919081B_9.jpg",{"$f":"+GetURL(D1452)","v":"https://www.refaccionariagonzalez.com/alta/0/06A919081B_9.jpg"}]
["2020-09-29T18:48:00",10,"06ABS0040","06ABS0040_1.jpg",{"$f":"+GetURL(D1453)","v":"https://www.refaccionariagonzalez.com/alta/0/06ABS0040_1.jpg"}]
["2020-09-29T18:34:00",10,"06ABS0040","06ABS0040_9.jpg",{"$f":"+GetURL(D1454)","v":"https://www.refaccionariagonzalez.com/alta/0/06ABS0040_9.jpg"}]
["2020-09-29T18:56:00",10,"06ABS0041","06ABS0041_1.jpg",{"$f":"+GetURL(D1455)","v":"https://www.refaccionariagonzalez.com/alta/0/06ABS0041_1.jpg"}]
["2020-09-29T18:38:00",10,"06ABS0041","06ABS0041_9.jpg",{"$f":"+GetURL(D1456)","v":"https://www.refaccionariagonzalez.com/alta/0/06ABS0041_9.jpg"}]
["2020-09-29T18:23:00",9,"06AVEO59","06AVEO59_1.jpg",{"$f":"+GetURL(D1457)","v":"https://www.refaccionariagonzalez.com/alta/0/06AVEO59_1.jpg"}]
["2020-09-29T18:47:00",9,"06AVEO59","06AVEO59_9.jpg",{"$f":"+GetURL(D1458)","v":"https://www.refaccionariagonzalez.com/alta/0/06AVEO59_9.jpg"}]
["2020-09-29T18:14:00",13,"06B-103-171B","06B-103-171B_1.jpg",{"$f":"+GetURL(D1459)","v":"https://www.refaccionariagonzalez.com/alta/0/06B-103-171B_1.jpg"}]
["2020-09-29T18:45:00",13,"06B-103-171B","06B-103-171B_2.jpg",{"$f":"+GetURL(D1460)","v":"https://www.refaccionariagonzalez.com/alta/0/06B-103-171B_2.jpg"}]
["2020-09-29T17:46:00",13,"06B-103-171B","06B-103-171B_8.jpg",{"$f":"+GetURL(D1461)","v":"https://www.refaccionariagonzalez.com/alta/0/06B-103-171B_8.jpg"}]
["2020-09-29T17:49:00",13,"06B-103-171B","06B-103-171B_9.jpg",{"$f":"+GetURL(D1462)","v":"https://www.refaccionariagonzalez.com/alta/0/06B-103-171B_9.jpg"}]
["2024-04-24T12:20:00",12,"06D115562-K","06D115562-K_B.jpg",{"$f":"+GetURL(D1463)","v":"https://www.refaccionariagonzalez.com/alta/0/06D115562-K_B.jpg"}]
["2020-09-29T18:56:00",13,"06F-133-843A","06F-133-843A_1.jpg",{"$f":"+GetURL(D1464)","v":"https://www.refaccionariagonzalez.com/alta/0/06F-133-843A_1.jpg"}]
["2020-09-29T18:37:00",13,"06F-133-843A","06F-133-843A_8.jpg",{"$f":"+GetURL(D1465)","v":"https://www.refaccionariagonzalez.com/alta/0/06F-133-843A_8.jpg"}]
["2020-09-29T18:30:00",13,"06F-133-843A","06F-133-843A_9.jpg",{"$f":"+GetURL(D1466)","v":"https://www.refaccionariagonzalez.com/alta/0/06F-133-843A_9.jpg"}]
["2024-05-10T08:05:00",{"$f":"+FIND(\".\",D1467)","v":10},"06FOCUS46","06FOCUS46.jpg",{"$f":"+GetURL(D1467)","v":"https://www.refaccionariagonzalez.com/alta/0/06FOCUS46.jpg"}]
["2020-09-29T17:48:00",10,"06FOCUS46","06FOCUS46_1.jpg",{"$f":"+GetURL(D1468)","v":"https://www.refaccionariagonzalez.com/alta/0/06FOCUS46_1.jpg"}]
["2020-09-29T18:07:00",10,"06FOCUS46","06FOCUS46_9.jpg",{"$f":"+GetURL(D1469)","v":"https://www.refaccionariagonzalez.com/alta/0/06FOCUS46_9.jpg"}]
["2020-09-29T18:10:00",13,"06J-115-561B","06J-115-561B_1.jpg",{"$f":"+GetURL(D1470)","v":"https://www.refaccionariagonzalez.com/alta/0/06J-115-561B_1.jpg"}]
["2020-09-29T17:55:00",13,"06J-115-561B","06J-115-561B_9.jpg",{"$f":"+GetURL(D1471)","v":"https://www.refaccionariagonzalez.com/alta/0/06J-115-561B_9.jpg"}]
["2024-04-24T18:35:00",14,"06K-115-562MF","06K-115-562MF_2.jpg",{"$f":"+GetURL(D1472)","v":"https://www.refaccionariagonzalez.com/alta/0/06K-115-562MF_2.jpg"}]
["2024-04-24T18:35:00",13,"06K-115-562M","06K-115-562M_F.jpg",{"$f":"+GetURL(D1473)","v":"https://www.refaccionariagonzalez.com/alta/0/06K-115-562M_F.jpg"}]
["2020-09-29T17:46:00",{"$f":"+FIND(\"_\",D1474)","v":11},{"$f":"+LEFT(D1474,B1474-1)","v":"06LGR14-70"},"06LGR14-70_1.jpg",{"$f":"+GetURL(D1474)","v":"https://www.refaccionariagonzalez.com/alta/0/06LGR14-70_1.jpg"}]
["2020-09-29T18:16:00",11,"06LGR14-70","06LGR14-70_9.jpg",{"$f":"+GetURL(D1475)","v":"https://www.refaccionariagonzalez.com/alta/0/06LGR14-70_9.jpg"}]
["2024-05-10T08:05:00",{"$f":"+FIND(\".\",D1476)","v":11},"06LGR14-71","06LGR14-71.jpg",{"$f":"+GetURL(D1476)","v":"https://www.refaccionariagonzalez.com/alta/0/06LGR14-71.jpg"}]
["2020-09-29T18:22:00",11,"06LGR14-71","06LGR14-71_1.jpg",{"$f":"+GetURL(D1477)","v":"https://www.refaccionariagonzalez.com/alta/0/06LGR14-71_1.jpg"}]
["2020-09-29T17:58:00",11,"06LGR14-71","06LGR14-71_9.jpg",{"$f":"+GetURL(D1478)","v":"https://www.refaccionariagonzalez.com/alta/0/06LGR14-71_9.jpg"}]
["2024-05-13T08:29:00",{"$f":"+FIND(\".\",D1479)","v":11},"06TURBAN58","06TURBAN58.jpg",{"$f":"+GetURL(D1479)","v":"https://www.refaccionariagonzalez.com/alta/0/06TURBAN58.jpg"}]
["2020-09-29T17:46:00",11,"06TURBAN58","06TURBAN58_1.jpg",{"$f":"+GetURL(D1480)","v":"https://www.refaccionariagonzalez.com/alta/0/06TURBAN58_1.jpg"}]
["2020-09-29T18:32:00",11,"06TURBAN58","06TURBAN58_9.jpg",{"$f":"+GetURL(D1481)","v":"https://www.refaccionariagonzalez.com/alta/0/06TURBAN58_9.jpg"}]
["2020-09-29T17:54:00",7,"0603RD","0603RD_1.jpg",{"$f":"+GetURL(D1482)","v":"https://www.refaccionariagonzalez.com/alta/0/0603RD_1.jpg"}]
["2020-09-29T18:07:00",7,"0603RD","0603RD_9.jpg",{"$f":"+GetURL(D1483)","v":"https://www.refaccionariagonzalez.com/alta/0/0603RD_9.jpg"}]
["2020-09-29T18:40:00",10,"06040EXMX","06040EXMX_1.jpg",{"$f":"+GetURL(D1484)","v":"https://www.refaccionariagonzalez.com/alta/0/06040EXMX_1.jpg"}]
["2020-09-29T18:32:00",10,"06040EXMX","06040EXMX_2.jpg",{"$f":"+GetURL(D1485)","v":"https://www.refaccionariagonzalez.com/alta/0/06040EXMX_2.jpg"}]
["2020-09-29T18:08:00",6,"06482","06482_1.jpg",{"$f":"+GetURL(D1486)","v":"https://www.refaccionariagonzalez.com/alta/0/06482_1.jpg"}]
["2020-09-29T18:05:00",6,"06482","06482_2.jpg",{"$f":"+GetURL(D1487)","v":"https://www.refaccionariagonzalez.com/alta/0/06482_2.jpg"}]
["2020-09-29T18:37:00",6,"06482","06482_9.jpg",{"$f":"+GetURL(D1488)","v":"https://www.refaccionariagonzalez.com/alta/0/06482_9.jpg"}]
["2020-09-29T17:54:00",5,"065H","065H_1.jpg",{"$f":"+GetURL(D1489)","v":"https://www.refaccionariagonzalez.com/alta/0/065H_1.jpg"}]
["2020-09-29T18:13:00",5,"065H","065H_9.jpg",{"$f":"+GetURL(D1490)","v":"https://www.refaccionariagonzalez.com/alta/0/065H_9.jpg"}]
["2020-09-29T18:37:00",13,"068-103-171F","068-103-171F_1.jpg",{"$f":"+GetURL(D1491)","v":"https://www.refaccionariagonzalez.com/alta/0/068-103-171F_1.jpg"}]
["2020-09-29T18:41:00",13,"068-103-171F","068-103-171F_2.jpg",{"$f":"+GetURL(D1492)","v":"https://www.refaccionariagonzalez.com/alta/0/068-103-171F_2.jpg"}]
["2020-09-29T18:17:00",13,"068-103-171F","068-103-171F_9.jpg",{"$f":"+GetURL(D1493)","v":"https://www.refaccionariagonzalez.com/alta/0/068-103-171F_9.jpg"}]
["2020-09-29T18:14:00",12,"07C-906-461","07C-906-461_1.jpg",{"$f":"+GetURL(D1494)","v":"https://www.refaccionariagonzalez.com/alta/0/07C-906-461_1.jpg"}]
["2020-09-29T18:20:00",12,"07C-906-461","07C-906-461_2.jpg",{"$f":"+GetURL(D1495)","v":"https://www.refaccionariagonzalez.com/alta/0/07C-906-461_2.jpg"}]
["2020-09-29T18:01:00",12,"07C-906-461","07C-906-461_9.jpg",{"$f":"+GetURL(D1496)","v":"https://www.refaccionariagonzalez.com/alta/0/07C-906-461_9.jpg"}]
["2021-05-28T17:37:00",13,"07K-117-021C","07K-117-021C_1.jpg",{"$f":"+GetURL(D1497)","v":"https://www.refaccionariagonzalez.com/alta/0/07K-117-021C_1.jpg"}]
["2021-05-28T17:37:00",13,"07K-117-021C","07K-117-021C_2.jpg",{"$f":"+GetURL(D1498)","v":"https://www.refaccionariagonzalez.com/alta/0/07K-117-021C_2.jpg"}]
["2021-05-28T17:38:00",13,"07K-117-021C","07K-117-021C_3.jpg",{"$f":"+GetURL(D1499)","v":"https://www.refaccionariagonzalez.com/alta/0/07K-117-021C_3.jpg"}]
["2021-05-28T17:38:00",13,"07K-117-021C","07K-117-021C_4.jpg",{"$f":"+GetURL(D1500)","v":"https://www.refaccionariagonzalez.com/alta/0/07K-117-021C_4.jpg"}]
["2024-05-02T09:55:00",9,"07K11539","07K11539_7D.jpg",{"$f":"+GetURL(D1501)","v":"https://www.refaccionariagonzalez.com/alta/0/07K11539_7D.jpg"}]
["2024-04-24T14:28:00",10,"07K115397","07K115397_D.jpg",{"$f":"+GetURL(D1502)","v":"https://www.refaccionariagonzalez.com/alta/0/07K115397_D.jpg"}]
["2020-09-29T17:58:00",11,"07K115611G","07K115611G_1.jpg",{"$f":"+GetURL(D1503)","v":"https://www.refaccionariagonzalez.com/alta/0/07K115611G_1.jpg"}]
["2020-09-29T18:41:00",11,"07K115611G","07K115611G_2.jpg",{"$f":"+GetURL(D1504)","v":"https://www.refaccionariagonzalez.com/alta/0/07K115611G_2.jpg"}]
["2020-09-29T18:08:00",7,"070114","070114_1.jpg",{"$f":"+GetURL(D1505)","v":"https://www.refaccionariagonzalez.com/alta/0/070114_1.jpg"}]
["2020-09-29T18:32:00",7,"070114","070114_9.jpg",{"$f":"+GetURL(D1506)","v":"https://www.refaccionariagonzalez.com/alta/0/070114_9.jpg"}]
["2020-09-29T18:07:00",12,"074-103-383","074-103-383_1.jpg",{"$f":"+GetURL(D1507)","v":"https://www.refaccionariagonzalez.com/alta/0/074-103-383_1.jpg"}]
["2020-09-29T18:00:00",12,"074-103-383","074-103-383_9.jpg",{"$f":"+GetURL(D1508)","v":"https://www.refaccionariagonzalez.com/alta/0/074-103-383_9.jpg"}]
["2020-09-29T18:36:00",12,"074-103-483","074-103-483_1.jpg",{"$f":"+GetURL(D1509)","v":"https://www.refaccionariagonzalez.com/alta/0/074-103-483_1.jpg"}]
["2020-09-29T18:21:00",12,"074-103-483","074-103-483_9.jpg",{"$f":"+GetURL(D1510)","v":"https://www.refaccionariagonzalez.com/alta/0/074-103-483_9.jpg"}]
["2020-09-29T18:15:00",12,"074-115-561","074-115-561_1.jpg",{"$f":"+GetURL(D1511)","v":"https://www.refaccionariagonzalez.com/alta/0/074-115-561_1.jpg"}]
["2020-09-29T17:47:00",12,"074-115-561","074-115-561_9.jpg",{"$f":"+GetURL(D1512)","v":"https://www.refaccionariagonzalez.com/alta/0/074-115-561_9.jpg"}]
["2020-09-29T18:01:00",13,"074-121-005N","074-121-005N_1.jpg",{"$f":"+GetURL(D1513)","v":"https://www.refaccionariagonzalez.com/alta/0/074-121-005N_1.jpg"}]
["2020-09-29T17:41:00",13,"074-121-005N","074-121-005N_2.jpg",{"$f":"+GetURL(D1514)","v":"https://www.refaccionariagonzalez.com/alta/0/074-121-005N_2.jpg"}]
["2020-09-29T18:39:00",13,"074-121-005N","074-121-005N_3.jpg",{"$f":"+GetURL(D1515)","v":"https://www.refaccionariagonzalez.com/alta/0/074-121-005N_3.jpg"}]
["2020-09-29T18:19:00",13,"074-121-005N","074-121-005N_4.jpg",{"$f":"+GetURL(D1516)","v":"https://www.refaccionariagonzalez.com/alta/0/074-121-005N_4.jpg"}]
["2020-09-29T18:25:00",13,"074-121-005N","074-121-005N_9.jpg",{"$f":"+GetURL(D1517)","v":"https://www.refaccionariagonzalez.com/alta/0/074-121-005N_9.jpg"}]
["2020-09-29T19:00:00",13,"074-121-145B","074-121-145B_1.jpg",{"$f":"+GetURL(D1518)","v":"https://www.refaccionariagonzalez.com/alta/0/074-121-145B_1.jpg"}]
["2020-09-29T18:41:00",13,"074-121-145B","074-121-145B_2.jpg",{"$f":"+GetURL(D1519)","v":"https://www.refaccionariagonzalez.com/alta/0/074-121-145B_2.jpg"}]
["2020-09-29T18:25:00",13,"074-121-145B","074-121-145B_3.jpg",{"$f":"+GetURL(D1520)","v":"https://www.refaccionariagonzalez.com/alta/0/074-121-145B_3.jpg"}]
["2020-09-29T17:43:00",13,"074-121-145B","074-121-145B_9.jpg",{"$f":"+GetURL(D1521)","v":"https://www.refaccionariagonzalez.com/alta/0/074-121-145B_9.jpg"}]
["2020-09-29T18:33:00",11,"074115105A","074115105A_1.jpg",{"$f":"+GetURL(D1522)","v":"https://www.refaccionariagonzalez.com/alta/0/074115105A_1.jpg"}]
["2020-09-29T17:41:00",11,"074115105A","074115105A_2.jpg",{"$f":"+GetURL(D1523)","v":"https://www.refaccionariagonzalez.com/alta/0/074115105A_2.jpg"}]
["2020-09-29T17:55:00",11,"074115105A","074115105A_3.jpg",{"$f":"+GetURL(D1524)","v":"https://www.refaccionariagonzalez.com/alta/0/074115105A_3.jpg"}]
["2020-09-29T18:08:00",11,"074115105A","074115105A_9.jpg",{"$f":"+GetURL(D1525)","v":"https://www.refaccionariagonzalez.com/alta/0/074115105A_9.jpg"}]
["2020-09-29T18:12:00",11,"074121133D","074121133D_1.jpg",{"$f":"+GetURL(D1526)","v":"https://www.refaccionariagonzalez.com/alta/0/074121133D_1.jpg"}]
["2020-09-29T17:42:00",11,"074121133D","074121133D_2.jpg",{"$f":"+GetURL(D1527)","v":"https://www.refaccionariagonzalez.com/alta/0/074121133D_2.jpg"}]
["2020-09-29T18:51:00",11,"074121133D","074121133D_3.jpg",{"$f":"+GetURL(D1528)","v":"https://www.refaccionariagonzalez.com/alta/0/074121133D_3.jpg"}]
["2020-09-29T18:31:00",11,"074121133D","074121133D_8.jpg",{"$f":"+GetURL(D1529)","v":"https://www.refaccionariagonzalez.com/alta/0/074121133D_8.jpg"}]
["2020-09-29T17:47:00",11,"074121133D","074121133D_9.jpg",{"$f":"+GetURL(D1530)","v":"https://www.refaccionariagonzalez.com/alta/0/074121133D_9.jpg"}]
["2024-05-07T08:01:00",{"$f":"+FIND(\".\",D1531)","v":6},"07659","07659.jpg",{"$f":"+GetURL(D1531)","v":"https://www.refaccionariagonzalez.com/alta/0/07659.jpg"}]
["2020-09-29T17:46:00",8,"0775.00","0775.00_1.jpg",{"$f":"+GetURL(D1532)","v":"https://www.refaccionariagonzalez.com/alta/0/0775.00_1.jpg"}]
["2020-09-29T18:36:00",8,"0775.00","0775.00_9.jpg",{"$f":"+GetURL(D1533)","v":"https://www.refaccionariagonzalez.com/alta/0/0775.00_9.jpg"}]
["2020-09-29T18:51:00",13,"078-117-021A","078-117-021A_1.jpg",{"$f":"+GetURL(D1534)","v":"https://www.refaccionariagonzalez.com/alta/0/078-117-021A_1.jpg"}]
["2020-09-29T18:13:00",13,"078-117-021A","078-117-021A_8.jpg",{"$f":"+GetURL(D1535)","v":"https://www.refaccionariagonzalez.com/alta/0/078-117-021A_8.jpg"}]
["2020-09-29T17:46:00",13,"078-117-021A","078-117-021A_9.jpg",{"$f":"+GetURL(D1536)","v":"https://www.refaccionariagonzalez.com/alta/0/078-117-021A_9.jpg"}]
["2020-09-29T18:04:00",6,"08B11","08B11_1.jpg",{"$f":"+GetURL(D1537)","v":"https://www.refaccionariagonzalez.com/alta/0/08B11_1.jpg"}]
["2020-09-29T18:54:00",{"$f":"+FIND(\"_\",D1538)","v":6},{"$f":"+LEFT(D1538,B1538-1)","v":"08B11"},"08B11_9.jpg",{"$f":"+GetURL(D1538)","v":"https://www.refaccionariagonzalez.com/alta/0/08B11_9.jpg"}]
["2024-05-07T08:01:00",{"$f":"+FIND(\".\",D1539)","v":6},"08092","08092.jpg",{"$f":"+GetURL(D1539)","v":"https://www.refaccionariagonzalez.com/alta/0/08092.jpg"}]
["2020-09-29T18:18:00",6,"08844","08844_1.jpg",{"$f":"+GetURL(D1540)","v":"https://www.refaccionariagonzalez.com/alta/0/08844_1.jpg"}]
["2020-09-29T17:55:00",6,"08844","08844_2.jpg",{"$f":"+GetURL(D1541)","v":"https://www.refaccionariagonzalez.com/alta/0/08844_2.jpg"}]
["2020-09-29T18:35:00",6,"08844","08844_3.jpg",{"$f":"+GetURL(D1542)","v":"https://www.refaccionariagonzalez.com/alta/0/08844_3.jpg"}]
["2020-09-29T18:45:00",6,"08844","08844_9.jpg",{"$f":"+GetURL(D1543)","v":"https://www.refaccionariagonzalez.com/alta/0/08844_9.jpg"}]
["2020-09-29T18:11:00",6,"08948","08948_1.jpg",{"$f":"+GetURL(D1544)","v":"https://www.refaccionariagonzalez.com/alta/0/08948_1.jpg"}]
["2020-09-29T17:59:00",6,"08948","08948_9.jpg",{"$f":"+GetURL(D1545)","v":"https://www.refaccionariagonzalez.com/alta/0/08948_9.jpg"}]
["2024-05-03T09:40:00",9,"09G40906","09G40906_1B.jpg",{"$f":"+GetURL(D1546)","v":"https://www.refaccionariagonzalez.com/alta/0/09G40906_1B.jpg"}]
["2024-05-06T09:10:00",{"$f":"+FIND(\".\",D1547)","v":11},"09G409061B","09G409061B.jpg",{"$f":"+GetURL(D1547)","v":"https://www.refaccionariagonzalez.com/alta/0/09G409061B.jpg"}]
["2024-04-24T14:56:00",10,"09G409061","09G409061_B.jpg",{"$f":"+GetURL(D1548)","v":"https://www.refaccionariagonzalez.com/alta/0/09G409061_B.jpg"}]
["2020-09-29T18:19:00",12,"091-301-189","091-301-189_1.jpg",{"$f":"+GetURL(D1549)","v":"https://www.refaccionariagonzalez.com/alta/0/091-301-189_1.jpg"}]
["2020-09-29T18:39:00",12,"091-301-189","091-301-189_2.jpg",{"$f":"+GetURL(D1550)","v":"https://www.refaccionariagonzalez.com/alta/0/091-301-189_2.jpg"}]
["2020-09-29T18:08:00",12,"091-301-189","091-301-189_3.jpg",{"$f":"+GetURL(D1551)","v":"https://www.refaccionariagonzalez.com/alta/0/091-301-189_3.jpg"}]
["2020-09-29T18:35:00",12,"091-301-189","091-301-189_4.jpg",{"$f":"+GetURL(D1552)","v":"https://www.refaccionariagonzalez.com/alta/0/091-301-189_4.jpg"}]
["2020-09-29T18:00:00",12,"091-301-189","091-301-189_9.jpg",{"$f":"+GetURL(D1553)","v":"https://www.refaccionariagonzalez.com/alta/0/091-301-189_9.jpg"}]
["2020-09-29T18:14:00",12,"091-311-255","091-311-255_1.jpg",{"$f":"+GetURL(D1554)","v":"https://www.refaccionariagonzalez.com/alta/0/091-311-255_1.jpg"}]
["2020-09-29T18:57:00",12,"091-311-255","091-311-255_9.jpg",{"$f":"+GetURL(D1555)","v":"https://www.refaccionariagonzalez.com/alta/0/091-311-255_9.jpg"}]
["2020-09-29T18:36:00",6,"09708","09708_1.jpg",{"$f":"+GetURL(D1556)","v":"https://www.refaccionariagonzalez.com/alta/0/09708_1.jpg"}]
["2020-09-29T18:31:00",6,"09708","09708_2.jpg",{"$f":"+GetURL(D1557)","v":"https://www.refaccionariagonzalez.com/alta/0/09708_2.jpg"}]
["2020-09-29T17:54:00",6,"09708","09708_3.jpg",{"$f":"+GetURL(D1558)","v":"https://www.refaccionariagonzalez.com/alta/0/09708_3.jpg"}]
["2020-09-29T18:27:00",6,"09708","09708_9.jpg",{"$f":"+GetURL(D1559)","v":"https://www.refaccionariagonzalez.com/alta/0/09708_9.jpg"}]
["2024-05-02T08:34:00",{"$f":"+FIND(\".\",D1560)","v":11},"0986MF0022","0986MF0022.jpg",{"$f":"+GetURL(D1560)","v":"https://www.refaccionariagonzalez.com/alta/0/0986MF0022.jpg"}]
["2020-09-29T18:53:00",11,"0986MG0302","0986MG0302_1.jpg",{"$f":"+GetURL(D1561)","v":"https://www.refaccionariagonzalez.com/alta/0/0986MG0302_1.jpg"}]
["2020-09-29T18:07:00",11,"0986MG0302","0986MG0302_9.jpg",{"$f":"+GetURL(D1562)","v":"https://www.refaccionariagonzalez.com/alta/0/0986MG0302_9.jpg"}]
["2020-09-29T18:11:00",5,"1.8T","1.8T_1.jpg",{"$f":"+GetURL(D1563)","v":"https://www.refaccionariagonzalez.com/alta/1-3/1.8T_1.jpg"}]
["2020-09-29T18:44:00",5,"1.8T","1.8T_2.jpg",{"$f":"+GetURL(D1564)","v":"https://www.refaccionariagonzalez.com/alta/1-3/1.8T_2.jpg"}]
["2024-04-24T13:05:00",13,"1BM837205-KI","1BM837205-KI_T.jpg",{"$f":"+GetURL(D1565)","v":"https://www.refaccionariagonzalez.com/alta/1-3/1BM837205-KI_T.jpg"}]
["2024-05-02T09:45:00",{"$f":"+FIND(\".\",D1566)","v":15},"1C0-121-087EBC","1C0-121-087EBC.jpg",{"$f":"+GetURL(D1566)","v":"https://www.refaccionariagonzalez.com/alta/1-3/1C0-121-087EBC.jpg"}]
["2020-09-29T18:26:00",17,"1C0-941-531-C01C","1C0-941-531-C01C_1.jpg",{"$f":"+GetURL(D1567)","v":"https://www.refaccionariagonzalez.com/alta/1-3/1C0-941-531-C01C_1.jpg"}]
["2020-09-29T18:21:00",17,"1C0-941-531-C01C","1C0-941-531-C01C_2.jpg",{"$f":"+GetURL(D1568)","v":"https://www.refaccionariagonzalez.com/alta/1-3/1C0-941-531-C01C_2.jpg"}]
["2020-09-29T17:42:00",17,"1C0-941-531-C01C","1C0-941-531-C01C_3.jpg",{"$f":"+GetURL(D1569)","v":"https://www.refaccionariagonzalez.com/alta/1-3/1C0-941-531-C01C_3.jpg"}]
["2020-09-29T18:14:00",17,"1C0-941-531-C01C","1C0-941-531-C01C_4.jpg",{"$f":"+GetURL(D1570)","v":"https://www.refaccionariagonzalez.com/alta/1-3/1C0-941-531-C01C_4.jpg"}]
["2020-09-29T18:08:00",17,"1C0-941-531-C01C","1C0-941-531-C01C_5.jpg",{"$f":"+GetURL(D1571)","v":"https://www.refaccionariagonzalez.com/alta/1-3/1C0-941-531-C01C_5.jpg"}]
["2024-04-25T10:30:00",10,"1C0121087","1C0121087_E.jpg",{"$f":"+GetURL(D1572)","v":"https://www.refaccionariagonzalez.com/alta/1-3/1C0121087_E.jpg"}]
["2020-09-29T17:49:00",11,"1C1888-STD","1C1888-STD_1.jpg",{"$f":"+GetURL(D1573)","v":"https://www.refaccionariagonzalez.com/alta/1-3/1C1888-STD_1.jpg"}]
["2020-09-29T18:44:00",12,"1F0-129-620","1F0-129-620_1.jpg",{"$f":"+GetURL(D1574)","v":"https://www.refaccionariagonzalez.com/alta/1-3/1F0-129-620_1.jpg"}]
["2020-09-29T18:32:00",12,"1F0-129-620","1F0-129-620_2.jpg",{"$f":"+GetURL(D1575)","v":"https://www.refaccionariagonzalez.com/alta/1-3/1F0-129-620_2.jpg"}]
["2020-09-29T17:48:00",12,"1GX-127-025","1GX-127-025_1.jpg",{"$f":"+GetURL(D1576)","v":"https://www.refaccionariagonzalez.com/alta/1-3/1GX-127-025_1.jpg"}]
["2020-09-29T18:40:00",12,"1GX-127-025","1GX-127-025_2.jpg",{"$f":"+GetURL(D1577)","v":"https://www.refaccionariagonzalez.com/alta/1-3/1GX-127-025_2.jpg"}]
["2024-05-27T09:35:00",{"$f":"+FIND(\".\",D1578)","v":13},"1H0-121-407A","1H0-121-407A.jpg",{"$f":"+GetURL(D1578)","v":"https://www.refaccionariagonzalez.com/alta/1-3/1H0-121-407A.jpg"}]
["2024-05-27T09:35:00",13,"1H0-121-407A","1H0-121-407A_1.jpg",{"$f":"+GetURL(D1579)","v":"https://www.refaccionariagonzalez.com/alta/1-3/1H0-121-407A_1.jpg"}]
["2024-01-26T15:07:00",12,"1H0-407-625","1H0-407-625_1.jpg",{"$f":"+GetURL(D1580)","v":"https://www.refaccionariagonzalez.com/alta/1-3/1H0-407-625_1.jpg"}]
["2024-01-26T15:07:00",12,"1H0-407-625","1H0-407-625_2.jpg",{"$f":"+GetURL(D1581)","v":"https://www.refaccionariagonzalez.com/alta/1-3/1H0-407-625_2.jpg"}]
["2024-01-26T15:07:00",12,"1H0-407-625","1H0-407-625_3.jpg",{"$f":"+GetURL(D1582)","v":"https://www.refaccionariagonzalez.com/alta/1-3/1H0-407-625_3.jpg"}]
["2024-04-24T14:12:00",12,"1H0-837-401","1H0-837-401_B.jpg",{"$f":"+GetURL(D1583)","v":"https://www.refaccionariagonzalez.com/alta/1-3/1H0-837-401_B.jpg"}]
["2020-09-29T18:01:00",13,"1H0-953-513C","1H0-953-513C_1.jpg",{"$f":"+GetURL(D1584)","v":"https://www.refaccionariagonzalez.com/alta/1-3/1H0-953-513C_1.jpg"}]
["2020-09-29T18:10:00",12,"1H0-953-519","1H0-953-519_1.jpg",{"$f":"+GetURL(D1585)","v":"https://www.refaccionariagonzalez.com/alta/1-3/1H0-953-519_1.jpg"}]
["2020-09-29T17:54:00",15,"1H0498103-EURO","1H0498103-EURO_1.jpg",{"$f":"+GetURL(D1586)","v":"https://www.refaccionariagonzalez.com/alta/1-3/1H0498103-EURO_1.jpg"}]
["2020-09-29T18:44:00",10,"1H0711574","1H0711574_1.jpg",{"$f":"+GetURL(D1587)","v":"https://www.refaccionariagonzalez.com/alta/1-3/1H0711574_1.jpg"}]
["2020-09-29T18:23:00",10,"1H0711574","1H0711574_2.jpg",{"$f":"+GetURL(D1588)","v":"https://www.refaccionariagonzalez.com/alta/1-3/1H0711574_2.jpg"}]
["2024-05-02T10:12:00",{"$f":"+FIND(\".\",D1589)","v":11},"1H0919149A","1H0919149A.jpg",{"$f":"+GetURL(D1589)","v":"https://www.refaccionariagonzalez.com/alta/1-3/1H0919149A.jpg"}]
["2020-09-29T18:15:00",10,"1H0919563","1H0919563_1.jpg",{"$f":"+GetURL(D1590)","v":"https://www.refaccionariagonzalez.com/alta/1-3/1H0919563_1.jpg"}]
["2020-09-29T18:43:00",13,"1H0959481B-A","1H0959481B-A_1.jpg",{"$f":"+GetURL(D1591)","v":"https://www.refaccionariagonzalez.com/alta/1-3/1H0959481B-A_1.jpg"}]
["2020-09-29T18:59:00",13,"1H0959481B-A","1H0959481B-A_2.jpg",{"$f":"+GetURL(D1592)","v":"https://www.refaccionariagonzalez.com/alta/1-3/1H0959481B-A_2.jpg"}]
["2020-09-29T18:12:00",10,"1HM905865","1HM905865_1.jpg",{"$f":"+GetURL(D1593)","v":"https://www.refaccionariagonzalez.com/alta/1-3/1HM905865_1.jpg"}]
["2020-09-29T17:49:00",10,"1HM905865","1HM905865_2.jpg",{"$f":"+GetURL(D1594)","v":"https://www.refaccionariagonzalez.com/alta/1-3/1HM905865_2.jpg"}]
["2020-09-29T18:58:00",10,"1HM905865","1HM905865_3.jpg",{"$f":"+GetURL(D1595)","v":"https://www.refaccionariagonzalez.com/alta/1-3/1HM905865_3.jpg"}]
["2024-05-27T09:35:00",{"$f":"+FIND(\".\",D1596)","v":13},"1J0-121-403B","1J0-121-403B.jpg",{"$f":"+GetURL(D1596)","v":"https://www.refaccionariagonzalez.com/alta/1-3/1J0-121-403B.jpg"}]
["2024-05-27T09:35:00",13,"1J0-121-403B","1J0-121-403B_1.jpg",{"$f":"+GetURL(D1597)","v":"https://www.refaccionariagonzalez.com/alta/1-3/1J0-121-403B_1.jpg"}]
["2020-09-29T18:15:00",13,"1J0-121-403B","1J0-121-403B_2.jpg",{"$f":"+GetURL(D1598)","v":"https://www.refaccionariagonzalez.com/alta/1-3/1J0-121-403B_2.jpg"}]
["2020-09-29T18:36:00",12,"1J0-129-620","1J0-129-620_1.jpg",{"$f":"+GetURL(D1599)","v":"https://www.refaccionariagonzalez.com/alta/1-3/1J0-129-620_1.jpg"}]
["2020-09-29T18:50:00",12,"1J0-129-620","1J0-129-620_2.jpg",{"$f":"+GetURL(D1600)","v":"https://www.refaccionariagonzalez.com/alta/1-3/1J0-129-620_2.jpg"}]
["2020-09-29T18:18:00",12,"1J0-129-620","1J0-129-620_3.jpg",{"$f":"+GetURL(D1601)","v":"https://www.refaccionariagonzalez.com/alta/1-3/1J0-129-620_3.jpg"}]
["2020-09-29T18:09:00",{"$f":"+FIND(\"_\",D1602)","v":12},{"$f":"+LEFT(D1602,B1602-1)","v":"1J0-129-620"},"1J0-129-620_4.jpg",{"$f":"+GetURL(D1602)","v":"https://www.refaccionariagonzalez.com/alta/1-3/1J0-129-620_4.jpg"}]
["2024-01-30T11:50:00",14,"1J0-407-181-A","1J0-407-181-A_1.jpg",{"$f":"+GetURL(D1603)","v":"https://www.refaccionariagonzalez.com/alta/1-3/1J0-407-181-A_1.jpg"}]
["2024-01-30T11:50:00",14,"1J0-407-181-A","1J0-407-181-A_2.jpg",{"$f":"+GetURL(D1604)","v":"https://www.refaccionariagonzalez.com/alta/1-3/1J0-407-181-A_2.jpg"}]
["2024-01-30T11:50:00",14,"1J0-407-181-A","1J0-407-181-A_3.jpg",{"$f":"+GetURL(D1605)","v":"https://www.refaccionariagonzalez.com/alta/1-3/1J0-407-181-A_3.jpg"}]
["2024-01-18T17:39:00",12,"1J0-412-249","1J0-412-249_1.jpg",{"$f":"+GetURL(D1606)","v":"https://www.refaccionariagonzalez.com/alta/1-3/1J0-412-249_1.jpg"}]
["2024-01-18T17:39:00",12,"1J0-412-249","1J0-412-249_2.jpg",{"$f":"+GetURL(D1607)","v":"https://www.refaccionariagonzalez.com/alta/1-3/1J0-412-249_2.jpg"}]
["2024-01-18T17:39:00",12,"1J0-412-249","1J0-412-249_3.jpg",{"$f":"+GetURL(D1608)","v":"https://www.refaccionariagonzalez.com/alta/1-3/1J0-412-249_3.jpg"}]
["2020-09-29T18:25:00",13,"1J0-412-331C","1J0-412-331C_1.jpg",{"$f":"+GetURL(D1609)","v":"https://www.refaccionariagonzalez.com/alta/1-3/1J0-412-331C_1.jpg"}]
["2020-09-29T19:00:00",15,"1J0-422-105SFT","1J0-422-105SFT_1.jpg",{"$f":"+GetURL(D1610)","v":"https://www.refaccionariagonzalez.com/alta/1-3/1J0-422-105SFT_1.jpg"}]
["2020-09-29T18:38:00",16,"1J0-513-353CSFT","1J0-513-353CSFT_1.jpg",{"$f":"+GetURL(D1611)","v":"https://www.refaccionariagonzalez.com/alta/1-3/1J0-513-353CSFT_1.jpg"}]
["2020-09-29T18:27:00",16,"1J0-513-353CSFT","1J0-513-353CSFT_2.jpg",{"$f":"+GetURL(D1612)","v":"https://www.refaccionariagonzalez.com/alta/1-3/1J0-513-353CSFT_2.jpg"}]
["2024-05-27T09:35:00",{"$f":"+FIND(\".\",D1613)","v":11},"1J0121403B","1J0121403B.jpg",{"$f":"+GetURL(D1613)","v":"https://www.refaccionariagonzalez.com/alta/1-3/1J0121403B.jpg"}]
["2024-05-27T09:35:00",11,"1J0121403B","1J0121403B_1.jpg",{"$f":"+GetURL(D1614)","v":"https://www.refaccionariagonzalez.com/alta/1-3/1J0121403B_1.jpg"}]
["2020-09-29T18:43:00",11,"1J0121403B","1J0121403B_2.jpg",{"$f":"+GetURL(D1615)","v":"https://www.refaccionariagonzalez.com/alta/1-3/1J0121403B_2.jpg"}]
["2024-05-17T08:35:00",{"$f":"+FIND(\".\",D1616)","v":11},"1J0121407F","1J0121407F.jpg",{"$f":"+GetURL(D1616)","v":"https://www.refaccionariagonzalez.com/alta/1-3/1J0121407F.jpg"}]
["2020-09-29T18:32:00",10,"1J0122291","1J0122291_1.jpg",{"$f":"+GetURL(D1617)","v":"https://www.refaccionariagonzalez.com/alta/1-3/1J0122291_1.jpg"}]
["2020-12-04T18:17:00",12,"1J0129684AD","1J0129684AD_1.jpg",{"$f":"+GetURL(D1618)","v":"https://www.refaccionariagonzalez.com/alta/1-3/1J0129684AD_1.jpg"}]
["2024-04-24T13:22:00",12,"1J0407151-K","1J0407151-K_B.jpg",{"$f":"+GetURL(D1619)","v":"https://www.refaccionariagonzalez.com/alta/1-3/1J0407151-K_B.jpg"}]
["2020-09-29T17:48:00",13,"1J0407181CEO","1J0407181CEO_1.jpg",{"$f":"+GetURL(D1620)","v":"https://www.refaccionariagonzalez.com/alta/1-3/1J0407181CEO_1.jpg"}]
["2020-09-29T18:20:00",11,"1J0411314G","1J0411314G_1.jpg",{"$f":"+GetURL(D1621)","v":"https://www.refaccionariagonzalez.com/alta/1-3/1J0411314G_1.jpg"}]
["2020-09-29T18:55:00",11,"1J0411314G","1J0411314G_2.jpg",{"$f":"+GetURL(D1622)","v":"https://www.refaccionariagonzalez.com/alta/1-3/1J0411314G_2.jpg"}]
["2020-09-29T18:28:00",11,"1J0411314G","1J0411314G_3.jpg",{"$f":"+GetURL(D1623)","v":"https://www.refaccionariagonzalez.com/alta/1-3/1J0411314G_3.jpg"}]
["2020-09-29T18:12:00",10,"1J0412303","1J0412303_1.jpg",{"$f":"+GetURL(D1624)","v":"https://www.refaccionariagonzalez.com/alta/1-3/1J0412303_1.jpg"}]
["2020-09-29T18:54:00",10,"1J0412303","1J0412303_2.jpg",{"$f":"+GetURL(D1625)","v":"https://www.refaccionariagonzalez.com/alta/1-3/1J0412303_2.jpg"}]
["2020-09-29T18:37:00",10,"1J0412303","1J0412303_3.jpg",{"$f":"+GetURL(D1626)","v":"https://www.refaccionariagonzalez.com/alta/1-3/1J0412303_3.jpg"}]
["2020-09-29T17:49:00",11,"1J0412319C","1J0412319C_1.jpg",{"$f":"+GetURL(D1627)","v":"https://www.refaccionariagonzalez.com/alta/1-3/1J0412319C_1.jpg"}]
["2024-05-07T08:02:00",{"$f":"+FIND(\".\",D1628)","v":11},"1J0412331C","1J0412331C.jpg",{"$f":"+GetURL(D1628)","v":"https://www.refaccionariagonzalez.com/alta/1-3/1J0412331C.jpg"}]
["2024-04-24T14:57:00",10,"1J0412331","1J0412331_C.jpg",{"$f":"+GetURL(D1629)","v":"https://www.refaccionariagonzalez.com/alta/1-3/1J0412331_C.jpg"}]
["2024-04-24T18:44:00",12,"1J0413031-K","1J0413031-K_B.jpg",{"$f":"+GetURL(D1630)","v":"https://www.refaccionariagonzalez.com/alta/1-3/1J0413031-K_B.jpg"}]
["2024-05-06T09:24:00",{"$f":"+FIND(\".\",D1631)","v":13},"1J0422105-KB","1J0422105-KB.jpg",{"$f":"+GetURL(D1631)","v":"https://www.refaccionariagonzalez.com/alta/1-3/1J0422105-KB.jpg"}]
["2020-09-29T18:44:00",11,"1J0422154H","1J0422154H_1.jpg",{"$f":"+GetURL(D1632)","v":"https://www.refaccionariagonzalez.com/alta/1-3/1J0422154H_1.jpg"}]
["2020-09-29T18:27:00",11,"1J0422154H","1J0422154H_2.jpg",{"$f":"+GetURL(D1633)","v":"https://www.refaccionariagonzalez.com/alta/1-3/1J0422154H_2.jpg"}]
["2020-09-29T17:42:00",15,"1J0498103-EURO","1J0498103-EURO_1.jpg",{"$f":"+GetURL(D1634)","v":"https://www.refaccionariagonzalez.com/alta/1-3/1J0498103-EURO_1.jpg"}]
["2020-09-29T18:32:00",15,"1J0498311-MACH","1J0498311-MACH_1.jpg",{"$f":"+GetURL(D1635)","v":"https://www.refaccionariagonzalez.com/alta/1-3/1J0498311-MACH_1.jpg"}]
["2020-09-29T18:42:00",15,"1J0498311-MACH","1J0498311-MACH_2.jpg",{"$f":"+GetURL(D1636)","v":"https://www.refaccionariagonzalez.com/alta/1-3/1J0498311-MACH_2.jpg"}]
["2020-09-29T18:41:00",11,"1J0512131B","1J0512131B_1.jpg",{"$f":"+GetURL(D1637)","v":"https://www.refaccionariagonzalez.com/alta/1-3/1J0512131B_1.jpg"}]
["2020-09-29T18:53:00",11,"1J0512131B","1J0512131B_2.jpg",{"$f":"+GetURL(D1638)","v":"https://www.refaccionariagonzalez.com/alta/1-3/1J0512131B_2.jpg"}]
["2020-09-29T17:45:00",11,"1J0512131B","1J0512131B_3.jpg",{"$f":"+GetURL(D1639)","v":"https://www.refaccionariagonzalez.com/alta/1-3/1J0512131B_3.jpg"}]
["2020-09-29T18:44:00",11,"1J0615301D","1J0615301D_1.jpg",{"$f":"+GetURL(D1640)","v":"https://www.refaccionariagonzalez.com/alta/1-3/1J0615301D_1.jpg"}]
["2021-07-14T17:41:00",11,"1J0711761A","1J0711761A_1.png",{"$f":"+GetURL(D1641)","v":"https://www.refaccionariagonzalez.com/alta/1-3/1J0711761A_1.png"}]
["2021-07-14T17:41:00",11,"1J0711761A","1J0711761A_2.png",{"$f":"+GetURL(D1642)","v":"https://www.refaccionariagonzalez.com/alta/1-3/1J0711761A_2.png"}]
["2020-09-29T17:42:00",11,"1J0711761B","1J0711761B_1.jpg",{"$f":"+GetURL(D1643)","v":"https://www.refaccionariagonzalez.com/alta/1-3/1J0711761B_1.jpg"}]
["2020-11-26T12:58:00",11,"1J0711761C","1J0711761C_1.jpg",{"$f":"+GetURL(D1644)","v":"https://www.refaccionariagonzalez.com/alta/1-3/1J0711761C_1.jpg"}]
["2020-11-26T13:00:00",11,"1J0711761C","1J0711761C_2.jpg",{"$f":"+GetURL(D1645)","v":"https://www.refaccionariagonzalez.com/alta/1-3/1J0711761C_2.jpg"}]
["2020-09-29T18:36:00",11,"1J0721261F","1J0721261F_1.jpg",{"$f":"+GetURL(D1646)","v":"https://www.refaccionariagonzalez.com/alta/1-3/1J0721261F_1.jpg"}]
["2020-09-29T18:57:00",11,"1J0823509C","1J0823509C_1.jpg",{"$f":"+GetURL(D1647)","v":"https://www.refaccionariagonzalez.com/alta/1-3/1J0823509C_1.jpg"}]
["2024-04-25T10:06:00",10,"1J0927189","1J0927189_F.jpg",{"$f":"+GetURL(D1648)","v":"https://www.refaccionariagonzalez.com/alta/1-3/1J0927189_F.jpg"}]
["2024-04-25T10:30:00",9,"1J092780","1J092780_4.jpg",{"$f":"+GetURL(D1649)","v":"https://www.refaccionariagonzalez.com/alta/1-3/1J092780_4.jpg"}]
["2024-05-06T09:24:00",{"$f":"+FIND(\".\",D1650)","v":10},"1J0927804","1J0927804.jpg",{"$f":"+GetURL(D1650)","v":"https://www.refaccionariagonzalez.com/alta/1-3/1J0927804.jpg"}]
["2020-09-29T17:57:00",10,"1J0949117","1J0949117_1.jpg",{"$f":"+GetURL(D1651)","v":"https://www.refaccionariagonzalez.com/alta/1-3/1J0949117_1.jpg"}]
["2022-04-30T08:23:00",14,"1J1-857-508NK","1J1-857-508NK_1.jpg",{"$f":"+GetURL(D1652)","v":"https://www.refaccionariagonzalez.com/alta/1-3/1J1-857-508NK_1.jpg"}]
["2022-04-30T08:23:00",14,"1J1-857-508NK","1J1-857-508NK_2.jpg",{"$f":"+GetURL(D1653)","v":"https://www.refaccionariagonzalez.com/alta/1-3/1J1-857-508NK_2.jpg"}]
["2024-05-17T08:35:00",{"$f":"+FIND(\".\",D1654)","v":10},"1J5807183","1J5807183.jpg",{"$f":"+GetURL(D1654)","v":"https://www.refaccionariagonzalez.com/alta/1-3/1J5807183.jpg"}]
["2020-09-30T08:19:00",11,"1J5823593C","1J5823593C_1.jpg",{"$f":"+GetURL(D1655)","v":"https://www.refaccionariagonzalez.com/alta/1-3/1J5823593C_1.jpg"}]
["2020-09-29T17:44:00",11,"1JM857121B","1JM857121B_1.jpg",{"$f":"+GetURL(D1656)","v":"https://www.refaccionariagonzalez.com/alta/1-3/1JM857121B_1.jpg"}]
["2021-05-20T18:26:00",16,"1K0-615-301AKFP","1K0-615-301AKFP_1.jpg",{"$f":"+GetURL(D1657)","v":"https://www.refaccionariagonzalez.com/alta/1-3/1K0-615-301AKFP_1.jpg"}]
["2021-05-20T18:26:00",16,"1K0-615-301AKFP","1K0-615-301AKFP_2.jpg",{"$f":"+GetURL(D1658)","v":"https://www.refaccionariagonzalez.com/alta/1-3/1K0-615-301AKFP_2.jpg"}]
["2024-05-13T08:03:00",{"$f":"+FIND(\".\",D1659)","v":14},"1K0-615-301FP","1K0-615-301FP.jpg",{"$f":"+GetURL(D1659)","v":"https://www.refaccionariagonzalez.com/alta/1-3/1K0-615-301FP.jpg"}]
["2020-09-29T18:37:00",11,"1K0121087E","1K0121087E_1.jpg",{"$f":"+GetURL(D1660)","v":"https://www.refaccionariagonzalez.com/alta/1-3/1K0121087E_1.jpg"}]
["2022-05-24T11:17:00",14,"1K0121407A-KB","1K0121407A-KB_1.jpg",{"$f":"+GetURL(D1661)","v":"https://www.refaccionariagonzalez.com/alta/1-3/1K0121407A-KB_1.jpg"}]
["2022-05-24T11:17:00",14,"1K0121407A-KB","1K0121407A-KB_2.jpg",{"$f":"+GetURL(D1662)","v":"https://www.refaccionariagonzalez.com/alta/1-3/1K0121407A-KB_2.jpg"}]
["2022-05-24T11:17:00",14,"1K0121407A-KB","1K0121407A-KB_3.jpg",{"$f":"+GetURL(D1663)","v":"https://www.refaccionariagonzalez.com/alta/1-3/1K0121407A-KB_3.jpg"}]
["2022-05-24T11:17:00",14,"1K0121407A-KB","1K0121407A-KB_4.jpg",{"$f":"+GetURL(D1664)","v":"https://www.refaccionariagonzalez.com/alta/1-3/1K0121407A-KB_4.jpg"}]
["2022-05-24T11:17:00",14,"1K0121407A-KB","1K0121407A-KB_5.jpg",{"$f":"+GetURL(D1665)","v":"https://www.refaccionariagonzalez.com/alta/1-3/1K0121407A-KB_5.jpg"}]
["2020-09-29T18:45:00",{"$f":"+FIND(\"_\",D1666)","v":11},{"$f":"+LEFT(D1666,B1666-1)","v":"1K0121407A"},"1K0121407A_1.jpg",{"$f":"+GetURL(D1666)","v":"https://www.refaccionariagonzalez.com/alta/1-3/1K0121407A_1.jpg"}]
["2020-09-29T18:29:00",11,"1K0121407A","1K0121407A_2.jpg",{"$f":"+GetURL(D1667)","v":"https://www.refaccionariagonzalez.com/alta/1-3/1K0121407A_2.jpg"}]
["2020-09-29T18:51:00",11,"1K0121407A","1K0121407A_3.jpg",{"$f":"+GetURL(D1668)","v":"https://www.refaccionariagonzalez.com/alta/1-3/1K0121407A_3.jpg"}]
["2020-09-29T18:20:00",11,"1K0122291C","1K0122291C_1.jpg",{"$f":"+GetURL(D1669)","v":"https://www.refaccionariagonzalez.com/alta/1-3/1K0122291C_1.jpg"}]
["2020-09-29T18:30:00",11,"1K0199231G","1K0199231G_1.jpg",{"$f":"+GetURL(D1670)","v":"https://www.refaccionariagonzalez.com/alta/1-3/1K0199231G_1.jpg"}]
["2020-09-29T18:34:00",11,"1K0199231G","1K0199231G_2.jpg",{"$f":"+GetURL(D1671)","v":"https://www.refaccionariagonzalez.com/alta/1-3/1K0199231G_2.jpg"}]
["2020-09-29T18:37:00",11,"1K0199232G","1K0199232G_1.jpg",{"$f":"+GetURL(D1672)","v":"https://www.refaccionariagonzalez.com/alta/1-3/1K0199232G_1.jpg"}]
["2020-09-29T17:59:00",11,"1K0199232G","1K0199232G_2.jpg",{"$f":"+GetURL(D1673)","v":"https://www.refaccionariagonzalez.com/alta/1-3/1K0199232G_2.jpg"}]
["2020-09-29T17:48:00",10,"1K0407182","1K0407182_1.jpg",{"$f":"+GetURL(D1674)","v":"https://www.refaccionariagonzalez.com/alta/1-3/1K0407182_1.jpg"}]
["2020-09-29T18:32:00",11,"1K0407183A","1K0407183A_1.jpg",{"$f":"+GetURL(D1675)","v":"https://www.refaccionariagonzalez.com/alta/1-3/1K0407183A_1.jpg"}]
["2024-04-24T13:36:00",15,"1K0411315K-EUR","1K0411315K-EUR_O.jpg",{"$f":"+GetURL(D1676)","v":"https://www.refaccionariagonzalez.com/alta/1-3/1K0411315K-EUR_O.jpg"}]
["2024-05-02T08:33:00",{"$f":"+FIND(\".\",D1677)","v":13},"1K0513029-KB","1K0513029-KB.jpg",{"$f":"+GetURL(D1677)","v":"https://www.refaccionariagonzalez.com/alta/1-3/1K0513029-KB.jpg"}]
["2024-04-25T10:12:00",10,"1K0905851","1K0905851_B.jpg",{"$f":"+GetURL(D1678)","v":"https://www.refaccionariagonzalez.com/alta/1-3/1K0905851_B.jpg"}]
["2020-09-29T18:42:00",15,"1K0919051C-REP","1K0919051C-REP_1.jpg",{"$f":"+GetURL(D1679)","v":"https://www.refaccionariagonzalez.com/alta/1-3/1K0919051C-REP_1.jpg"}]
["2020-09-29T18:53:00",11,"1K0919051C","1K0919051C_1.jpg",{"$f":"+GetURL(D1680)","v":"https://www.refaccionariagonzalez.com/alta/1-3/1K0919051C_1.jpg"}]
["2020-09-29T18:21:00",10,"1K2945511","1K2945511_1.jpg",{"$f":"+GetURL(D1681)","v":"https://www.refaccionariagonzalez.com/alta/1-3/1K2945511_1.jpg"}]
["2020-09-29T18:29:00",10,"1K2945511","1K2945511_2.jpg",{"$f":"+GetURL(D1682)","v":"https://www.refaccionariagonzalez.com/alta/1-3/1K2945511_2.jpg"}]
["2020-09-29T17:59:00",10,"1K2945511","1K2945511_3.jpg",{"$f":"+GetURL(D1683)","v":"https://www.refaccionariagonzalez.com/alta/1-3/1K2945511_3.jpg"}]
["2024-04-24T14:12:00",14,"1T0413031GJ-K","1T0413031GJ-K_B.jpg",{"$f":"+GetURL(D1684)","v":"https://www.refaccionariagonzalez.com/alta/1-3/1T0413031GJ-K_B.jpg"}]
["2020-09-29T18:30:00",11,"1X89-FT080","1X89-FT080_1.jpg",{"$f":"+GetURL(D1685)","v":"https://www.refaccionariagonzalez.com/alta/1-3/1X89-FT080_1.jpg"}]
["2020-12-04T18:17:00",11,"1Y15-F034.","1Y15-F034._1.jpg",{"$f":"+GetURL(D1686)","v":"https://www.refaccionariagonzalez.com/alta/1-3/1Y15-F034._1.jpg"}]
["2020-12-04T18:17:00",11,"1Y15-F034.","1Y15-F034._2.jpg",{"$f":"+GetURL(D1687)","v":"https://www.refaccionariagonzalez.com/alta/1-3/1Y15-F034._2.jpg"}]
["2021-01-14T08:18:00",10,"1Y15-F034","1Y15-F034_1.jpg",{"$f":"+GetURL(D1688)","v":"https://www.refaccionariagonzalez.com/alta/1-3/1Y15-F034_1.jpg"}]
["2021-01-14T08:18:00",10,"1Y15-F034","1Y15-F034_2.jpg",{"$f":"+GetURL(D1689)","v":"https://www.refaccionariagonzalez.com/alta/1-3/1Y15-F034_2.jpg"}]
["2024-05-06T09:26:00",{"$f":"+FIND(\".jpg\",D1690)","v":4},"2.0","2.0.jpg",{"$f":"+GetURL(D1690)","v":"https://www.refaccionariagonzalez.com/alta/1-3/2.0.jpg"}]
["2020-09-29T17:46:00",9,"2.0POINT","2.0POINT_1.jpg",{"$f":"+GetURL(D1691)","v":"https://www.refaccionariagonzalez.com/alta/1-3/2.0POINT_1.jpg"}]
["2024-04-24T14:12:00",7,"2KA62-","2KA62-_KB.jpg",{"$f":"+GetURL(D1692)","v":"https://www.refaccionariagonzalez.com/alta/1-3/2KA62-_KB.jpg"}]
["2020-09-29T18:43:00",14,"2S6G-6D316-AA","2S6G-6D316-AA_1.jpg",{"$f":"+GetURL(D1693)","v":"https://www.refaccionariagonzalez.com/alta/1-3/2S6G-6D316-AA_1.jpg"}]
["2020-09-29T17:55:00",12,"2S617A543AC","2S617A543AC_1.jpg",{"$f":"+GetURL(D1694)","v":"https://www.refaccionariagonzalez.com/alta/1-3/2S617A543AC_1.jpg"}]
["2020-09-29T18:59:00",12,"2S617A543AD","2S617A543AD_1.jpg",{"$f":"+GetURL(D1695)","v":"https://www.refaccionariagonzalez.com/alta/1-3/2S617A543AD_1.jpg"}]
["2020-09-29T18:53:00",12,"2S658K218BA","2S658K218BA_1.jpg",{"$f":"+GetURL(D1696)","v":"https://www.refaccionariagonzalez.com/alta/1-3/2S658K218BA_1.jpg"}]
["2020-09-29T18:25:00",12,"2S658K218BA","2S658K218BA_2.jpg",{"$f":"+GetURL(D1697)","v":"https://www.refaccionariagonzalez.com/alta/1-3/2S658K218BA_2.jpg"}]
["2024-05-17T08:59:00",{"$f":"+FIND(\".jpg\",D1698)","v":12},"2S659R504BA","2S659R504BA.jpg",{"$f":"+GetURL(D1698)","v":"https://www.refaccionariagonzalez.com/alta/1-3/2S659R504BA.jpg"}]
["2024-05-17T08:59:00",12,"2S659R504BA","2S659R504BA_1.jpg",{"$f":"+GetURL(D1699)","v":"https://www.refaccionariagonzalez.com/alta/1-3/2S659R504BA_1.jpg"}]
["2020-09-29T18:21:00",11,"2S653063AA","2S653063AA_1.jpg",{"$f":"+GetURL(D1700)","v":"https://www.refaccionariagonzalez.com/alta/1-3/2S653063AA_1.jpg"}]
["2020-09-29T18:13:00",12,"3B0-121-321","3B0-121-321_1.jpg",{"$f":"+GetURL(D1701)","v":"https://www.refaccionariagonzalez.com/alta/1-3/3B0-121-321_1.jpg"}]
["2020-09-29T17:59:00",12,"3B0-121-321","3B0-121-321_2.jpg",{"$f":"+GetURL(D1702)","v":"https://www.refaccionariagonzalez.com/alta/1-3/3B0-121-321_2.jpg"}]
["2020-09-29T18:40:00",10,"3B0121321","3B0121321_1.jpg",{"$f":"+GetURL(D1703)","v":"https://www.refaccionariagonzalez.com/alta/1-3/3B0121321_1.jpg"}]
["2020-09-29T18:46:00",10,"3B0121321","3B0121321_2.jpg",{"$f":"+GetURL(D1704)","v":"https://www.refaccionariagonzalez.com/alta/1-3/3B0121321_2.jpg"}]
["2020-09-29T18:54:00",10,"3B0121321","3B0121321_3.jpg",{"$f":"+GetURL(D1705)","v":"https://www.refaccionariagonzalez.com/alta/1-3/3B0121321_3.jpg"}]
["2020-09-29T18:36:00",11,"3B0122291B","3B0122291B_1.jpg",{"$f":"+GetURL(D1706)","v":"https://www.refaccionariagonzalez.com/alta/1-3/3B0122291B_1.jpg"}]
["2020-09-29T18:14:00",11,"3B0837187B","3B0837187B_1.jpg",{"$f":"+GetURL(D1707)","v":"https://www.refaccionariagonzalez.com/alta/1-3/3B0837187B_1.jpg"}]
["2020-09-29T18:47:00",13,"3B1-857-521A","3B1-857-521A_1.jpg",{"$f":"+GetURL(D1708)","v":"https://www.refaccionariagonzalez.com/alta/1-3/3B1-857-521A_1.jpg"}]
["2020-09-29T18:47:00",13,"3B1-857-522K","3B1-857-522K_1.jpg",{"$f":"+GetURL(D1709)","v":"https://www.refaccionariagonzalez.com/alta/1-3/3B1-857-522K_1.jpg"}]
["2024-05-13T08:29:00",{"$f":"+FIND(\".\",D1710)","v":3},"3H","3H.jpg",{"$f":"+GetURL(D1710)","v":"https://www.refaccionariagonzalez.com/alta/1-3/3H.jpg"}]
["2020-09-29T17:48:00",3,"3H","3H_1.jpg",{"$f":"+GetURL(D1711)","v":"https://www.refaccionariagonzalez.com/alta/1-3/3H_1.jpg"}]
["2024-04-24T17:38:00",9,"3L121107","3L121107_5.jpg",{"$f":"+GetURL(D1712)","v":"https://www.refaccionariagonzalez.com/alta/1-3/3L121107_5.jpg"}]
["2024-04-24T17:38:00",10,"3L1211075","3L1211075_2.jpg",{"$f":"+GetURL(D1713)","v":"https://www.refaccionariagonzalez.com/alta/1-3/3L1211075_2.jpg"}]
["2024-04-24T17:38:00",10,"3L1211075","3L1211075_3.jpg",{"$f":"+GetURL(D1714)","v":"https://www.refaccionariagonzalez.com/alta/1-3/3L1211075_3.jpg"}]
["2024-04-24T17:38:00",10,"3L1211075","3L1211075_4.jpg",{"$f":"+GetURL(D1715)","v":"https://www.refaccionariagonzalez.com/alta/1-3/3L1211075_4.jpg"}]
["2024-04-24T17:38:00",10,"3L1211075","3L1211075_5.jpg",{"$f":"+GetURL(D1716)","v":"https://www.refaccionariagonzalez.com/alta/1-3/3L1211075_5.jpg"}]
["2024-05-02T10:31:00",{"$f":"+FIND(\".\",D1717)","v":10},"3L3011059","3L3011059.jpg",{"$f":"+GetURL(D1717)","v":"https://www.refaccionariagonzalez.com/alta/1-3/3L3011059.jpg"}]
["2020-09-29T17:44:00",15,"3PK796ELASTICA","3PK796ELASTICA_1.jpg",{"$f":"+GetURL(D1718)","v":"https://www.refaccionariagonzalez.com/alta/1-3/3PK796ELASTICA_1.jpg"}]
["2023-05-17T11:23:00",7,"10MECH","10MECH_1.jpg",{"$f":"+GetURL(D1719)","v":"https://www.refaccionariagonzalez.com/alta/1-3/10MECH_1.jpg"}]
["2020-09-29T17:41:00",5,"10VB","10VB_1.jpg",{"$f":"+GetURL(D1720)","v":"https://www.refaccionariagonzalez.com/alta/1-3/10VB_1.jpg"}]
["2020-09-29T18:37:00",5,"10VB","10VB_9.jpg",{"$f":"+GetURL(D1721)","v":"https://www.refaccionariagonzalez.com/alta/1-3/10VB_9.jpg"}]
["2020-09-29T18:47:00",5,"10VR","10VR_1.jpg",{"$f":"+GetURL(D1722)","v":"https://www.refaccionariagonzalez.com/alta/1-3/10VR_1.jpg"}]
["2020-09-29T18:38:00",5,"10VR","10VR_9.jpg",{"$f":"+GetURL(D1723)","v":"https://www.refaccionariagonzalez.com/alta/1-3/10VR_9.jpg"}]
["2020-09-29T17:55:00",5,"10VY","10VY_1.jpg",{"$f":"+GetURL(D1724)","v":"https://www.refaccionariagonzalez.com/alta/1-3/10VY_1.jpg"}]
["2020-09-29T17:43:00",5,"10VY","10VY_2.jpg",{"$f":"+GetURL(D1725)","v":"https://www.refaccionariagonzalez.com/alta/1-3/10VY_2.jpg"}]
["2020-09-29T17:56:00",5,"10VY","10VY_3.jpg",{"$f":"+GetURL(D1726)","v":"https://www.refaccionariagonzalez.com/alta/1-3/10VY_3.jpg"}]
["2020-09-29T18:27:00",5,"10VY","10VY_9.jpg",{"$f":"+GetURL(D1727)","v":"https://www.refaccionariagonzalez.com/alta/1-3/10VY_9.jpg"}]
["2020-09-29T18:29:00",8,"12-0014","12-0014_1.jpg",{"$f":"+GetURL(D1728)","v":"https://www.refaccionariagonzalez.com/alta/1-3/12-0014_1.jpg"}]
["2020-09-29T18:53:00",8,"12-0014","12-0014_9.jpg",{"$f":"+GetURL(D1729)","v":"https://www.refaccionariagonzalez.com/alta/1-3/12-0014_9.jpg"}]
["2020-09-29T18:33:00",{"$f":"+FIND(\"_\",D1730)","v":8},{"$f":"+LEFT(D1730,B1730-1)","v":"12-0017"},"12-0017_1.jpg",{"$f":"+GetURL(D1730)","v":"https://www.refaccionariagonzalez.com/alta/1-3/12-0017_1.jpg"}]
["2020-09-29T18:22:00",8,"12-0017","12-0017_2.jpg",{"$f":"+GetURL(D1731)","v":"https://www.refaccionariagonzalez.com/alta/1-3/12-0017_2.jpg"}]
["2020-09-29T17:56:00",8,"12-0017","12-0017_9.jpg",{"$f":"+GetURL(D1732)","v":"https://www.refaccionariagonzalez.com/alta/1-3/12-0017_9.jpg"}]
["2020-09-29T18:11:00",8,"12-0018","12-0018_1.jpg",{"$f":"+GetURL(D1733)","v":"https://www.refaccionariagonzalez.com/alta/1-3/12-0018_1.jpg"}]
["2020-09-29T18:52:00",8,"12-0018","12-0018_2.jpg",{"$f":"+GetURL(D1734)","v":"https://www.refaccionariagonzalez.com/alta/1-3/12-0018_2.jpg"}]
["2020-09-29T18:30:00",8,"12-0018","12-0018_3.jpg",{"$f":"+GetURL(D1735)","v":"https://www.refaccionariagonzalez.com/alta/1-3/12-0018_3.jpg"}]
["2020-09-29T18:09:00",8,"12-0018","12-0018_9.jpg",{"$f":"+GetURL(D1736)","v":"https://www.refaccionariagonzalez.com/alta/1-3/12-0018_9.jpg"}]
["2020-09-29T18:08:00",8,"12-0019","12-0019_1.jpg",{"$f":"+GetURL(D1737)","v":"https://www.refaccionariagonzalez.com/alta/1-3/12-0019_1.jpg"}]
["2020-09-29T18:55:00",8,"12-0019","12-0019_2.jpg",{"$f":"+GetURL(D1738)","v":"https://www.refaccionariagonzalez.com/alta/1-3/12-0019_2.jpg"}]
["2020-09-29T18:05:00",8,"12-0019","12-0019_3.jpg",{"$f":"+GetURL(D1739)","v":"https://www.refaccionariagonzalez.com/alta/1-3/12-0019_3.jpg"}]
["2020-09-29T18:35:00",8,"12-0019","12-0019_9.jpg",{"$f":"+GetURL(D1740)","v":"https://www.refaccionariagonzalez.com/alta/1-3/12-0019_9.jpg"}]
["2020-09-29T18:17:00",8,"12-0020","12-0020_1.jpg",{"$f":"+GetURL(D1741)","v":"https://www.refaccionariagonzalez.com/alta/1-3/12-0020_1.jpg"}]
["2020-09-29T18:48:00",8,"12-0020","12-0020_2.jpg",{"$f":"+GetURL(D1742)","v":"https://www.refaccionariagonzalez.com/alta/1-3/12-0020_2.jpg"}]
["2020-09-29T18:23:00",8,"12-0020","12-0020_3.jpg",{"$f":"+GetURL(D1743)","v":"https://www.refaccionariagonzalez.com/alta/1-3/12-0020_3.jpg"}]
["2020-09-29T18:24:00",8,"12-0020","12-0020_9.jpg",{"$f":"+GetURL(D1744)","v":"https://www.refaccionariagonzalez.com/alta/1-3/12-0020_9.jpg"}]
["2020-09-29T18:25:00",12,"12EIKS18062","12EIKS18062_1.jpg",{"$f":"+GetURL(D1745)","v":"https://www.refaccionariagonzalez.com/alta/1-3/12EIKS18062_1.jpg"}]
["2020-09-29T19:00:00",12,"12EIKS18062","12EIKS18062_2.jpg",{"$f":"+GetURL(D1746)","v":"https://www.refaccionariagonzalez.com/alta/1-3/12EIKS18062_2.jpg"}]
["2020-09-29T18:46:00",7,"13Y5ZV","13Y5ZV_1.jpg",{"$f":"+GetURL(D1747)","v":"https://www.refaccionariagonzalez.com/alta/1-3/13Y5ZV_1.jpg"}]
["2020-09-29T18:40:00",7,"13Y5ZV","13Y5ZV_9.jpg",{"$f":"+GetURL(D1748)","v":"https://www.refaccionariagonzalez.com/alta/1-3/13Y5ZV_9.jpg"}]
["2024-04-24T12:30:00",7,"15-007","15-007_2.jpg",{"$f":"+GetURL(D1749)","v":"https://www.refaccionariagonzalez.com/alta/1-3/15-007_2.jpg"}]
["2024-04-24T12:30:00",8,"15-0072","15-0072_2.jpg",{"$f":"+GetURL(D1750)","v":"https://www.refaccionariagonzalez.com/alta/1-3/15-0072_2.jpg"}]
["2020-09-29T17:58:00",8,"15-0087","15-0087_1.jpg",{"$f":"+GetURL(D1751)","v":"https://www.refaccionariagonzalez.com/alta/1-3/15-0087_1.jpg"}]
["2020-09-29T17:43:00",8,"15-0087","15-0087_2.jpg",{"$f":"+GetURL(D1752)","v":"https://www.refaccionariagonzalez.com/alta/1-3/15-0087_2.jpg"}]
["2024-05-02T10:31:00",{"$f":"+FIND(\".\",D1753)","v":8},"16--101","16--101.jpg",{"$f":"+GetURL(D1753)","v":"https://www.refaccionariagonzalez.com/alta/1-3/16--101.jpg"}]
["2020-09-29T18:53:00",6,"16-07","16-07_1.jpg",{"$f":"+GetURL(D1754)","v":"https://www.refaccionariagonzalez.com/alta/1-3/16-07_1.jpg"}]
["2020-09-29T18:17:00",6,"16-08","16-08_1.jpg",{"$f":"+GetURL(D1755)","v":"https://www.refaccionariagonzalez.com/alta/1-3/16-08_1.jpg"}]
["2020-09-29T17:52:00",5,"16-2","16-2_1.jpg",{"$f":"+GetURL(D1756)","v":"https://www.refaccionariagonzalez.com/alta/1-3/16-2_1.jpg"}]
["2024-04-24T17:38:00",6,"16-10","16-10_1.jpg",{"$f":"+GetURL(D1757)","v":"https://www.refaccionariagonzalez.com/alta/1-3/16-10_1.jpg"}]
["2024-05-17T08:35:00",{"$f":"+FIND(\".\",D1758)","v":6},"17--7","17--7.jpg",{"$f":"+GetURL(D1758)","v":"https://www.refaccionariagonzalez.com/alta/1-3/17--7.jpg"}]
["2020-09-29T18:40:00",6,"17--7","17--7_1.jpg",{"$f":"+GetURL(D1759)","v":"https://www.refaccionariagonzalez.com/alta/1-3/17--7_1.jpg"}]
["2020-09-29T18:40:00",6,"17--7","17--7_9.jpg",{"$f":"+GetURL(D1760)","v":"https://www.refaccionariagonzalez.com/alta/1-3/17--7_9.jpg"}]
["2020-09-29T18:06:00",6,"20--8","20--8_1.jpg",{"$f":"+GetURL(D1761)","v":"https://www.refaccionariagonzalez.com/alta/1-3/20--8_1.jpg"}]
["2020-09-29T18:18:00",6,"20--8","20--8_9.jpg",{"$f":"+GetURL(D1762)","v":"https://www.refaccionariagonzalez.com/alta/1-3/20--8_9.jpg"}]
["2020-09-29T18:24:00",6,"20--9","20--9_1.jpg",{"$f":"+GetURL(D1763)","v":"https://www.refaccionariagonzalez.com/alta/1-3/20--9_1.jpg"}]
["2020-09-29T17:42:00",6,"20--9","20--9_9.jpg",{"$f":"+GetURL(D1764)","v":"https://www.refaccionariagonzalez.com/alta/1-3/20--9_9.jpg"}]
["2020-09-29T18:21:00",14,"20-3203-H5-2B","20-3203-H5-2B_1.jpg",{"$f":"+GetURL(D1765)","v":"https://www.refaccionariagonzalez.com/alta/1-3/20-3203-H5-2B_1.jpg"}]
["2020-09-29T17:47:00",14,"20-3203-H5-2B","20-3203-H5-2B_9.jpg",{"$f":"+GetURL(D1766)","v":"https://www.refaccionariagonzalez.com/alta/1-3/20-3203-H5-2B_9.jpg"}]
["2020-09-29T18:01:00",14,"20-3204-H5-2B","20-3204-H5-2B_1.jpg",{"$f":"+GetURL(D1767)","v":"https://www.refaccionariagonzalez.com/alta/1-3/20-3204-H5-2B_1.jpg"}]
["2020-09-29T18:01:00",14,"20-3204-H5-2B","20-3204-H5-2B_9.jpg",{"$f":"+GetURL(D1768)","v":"https://www.refaccionariagonzalez.com/alta/1-3/20-3204-H5-2B_9.jpg"}]
["2020-09-29T18:03:00",14,"20-A939-C5-6B","20-A939-C5-6B_1.jpg",{"$f":"+GetURL(D1769)","v":"https://www.refaccionariagonzalez.com/alta/1-3/20-A939-C5-6B_1.jpg"}]
["2020-09-29T18:08:00",14,"20-A939-C5-6B","20-A939-C5-6B_2.jpg",{"$f":"+GetURL(D1770)","v":"https://www.refaccionariagonzalez.com/alta/1-3/20-A939-C5-6B_2.jpg"}]
["2020-09-29T18:56:00",14,"20-A940-C5-6B","20-A940-C5-6B_1.jpg",{"$f":"+GetURL(D1771)","v":"https://www.refaccionariagonzalez.com/alta/1-3/20-A940-C5-6B_1.jpg"}]
["2020-09-29T18:00:00",14,"20-A940-C5-6B","20-A940-C5-6B_2.jpg",{"$f":"+GetURL(D1772)","v":"https://www.refaccionariagonzalez.com/alta/1-3/20-A940-C5-6B_2.jpg"}]
["2024-05-02T10:12:00",{"$f":"+FIND(\".\",D1773)","v":6},"20/40","20=40.jpg",{"$f":"+GetURL(D1773)","v":"https://www.refaccionariagonzalez.com/alta/1-3/20=40.jpg"}]
["2024-05-08T08:22:00",7,"20SPAR","20SPAR.jpg",{"$f":"+GetURL(D1774)","v":"https://www.refaccionariagonzalez.com/alta/1-3/20SPAR.jpg"}]
["2020-09-29T17:53:00",8,"21-0012","21-0012_1.jpg",{"$f":"+GetURL(D1775)","v":"https://www.refaccionariagonzalez.com/alta/1-3/21-0012_1.jpg"}]
["2020-09-29T18:23:00",8,"21-0012","21-0012_2.jpg",{"$f":"+GetURL(D1776)","v":"https://www.refaccionariagonzalez.com/alta/1-3/21-0012_2.jpg"}]
["2020-09-29T17:52:00",8,"21-0012","21-0012_9.jpg",{"$f":"+GetURL(D1777)","v":"https://www.refaccionariagonzalez.com/alta/1-3/21-0012_9.jpg"}]
["2024-05-13T08:03:00",{"$f":"+FIND(\".\",D1778)","v":8},"21-0075","21-0075.jpg",{"$f":"+GetURL(D1778)","v":"https://www.refaccionariagonzalez.com/alta/1-3/21-0075.jpg"}]
["2020-09-29T18:50:00",8,"21-0150","21-0150_1.jpg",{"$f":"+GetURL(D1779)","v":"https://www.refaccionariagonzalez.com/alta/1-3/21-0150_1.jpg"}]
["2020-09-29T17:46:00",8,"21-0150","21-0150_9.jpg",{"$f":"+GetURL(D1780)","v":"https://www.refaccionariagonzalez.com/alta/1-3/21-0150_9.jpg"}]
["2024-04-24T14:45:00",{"$f":"+FIND(\".\",D1781)","v":10},"21-0166-L","21-0166-L.jpg",{"$f":"+GetURL(D1781)","v":"https://www.refaccionariagonzalez.com/alta/1-3/21-0166-L.jpg"}]
["2020-09-29T18:56:00",8,"21-0166","21-0166_1.jpg",{"$f":"+GetURL(D1782)","v":"https://www.refaccionariagonzalez.com/alta/1-3/21-0166_1.jpg"}]
["2020-09-29T18:18:00",8,"21-0166","21-0166_9.jpg",{"$f":"+GetURL(D1783)","v":"https://www.refaccionariagonzalez.com/alta/1-3/21-0166_9.jpg"}]
["2020-09-29T17:49:00",8,"21-0170","21-0170_1.jpg",{"$f":"+GetURL(D1784)","v":"https://www.refaccionariagonzalez.com/alta/1-3/21-0170_1.jpg"}]
["2020-09-29T18:39:00",8,"21-0170","21-0170_2.jpg",{"$f":"+GetURL(D1785)","v":"https://www.refaccionariagonzalez.com/alta/1-3/21-0170_2.jpg"}]
["2020-09-29T18:06:00",8,"21-0170","21-0170_8.jpg",{"$f":"+GetURL(D1786)","v":"https://www.refaccionariagonzalez.com/alta/1-3/21-0170_8.jpg"}]
["2020-09-29T17:48:00",8,"21-0170","21-0170_9.jpg",{"$f":"+GetURL(D1787)","v":"https://www.refaccionariagonzalez.com/alta/1-3/21-0170_9.jpg"}]
["2020-09-29T18:48:00",8,"21-0171","21-0171_1.jpg",{"$f":"+GetURL(D1788)","v":"https://www.refaccionariagonzalez.com/alta/1-3/21-0171_1.jpg"}]
["2020-09-29T17:59:00",8,"21-0171","21-0171_2.jpg",{"$f":"+GetURL(D1789)","v":"https://www.refaccionariagonzalez.com/alta/1-3/21-0171_2.jpg"}]
["2020-09-29T18:06:00",8,"21-0171","21-0171_3.jpg",{"$f":"+GetURL(D1790)","v":"https://www.refaccionariagonzalez.com/alta/1-3/21-0171_3.jpg"}]
["2020-09-29T18:01:00",8,"21-0171","21-0171_9.jpg",{"$f":"+GetURL(D1791)","v":"https://www.refaccionariagonzalez.com/alta/1-3/21-0171_9.jpg"}]
["2020-09-29T18:18:00",6,"22--3","22--3_1.jpg",{"$f":"+GetURL(D1792)","v":"https://www.refaccionariagonzalez.com/alta/1-3/22--3_1.jpg"}]
["2020-09-29T18:27:00",6,"22--3","22--3_9.jpg",{"$f":"+GetURL(D1793)","v":"https://www.refaccionariagonzalez.com/alta/1-3/22--3_9.jpg"}]
["2022-06-27T16:01:00",{"$f":"+FIND(\"_\",D1794)","v":8},{"$f":"+LEFT(D1794,B1794-1)","v":"22-0253"},"22-0253_1.jpg",{"$f":"+GetURL(D1794)","v":"https://www.refaccionariagonzalez.com/alta/1-3/22-0253_1.jpg"}]
["2024-04-24T17:38:00",7,"22-026","22-026_2.jpg",{"$f":"+GetURL(D1795)","v":"https://www.refaccionariagonzalez.com/alta/1-3/22-026_2.jpg"}]
["2020-09-29T18:08:00",8,"23-0309","23-0309_1.jpg",{"$f":"+GetURL(D1796)","v":"https://www.refaccionariagonzalez.com/alta/1-3/23-0309_1.jpg"}]
["2020-09-29T18:02:00",8,"23-0309","23-0309_9.jpg",{"$f":"+GetURL(D1797)","v":"https://www.refaccionariagonzalez.com/alta/1-3/23-0309_9.jpg"}]
["2020-09-29T17:41:00",8,"23-0312","23-0312_1.jpg",{"$f":"+GetURL(D1798)","v":"https://www.refaccionariagonzalez.com/alta/1-3/23-0312_1.jpg"}]
["2020-09-29T18:58:00",8,"23-0312","23-0312_2.jpg",{"$f":"+GetURL(D1799)","v":"https://www.refaccionariagonzalez.com/alta/1-3/23-0312_2.jpg"}]
["2020-09-29T17:42:00",8,"23-0312","23-0312_3.jpg",{"$f":"+GetURL(D1800)","v":"https://www.refaccionariagonzalez.com/alta/1-3/23-0312_3.jpg"}]
["2020-09-29T18:33:00",8,"23-0312","23-0312_9.jpg",{"$f":"+GetURL(D1801)","v":"https://www.refaccionariagonzalez.com/alta/1-3/23-0312_9.jpg"}]
["2020-09-29T18:23:00",8,"23-0315","23-0315_1.jpg",{"$f":"+GetURL(D1802)","v":"https://www.refaccionariagonzalez.com/alta/1-3/23-0315_1.jpg"}]
["2020-09-29T17:42:00",8,"23-0315","23-0315_9.jpg",{"$f":"+GetURL(D1803)","v":"https://www.refaccionariagonzalez.com/alta/1-3/23-0315_9.jpg"}]
["2020-09-29T18:06:00",8,"23-0316","23-0316_1.jpg",{"$f":"+GetURL(D1804)","v":"https://www.refaccionariagonzalez.com/alta/1-3/23-0316_1.jpg"}]
["2020-09-29T18:05:00",8,"23-0316","23-0316_9.jpg",{"$f":"+GetURL(D1805)","v":"https://www.refaccionariagonzalez.com/alta/1-3/23-0316_9.jpg"}]
["2020-09-29T17:54:00",8,"23-0317","23-0317_1.jpg",{"$f":"+GetURL(D1806)","v":"https://www.refaccionariagonzalez.com/alta/1-3/23-0317_1.jpg"}]
["2020-09-29T17:54:00",8,"23-0317","23-0317_9.jpg",{"$f":"+GetURL(D1807)","v":"https://www.refaccionariagonzalez.com/alta/1-3/23-0317_9.jpg"}]
["2020-09-29T18:48:00",8,"23-0320","23-0320_1.jpg",{"$f":"+GetURL(D1808)","v":"https://www.refaccionariagonzalez.com/alta/1-3/23-0320_1.jpg"}]
["2020-09-29T18:00:00",8,"23-0320","23-0320_2.jpg",{"$f":"+GetURL(D1809)","v":"https://www.refaccionariagonzalez.com/alta/1-3/23-0320_2.jpg"}]
["2020-09-29T18:11:00",8,"23-0320","23-0320_3.jpg",{"$f":"+GetURL(D1810)","v":"https://www.refaccionariagonzalez.com/alta/1-3/23-0320_3.jpg"}]
["2020-09-29T18:29:00",8,"23-0320","23-0320_9.jpg",{"$f":"+GetURL(D1811)","v":"https://www.refaccionariagonzalez.com/alta/1-3/23-0320_9.jpg"}]
["2020-09-29T19:00:00",8,"23-0321","23-0321_1.jpg",{"$f":"+GetURL(D1812)","v":"https://www.refaccionariagonzalez.com/alta/1-3/23-0321_1.jpg"}]
["2020-09-29T18:27:00",8,"23-0321","23-0321_9.jpg",{"$f":"+GetURL(D1813)","v":"https://www.refaccionariagonzalez.com/alta/1-3/23-0321_9.jpg"}]
["2020-09-29T18:19:00",8,"23-0332","23-0332_1.jpg",{"$f":"+GetURL(D1814)","v":"https://www.refaccionariagonzalez.com/alta/1-3/23-0332_1.jpg"}]
["2020-09-29T18:40:00",8,"23-0332","23-0332_2.jpg",{"$f":"+GetURL(D1815)","v":"https://www.refaccionariagonzalez.com/alta/1-3/23-0332_2.jpg"}]
["2020-09-29T17:52:00",8,"23-0332","23-0332_3.jpg",{"$f":"+GetURL(D1816)","v":"https://www.refaccionariagonzalez.com/alta/1-3/23-0332_3.jpg"}]
["2020-09-29T18:05:00",8,"23-0332","23-0332_9.jpg",{"$f":"+GetURL(D1817)","v":"https://www.refaccionariagonzalez.com/alta/1-3/23-0332_9.jpg"}]
["2020-09-29T17:51:00",8,"23-0341","23-0341_1.jpg",{"$f":"+GetURL(D1818)","v":"https://www.refaccionariagonzalez.com/alta/1-3/23-0341_1.jpg"}]
["2020-09-29T18:31:00",8,"23-0341","23-0341_2.jpg",{"$f":"+GetURL(D1819)","v":"https://www.refaccionariagonzalez.com/alta/1-3/23-0341_2.jpg"}]
["2020-09-29T18:51:00",8,"23-0341","23-0341_3.jpg",{"$f":"+GetURL(D1820)","v":"https://www.refaccionariagonzalez.com/alta/1-3/23-0341_3.jpg"}]
["2020-09-29T18:20:00",8,"23-0341","23-0341_9.jpg",{"$f":"+GetURL(D1821)","v":"https://www.refaccionariagonzalez.com/alta/1-3/23-0341_9.jpg"}]
["2020-09-29T17:45:00",8,"23-0349","23-0349_1.jpg",{"$f":"+GetURL(D1822)","v":"https://www.refaccionariagonzalez.com/alta/1-3/23-0349_1.jpg"}]
["2020-09-29T18:30:00",8,"23-0349","23-0349_2.jpg",{"$f":"+GetURL(D1823)","v":"https://www.refaccionariagonzalez.com/alta/1-3/23-0349_2.jpg"}]
["2020-09-29T18:23:00",8,"23-0349","23-0349_9.jpg",{"$f":"+GetURL(D1824)","v":"https://www.refaccionariagonzalez.com/alta/1-3/23-0349_9.jpg"}]
["2020-09-29T18:38:00",8,"23-0350","23-0350_1.jpg",{"$f":"+GetURL(D1825)","v":"https://www.refaccionariagonzalez.com/alta/1-3/23-0350_1.jpg"}]
["2020-09-29T18:14:00",8,"23-0350","23-0350_9.jpg",{"$f":"+GetURL(D1826)","v":"https://www.refaccionariagonzalez.com/alta/1-3/23-0350_9.jpg"}]
["2020-09-29T18:24:00",8,"23-0351","23-0351_1.jpg",{"$f":"+GetURL(D1827)","v":"https://www.refaccionariagonzalez.com/alta/1-3/23-0351_1.jpg"}]
["2020-09-29T18:24:00",8,"23-0351","23-0351_9.jpg",{"$f":"+GetURL(D1828)","v":"https://www.refaccionariagonzalez.com/alta/1-3/23-0351_9.jpg"}]
["2020-09-29T18:15:00",8,"23-0352","23-0352_1.jpg",{"$f":"+GetURL(D1829)","v":"https://www.refaccionariagonzalez.com/alta/1-3/23-0352_1.jpg"}]
["2020-09-29T18:14:00",8,"23-0352","23-0352_9.jpg",{"$f":"+GetURL(D1830)","v":"https://www.refaccionariagonzalez.com/alta/1-3/23-0352_9.jpg"}]
["2020-09-29T18:09:00",8,"23-0353","23-0353_1.jpg",{"$f":"+GetURL(D1831)","v":"https://www.refaccionariagonzalez.com/alta/1-3/23-0353_1.jpg"}]
["2020-09-29T18:31:00",8,"23-0353","23-0353_2.jpg",{"$f":"+GetURL(D1832)","v":"https://www.refaccionariagonzalez.com/alta/1-3/23-0353_2.jpg"}]
["2020-09-29T17:56:00",8,"23-0353","23-0353_3.jpg",{"$f":"+GetURL(D1833)","v":"https://www.refaccionariagonzalez.com/alta/1-3/23-0353_3.jpg"}]
["2020-09-29T18:45:00",8,"23-0353","23-0353_9.jpg",{"$f":"+GetURL(D1834)","v":"https://www.refaccionariagonzalez.com/alta/1-3/23-0353_9.jpg"}]
["2020-09-29T18:55:00",8,"23-0355","23-0355_1.jpg",{"$f":"+GetURL(D1835)","v":"https://www.refaccionariagonzalez.com/alta/1-3/23-0355_1.jpg"}]
["2020-09-29T18:55:00",8,"23-0355","23-0355_9.jpg",{"$f":"+GetURL(D1836)","v":"https://www.refaccionariagonzalez.com/alta/1-3/23-0355_9.jpg"}]
["2020-09-29T18:14:00",8,"23-0356","23-0356_1.jpg",{"$f":"+GetURL(D1837)","v":"https://www.refaccionariagonzalez.com/alta/1-3/23-0356_1.jpg"}]
["2020-09-29T18:59:00",8,"23-0356","23-0356_9.jpg",{"$f":"+GetURL(D1838)","v":"https://www.refaccionariagonzalez.com/alta/1-3/23-0356_9.jpg"}]
["2020-09-29T18:44:00",8,"23-0358","23-0358_1.jpg",{"$f":"+GetURL(D1839)","v":"https://www.refaccionariagonzalez.com/alta/1-3/23-0358_1.jpg"}]
["2020-09-29T18:22:00",8,"23-0358","23-0358_2.jpg",{"$f":"+GetURL(D1840)","v":"https://www.refaccionariagonzalez.com/alta/1-3/23-0358_2.jpg"}]
["2020-09-29T18:55:00",8,"23-0358","23-0358_3.jpg",{"$f":"+GetURL(D1841)","v":"https://www.refaccionariagonzalez.com/alta/1-3/23-0358_3.jpg"}]
["2020-09-29T18:30:00",8,"23-0358","23-0358_9.jpg",{"$f":"+GetURL(D1842)","v":"https://www.refaccionariagonzalez.com/alta/1-3/23-0358_9.jpg"}]
["2020-09-29T17:44:00",8,"23-0360","23-0360_1.jpg",{"$f":"+GetURL(D1843)","v":"https://www.refaccionariagonzalez.com/alta/1-3/23-0360_1.jpg"}]
["2020-09-29T18:49:00",8,"23-0360","23-0360_2.jpg",{"$f":"+GetURL(D1844)","v":"https://www.refaccionariagonzalez.com/alta/1-3/23-0360_2.jpg"}]
["2020-09-29T19:01:00",8,"23-0360","23-0360_9.jpg",{"$f":"+GetURL(D1845)","v":"https://www.refaccionariagonzalez.com/alta/1-3/23-0360_9.jpg"}]
["2020-09-29T18:53:00",8,"23-0363","23-0363_1.jpg",{"$f":"+GetURL(D1846)","v":"https://www.refaccionariagonzalez.com/alta/1-3/23-0363_1.jpg"}]
["2020-09-29T18:34:00",8,"23-0363","23-0363_2.jpg",{"$f":"+GetURL(D1847)","v":"https://www.refaccionariagonzalez.com/alta/1-3/23-0363_2.jpg"}]
["2020-09-29T18:09:00",8,"23-0363","23-0363_3.jpg",{"$f":"+GetURL(D1848)","v":"https://www.refaccionariagonzalez.com/alta/1-3/23-0363_3.jpg"}]
["2020-09-29T18:53:00",8,"23-0363","23-0363_9.jpg",{"$f":"+GetURL(D1849)","v":"https://www.refaccionariagonzalez.com/alta/1-3/23-0363_9.jpg"}]
["2020-09-29T18:35:00",8,"23-0364","23-0364_1.jpg",{"$f":"+GetURL(D1850)","v":"https://www.refaccionariagonzalez.com/alta/1-3/23-0364_1.jpg"}]
["2020-09-29T17:58:00",8,"23-0364","23-0364_9.jpg",{"$f":"+GetURL(D1851)","v":"https://www.refaccionariagonzalez.com/alta/1-3/23-0364_9.jpg"}]
["2020-09-29T18:37:00",8,"23-0366","23-0366_1.jpg",{"$f":"+GetURL(D1852)","v":"https://www.refaccionariagonzalez.com/alta/1-3/23-0366_1.jpg"}]
["2020-09-29T17:47:00",8,"23-0366","23-0366_2.jpg",{"$f":"+GetURL(D1853)","v":"https://www.refaccionariagonzalez.com/alta/1-3/23-0366_2.jpg"}]
["2020-09-29T17:58:00",8,"23-0366","23-0366_9.jpg",{"$f":"+GetURL(D1854)","v":"https://www.refaccionariagonzalez.com/alta/1-3/23-0366_9.jpg"}]
["2020-09-29T17:54:00",8,"23-0370","23-0370_1.jpg",{"$f":"+GetURL(D1855)","v":"https://www.refaccionariagonzalez.com/alta/1-3/23-0370_1.jpg"}]
["2020-09-29T17:41:00",8,"23-0370","23-0370_9.jpg",{"$f":"+GetURL(D1856)","v":"https://www.refaccionariagonzalez.com/alta/1-3/23-0370_9.jpg"}]
["2020-09-29T18:34:00",8,"23-0371","23-0371_1.jpg",{"$f":"+GetURL(D1857)","v":"https://www.refaccionariagonzalez.com/alta/1-3/23-0371_1.jpg"}]
["2020-09-29T18:42:00",{"$f":"+FIND(\"_\",D1858)","v":8},{"$f":"+LEFT(D1858,B1858-1)","v":"23-0371"},"23-0371_9.jpg",{"$f":"+GetURL(D1858)","v":"https://www.refaccionariagonzalez.com/alta/1-3/23-0371_9.jpg"}]
["2021-01-14T08:18:00",6,"23EMN","23EMN_1.jpg",{"$f":"+GetURL(D1859)","v":"https://www.refaccionariagonzalez.com/alta/1-3/23EMN_1.jpg"}]
["2024-05-02T10:12:00",{"$f":"+FIND(\".\",D1860)","v":6},"25EMN","25EMN.jpg",{"$f":"+GetURL(D1860)","v":"https://www.refaccionariagonzalez.com/alta/1-3/25EMN.jpg"}]
["2022-07-05T16:28:00",8,"27-0012","27-0012_1.jpg",{"$f":"+GetURL(D1861)","v":"https://www.refaccionariagonzalez.com/alta/1-3/27-0012_1.jpg"}]
["2020-09-29T18:55:00",8,"27-0025","27-0025_1.jpg",{"$f":"+GetURL(D1862)","v":"https://www.refaccionariagonzalez.com/alta/1-3/27-0025_1.jpg"}]
["2020-09-29T17:42:00",8,"27-0025","27-0025_2.jpg",{"$f":"+GetURL(D1863)","v":"https://www.refaccionariagonzalez.com/alta/1-3/27-0025_2.jpg"}]
["2020-09-29T18:52:00",8,"27-0025","27-0025_9.jpg",{"$f":"+GetURL(D1864)","v":"https://www.refaccionariagonzalez.com/alta/1-3/27-0025_9.jpg"}]
["2020-09-29T18:02:00",8,"28-0008","28-0008_1.jpg",{"$f":"+GetURL(D1865)","v":"https://www.refaccionariagonzalez.com/alta/1-3/28-0008_1.jpg"}]
["2020-09-29T18:24:00",8,"28-0008","28-0008_9.jpg",{"$f":"+GetURL(D1866)","v":"https://www.refaccionariagonzalez.com/alta/1-3/28-0008_9.jpg"}]
["2021-10-27T18:53:00",5,"28-A","28-A_1.jpg",{"$f":"+GetURL(D1867)","v":"https://www.refaccionariagonzalez.com/alta/1-3/28-A_1.jpg"}]
["2020-09-29T18:17:00",8,"29-0047","29-0047_1.jpg",{"$f":"+GetURL(D1868)","v":"https://www.refaccionariagonzalez.com/alta/1-3/29-0047_1.jpg"}]
["2020-09-29T18:05:00",8,"29-0047","29-0047_9.jpg",{"$f":"+GetURL(D1869)","v":"https://www.refaccionariagonzalez.com/alta/1-3/29-0047_9.jpg"}]
["2020-09-29T17:59:00",8,"35-0082","35-0082_1.jpg",{"$f":"+GetURL(D1870)","v":"https://www.refaccionariagonzalez.com/alta/1-3/35-0082_1.jpg"}]
["2020-09-29T18:05:00",8,"35-0082","35-0082_9.jpg",{"$f":"+GetURL(D1871)","v":"https://www.refaccionariagonzalez.com/alta/1-3/35-0082_9.jpg"}]
["2020-09-29T18:44:00",8,"35-0089","35-0089_1.jpg",{"$f":"+GetURL(D1872)","v":"https://www.refaccionariagonzalez.com/alta/1-3/35-0089_1.jpg"}]
["2020-09-29T18:30:00",8,"35-0089","35-0089_9.jpg",{"$f":"+GetURL(D1873)","v":"https://www.refaccionariagonzalez.com/alta/1-3/35-0089_9.jpg"}]
["2024-05-06T09:24:00",{"$f":"+FIND(\".\",D1874)","v":6},"35=13","35=13.jpg",{"$f":"+GetURL(D1874)","v":"https://www.refaccionariagonzalez.com/alta/1-3/35=13.jpg"}]
["2024-05-06T09:24:00",6,"35=18","35=18.jpg",{"$f":"+GetURL(D1875)","v":"https://www.refaccionariagonzalez.com/alta/1-3/35=18.jpg"}]
["2020-09-29T18:18:00",9,"101P-AZU","101P-AZU_1.jpg",{"$f":"+GetURL(D1876)","v":"https://www.refaccionariagonzalez.com/alta/1-3/101P-AZU_1.jpg"}]
["2020-09-29T17:41:00",9,"101P-AZU","101P-AZU_2.jpg",{"$f":"+GetURL(D1877)","v":"https://www.refaccionariagonzalez.com/alta/1-3/101P-AZU_2.jpg"}]
["2020-09-29T18:24:00",9,"101P-AZU","101P-AZU_3.jpg",{"$f":"+GetURL(D1878)","v":"https://www.refaccionariagonzalez.com/alta/1-3/101P-AZU_3.jpg"}]
["2020-09-29T18:38:00",6,"105BK","105BK_1.jpg",{"$f":"+GetURL(D1879)","v":"https://www.refaccionariagonzalez.com/alta/1-3/105BK_1.jpg"}]
["2020-09-29T17:41:00",10,"107-00QAB","107-00QAB_1.jpg",{"$f":"+GetURL(D1880)","v":"https://www.refaccionariagonzalez.com/alta/1-3/107-00QAB_1.jpg"}]
["2020-09-29T18:16:00",10,"107-00QAB","107-00QAB_9.jpg",{"$f":"+GetURL(D1881)","v":"https://www.refaccionariagonzalez.com/alta/1-3/107-00QAB_9.jpg"}]
["2020-09-29T17:53:00",11,"107-21815A","107-21815A_1.jpg",{"$f":"+GetURL(D1882)","v":"https://www.refaccionariagonzalez.com/alta/1-3/107-21815A_1.jpg"}]
["2020-09-29T18:59:00",11,"107-21815A","107-21815A_9.jpg",{"$f":"+GetURL(D1883)","v":"https://www.refaccionariagonzalez.com/alta/1-3/107-21815A_9.jpg"}]
["2020-09-29T18:14:00",10,"107-28719","107-28719_1.jpg",{"$f":"+GetURL(D1884)","v":"https://www.refaccionariagonzalez.com/alta/1-3/107-28719_1.jpg"}]
["2020-09-29T18:08:00",10,"107-28719","107-28719_2.jpg",{"$f":"+GetURL(D1885)","v":"https://www.refaccionariagonzalez.com/alta/1-3/107-28719_2.jpg"}]
["2020-09-29T18:45:00",10,"107-28719","107-28719_3.jpg",{"$f":"+GetURL(D1886)","v":"https://www.refaccionariagonzalez.com/alta/1-3/107-28719_3.jpg"}]
["2020-09-29T18:21:00",10,"107-28719","107-28719_4.jpg",{"$f":"+GetURL(D1887)","v":"https://www.refaccionariagonzalez.com/alta/1-3/107-28719_4.jpg"}]
["2020-09-29T18:48:00",10,"107-28719","107-28719_7.jpg",{"$f":"+GetURL(D1888)","v":"https://www.refaccionariagonzalez.com/alta/1-3/107-28719_7.jpg"}]
["2020-09-29T17:45:00",10,"107-28719","107-28719_8.jpg",{"$f":"+GetURL(D1889)","v":"https://www.refaccionariagonzalez.com/alta/1-3/107-28719_8.jpg"}]
["2020-09-29T18:06:00",10,"107-28719","107-28719_9.jpg",{"$f":"+GetURL(D1890)","v":"https://www.refaccionariagonzalez.com/alta/1-3/107-28719_9.jpg"}]
["2020-09-29T17:49:00",12,"107-6420303","107-6420303_1.jpg",{"$f":"+GetURL(D1891)","v":"https://www.refaccionariagonzalez.com/alta/1-3/107-6420303_1.jpg"}]
["2020-09-29T17:46:00",12,"107-6420303","107-6420303_2.jpg",{"$f":"+GetURL(D1892)","v":"https://www.refaccionariagonzalez.com/alta/1-3/107-6420303_2.jpg"}]
["2020-09-29T17:54:00",12,"107-6420303","107-6420303_3.jpg",{"$f":"+GetURL(D1893)","v":"https://www.refaccionariagonzalez.com/alta/1-3/107-6420303_3.jpg"}]
["2020-09-29T17:57:00",10,"107-L-481","107-L-481_1.jpg",{"$f":"+GetURL(D1894)","v":"https://www.refaccionariagonzalez.com/alta/1-3/107-L-481_1.jpg"}]
["2020-09-29T18:10:00",10,"107-L-481","107-L-481_9.jpg",{"$f":"+GetURL(D1895)","v":"https://www.refaccionariagonzalez.com/alta/1-3/107-L-481_9.jpg"}]
["2020-09-29T18:16:00",13,"113-129-031K","113-129-031K_1.jpg",{"$f":"+GetURL(D1896)","v":"https://www.refaccionariagonzalez.com/alta/1-3/113-129-031K_1.jpg"}]
["2020-09-29T18:13:00",13,"113-129-031K","113-129-031K_2.jpg",{"$f":"+GetURL(D1897)","v":"https://www.refaccionariagonzalez.com/alta/1-3/113-129-031K_2.jpg"}]
["2020-09-29T18:20:00",13,"113-129-031K","113-129-031K_3.jpg",{"$f":"+GetURL(D1898)","v":"https://www.refaccionariagonzalez.com/alta/1-3/113-129-031K_3.jpg"}]
["2020-09-29T18:45:00",13,"113-129-031K","113-129-031K_9.jpg",{"$f":"+GetURL(D1899)","v":"https://www.refaccionariagonzalez.com/alta/1-3/113-129-031K_9.jpg"}]
["2020-09-29T18:00:00",15,"113-415-061SFT","113-415-061SFT_1.jpg",{"$f":"+GetURL(D1900)","v":"https://www.refaccionariagonzalez.com/alta/1-3/113-415-061SFT_1.jpg"}]
["2020-09-29T18:03:00",15,"113-415-061SFT","113-415-061SFT_2.jpg",{"$f":"+GetURL(D1901)","v":"https://www.refaccionariagonzalez.com/alta/1-3/113-415-061SFT_2.jpg"}]
["2020-09-29T18:36:00",15,"113-415-061SFT","113-415-061SFT_3.jpg",{"$f":"+GetURL(D1902)","v":"https://www.refaccionariagonzalez.com/alta/1-3/113-415-061SFT_3.jpg"}]
["2020-09-29T18:44:00",15,"113-415-061SFT","113-415-061SFT_4.jpg",{"$f":"+GetURL(D1903)","v":"https://www.refaccionariagonzalez.com/alta/1-3/113-415-061SFT_4.jpg"}]
["2020-09-29T17:51:00",15,"113-415-061SFT","113-415-061SFT_7.jpg",{"$f":"+GetURL(D1904)","v":"https://www.refaccionariagonzalez.com/alta/1-3/113-415-061SFT_7.jpg"}]
["2020-09-29T18:52:00",15,"113-415-061SFT","113-415-061SFT_8.jpg",{"$f":"+GetURL(D1905)","v":"https://www.refaccionariagonzalez.com/alta/1-3/113-415-061SFT_8.jpg"}]
["2020-09-29T18:15:00",15,"113-415-061SFT","113-415-061SFT_9.jpg",{"$f":"+GetURL(D1906)","v":"https://www.refaccionariagonzalez.com/alta/1-3/113-415-061SFT_9.jpg"}]
["2021-05-20T18:26:00",17,"113-501-315TEKIT","113-501-315TEKIT_1.jpg",{"$f":"+GetURL(D1907)","v":"https://www.refaccionariagonzalez.com/alta/1-3/113-501-315TEKIT_1.jpg"}]
["2020-09-29T18:01:00",13,"113-827-503H","113-827-503H_1.jpg",{"$f":"+GetURL(D1908)","v":"https://www.refaccionariagonzalez.com/alta/1-3/113-827-503H_1.jpg"}]
["2020-09-29T18:17:00",13,"113-827-503H","113-827-503H_2.jpg",{"$f":"+GetURL(D1909)","v":"https://www.refaccionariagonzalez.com/alta/1-3/113-827-503H_2.jpg"}]
["2020-09-29T18:15:00",12,"113-857-401","113-857-401_1.jpg",{"$f":"+GetURL(D1910)","v":"https://www.refaccionariagonzalez.com/alta/1-3/113-857-401_1.jpg"}]
["2020-09-29T18:40:00",12,"113-857-401","113-857-401_2.jpg",{"$f":"+GetURL(D1911)","v":"https://www.refaccionariagonzalez.com/alta/1-3/113-857-401_2.jpg"}]
["2020-09-29T18:46:00",12,"113-857-401","113-857-401_9.jpg",{"$f":"+GetURL(D1912)","v":"https://www.refaccionariagonzalez.com/alta/1-3/113-857-401_9.jpg"}]
["2020-09-29T18:10:00",12,"113-857-402","113-857-402_1.jpg",{"$f":"+GetURL(D1913)","v":"https://www.refaccionariagonzalez.com/alta/1-3/113-857-402_1.jpg"}]
["2020-09-29T17:54:00",12,"113-857-402","113-857-402_9.jpg",{"$f":"+GetURL(D1914)","v":"https://www.refaccionariagonzalez.com/alta/1-3/113-857-402_9.jpg"}]
["2020-09-29T19:00:00",11,"116-0161VP","116-0161VP_1.jpg",{"$f":"+GetURL(D1915)","v":"https://www.refaccionariagonzalez.com/alta/1-3/116-0161VP_1.jpg"}]
["2020-09-29T18:28:00",11,"116-0161VP","116-0161VP_9.jpg",{"$f":"+GetURL(D1916)","v":"https://www.refaccionariagonzalez.com/alta/1-3/116-0161VP_9.jpg"}]
["2020-09-29T18:33:00",9,"116-034P","116-034P_1.jpg",{"$f":"+GetURL(D1917)","v":"https://www.refaccionariagonzalez.com/alta/1-3/116-034P_1.jpg"}]
["2020-09-29T17:58:00",9,"116-034P","116-034P_2.jpg",{"$f":"+GetURL(D1918)","v":"https://www.refaccionariagonzalez.com/alta/1-3/116-034P_2.jpg"}]
["2020-09-29T18:54:00",8,"125-127","125-127_1.jpg",{"$f":"+GetURL(D1919)","v":"https://www.refaccionariagonzalez.com/alta/1-3/125-127_1.jpg"}]
["2020-09-29T18:41:00",8,"125-127","125-127_2.jpg",{"$f":"+GetURL(D1920)","v":"https://www.refaccionariagonzalez.com/alta/1-3/125-127_2.jpg"}]
["2024-05-13T08:03:00",{"$f":"+FIND(\".\",D1921)","v":8},"126-348","126-348.jpg",{"$f":"+GetURL(D1921)","v":"https://www.refaccionariagonzalez.com/alta/1-3/126-348.jpg"}]
["2020-09-29T18:06:00",{"$f":"+FIND(\"_\",D1922)","v":8},{"$f":"+LEFT(D1922,B1922-1)","v":"126-362"},"126-362_1.jpg",{"$f":"+GetURL(D1922)","v":"https://www.refaccionariagonzalez.com/alta/1-3/126-362_1.jpg"}]
["2020-09-29T18:22:00",8,"126-362","126-362_9.jpg",{"$f":"+GetURL(D1923)","v":"https://www.refaccionariagonzalez.com/alta/1-3/126-362_9.jpg"}]
["2024-05-13T08:03:00",{"$f":"+FIND(\".\",D1924)","v":8},"126-499","126-499.jpg",{"$f":"+GetURL(D1924)","v":"https://www.refaccionariagonzalez.com/alta/1-3/126-499.jpg"}]
["2020-09-29T18:06:00",11,"129-1155JS","129-1155JS_1.jpg",{"$f":"+GetURL(D1925)","v":"https://www.refaccionariagonzalez.com/alta/1-3/129-1155JS_1.jpg"}]
["2020-09-29T18:19:00",11,"129-1155JS","129-1155JS_9.jpg",{"$f":"+GetURL(D1926)","v":"https://www.refaccionariagonzalez.com/alta/1-3/129-1155JS_9.jpg"}]
["2024-05-13T08:03:00",{"$f":"+FIND(\".\",D1927)","v":11},"129-1185JF","129-1185JF.jpg",{"$f":"+GetURL(D1927)","v":"https://www.refaccionariagonzalez.com/alta/1-3/129-1185JF.jpg"}]
["2020-09-29T18:35:00",16,"131-405-361FSFT","131-405-361FSFT_1.jpg",{"$f":"+GetURL(D1928)","v":"https://www.refaccionariagonzalez.com/alta/1-3/131-405-361FSFT_1.jpg"}]
["2020-09-29T17:53:00",16,"131-405-361FSFT","131-405-361FSFT_2.jpg",{"$f":"+GetURL(D1929)","v":"https://www.refaccionariagonzalez.com/alta/1-3/131-405-361FSFT_2.jpg"}]
["2020-09-29T18:29:00",16,"131-405-361FSFT","131-405-361FSFT_3.jpg",{"$f":"+GetURL(D1930)","v":"https://www.refaccionariagonzalez.com/alta/1-3/131-405-361FSFT_3.jpg"}]
["2020-09-29T18:14:00",16,"131-405-361FSFT","131-405-361FSFT_4.jpg",{"$f":"+GetURL(D1931)","v":"https://www.refaccionariagonzalez.com/alta/1-3/131-405-361FSFT_4.jpg"}]
["2020-09-29T18:42:00",16,"131-405-361FSFT","131-405-361FSFT_9.jpg",{"$f":"+GetURL(D1932)","v":"https://www.refaccionariagonzalez.com/alta/1-3/131-405-361FSFT_9.jpg"}]
["2020-09-29T18:05:00",10,"132-01297","132-01297_1.jpg",{"$f":"+GetURL(D1933)","v":"https://www.refaccionariagonzalez.com/alta/1-3/132-01297_1.jpg"}]
["2020-09-29T18:30:00",10,"132-01297","132-01297_9.jpg",{"$f":"+GetURL(D1934)","v":"https://www.refaccionariagonzalez.com/alta/1-3/132-01297_9.jpg"}]
["2020-09-29T18:07:00",10,"132-01314","132-01314_1.jpg",{"$f":"+GetURL(D1935)","v":"https://www.refaccionariagonzalez.com/alta/1-3/132-01314_1.jpg"}]
["2020-09-29T17:46:00",10,"132-01314","132-01314_9.jpg",{"$f":"+GetURL(D1936)","v":"https://www.refaccionariagonzalez.com/alta/1-3/132-01314_9.jpg"}]
["2024-04-25T10:12:00",{"$f":"+FIND(\".\",D1937)","v":12},"132-03080-1","132-03080-1.jpg",{"$f":"+GetURL(D1937)","v":"https://www.refaccionariagonzalez.com/alta/1-3/132-03080-1.jpg"}]
["2020-09-29T18:12:00",10,"138-100EU","138-100EU_1.jpg",{"$f":"+GetURL(D1938)","v":"https://www.refaccionariagonzalez.com/alta/1-3/138-100EU_1.jpg"}]
["2020-09-29T18:25:00",10,"138-100EU","138-100EU_2.jpg",{"$f":"+GetURL(D1939)","v":"https://www.refaccionariagonzalez.com/alta/1-3/138-100EU_2.jpg"}]
["2020-09-29T18:41:00",10,"138-100EU","138-100EU_9.jpg",{"$f":"+GetURL(D1940)","v":"https://www.refaccionariagonzalez.com/alta/1-3/138-100EU_9.jpg"}]
["2020-09-29T18:02:00",9,"138-3408","138-3408_1.jpg",{"$f":"+GetURL(D1941)","v":"https://www.refaccionariagonzalez.com/alta/1-3/138-3408_1.jpg"}]
["2020-09-29T18:00:00",9,"138-3408","138-3408_9.jpg",{"$f":"+GetURL(D1942)","v":"https://www.refaccionariagonzalez.com/alta/1-3/138-3408_9.jpg"}]
["2020-09-29T18:06:00",9,"138-3601","138-3601_1.jpg",{"$f":"+GetURL(D1943)","v":"https://www.refaccionariagonzalez.com/alta/1-3/138-3601_1.jpg"}]
["2020-09-29T17:56:00",9,"138-3601","138-3601_9.jpg",{"$f":"+GetURL(D1944)","v":"https://www.refaccionariagonzalez.com/alta/1-3/138-3601_9.jpg"}]
["2020-09-29T18:20:00",9,"138-3602","138-3602_1.jpg",{"$f":"+GetURL(D1945)","v":"https://www.refaccionariagonzalez.com/alta/1-3/138-3602_1.jpg"}]
["2020-09-29T18:29:00",9,"138-3602","138-3602_9.jpg",{"$f":"+GetURL(D1946)","v":"https://www.refaccionariagonzalez.com/alta/1-3/138-3602_9.jpg"}]
["2020-09-29T18:50:00",6,"138BO","138BO_1.jpg",{"$f":"+GetURL(D1947)","v":"https://www.refaccionariagonzalez.com/alta/1-3/138BO_1.jpg"}]
["2020-09-29T18:37:00",6,"138BO","138BO_9.jpg",{"$f":"+GetURL(D1948)","v":"https://www.refaccionariagonzalez.com/alta/1-3/138BO_9.jpg"}]
["2020-09-29T18:03:00",6,"138MA","138MA_1.jpg",{"$f":"+GetURL(D1949)","v":"https://www.refaccionariagonzalez.com/alta/1-3/138MA_1.jpg"}]
["2020-09-29T17:52:00",6,"138MA","138MA_9.jpg",{"$f":"+GetURL(D1950)","v":"https://www.refaccionariagonzalez.com/alta/1-3/138MA_9.jpg"}]
["2020-09-29T18:10:00",9,"139-3177","139-3177_1.jpg",{"$f":"+GetURL(D1951)","v":"https://www.refaccionariagonzalez.com/alta/1-3/139-3177_1.jpg"}]
["2020-09-29T18:28:00",9,"139-3177","139-3177_9.jpg",{"$f":"+GetURL(D1952)","v":"https://www.refaccionariagonzalez.com/alta/1-3/139-3177_9.jpg"}]
["2020-09-29T18:47:00",9,"139-3178","139-3178_1.jpg",{"$f":"+GetURL(D1953)","v":"https://www.refaccionariagonzalez.com/alta/1-3/139-3178_1.jpg"}]
["2020-09-29T17:42:00",9,"139-3178","139-3178_9.jpg",{"$f":"+GetURL(D1954)","v":"https://www.refaccionariagonzalez.com/alta/1-3/139-3178_9.jpg"}]
["2020-09-29T18:48:00",10,"139-4158R","139-4158R_1.jpg",{"$f":"+GetURL(D1955)","v":"https://www.refaccionariagonzalez.com/alta/1-3/139-4158R_1.jpg"}]
["2020-09-29T19:00:00",10,"139-4158R","139-4158R_2.jpg",{"$f":"+GetURL(D1956)","v":"https://www.refaccionariagonzalez.com/alta/1-3/139-4158R_2.jpg"}]
["2020-09-29T18:07:00",10,"139-4158R","139-4158R_3.jpg",{"$f":"+GetURL(D1957)","v":"https://www.refaccionariagonzalez.com/alta/1-3/139-4158R_3.jpg"}]
["2020-09-29T17:51:00",10,"139-4158R","139-4158R_4.jpg",{"$f":"+GetURL(D1958)","v":"https://www.refaccionariagonzalez.com/alta/1-3/139-4158R_4.jpg"}]
["2020-09-29T18:45:00",10,"139-4158R","139-4158R_9.jpg",{"$f":"+GetURL(D1959)","v":"https://www.refaccionariagonzalez.com/alta/1-3/139-4158R_9.jpg"}]
["2020-09-29T18:34:00",9,"139-4601","139-4601_1.jpg",{"$f":"+GetURL(D1960)","v":"https://www.refaccionariagonzalez.com/alta/1-3/139-4601_1.jpg"}]
["2020-09-29T17:57:00",9,"139-4601","139-4601_2.jpg",{"$f":"+GetURL(D1961)","v":"https://www.refaccionariagonzalez.com/alta/1-3/139-4601_2.jpg"}]
["2024-04-24T17:38:00",9,"139-7005","139-7005_1.jpg",{"$f":"+GetURL(D1962)","v":"https://www.refaccionariagonzalez.com/alta/1-3/139-7005_1.jpg"}]
["2020-09-29T17:46:00",13,"139-27209-01","139-27209-01_1.jpg",{"$f":"+GetURL(D1963)","v":"https://www.refaccionariagonzalez.com/alta/1-3/139-27209-01_1.jpg"}]
["2020-09-29T18:51:00",13,"139-27209-01","139-27209-01_9.jpg",{"$f":"+GetURL(D1964)","v":"https://www.refaccionariagonzalez.com/alta/1-3/139-27209-01_9.jpg"}]
["2020-09-29T18:22:00",13,"139-27209-02","139-27209-02_1.jpg",{"$f":"+GetURL(D1965)","v":"https://www.refaccionariagonzalez.com/alta/1-3/139-27209-02_1.jpg"}]
["2020-09-29T18:29:00",13,"139-27209-02","139-27209-02_9.jpg",{"$f":"+GetURL(D1966)","v":"https://www.refaccionariagonzalez.com/alta/1-3/139-27209-02_9.jpg"}]
["2020-09-29T17:41:00",7,"140CNL","140CNL_1.jpg",{"$f":"+GetURL(D1967)","v":"https://www.refaccionariagonzalez.com/alta/1-3/140CNL_1.jpg"}]
["2020-09-29T18:14:00",7,"140CNL","140CNL_2.jpg",{"$f":"+GetURL(D1968)","v":"https://www.refaccionariagonzalez.com/alta/1-3/140CNL_2.jpg"}]
["2020-09-29T17:57:00",7,"140CNL","140CNL_3.jpg",{"$f":"+GetURL(D1969)","v":"https://www.refaccionariagonzalez.com/alta/1-3/140CNL_3.jpg"}]
["2020-09-29T18:48:00",7,"140CNL","140CNL_9.jpg",{"$f":"+GetURL(D1970)","v":"https://www.refaccionariagonzalez.com/alta/1-3/140CNL_9.jpg"}]
["2020-09-29T18:59:00",7,"140CNR","140CNR_1.jpg",{"$f":"+GetURL(D1971)","v":"https://www.refaccionariagonzalez.com/alta/1-3/140CNR_1.jpg"}]
["2020-09-29T18:33:00",7,"140CNR","140CNR_2.jpg",{"$f":"+GetURL(D1972)","v":"https://www.refaccionariagonzalez.com/alta/1-3/140CNR_2.jpg"}]
["2020-09-29T18:56:00",7,"140CNR","140CNR_3.jpg",{"$f":"+GetURL(D1973)","v":"https://www.refaccionariagonzalez.com/alta/1-3/140CNR_3.jpg"}]
["2020-09-29T17:58:00",7,"140CNR","140CNR_9.jpg",{"$f":"+GetURL(D1974)","v":"https://www.refaccionariagonzalez.com/alta/1-3/140CNR_9.jpg"}]
["2020-09-29T18:23:00",10,"142-FG056","142-FG056_1.jpg",{"$f":"+GetURL(D1975)","v":"https://www.refaccionariagonzalez.com/alta/1-3/142-FG056_1.jpg"}]
["2020-09-29T18:24:00",10,"142-FG056","142-FG056_2.jpg",{"$f":"+GetURL(D1976)","v":"https://www.refaccionariagonzalez.com/alta/1-3/142-FG056_2.jpg"}]
["2020-09-29T18:09:00",10,"142-FG056","142-FG056_3.jpg",{"$f":"+GetURL(D1977)","v":"https://www.refaccionariagonzalez.com/alta/1-3/142-FG056_3.jpg"}]
["2020-09-29T18:30:00",10,"142-FG056","142-FG056_9.jpg",{"$f":"+GetURL(D1978)","v":"https://www.refaccionariagonzalez.com/alta/1-3/142-FG056_9.jpg"}]
["2020-09-29T18:41:00",13,"142-FMB-269D","142-FMB-269D_1.jpg",{"$f":"+GetURL(D1979)","v":"https://www.refaccionariagonzalez.com/alta/1-3/142-FMB-269D_1.jpg"}]
["2020-09-29T18:22:00",13,"142-FMB-269D","142-FMB-269D_9.jpg",{"$f":"+GetURL(D1980)","v":"https://www.refaccionariagonzalez.com/alta/1-3/142-FMB-269D_9.jpg"}]
["2020-09-29T17:58:00",13,"142-FMB-278D","142-FMB-278D_1.jpg",{"$f":"+GetURL(D1981)","v":"https://www.refaccionariagonzalez.com/alta/1-3/142-FMB-278D_1.jpg"}]
["2020-09-29T18:56:00",13,"142-FMB-278D","142-FMB-278D_9.jpg",{"$f":"+GetURL(D1982)","v":"https://www.refaccionariagonzalez.com/alta/1-3/142-FMB-278D_9.jpg"}]
["2024-05-06T09:25:00",{"$f":"+FIND(\".\",D1983)","v":10},"145-21700","145-21700.jpg",{"$f":"+GetURL(D1983)","v":"https://www.refaccionariagonzalez.com/alta/1-3/145-21700.jpg"}]
["2020-09-29T18:59:00",6,"145MM","145MM_1.jpg",{"$f":"+GetURL(D1984)","v":"https://www.refaccionariagonzalez.com/alta/1-3/145MM_1.jpg"}]
["2020-09-29T18:05:00",11,"161-NIS004","161-NIS004_1.jpg",{"$f":"+GetURL(D1985)","v":"https://www.refaccionariagonzalez.com/alta/1-3/161-NIS004_1.jpg"}]
["2020-09-29T18:00:00",{"$f":"+FIND(\"_\",D1986)","v":11},{"$f":"+LEFT(D1986,B1986-1)","v":"161-NIS004"},"161-NIS004_9.jpg",{"$f":"+GetURL(D1986)","v":"https://www.refaccionariagonzalez.com/alta/1-3/161-NIS004_9.jpg"}]
["2020-09-29T17:45:00",12,"165-906-381","165-906-381_1.jpg",{"$f":"+GetURL(D1987)","v":"https://www.refaccionariagonzalez.com/alta/1-3/165-906-381_1.jpg"}]
["2020-09-29T18:21:00",12,"165-906-381","165-906-381_2.jpg",{"$f":"+GetURL(D1988)","v":"https://www.refaccionariagonzalez.com/alta/1-3/165-906-381_2.jpg"}]
["2020-09-29T18:54:00",12,"165-906-381","165-906-381_3.jpg",{"$f":"+GetURL(D1989)","v":"https://www.refaccionariagonzalez.com/alta/1-3/165-906-381_3.jpg"}]
["2020-09-29T18:47:00",13,"171-412-329A","171-412-329A_1.jpg",{"$f":"+GetURL(D1990)","v":"https://www.refaccionariagonzalez.com/alta/1-3/171-412-329A_1.jpg"}]
["2020-09-29T18:29:00",13,"171-412-329A","171-412-329A_9.jpg",{"$f":"+GetURL(D1991)","v":"https://www.refaccionariagonzalez.com/alta/1-3/171-412-329A_9.jpg"}]
["2020-09-29T17:58:00",6,"174BK","174BK_1.jpg",{"$f":"+GetURL(D1992)","v":"https://www.refaccionariagonzalez.com/alta/1-3/174BK_1.jpg"}]
["2020-09-29T17:56:00",6,"174BK","174BK_9.jpg",{"$f":"+GetURL(D1993)","v":"https://www.refaccionariagonzalez.com/alta/1-3/174BK_9.jpg"}]
["2020-09-29T18:35:00",8,"181-091","181-091_1.jpg",{"$f":"+GetURL(D1994)","v":"https://www.refaccionariagonzalez.com/alta/1-3/181-091_1.jpg"}]
["2020-09-29T18:44:00",8,"181-091","181-091_9.jpg",{"$f":"+GetURL(D1995)","v":"https://www.refaccionariagonzalez.com/alta/1-3/181-091_9.jpg"}]
["2020-09-29T17:46:00",8,"181-092","181-092_1.jpg",{"$f":"+GetURL(D1996)","v":"https://www.refaccionariagonzalez.com/alta/1-3/181-092_1.jpg"}]
["2020-09-29T18:56:00",8,"181-092","181-092_9.jpg",{"$f":"+GetURL(D1997)","v":"https://www.refaccionariagonzalez.com/alta/1-3/181-092_9.jpg"}]
["2020-09-29T18:14:00",8,"181-093","181-093_1.jpg",{"$f":"+GetURL(D1998)","v":"https://www.refaccionariagonzalez.com/alta/1-3/181-093_1.jpg"}]
["2020-09-29T17:45:00",8,"181-093","181-093_2.jpg",{"$f":"+GetURL(D1999)","v":"https://www.refaccionariagonzalez.com/alta/1-3/181-093_2.jpg"}]
["2020-09-29T18:28:00",8,"181-093","181-093_8.jpg",{"$f":"+GetURL(D2000)","v":"https://www.refaccionariagonzalez.com/alta/1-3/181-093_8.jpg"}]
["2020-09-29T19:00:00",12,"191-837-581","191-837-581_2.jpg",{"$f":"+GetURL(D2016)","v":"https://www.refaccionariagonzalez.com/alta/1-3/191-837-581_2.jpg"}]
["2024-04-25T09:43:00",8,"192-TC1","192-TC1_2.jpg",{"$f":"+GetURL(D2020)","v":"https://www.refaccionariagonzalez.com/alta/1-3/192-TC1_2.jpg"}]
["2020-09-29T18:02:00",12,"202-3117-06","202-3117-06_3.jpg",{"$f":"+GetURL(D2039)","v":"https://www.refaccionariagonzalez.com/alta/1-3/202-3117-06_3.jpg"}]
["2020-09-29T18:20:00",12,"203-2704-06","203-2704-06_1.jpg",{"$f":"+GetURL(D2071)","v":"https://www.refaccionariagonzalez.com/alta/1-3/203-2704-06_1.jpg"}]
["2022-05-13T10:53:00",12,"203-3103-02","203-3103-02_1.jpg",{"$f":"+GetURL(D2082)","v":"https://www.refaccionariagonzalez.com/alta/1-3/203-3103-02_1.jpg"}]
["2020-09-29T18:49:00",12,"203-3112-00","203-3112-00_2.jpg",{"$f":"+GetURL(D2101)","v":"https://www.refaccionariagonzalez.com/alta/1-3/203-3112-00_2.jpg"}]
["2020-09-29T18:07:00",12,"204-0912-02","204-0912-02_9.jpg",{"$f":"+GetURL(D2122)","v":"https://www.refaccionariagonzalez.com/alta/1-3/204-0912-02_9.jpg"}]
["2020-09-29T18:39:00",12,"204-3105-00","204-3105-00_2.jpg",{"$f":"+GetURL(D2144)","v":"https://www.refaccionariagonzalez.com/alta/1-3/204-3105-00_2.jpg"}]
["2020-09-29T18:18:00",12,"204-3111-00","204-3111-00_2.jpg",{"$f":"+GetURL(D2150)","v":"https://www.refaccionariagonzalez.com/alta/1-3/204-3111-00_2.jpg"}]
["2020-09-29T18:32:00",4,"205","205_2.jpg",{"$f":"+GetURL(D2173)","v":"https://www.refaccionariagonzalez.com/alta/1-3/205_2.jpg"}]
["2020-09-29T17:45:00",12,"207-0614-01","207-0614-01_9.jpg",{"$f":"+GetURL(D2187)","v":"https://www.refaccionariagonzalez.com/alta/1-3/207-0614-01_9.jpg"}]
["2020-09-29T18:29:00",12,"216-0633-00","216-0633-00_1.jpg",{"$f":"+GetURL(D2212)","v":"https://www.refaccionariagonzalez.com/alta/1-3/216-0633-00_1.jpg"}]
["2020-09-29T18:43:00",12,"216-2330-00","216-2330-00_1.jpg",{"$f":"+GetURL(D2231)","v":"https://www.refaccionariagonzalez.com/alta/1-3/216-2330-00_1.jpg"}]
["2020-09-29T18:45:00",12,"216-3010-02","216-3010-02_2.jpg",{"$f":"+GetURL(D2246)","v":"https://www.refaccionariagonzalez.com/alta/1-3/216-3010-02_2.jpg"}]
["2024-05-02T09:56:00",9,"220-2318","220-2318_01.jpg",{"$f":"+GetURL(D2274)","v":"https://www.refaccionariagonzalez.com/alta/1-3/220-2318_01.jpg"}]
["2024-05-02T09:56:00",{"$f":"+FIND(\".\",D2293)","v":12},"230-0703-02","230-0703-02.jpg",{"$f":"+GetURL(D2293)","v":"https://www.refaccionariagonzalez.com/alta/1-3/230-0703-02.jpg"}]
["2024-04-24T12:21:00",11,"230-3132-0","230-3132-0_0.jpg",{"$f":"+GetURL(D2301)","v":"https://www.refaccionariagonzalez.com/alta/1-3/230-3132-0_0.jpg"}]
["2021-08-23T16:59:00",12,"259-3110-01","259-3110-01_2.jpg",{"$f":"+GetURL(D2336)","v":"https://www.refaccionariagonzalez.com/alta/1-3/259-3110-01_2.jpg"}]
["2020-09-29T18:57:00",9,"315ORIBK","315ORIBK_1.jpg",{"$f":"+GetURL(D2355)","v":"https://www.refaccionariagonzalez.com/alta/1-3/315ORIBK_1.jpg"}]
["2020-09-29T18:47:00",{"$f":"+FIND(\"_\",D2370)","v":12},{"$f":"+LEFT(D2370,B2370-1)","v":"325-957-827"},"325-957-827_2.jpg",{"$f":"+GetURL(D2370)","v":"https://www.refaccionariagonzalez.com/alta/1-3/325-957-827_2.jpg"}]
["2020-09-29T17:41:00",13,"334-1904R-US","334-1904R-US_3.jpg",{"$f":"+GetURL(D2379)","v":"https://www.refaccionariagonzalez.com/alta/1-3/334-1904R-US_3.jpg"}]
["2020-09-29T18:03:00",12,"356-857-A2A","356-857-A2A_1.jpg",{"$f":"+GetURL(D2404)","v":"https://www.refaccionariagonzalez.com/alta/1-3/356-857-A2A_1.jpg"}]
["2020-09-29T18:33:00",5,"1003","1003_2.jpg",{"$f":"+GetURL(D2423)","v":"https://www.refaccionariagonzalez.com/alta/1-3/1003_2.jpg"}]
["2020-11-17T18:54:00",7,"1010N ","1010N _1.jpg",{"$f":"+GetURL(D2443)","v":"https://www.refaccionariagonzalez.com/alta/1-3/1010N _1.jpg"}]
["2020-09-29T17:54:00",13,"1034LEDSROJO","1034LEDSROJO_9.jpg",{"$f":"+GetURL(D2466)","v":"https://www.refaccionariagonzalez.com/alta/1-3/1034LEDSROJO_9.jpg"}]
["2020-09-29T18:36:00",8,"1142-15","1142-15_9.jpg",{"$f":"+GetURL(D2485)","v":"https://www.refaccionariagonzalez.com/alta/1-3/1142-15_9.jpg"}]
["2020-09-29T18:25:00",8,"1178-14","1178-14_9.jpg",{"$f":"+GetURL(D2494)","v":"https://www.refaccionariagonzalez.com/alta/1-3/1178-14_9.jpg"}]
["2020-09-29T18:19:00",9,"1239-R13","1239-R13_1.jpg",{"$f":"+GetURL(D2509)","v":"https://www.refaccionariagonzalez.com/alta/1-3/1239-R13_1.jpg"}]
["2020-09-29T18:58:00",10,"1289A-R15","1289A-R15_1.jpg",{"$f":"+GetURL(D2528)","v":"https://www.refaccionariagonzalez.com/alta/1-3/1289A-R15_1.jpg"}]
["2024-04-25T09:43:00",5,"1306","1306_9.jpg",{"$f":"+GetURL(D2549)","v":"https://www.refaccionariagonzalez.com/alta/1-3/1306_9.jpg"}]
["2020-09-29T19:00:00",9,"1368-370","1368-370_4.jpg",{"$f":"+GetURL(D2571)","v":"https://www.refaccionariagonzalez.com/alta/1-3/1368-370_4.jpg"}]
["2024-02-19T09:23:00",5,"1521","1521_2.jpg",{"$f":"+GetURL(D2590)","v":"https://www.refaccionariagonzalez.com/alta/1-3/1521_2.jpg"}]
["2024-04-24T14:13:00",5,"1735","1735_1.jpg",{"$f":"+GetURL(D2615)","v":"https://www.refaccionariagonzalez.com/alta/1-3/1735_1.jpg"}]
["2020-09-29T18:57:00",12,"1970-CV-004","1970-CV-004_1.jpg",{"$f":"+GetURL(D2622)","v":"https://www.refaccionariagonzalez.com/alta/1-3/1970-CV-004_1.jpg"}]
["2024-04-24T18:36:00",5,"3607","3607_6.jpg",{"$f":"+GetURL(D2652)","v":"https://www.refaccionariagonzalez.com/alta/1-3/3607_6.jpg"}]
["2020-09-29T17:57:00",8,"3645EGP","3645EGP_9.jpg",{"$f":"+GetURL(D2658)","v":"https://www.refaccionariagonzalez.com/alta/1-3/3645EGP_9.jpg"}]
["2020-09-29T18:03:00",14,"11110-3RC0C-N","11110-3RC0C-N_1.jpg",{"$f":"+GetURL(D2691)","v":"https://www.refaccionariagonzalez.com/alta/1-3/11110-3RC0C-N_1.jpg"}]
["2020-09-29T18:19:00",11,"11140EL00A","11140EL00A_2.jpg",{"$f":"+GetURL(D2701)","v":"https://www.refaccionariagonzalez.com/alta/1-3/11140EL00A_2.jpg"}]
["2020-09-29T18:31:00",12,"11220-EL50A","11220-EL50A_2.jpg",{"$f":"+GetURL(D2720)","v":"https://www.refaccionariagonzalez.com/alta/1-3/11220-EL50A_2.jpg"}]
["2020-09-29T18:28:00",12,"11360-EL00A","11360-EL00A_9.jpg",{"$f":"+GetURL(D2742)","v":"https://www.refaccionariagonzalez.com/alta/1-3/11360-EL00A_9.jpg"}]
["2020-09-29T18:41:00",6,"12100","12100_9.jpg",{"$f":"+GetURL(D2763)","v":"https://www.refaccionariagonzalez.com/alta/1-3/12100_9.jpg"}]
["2020-09-29T17:48:00",6,"12341","12341_9.jpg",{"$f":"+GetURL(D2782)","v":"https://www.refaccionariagonzalez.com/alta/1-3/12341_9.jpg"}]
["2020-09-29T17:56:00",12,"13042-00QAA","13042-00QAA_1.jpg",{"$f":"+GetURL(D2797)","v":"https://www.refaccionariagonzalez.com/alta/1-3/13042-00QAA_1.jpg"}]
["2020-09-29T18:11:00",12,"13049-ET000","13049-ET000_9.jpg",{"$f":"+GetURL(D2806)","v":"https://www.refaccionariagonzalez.com/alta/1-3/13049-ET000_9.jpg"}]
["2020-09-29T17:54:00",13,"13168-01M00J","13168-01M00J_9.jpg",{"$f":"+GetURL(D2825)","v":"https://www.refaccionariagonzalez.com/alta/1-3/13168-01M00J_9.jpg"}]
["2020-09-29T18:51:00",12,"13207-53Y00","13207-53Y00_9.jpg",{"$f":"+GetURL(D2850)","v":"https://www.refaccionariagonzalez.com/alta/1-3/13207-53Y00_9.jpg"}]
["2022-05-09T15:39:00",14,"13264-MA00ATE","13264-MA00ATE_2.jpg",{"$f":"+GetURL(D2870)","v":"https://www.refaccionariagonzalez.com/alta/1-3/13264-MA00ATE_2.jpg"}]
["2020-09-29T18:29:00",7,"13306.","13306._1.jpg",{"$f":"+GetURL(D2887)","v":"https://www.refaccionariagonzalez.com/alta/1-3/13306._1.jpg"}]
["2020-09-29T18:26:00",13,"13510-50B10J","13510-50B10J_9.jpg",{"$f":"+GetURL(D2912)","v":"https://www.refaccionariagonzalez.com/alta/1-3/13510-50B10J_9.jpg"}]
["2020-09-29T18:08:00",6,"13980","13980_1.jpg",{"$f":"+GetURL(D2921)","v":"https://www.refaccionariagonzalez.com/alta/1-3/13980_1.jpg"}]
["2023-05-17T11:23:00",17,"15208-65F00PROMO","15208-65F00PROMO_1.jpg",{"$f":"+GetURL(D2936)","v":"https://www.refaccionariagonzalez.com/alta/1-3/15208-65F00PROMO_1.jpg"}]
["2020-09-29T18:56:00",14,"16010-VW1800A","16010-VW1800A_4.jpg",{"$f":"+GetURL(D2955)","v":"https://www.refaccionariagonzalez.com/alta/1-3/16010-VW1800A_4.jpg"}]
["2024-04-24T15:05:00",16,"16546ED000-PROM","16546ED000-PROM_O.jpg",{"$f":"+GetURL(D2990)","v":"https://www.refaccionariagonzalez.com/alta/1-3/16546ED000-PROM_O.jpg"}]
["2020-09-29T18:00:00",12,"16806-00QAA","16806-00QAA_1.jpg",{"$f":"+GetURL(D2998)","v":"https://www.refaccionariagonzalez.com/alta/1-3/16806-00QAA_1.jpg"}]
["2020-09-29T17:45:00",12,"17042-CH0AA","17042-CH0AA_9.jpg",{"$f":"+GetURL(D3017)","v":"https://www.refaccionariagonzalez.com/alta/1-3/17042-CH0AA_9.jpg"}]
["2024-05-06T09:25:00",6,"18511","18511.jpg",{"$f":"+GetURL(D3042)","v":"https://www.refaccionariagonzalez.com/alta/1-3/18511.jpg"}]
["2020-09-29T18:22:00",6,"18900","18900_1.jpg",{"$f":"+GetURL(D3049)","v":"https://www.refaccionariagonzalez.com/alta/1-3/18900_1.jpg"}]
["2024-05-02T08:34:00",14,"21082-VZ00ABC","21082-VZ00ABC.jpg",{"$f":"+GetURL(D3079)","v":"https://www.refaccionariagonzalez.com/alta/1-3/21082-VZ00ABC.jpg"}]
["2020-09-29T18:49:00",12,"21200-ET01A","21200-ET01A_2.jpg",{"$f":"+GetURL(D3085)","v":"https://www.refaccionariagonzalez.com/alta/1-3/21200-ET01A_2.jpg"}]
["2021-05-28T17:38:00",14,"21501-EL000-N","21501-EL000-N_1.jpg",{"$f":"+GetURL(D3118)","v":"https://www.refaccionariagonzalez.com/alta/1-3/21501-EL000-N_1.jpg"}]
["2021-05-20T18:26:00",14,"21710-1HS3BBC","21710-1HS3BBC_2.jpg",{"$f":"+GetURL(D3122)","v":"https://www.refaccionariagonzalez.com/alta/1-3/21710-1HS3BBC_2.jpg"}]
["2022-06-29T17:28:00",12,"22020-F4302","22020-F4302_2.jpg",{"$f":"+GetURL(D3147)","v":"https://www.refaccionariagonzalez.com/alta/1-3/22020-F4302_2.jpg"}]
["2020-10-08T14:18:00",8,"22384VM","22384VM_1.jpg",{"$f":"+GetURL(D3169)","v":"https://www.refaccionariagonzalez.com/alta/1-3/22384VM_1.jpg"}]
["2024-05-13T08:03:00",{"$f":"+FIND(\".\",D3190)","v":8},"22470VM","22470VM.jpg",{"$f":"+GetURL(D3190)","v":"https://www.refaccionariagonzalez.com/alta/1-3/22470VM.jpg"}]
["2020-09-29T18:14:00",12,"23265-78B00","23265-78B00_2.jpg",{"$f":"+GetURL(D3209)","v":"https://www.refaccionariagonzalez.com/alta/1-3/23265-78B00_2.jpg"}]
["2020-09-29T18:18:00",13,"23300-MA00AJ","23300-MA00AJ_1.jpg",{"$f":"+GetURL(D3228)","v":"https://www.refaccionariagonzalez.com/alta/1-3/23300-MA00AJ_1.jpg"}]
["2020-09-29T18:42:00",12,"23731-DB00A","23731-DB00A_4.jpg",{"$f":"+GetURL(D3246)","v":"https://www.refaccionariagonzalez.com/alta/1-3/23731-DB00A_4.jpg"}]
["2020-09-29T18:13:00",12,"25060-VW00A","25060-VW00A_4.jpg",{"$f":"+GetURL(D3271)","v":"https://www.refaccionariagonzalez.com/alta/1-3/25060-VW00A_4.jpg"}]
["2020-09-29T18:32:00",12,"25230-00QAA","25230-00QAA_9.jpg",{"$f":"+GetURL(D3290)","v":"https://www.refaccionariagonzalez.com/alta/1-3/25230-00QAA_9.jpg"}]
["2020-09-29T18:32:00",12,"25230-C9980","25230-C9980_3.jpg",{"$f":"+GetURL(D3297)","v":"https://www.refaccionariagonzalez.com/alta/1-3/25230-C9980_3.jpg"}]
["2020-09-29T18:34:00",12,"25310-02100","25310-02100_1.jpg",{"$f":"+GetURL(D3314)","v":"https://www.refaccionariagonzalez.com/alta/1-3/25310-02100_1.jpg"}]
["2020-09-29T18:55:00",12,"25380-05500","25380-05500_9.jpg",{"$f":"+GetURL(D3339)","v":"https://www.refaccionariagonzalez.com/alta/1-3/25380-05500_9.jpg"}]
["2020-09-29T18:19:00",14,"25430-1E000BC","25430-1E000BC_2.jpg",{"$f":"+GetURL(D3348)","v":"https://www.refaccionariagonzalez.com/alta/1-3/25430-1E000BC_2.jpg"}]
["2020-09-29T17:43:00",12,"25620-02551","25620-02551_5.jpg",{"$f":"+GetURL(D3376)","v":"https://www.refaccionariagonzalez.com/alta/1-3/25620-02551_5.jpg"}]
["2020-09-29T18:46:00",12,"26060-PROMO","26060-PROMO_3.jpg",{"$f":"+GetURL(D3401)","v":"https://www.refaccionariagonzalez.com/alta/1-3/26060-PROMO_3.jpg"}]
["2020-09-29T18:55:00",12,"26300-35502","26300-35502_1.jpg",{"$f":"+GetURL(D3417)","v":"https://www.refaccionariagonzalez.com/alta/1-3/26300-35502_1.jpg"}]
["2020-09-29T18:17:00",6,"26403","26403_9.jpg",{"$f":"+GetURL(D3425)","v":"https://www.refaccionariagonzalez.com/alta/1-3/26403_9.jpg"}]
["2024-05-13T08:03:00",{"$f":"+FIND(\".\",D3444)","v":14},"27891-3SG0AMF","27891-3SG0AMF.jpg",{"$f":"+GetURL(D3444)","v":"https://www.refaccionariagonzalez.com/alta/1-3/27891-3SG0AMF.jpg"}]
["2020-09-29T17:51:00",14,"30000-B15G0CK","30000-B15G0CK_1.jpg",{"$f":"+GetURL(D3463)","v":"https://www.refaccionariagonzalez.com/alta/1-3/30000-B15G0CK_1.jpg"}]
["2020-09-29T18:55:00",11,"30520F4200","30520F4200_2.jpg",{"$f":"+GetURL(D3494)","v":"https://www.refaccionariagonzalez.com/alta/1-3/30520F4200_2.jpg"}]
["2020-09-29T17:56:00",13,"30610-VW00AJ","30610-VW00AJ_2.jpg",{"$f":"+GetURL(D3506)","v":"https://www.refaccionariagonzalez.com/alta/1-3/30610-VW00AJ_2.jpg"}]
["2020-09-29T18:09:00",12,"30620-00Q0E","30620-00Q0E_9.jpg",{"$f":"+GetURL(D3525)","v":"https://www.refaccionariagonzalez.com/alta/1-3/30620-00Q0E_9.jpg"}]
["2020-09-29T18:36:00",14,"30851-1FD0A-N","30851-1FD0A-N_1.jpg",{"$f":"+GetURL(D3545)","v":"https://www.refaccionariagonzalez.com/alta/1-3/30851-1FD0A-N_1.jpg"}]
["2020-09-29T18:31:00",12,"32111-91P00","32111-91P00_1.jpg",{"$f":"+GetURL(D3568)","v":"https://www.refaccionariagonzalez.com/alta/1-3/32111-91P00_1.jpg"}]
["2020-09-29T17:48:00",12,"32111-MA01A","32111-MA01A_9.jpg",{"$f":"+GetURL(D3574)","v":"https://www.refaccionariagonzalez.com/alta/1-3/32111-MA01A_9.jpg"}]
["2020-09-29T18:42:00",12,"33820-26373","33820-26373_9.jpg",{"$f":"+GetURL(D3596)","v":"https://www.refaccionariagonzalez.com/alta/1-3/33820-26373_9.jpg"}]
["2024-04-24T18:36:00",14,"34413VW701-KB","34413VW701-KB_2.jpg",{"$f":"+GetURL(D3611)","v":"https://www.refaccionariagonzalez.com/alta/1-3/34413VW701-KB_2.jpg"}]
["2021-01-21T10:02:00",14,"35102-02760VM","35102-02760VM_3.jpg",{"$f":"+GetURL(D3636)","v":"https://www.refaccionariagonzalez.com/alta/1-3/35102-02760VM_3.jpg"}]
["2020-09-29T18:04:00",7,"35313M","35313M_2.jpg",{"$f":"+GetURL(D3655)","v":"https://www.refaccionariagonzalez.com/alta/1-3/35313M_2.jpg"}]
["2020-09-29T18:48:00",8,"35669AU","35669AU_1.jpg",{"$f":"+GetURL(D3669)","v":"https://www.refaccionariagonzalez.com/alta/1-3/35669AU_1.jpg"}]
["2020-09-29T18:10:00",7,"35902M","35902M_2.jpg",{"$f":"+GetURL(D3698)","v":"https://www.refaccionariagonzalez.com/alta/1-3/35902M_2.jpg"}]
["2020-09-29T17:52:00",7,"36008M","36008M_1.jpg",{"$f":"+GetURL(D3717)","v":"https://www.refaccionariagonzalez.com/alta/1-3/36008M_1.jpg"}]
["2020-09-29T18:19:00",7,"36019M","36019M_4.jpg",{"$f":"+GetURL(D3724)","v":"https://www.refaccionariagonzalez.com/alta/1-3/36019M_4.jpg"}]
["2020-09-29T18:33:00",6,"36091","36091_3.jpg",{"$f":"+GetURL(D3741)","v":"https://www.refaccionariagonzalez.com/alta/1-3/36091_3.jpg"}]
["2020-09-29T17:58:00",6,"36177","36177_2.jpg",{"$f":"+GetURL(D3760)","v":"https://www.refaccionariagonzalez.com/alta/1-3/36177_2.jpg"}]
["2020-09-29T18:07:00",6,"37786","37786_9.jpg",{"$f":"+GetURL(D3793)","v":"https://www.refaccionariagonzalez.com/alta/1-3/37786_9.jpg"}]
["2024-04-24T18:44:00",14,"38100VW770-KB","38100VW770-KB_5.jpg",{"$f":"+GetURL(D3803)","v":"https://www.refaccionariagonzalez.com/alta/1-3/38100VW770-KB_5.jpg"}]
["2020-09-29T18:56:00",12,"38189-N3112","38189-N3112_8.jpg",{"$f":"+GetURL(D3828)","v":"https://www.refaccionariagonzalez.com/alta/1-3/38189-N3112_8.jpg"}]
["2020-09-29T18:44:00",6,"39180","39180_2.jpg",{"$f":"+GetURL(D3847)","v":"https://www.refaccionariagonzalez.com/alta/1-3/39180_2.jpg"}]
["2020-09-29T18:23:00",13,"39310-02600K","39310-02600K_2.jpg",{"$f":"+GetURL(D3866)","v":"https://www.refaccionariagonzalez.com/alta/1-3/39310-02600K_2.jpg"}]
["2020-09-29T18:37:00",6,"39571","39571_2.jpg",{"$f":"+GetURL(D3871)","v":"https://www.refaccionariagonzalez.com/alta/1-3/39571_2.jpg"}]
["2024-04-25T10:31:00",7,"101267","101267_9.jpg",{"$f":"+GetURL(D3890)","v":"https://www.refaccionariagonzalez.com/alta/1-3/101267_9.jpg"}]
["2020-09-29T17:54:00",7,"124213","124213_1.jpg",{"$f":"+GetURL(D3917)","v":"https://www.refaccionariagonzalez.com/alta/1-3/124213_1.jpg"}]
["2020-09-29T18:22:00",7,"140271","140271_9.jpg",{"$f":"+GetURL(D3933)","v":"https://www.refaccionariagonzalez.com/alta/1-3/140271_9.jpg"}]
["2020-09-29T18:31:00",11,"152559N00A","152559N00A_2.jpg",{"$f":"+GetURL(D3952)","v":"https://www.refaccionariagonzalez.com/alta/1-3/152559N00A_2.jpg"}]
["2024-04-25T09:58:00",7,"211601","211601_4.png",{"$f":"+GetURL(D3972)","v":"https://www.refaccionariagonzalez.com/alta/1-3/211601_4.png"}]
["2020-09-29T18:13:00",11,"254111VX0A","254111VX0A_3.jpg",{"$f":"+GetURL(D3995)","v":"https://www.refaccionariagonzalez.com/alta/1-3/254111VX0A_3.jpg"}]
["2020-09-29T18:16:00",12,"328122-EURO","328122-EURO_1.jpg",{"$f":"+GetURL(D4014)","v":"https://www.refaccionariagonzalez.com/alta/1-3/328122-EURO_1.jpg"}]
["2024-04-24T13:36:00",10,"333517SFT","333517SFT_0.jpg",{"$f":"+GetURL(D4023)","v":"https://www.refaccionariagonzalez.com/alta/1-3/333517SFT_0.jpg"}]
["2020-09-29T18:12:00",7,"352042","352042_1.jpg",{"$f":"+GetURL(D4038)","v":"https://www.refaccionariagonzalez.com/alta/1-3/352042_1.jpg"}]
["2020-09-29T17:57:00",11,"1006011SFT","1006011SFT_2.jpg",{"$f":"+GetURL(D4063)","v":"https://www.refaccionariagonzalez.com/alta/1-3/1006011SFT_2.jpg"}]
["2022-07-12T09:15:00",8,"1012743","1012743_1.png",{"$f":"+GetURL(D4082)","v":"https://www.refaccionariagonzalez.com/alta/1-3/1012743_1.png"}]
["2020-09-29T17:44:00",11,"1016011SFT","1016011SFT_1.jpg",{"$f":"+GetURL(D4096)","v":"https://www.refaccionariagonzalez.com/alta/1-3/1016011SFT_1.jpg"}]
["2023-05-17T11:22:00",8,"1027554","1027554_2.jpg",{"$f":"+GetURL(D4125)","v":"https://www.refaccionariagonzalez.com/alta/1-3/1027554_2.jpg"}]
["2021-01-21T10:01:00",11,"1103043SFT","1103043SFT_1.jpg",{"$f":"+GetURL(D4144)","v":"https://www.refaccionariagonzalez.com/alta/1-3/1103043SFT_1.jpg"}]
["2020-09-29T18:06:00",11,"1106000Q0A","1106000Q0A_2.jpg",{"$f":"+GetURL(D4165)","v":"https://www.refaccionariagonzalez.com/alta/1-3/1106000Q0A_2.jpg"}]
["2021-08-13T16:04:00",8,"1131649","1131649_4.jpg",{"$f":"+GetURL(D4187)","v":"https://www.refaccionariagonzalez.com/alta/1-3/1131649_4.jpg"}]
["2020-09-29T18:40:00",13,"1303010-EURO","1303010-EURO_1.jpg",{"$f":"+GetURL(D4206)","v":"https://www.refaccionariagonzalez.com/alta/1-3/1303010-EURO_1.jpg"}]
["2024-05-13T08:03:00",{"$f":"+FIND(\".\",D4220)","v":11},"1306028SFT","1306028SFT.jpg",{"$f":"+GetURL(D4220)","v":"https://www.refaccionariagonzalez.com/alta/1-3/1306028SFT.jpg"}]
["2020-09-29T17:41:00",8,"1325007","1325007_9.jpg",{"$f":"+GetURL(D4230)","v":"https://www.refaccionariagonzalez.com/alta/1-3/1325007_9.jpg"}]
["2020-09-29T18:11:00",8,"1403004","1403004_9.jpg",{"$f":"+GetURL(D4249)","v":"https://www.refaccionariagonzalez.com/alta/1-3/1403004_9.jpg"}]
["2020-09-29T18:25:00",8,"1403075","1403075_9.jpg",{"$f":"+GetURL(D4274)","v":"https://www.refaccionariagonzalez.com/alta/1-3/1403075_9.jpg"}]
["2020-09-29T18:21:00",8,"1406030","1406030_9.jpg",{"$f":"+GetURL(D4293)","v":"https://www.refaccionariagonzalez.com/alta/1-3/1406030_9.jpg"}]
["2020-09-29T18:04:00",8,"1408005","1408005_9.jpg",{"$f":"+GetURL(D4311)","v":"https://www.refaccionariagonzalez.com/alta/1-3/1408005_9.jpg"}]
["2020-09-29T18:02:00",11,"1408085SFT","1408085SFT_2.jpg",{"$f":"+GetURL(D4336)","v":"https://www.refaccionariagonzalez.com/alta/1-3/1408085SFT_2.jpg"}]
["2020-09-29T18:04:00",8,"1425022","1425022_1.jpg",{"$f":"+GetURL(D4344)","v":"https://www.refaccionariagonzalez.com/alta/1-3/1425022_1.jpg"}]
["2020-09-29T18:04:00",8,"1426011","1426011_9.jpg",{"$f":"+GetURL(D4360)","v":"https://www.refaccionariagonzalez.com/alta/1-3/1426011_9.jpg"}]
["2021-05-20T18:26:00",11,"1503112SFT","1503112SFT_2.jpg",{"$f":"+GetURL(D4379)","v":"https://www.refaccionariagonzalez.com/alta/1-3/1503112SFT_2.jpg"}]
["2024-04-25T10:06:00",8,"1618755","1618755_6.jpg",{"$f":"+GetURL(D4395)","v":"https://www.refaccionariagonzalez.com/alta/1-3/1618755_6.jpg"}]
["2024-05-16T08:43:00",{"$f":"+FIND(\".\",D4422)","v":11},"1803045SFT","1803045SFT.jpg",{"$f":"+GetURL(D4422)","v":"https://www.refaccionariagonzalez.com/alta/1-3/1803045SFT.jpg"}]
["2024-04-24T13:46:00",8,"1929596","1929596_7.jpg",{"$f":"+GetURL(D4441)","v":"https://www.refaccionariagonzalez.com/alta/1-3/1929596_7.jpg"}]
["2024-04-24T18:26:00",8,"2116014","2116014_2.jpg",{"$f":"+GetURL(D4466)","v":"https://www.refaccionariagonzalez.com/alta/1-3/2116014_2.jpg"}]
["2020-09-29T18:40:00",8,"2116038","2116038_1.jpg",{"$f":"+GetURL(D4472)","v":"https://www.refaccionariagonzalez.com/alta/1-3/2116038_1.jpg"}]
["2020-09-29T17:52:00",11,"2263044B20","2263044B20_9.jpg",{"$f":"+GetURL(D4503)","v":"https://www.refaccionariagonzalez.com/alta/1-3/2263044B20_9.jpg"}]
["2020-09-29T18:11:00",8,"2471936","2471936_1.jpg",{"$f":"+GetURL(D4509)","v":"https://www.refaccionariagonzalez.com/alta/1-3/2471936_1.jpg"}]
["2024-04-24T12:30:00",8,"2772031","2772031_SFT.jpg",{"$f":"+GetURL(D4541)","v":"https://www.refaccionariagonzalez.com/alta/1-3/2772031_SFT.jpg"}]
["2020-09-29T18:13:00",{"$f":"+FIND(\"_\",D4546)","v":8},{"$f":"+LEFT(D4546,B4546-1)","v":"2962501"},"2962501_9.jpg",{"$f":"+GetURL(D4546)","v":"https://www.refaccionariagonzalez.com/alta/1-3/2962501_9.jpg"}]
["2020-09-29T17:52:00",8,"3492961","3492961_9.jpg",{"$f":"+GetURL(D4571)","v":"https://www.refaccionariagonzalez.com/alta/1-3/3492961_9.jpg"}]
["2020-09-29T18:17:00",9,"13592601","13592601_2.jpg",{"$f":"+GetURL(D4592)","v":"https://www.refaccionariagonzalez.com/alta/1-3/13592601_2.jpg"}]
["2020-09-29T18:50:00",9,"19192623","19192623_1.jpg",{"$f":"+GetURL(D4614)","v":"https://www.refaccionariagonzalez.com/alta/1-3/19192623_1.jpg"}]
["2024-04-25T09:39:00",9,"19252728","19252728_3.jpg",{"$f":"+GetURL(D4633)","v":"https://www.refaccionariagonzalez.com/alta/1-3/19252728_3.jpg"}]
["2020-09-29T17:42:00",9,"19315518","19315518_3.jpg",{"$f":"+GetURL(D4643)","v":"https://www.refaccionariagonzalez.com/alta/1-3/19315518_3.jpg"}]
["2024-05-02T09:56:00",12,"19315709-KB","19315709-KB.jpg",{"$f":"+GetURL(D4657)","v":"https://www.refaccionariagonzalez.com/alta/1-3/19315709-KB.jpg"}]
["2020-09-29T18:52:00",9,"19327632","19327632_1.jpg",{"$f":"+GetURL(D4676)","v":"https://www.refaccionariagonzalez.com/alta/1-3/19327632_1.jpg"}]
["2024-05-06T09:01:00",{"$f":"+FIND(\".\",D4701)","v":9},"19377722","19377722.jpg",{"$f":"+GetURL(D4701)","v":"https://www.refaccionariagonzalez.com/alta/1-3/19377722.jpg"}]
["2024-04-24T18:44:00",10,"24104958M","24104958M_C.jpg",{"$f":"+GetURL(D4720)","v":"https://www.refaccionariagonzalez.com/alta/1-3/24104958M_C.jpg"}]
["2024-04-24T17:39:00",{"$f":"+FIND(\"_\",D4738)","v":10},{"$f":"+LEFT(D4738,B4738-1)","v":"24109517-"},"24109517-_Z.jpg",{"$f":"+GetURL(D4738)","v":"https://www.refaccionariagonzalez.com/alta/1-3/24109517-_Z.jpg"}]
["2020-09-29T18:03:00",9,"25181785","25181785_9.jpg",{"$f":"+GetURL(D4763)","v":"https://www.refaccionariagonzalez.com/alta/1-3/25181785_9.jpg"}]
["2020-09-29T17:50:00",9,"25182450","25182450_3.jpg",{"$f":"+GetURL(D4771)","v":"https://www.refaccionariagonzalez.com/alta/1-3/25182450_3.jpg"}]
["2020-09-29T18:57:00",10,"25187023K","25187023K_9.jpg",{"$f":"+GetURL(D4800)","v":"https://www.refaccionariagonzalez.com/alta/1-3/25187023K_9.jpg"}]
["2020-09-29T18:27:00",9,"25189698","25189698_2.jpg",{"$f":"+GetURL(D4806)","v":"https://www.refaccionariagonzalez.com/alta/1-3/25189698_2.jpg"}]
["2024-05-06T09:01:00",{"$f":"+FIND(\".\",D4840)","v":13},"25202623RPTO","25202623RPTO.jpg",{"$f":"+GetURL(D4840)","v":"https://www.refaccionariagonzalez.com/alta/1-3/25202623RPTO.jpg"}]
["2020-09-29T18:52:00",9,"26105255","26105255_1.jpg",{"$f":"+GetURL(D4849)","v":"https://www.refaccionariagonzalez.com/alta/1-3/26105255_1.jpg"}]
["2024-04-24T12:37:00",11,"26262064BG","26262064BG_SFT.jpg",{"$f":"+GetURL(D4868)","v":"https://www.refaccionariagonzalez.com/alta/1-3/26262064BG_SFT.jpg"}]
["2024-04-24T13:05:00",9,"26312031","26312031_CFP.jpg",{"$f":"+GetURL(D4887)","v":"https://www.refaccionariagonzalez.com/alta/1-3/26312031_CFP.jpg"}]
["2024-05-07T08:02:00",{"$f":"+FIND(\".\",D4899)","v":12},"26698965SFT","26698965SFT.jpg",{"$f":"+GetURL(D4899)","v":"https://www.refaccionariagonzalez.com/alta/1-3/26698965SFT.jpg"}]
["2020-09-29T18:16:00",{"$f":"+FIND(\"_\",D4930)","v":11},{"$f":"+LEFT(D4930,B4930-1)","v":"171412329A"},"171412329A_9.jpg",{"$f":"+GetURL(D4930)","v":"https://www.refaccionariagonzalez.com/alta/1-3/171412329A_9.jpg"}]
["2020-09-29T18:59:00",10,"191419804","191419804_1.jpg",{"$f":"+GetURL(D4949)","v":"https://www.refaccionariagonzalez.com/alta/1-3/191419804_1.jpg"}]
["2020-09-29T18:28:00",10,"191945515","191945515_9.jpg",{"$f":"+GetURL(D4968)","v":"https://www.refaccionariagonzalez.com/alta/1-3/191945515_9.jpg"}]
["2020-09-29T18:48:00",10,"193839402","193839402_2.jpg",{"$f":"+GetURL(D4973)","v":"https://www.refaccionariagonzalez.com/alta/1-3/193839402_2.jpg"}]
["2020-09-29T18:57:00",10,"258006511","258006511_1.jpg",{"$f":"+GetURL(D4998)","v":"https://www.refaccionariagonzalez.com/alta/1-3/258006511_1.jpg"}]
["2020-09-29T18:58:00",11,"357199402B","357199402B_3.jpg",{"$f":"+GetURL(D5019)","v":"https://www.refaccionariagonzalez.com/alta/1-3/357199402B_3.jpg"}]
["2020-09-29T18:29:00",10,"377199419","377199419_9.jpg",{"$f":"+GetURL(D5035)","v":"https://www.refaccionariagonzalez.com/alta/1-3/377199419_9.jpg"}]
["2020-09-29T17:47:00",16,"377807221B999-A","377807221B999-A_1.jpg",{"$f":"+GetURL(D5060)","v":"https://www.refaccionariagonzalez.com/alta/1-3/377807221B999-A_1.jpg"}]
["2020-09-29T18:19:00",11,"377953513A","377953513A_1.jpg",{"$f":"+GetURL(D5079)","v":"https://www.refaccionariagonzalez.com/alta/1-3/377953513A_1.jpg"}]
["2020-09-29T18:25:00",11,"1198103242","1198103242_9.jpg",{"$f":"+GetURL(D5096)","v":"https://www.refaccionariagonzalez.com/alta/1-3/1198103242_9.jpg"}]
["2020-09-29T18:39:00",{"$f":"+FIND(\"_\",D5122)","v":11},{"$f":"+LEFT(D5122,B5122-1)","v":"2524089920"},"2524089920_2.jpg",{"$f":"+GetURL(D5122)","v":"https://www.refaccionariagonzalez.com/alta/1-3/2524089920_2.jpg"}]
["2020-09-29T18:55:00",11,"2661102500","2661102500_2.jpg",{"$f":"+GetURL(D5141)","v":"https://www.refaccionariagonzalez.com/alta/1-3/2661102500_2.jpg"}]
["2020-09-29T18:55:00",11,"3054250212","3054250212_1.jpg",{"$f":"+GetURL(D5147)","v":"https://www.refaccionariagonzalez.com/alta/1-3/3054250212_1.jpg"}]
["2024-05-13T08:07:00",{"$f":"+FIND(\".\",D5165)","v":8},"04-0199","04-0199.jpg",{"$f":"+GetURL(D5165)","v":"https://www.refaccionariagonzalez.com/alta/4-6/04-0199.jpg"}]
["2020-09-29T18:23:00",10,"4B9025STD","4B9025STD_9.jpg",{"$f":"+GetURL(D5184)","v":"https://www.refaccionariagonzalez.com/alta/4-6/4B9025STD_9.jpg"}]
["2020-09-29T18:42:00",11,"4BX1426STD","4BX1426STD_9.jpg",{"$f":"+GetURL(D5198)","v":"https://www.refaccionariagonzalez.com/alta/4-6/4BX1426STD_9.jpg"}]
["2020-09-29T18:07:00",10,"5C7001STD","5C7001STD_9.jpg",{"$f":"+GetURL(D5227)","v":"https://www.refaccionariagonzalez.com/alta/4-6/5C7001STD_9.jpg"}]
["2020-09-29T17:56:00",7,"5SED94","5SED94_1.jpg",{"$f":"+GetURL(D5252)","v":"https://www.refaccionariagonzalez.com/alta/4-6/5SED94_1.jpg"}]
["2020-09-29T18:56:00",16,"5U0-407-365ASFT","5U0-407-365ASFT_1.jpg",{"$f":"+GetURL(D5267)","v":"https://www.refaccionariagonzalez.com/alta/4-6/5U0-407-365ASFT_1.jpg"}]
["2020-09-29T18:09:00",13,"5U0-959-455B","5U0-959-455B_9.jpg",{"$f":"+GetURL(D5289)","v":"https://www.refaccionariagonzalez.com/alta/4-6/5U0-959-455B_9.jpg"}]
["2022-05-24T11:17:00",10,"5U0199167","5U0199167_3.jpg",{"$f":"+GetURL(D5295)","v":"https://www.refaccionariagonzalez.com/alta/4-6/5U0199167_3.jpg"}]
["2020-09-29T18:39:00",{"$f":"+FIND(\"_\",D5314)","v":11},{"$f":"+LEFT(D5314,B5314-1)","v":"5U0853677D"},"5U0853677D_1.jpg",{"$f":"+GetURL(D5314)","v":"https://www.refaccionariagonzalez.com/alta/4-6/5U0853677D_1.jpg"}]
["2020-09-29T18:10:00",10,"5X3911023","5X3911023_1.jpg",{"$f":"+GetURL(D5340)","v":"https://www.refaccionariagonzalez.com/alta/4-6/5X3911023_1.jpg"}]
["2020-09-29T17:50:00",10,"5Z0941044","5Z0941044_1.jpg",{"$f":"+GetURL(D5357)","v":"https://www.refaccionariagonzalez.com/alta/4-6/5Z0941044_1.jpg"}]
["2020-09-29T18:15:00",10,"6K1721401","6K1721401_1.jpg",{"$f":"+GetURL(D5376)","v":"https://www.refaccionariagonzalez.com/alta/4-6/6K1721401_1.jpg"}]
["2020-09-29T17:52:00",12,"6PK725ELAST","6PK725ELAST_1.jpg",{"$f":"+GetURL(D5395)","v":"https://www.refaccionariagonzalez.com/alta/4-6/6PK725ELAST_1.jpg"}]
["2024-04-24T17:45:00",13,"6Q0-820-367M","6Q0-820-367M_F.jpg",{"$f":"+GetURL(D5419)","v":"https://www.refaccionariagonzalez.com/alta/4-6/6Q0-820-367M_F.jpg"}]
["2020-09-29T18:08:00",10,"6Q0411314","6Q0411314_1.jpg",{"$f":"+GetURL(D5438)","v":"https://www.refaccionariagonzalez.com/alta/4-6/6Q0411314_1.jpg"}]
["2020-09-29T18:44:00",11,"6Q0423371A","6Q0423371A_2.jpg",{"$f":"+GetURL(D5446)","v":"https://www.refaccionariagonzalez.com/alta/4-6/6Q0423371A_2.jpg"}]
["2024-05-13T08:07:00",11,"6Q0927808B","6Q0927808B.jpg",{"$f":"+GetURL(D5462)","v":"https://www.refaccionariagonzalez.com/alta/4-6/6Q0927808B.jpg"}]
["2020-09-29T18:16:00",15,"6R0-407-151SFT","6R0-407-151SFT_3.jpg",{"$f":"+GetURL(D5487)","v":"https://www.refaccionariagonzalez.com/alta/4-6/6R0-407-151SFT_3.jpg"}]
["2020-09-29T18:29:00",{"$f":"+FIND(\"_\",D5506)","v":16},{"$f":"+LEFT(D5506,B5506-1)","v":"6RF-413-031BSFT"},"6RF-413-031BSFT_1.jpg",{"$f":"+GetURL(D5506)","v":"https://www.refaccionariagonzalez.com/alta/4-6/6RF-413-031BSFT_1.jpg"}]
["2020-09-29T18:01:00",11,"6RU611053C","6RU611053C_1.jpg",{"$f":"+GetURL(D5519)","v":"https://www.refaccionariagonzalez.com/alta/4-6/6RU611053C_1.jpg"}]
["2020-09-29T18:34:00",10,"56AMA-BLA","56AMA-BLA_2.jpg",{"$f":"+GetURL(D5549)","v":"https://www.refaccionariagonzalez.com/alta/4-6/56AMA-BLA_2.jpg"}]
["2020-09-29T18:04:00",12,"431-1959R-U","431-1959R-U_1.jpg",{"$f":"+GetURL(D5568)","v":"https://www.refaccionariagonzalez.com/alta/4-6/431-1959R-U_1.jpg"}]
["2020-09-29T17:48:00",11,"498-171ASM","498-171ASM_4.jpg",{"$f":"+GetURL(D5588)","v":"https://www.refaccionariagonzalez.com/alta/4-6/498-171ASM_4.jpg"}]
["2020-09-29T18:02:00",12,"521-851-521","521-851-521_9.jpg",{"$f":"+GetURL(D5592)","v":"https://www.refaccionariagonzalez.com/alta/4-6/521-851-521_9.jpg"}]
["2020-09-29T18:15:00",7,"4020RD","4020RD_1.jpg",{"$f":"+GetURL(D5611)","v":"https://www.refaccionariagonzalez.com/alta/4-6/4020RD_1.jpg"}]
["2021-04-14T18:57:00",6,"5404B","5404B_2.jpg",{"$f":"+GetURL(D5643)","v":"https://www.refaccionariagonzalez.com/alta/4-6/5404B_2.jpg"}]
["2020-09-29T18:57:00",10,"6010EL01B","6010EL01B_1.jpg",{"$f":"+GetURL(D5654)","v":"https://www.refaccionariagonzalez.com/alta/4-6/6010EL01B_1.jpg"}]
["2020-09-29T18:08:00",5,"6411","6411_4.jpg",{"$f":"+GetURL(D5673)","v":"https://www.refaccionariagonzalez.com/alta/4-6/6411_4.jpg"}]
["2024-01-18T17:32:00",{"$f":"+FIND(\"_\",D5698)","v":6},{"$f":"+LEFT(D5698,B5698-1)","v":"40032"},"40032_4.jpg",{"$f":"+GetURL(D5698)","v":"https://www.refaccionariagonzalez.com/alta/4-6/40032_4.jpg"}]
["2020-09-29T18:27:00",14,"40202-00QAA-C","40202-00QAA-C_2.jpg",{"$f":"+GetURL(D5716)","v":"https://www.refaccionariagonzalez.com/alta/4-6/40202-00QAA-C_2.jpg"}]
["2020-09-29T18:06:00",15,"40202-AX000NSB","40202-AX000NSB_1.jpg",{"$f":"+GetURL(D5722)","v":"https://www.refaccionariagonzalez.com/alta/4-6/40202-AX000NSB_1.jpg"}]
["2020-09-29T18:50:00",12,"40206-ET01C","40206-ET01C_1.jpg",{"$f":"+GetURL(D5741)","v":"https://www.refaccionariagonzalez.com/alta/4-6/40206-ET01C_1.jpg"}]
["2020-09-29T17:59:00",12,"40210-3X000","40210-3X000_9.jpg",{"$f":"+GetURL(D5767)","v":"https://www.refaccionariagonzalez.com/alta/4-6/40210-3X000_9.jpg"}]
["2020-09-29T18:46:00",16,"40210-VW000GNSB","40210-VW000GNSB_1.jpg",{"$f":"+GetURL(D5784)","v":"https://www.refaccionariagonzalez.com/alta/4-6/40210-VW000GNSB_1.jpg"}]
["2020-09-29T18:41:00",12,"41060-50Y93","41060-50Y93_2.jpg",{"$f":"+GetURL(D5803)","v":"https://www.refaccionariagonzalez.com/alta/4-6/41060-50Y93_2.jpg"}]
["2020-09-29T18:51:00",12,"41198-Y02G0","41198-Y02G0_8.jpg",{"$f":"+GetURL(D5818)","v":"https://www.refaccionariagonzalez.com/alta/4-6/41198-Y02G0_8.jpg"}]
["2020-09-29T18:07:00",12,"43042-00QAA","43042-00QAA_9.jpg",{"$f":"+GetURL(D5846)","v":"https://www.refaccionariagonzalez.com/alta/4-6/43042-00QAA_9.jpg"}]
["2020-09-29T18:09:00",12,"43232-01G00","43232-01G00_1.jpg",{"$f":"+GetURL(D5865)","v":"https://www.refaccionariagonzalez.com/alta/4-6/43232-01G00_1.jpg"}]
["2020-09-29T18:55:00",12,"43232-01G10","43232-01G10_3.jpg",{"$f":"+GetURL(D5873)","v":"https://www.refaccionariagonzalez.com/alta/4-6/43232-01G10_3.jpg"}]
["2024-02-15T18:21:00",6,"43309","43309_3.jpg",{"$f":"+GetURL(D5889)","v":"https://www.refaccionariagonzalez.com/alta/4-6/43309_3.jpg"}]
["2024-01-26T15:07:00",16,"43560-26010GNSB","43560-26010GNSB_1.jpg",{"$f":"+GetURL(D5908)","v":"https://www.refaccionariagonzalez.com/alta/4-6/43560-26010GNSB_1.jpg"}]
["2020-09-29T18:27:00",14,"43794-1G100NK","43794-1G100NK_2.jpg",{"$f":"+GetURL(D5933)","v":"https://www.refaccionariagonzalez.com/alta/4-6/43794-1G100NK_2.jpg"}]
["2020-09-29T18:43:00",14,"44060-ED026NK","44060-ED026NK_9.jpg",{"$f":"+GetURL(D5946)","v":"https://www.refaccionariagonzalez.com/alta/4-6/44060-ED026NK_9.jpg"}]
["2020-09-29T17:51:00",12,"44610-26120","44610-26120_1.jpg",{"$f":"+GetURL(D5970)","v":"https://www.refaccionariagonzalez.com/alta/4-6/44610-26120_1.jpg"}]
["2023-11-09T16:31:00",13,"46020-6N000 ","46020-6N000 _1.jpg",{"$f":"+GetURL(D5995)","v":"https://www.refaccionariagonzalez.com/alta/4-6/46020-6N000 _1.jpg"}]
["2024-04-25T10:06:00",7,"47124N","47124N_0.jpg",{"$f":"+GetURL(D6015)","v":"https://www.refaccionariagonzalez.com/alta/4-6/47124N_0.jpg"}]
["2020-09-29T17:42:00",15,"48520-4Z025CTR","48520-4Z025CTR_9.jpg",{"$f":"+GetURL(D6038)","v":"https://www.refaccionariagonzalez.com/alta/4-6/48520-4Z025CTR_9.jpg"}]
["2020-09-29T17:58:00",15,"48521-01G25SFT","48521-01G25SFT_9.jpg",{"$f":"+GetURL(D6057)","v":"https://www.refaccionariagonzalez.com/alta/4-6/48521-01G25SFT_9.jpg"}]
["2020-09-29T18:46:00",15,"48521-3XA0ASFT","48521-3XA0ASFT_2.jpg",{"$f":"+GetURL(D6066)","v":"https://www.refaccionariagonzalez.com/alta/4-6/48521-3XA0ASFT_2.jpg"}]
["2020-09-29T17:41:00",16,"48521Y02G0-EURO","48521Y02G0-EURO_9.jpg",{"$f":"+GetURL(D6081)","v":"https://www.refaccionariagonzalez.com/alta/4-6/48521Y02G0-EURO_9.jpg"}]
["2020-09-29T18:34:00",15,"49001-VW600SFT","49001-VW600SFT_2.jpg",{"$f":"+GetURL(D6100)","v":"https://www.refaccionariagonzalez.com/alta/4-6/49001-VW600SFT_2.jpg"}]
["2020-09-29T18:46:00",15,"51760-1G000CTR","51760-1G000CTR_9.jpg",{"$f":"+GetURL(D6125)","v":"https://www.refaccionariagonzalez.com/alta/4-6/51760-1G000CTR_9.jpg"}]
["2020-09-29T17:45:00",15,"54303-F4200SFT","54303-F4200SFT_9.jpg",{"$f":"+GetURL(D6143)","v":"https://www.refaccionariagonzalez.com/alta/4-6/54303-F4200SFT_9.jpg"}]
["2020-09-29T17:57:00",12,"54500-00Q0K","54500-00Q0K_1.jpg",{"$f":"+GetURL(D6162)","v":"https://www.refaccionariagonzalez.com/alta/4-6/54500-00Q0K_1.jpg"}]
["2020-09-29T17:41:00",15,"54501-1HK0BSFT","54501-1HK0BSFT_1.jpg",{"$f":"+GetURL(D6187)","v":"https://www.refaccionariagonzalez.com/alta/4-6/54501-1HK0BSFT_1.jpg"}]
["2020-09-29T18:30:00",15,"54524-3XA3ASFT","54524-3XA3ASFT_1.jpg",{"$f":"+GetURL(D6194)","v":"https://www.refaccionariagonzalez.com/alta/4-6/54524-3XA3ASFT_1.jpg"}]
["2020-09-29T18:21:00",11,"54560AX000","54560AX000_9.jpg",{"$f":"+GetURL(D6224)","v":"https://www.refaccionariagonzalez.com/alta/4-6/54560AX000_9.jpg"}]
["2020-09-29T17:55:00",12,"54570-50Y11","54570-50Y11_1.jpg",{"$f":"+GetURL(D6230)","v":"https://www.refaccionariagonzalez.com/alta/4-6/54570-50Y11_1.jpg"}]
["2024-05-13T08:07:00",{"$f":"+FIND(\".\",D6245)","v":13},"54611-OU000K","54611-OU000K.jpg",{"$f":"+GetURL(D6245)","v":"https://www.refaccionariagonzalez.com/alta/4-6/54611-OU000K.jpg"}]
["2020-09-29T18:22:00",15,"54830-1E000CTR","54830-1E000CTR_1.jpg",{"$f":"+GetURL(D6273)","v":"https://www.refaccionariagonzalez.com/alta/4-6/54830-1E000CTR_1.jpg"}]
["2024-05-15T10:00:00",{"$f":"+FIND(\".\",D6292)","v":15},"55020-F4300JGO","55020-F4300JGO.jpg",{"$f":"+GetURL(D6292)","v":"https://www.refaccionariagonzalez.com/alta/4-6/55020-F4300JGO.jpg"}]
["2024-04-24T14:30:00",13,"56110F4001KB","56110F4001KB_0.jpg",{"$f":"+GetURL(D6311)","v":"https://www.refaccionariagonzalez.com/alta/4-6/56110F4001KB_0.jpg"}]
["2020-09-29T18:08:00",12,"56510-05050","56510-05050_1.jpg",{"$f":"+GetURL(D6322)","v":"https://www.refaccionariagonzalez.com/alta/4-6/56510-05050_1.jpg"}]
["2020-09-29T18:02:00",15,"56820-25000CTR","56820-25000CTR_9.jpg",{"$f":"+GetURL(D6354)","v":"https://www.refaccionariagonzalez.com/alta/4-6/56820-25000CTR_9.jpg"}]
["2020-09-29T18:14:00",9,"61631-2k","61631-2k_2.jpg",{"$f":"+GetURL(D6373)","v":"https://www.refaccionariagonzalez.com/alta/4-6/61631-2k_2.jpg"}]
["2024-01-26T15:07:00",15,"402103XA0AG-KB","402103XA0AG-KB_3.jpg",{"$f":"+GetURL(D6391)","v":"https://www.refaccionariagonzalez.com/alta/4-6/402103XA0AG-KB_3.jpg"}]
["2021-07-22T09:19:00",14,"415100X000-KB","415100X000-KB_1.jpg",{"$f":"+GetURL(D6397)","v":"https://www.refaccionariagonzalez.com/alta/4-6/415100X000-KB_1.jpg"}]
["2020-09-29T17:53:00",10,"521257CTR","521257CTR_9.jpg",{"$f":"+GetURL(D6422)","v":"https://www.refaccionariagonzalez.com/alta/4-6/521257CTR_9.jpg"}]
["2020-09-29T18:59:00",7,"555840","555840_1.jpg",{"$f":"+GetURL(D6442)","v":"https://www.refaccionariagonzalez.com/alta/4-6/555840_1.jpg"}]
["2024-05-06T09:03:00",{"$f":"+FIND(\".\",D6459)","v":14},"4800165Y10-KB","4800165Y10-KB.jpg",{"$f":"+GetURL(D6459)","v":"https://www.refaccionariagonzalez.com/alta/4-6/4800165Y10-KB.jpg"}]
["2020-09-29T18:20:00",11,"5432500QAA","5432500QAA_9.jpg",{"$f":"+GetURL(D6484)","v":"https://www.refaccionariagonzalez.com/alta/4-6/5432500QAA_9.jpg"}]
["2020-09-29T18:32:00",13,"5501121LLDEM","5501121LLDEM_9.jpg",{"$f":"+GetURL(D6493)","v":"https://www.refaccionariagonzalez.com/alta/4-6/5501121LLDEM_9.jpg"}]
["2022-06-29T17:28:00",9,"42342265","42342265_1.jpg",{"$f":"+GetURL(D6508)","v":"https://www.refaccionariagonzalez.com/alta/4-6/42342265_1.jpg"}]
["2020-09-29T17:49:00",9,"55355603","55355603_1.jpg",{"$f":"+GetURL(D6527)","v":"https://www.refaccionariagonzalez.com/alta/4-6/55355603_1.jpg"}]
["2020-09-29T18:48:00",9,"55567191","55567191_3.jpg",{"$f":"+GetURL(D6546)","v":"https://www.refaccionariagonzalez.com/alta/4-6/55567191_3.jpg"}]
["2024-04-25T10:17:00",13,"510030710-KB","510030710-KB_0.jpg",{"$f":"+GetURL(D6570)","v":"https://www.refaccionariagonzalez.com/alta/4-6/510030710-KB_0.jpg"}]
["2021-06-01T14:33:00",12,"620335600MC","620335600MC_2.jpg",{"$f":"+GetURL(D6589)","v":"https://www.refaccionariagonzalez.com/alta/4-6/620335600MC_2.jpg"}]
["2020-09-29T18:26:00",16,"4950002050-MACH","4950002050-MACH_2.jpg",{"$f":"+GetURL(D6608)","v":"https://www.refaccionariagonzalez.com/alta/4-6/4950002050-MACH_2.jpg"}]
["2020-09-29T17:56:00",11,"5455522102","5455522102_1.jpg",{"$f":"+GetURL(D6621)","v":"https://www.refaccionariagonzalez.com/alta/4-6/5455522102_1.jpg"}]
["2020-09-29T18:40:00",6,"7A564","7A564_3.jpg",{"$f":"+GetURL(D6651)","v":"https://www.refaccionariagonzalez.com/alta/7-9/7A564_3.jpg"}]
["2020-09-29T18:41:00",15,"7D0407361-EURO","7D0407361-EURO_2.jpg",{"$f":"+GetURL(D6657)","v":"https://www.refaccionariagonzalez.com/alta/7-9/7D0407361-EURO_2.jpg"}]
["2020-09-29T17:59:00",11,"7H0501131A","7H0501131A_1.jpg",{"$f":"+GetURL(D6690)","v":"https://www.refaccionariagonzalez.com/alta/7-9/7H0501131A_1.jpg"}]
["2020-09-29T17:58:00",11,"7H0501132A","7H0501132A_8.jpg",{"$f":"+GetURL(D6694)","v":"https://www.refaccionariagonzalez.com/alta/7-9/7H0501132A_8.jpg"}]
["2024-04-25T10:17:00",15,"7S7G-6B856-AAT","7S7G-6B856-AAT_E.jpg",{"$f":"+GetURL(D6719)","v":"https://www.refaccionariagonzalez.com/alta/7-9/7S7G-6B856-AAT_E.jpg"}]
["2020-09-29T18:38:00",11,"8Y03-ZF464","8Y03-ZF464_3.jpg",{"$f":"+GetURL(D6738)","v":"https://www.refaccionariagonzalez.com/alta/7-9/8Y03-ZF464_3.jpg"}]
["2020-09-29T18:04:00",13,"98FU-8100-AA","98FU-8100-AA_1.jpg",{"$f":"+GetURL(D6767)","v":"https://www.refaccionariagonzalez.com/alta/7-9/98FU-8100-AA_1.jpg"}]
["2020-09-29T18:54:00",12,"745-147-730","745-147-730_3.jpg",{"$f":"+GetURL(D6781)","v":"https://www.refaccionariagonzalez.com/alta/7-9/745-147-730_3.jpg"}]
["2020-09-29T17:47:00",11,"754-SPR031","754-SPR031_2.jpg",{"$f":"+GetURL(D6800)","v":"https://www.refaccionariagonzalez.com/alta/7-9/754-SPR031_2.jpg"}]
["2020-09-29T18:53:00",10,"754-ST107","754-ST107_9.jpg",{"$f":"+GetURL(D6818)","v":"https://www.refaccionariagonzalez.com/alta/7-9/754-ST107_9.jpg"}]
["2020-09-29T17:55:00",10,"754-ST118","754-ST118_2.jpg",{"$f":"+GetURL(D6824)","v":"https://www.refaccionariagonzalez.com/alta/7-9/754-ST118_2.jpg"}]
["2020-09-29T17:44:00",10,"754-ST605","754-ST605_8.jpg",{"$f":"+GetURL(D6843)","v":"https://www.refaccionariagonzalez.com/alta/7-9/754-ST605_8.jpg"}]
["2020-09-29T18:04:00",8,"754-Z11","754-Z11_1.jpg",{"$f":"+GetURL(D6869)","v":"https://www.refaccionariagonzalez.com/alta/7-9/754-Z11_1.jpg"}]
["2020-09-29T18:31:00",13,"754-ZSE025BM","754-ZSE025BM_9.jpg",{"$f":"+GetURL(D6886)","v":"https://www.refaccionariagonzalez.com/alta/7-9/754-ZSE025BM_9.jpg"}]
["2020-09-29T18:05:00",13,"823-959-481F","823-959-481F_9.jpg",{"$f":"+GetURL(D6911)","v":"https://www.refaccionariagonzalez.com/alta/7-9/823-959-481F_9.jpg"}]
["2020-09-29T17:55:00",10,"986MF0477","986MF0477_2.jpg",{"$f":"+GetURL(D6930)","v":"https://www.refaccionariagonzalez.com/alta/7-9/986MF0477_2.jpg"}]
["2020-09-29T18:38:00",10,"986MF4100","986MF4100_3.jpg",{"$f":"+GetURL(D6942)","v":"https://www.refaccionariagonzalez.com/alta/7-9/986MF4100_3.jpg"}]
["2020-09-29T18:55:00",10,"986MF4612","986MF4612_3.jpg",{"$f":"+GetURL(D6973)","v":"https://www.refaccionariagonzalez.com/alta/7-9/986MF4612_3.jpg"}]
["2020-09-29T18:45:00",10,"986MG0309","986MG0309_2.jpg",{"$f":"+GetURL(D6992)","v":"https://www.refaccionariagonzalez.com/alta/7-9/986MG0309_2.jpg"}]
["2020-09-29T18:08:00",10,"986MG0470","986MG0470_1.jpg",{"$f":"+GetURL(D6993)","v":"https://www.refaccionariagonzalez.com/alta/7-9/986MG0470_1.jpg"}]
["2020-11-30T18:00:00",{"$f":"+FIND(\".\",D7016)","v":10},"986MG2805","986MG2805.1.jpg",{"$f":"+GetURL(D7016)","v":"https://www.refaccionariagonzalez.com/alta/7-9/986MG2805.1.jpg"}]
["2020-09-29T18:18:00",11,"7106A-D257","7106A-D257_9.jpg",{"$f":"+GetURL(D7035)","v":"https://www.refaccionariagonzalez.com/alta/7-9/7106A-D257_9.jpg"}]
["2024-04-25T10:32:00",8,"7260-KB","7260-KB_0.jpg",{"$f":"+GetURL(D7066)","v":"https://www.refaccionariagonzalez.com/alta/7-9/7260-KB_0.jpg"}]
["2020-09-29T18:24:00",10,"7353-D473","7353-D473_1.jpg",{"$f":"+GetURL(D7078)","v":"https://www.refaccionariagonzalez.com/alta/7-9/7353-D473_1.jpg"}]
["2020-09-29T17:51:00",6,"7427.","7427._1.jpg",{"$f":"+GetURL(D7097)","v":"https://www.refaccionariagonzalez.com/alta/7-9/7427._1.jpg"}]
["2020-09-29T18:44:00",8,"7524SFT","7524SFT_9.jpg",{"$f":"+GetURL(D7117)","v":"https://www.refaccionariagonzalez.com/alta/7-9/7524SFT_9.jpg"}]
["2021-05-20T18:26:00",8,"7583SFT","7583SFT_3.jpg",{"$f":"+GetURL(D7140)","v":"https://www.refaccionariagonzalez.com/alta/7-9/7583SFT_3.jpg"}]
["2020-09-29T18:58:00",10,"7674-D803","7674-D803_1.jpg",{"$f":"+GetURL(D7146)","v":"https://www.refaccionariagonzalez.com/alta/7-9/7674-D803_1.jpg"}]
["2020-09-29T17:54:00",10,"7795-D914","7795-D914_1.jpg",{"$f":"+GetURL(D7165)","v":"https://www.refaccionariagonzalez.com/alta/7-9/7795-D914_1.jpg"}]
["2020-09-29T18:23:00",11,"8256-D1146","8256-D1146_9.jpg",{"$f":"+GetURL(D7190)","v":"https://www.refaccionariagonzalez.com/alta/7-9/8256-D1146_9.jpg"}]
["2023-12-29T10:46:00",15,"8385-D1269CFP ","8385-D1269CFP _1.jpg",{"$f":"+GetURL(D7208)","v":"https://www.refaccionariagonzalez.com/alta/7-9/8385-D1269CFP _1.jpg"}]
["2020-09-29T18:31:00",14,"8768Z-D1556FP","8768Z-D1556FP_9.jpg",{"$f":"+GetURL(D7227)","v":"https://www.refaccionariagonzalez.com/alta/7-9/8768Z-D1556FP_9.jpg"}]
["2023-05-17T11:26:00",13,"9006-D1776-C","9006-D1776-C_1.jpg",{"$f":"+GetURL(D7241)","v":"https://www.refaccionariagonzalez.com/alta/7-9/9006-D1776-C_1.jpg"}]
["2024-04-25T09:44:00",{"$f":"+FIND(\".\",D7270)","v":6},"70415","70415.jpg",{"$f":"+GetURL(D7270)","v":"https://www.refaccionariagonzalez.com/alta/7-9/70415.jpg"}]
["2024-04-24T13:08:00",8,"84859VM","84859VM_0.jpg",{"$f":"+GetURL(D7289)","v":"https://www.refaccionariagonzalez.com/alta/7-9/84859VM_0.jpg"}]
["2020-09-29T18:48:00",12,"87620-0X310","87620-0X310_1.jpg",{"$f":"+GetURL(D7296)","v":"https://www.refaccionariagonzalez.com/alta/7-9/87620-0X310_1.jpg"}]
["2020-09-29T18:27:00",12,"90311-32012","90311-32012_1.jpg",{"$f":"+GetURL(D7313)","v":"https://www.refaccionariagonzalez.com/alta/7-9/90311-32012_1.jpg"}]
["2021-05-28T17:42:00",11,"90440BW010","90440BW010_2.jpg",{"$f":"+GetURL(D7332)","v":"https://www.refaccionariagonzalez.com/alta/7-9/90440BW010_2.jpg"}]
["2020-09-29T18:20:00",13,"92110-05520E","92110-05520E_5.jpg",{"$f":"+GetURL(D7357)","v":"https://www.refaccionariagonzalez.com/alta/7-9/92110-05520E_5.jpg"}]
["2020-09-29T18:28:00",12,"93810-22100","93810-22100_2.jpg",{"$f":"+GetURL(D7369)","v":"https://www.refaccionariagonzalez.com/alta/7-9/93810-22100_2.jpg"}]
["2024-05-02T10:26:00",9,"96779-KB","96779-KB.jpg",{"$f":"+GetURL(D7400)","v":"https://www.refaccionariagonzalez.com/alta/7-9/96779-KB.jpg"}]
["2020-09-29T18:04:00",11,"846600M025","846600M025_3.jpg",{"$f":"+GetURL(D7419)","v":"https://www.refaccionariagonzalez.com/alta/7-9/846600M025_3.jpg"}]
["2020-09-29T17:41:00",10,"905906SFT","905906SFT_1.jpg",{"$f":"+GetURL(D7438)","v":"https://www.refaccionariagonzalez.com/alta/7-9/905906SFT_1.jpg"}]
["2024-05-02T10:00:00",7,"946685","946685_60.jpg",{"$f":"+GetURL(D7443)","v":"https://www.refaccionariagonzalez.com/alta/7-9/946685_60.jpg"}]
["2020-09-29T18:09:00",9,"8209287I","8209287I_4.jpg",{"$f":"+GetURL(D7462)","v":"https://www.refaccionariagonzalez.com/alta/7-9/8209287I_4.jpg"}]
["2024-04-24T13:36:00",11,"9065279SFT","9065279SFT_2.jpg",{"$f":"+GetURL(D7489)","v":"https://www.refaccionariagonzalez.com/alta/7-9/9065279SFT_2.jpg"}]
["2024-04-24T18:28:00",8,"9329871","9329871_2.jpg",{"$f":"+GetURL(D7505)","v":"https://www.refaccionariagonzalez.com/alta/7-9/9329871_2.jpg"}]
["2024-04-24T14:18:00",8,"9596201","9596201_6.jpg",{"$f":"+GetURL(D7524)","v":"https://www.refaccionariagonzalez.com/alta/7-9/9596201_6.jpg"}]
["2024-04-24T18:28:00",8,"9659079","9659079_3.jpg",{"$f":"+GetURL(D7549)","v":"https://www.refaccionariagonzalez.com/alta/7-9/9659079_3.jpg"}]
["2024-04-25T09:44:00",9,"85740718","85740718_1.jpg",{"$f":"+GetURL(D7566)","v":"https://www.refaccionariagonzalez.com/alta/7-9/85740718_1.jpg"}]
["2020-09-29T18:04:00",9,"90233240","90233240_2.jpg",{"$f":"+GetURL(D7586)","v":"https://www.refaccionariagonzalez.com/alta/7-9/90233240_2.jpg"}]
["2020-09-29T18:19:00",9,"90250663","90250663_3.jpg",{"$f":"+GetURL(D7592)","v":"https://www.refaccionariagonzalez.com/alta/7-9/90250663_3.jpg"}]
["2020-09-29T18:38:00",9,"90409693","90409693_1.jpg",{"$f":"+GetURL(D7617)","v":"https://www.refaccionariagonzalez.com/alta/7-9/90409693_1.jpg"}]
["2020-09-29T18:04:00",9,"90445118","90445118_1.jpg",{"$f":"+GetURL(D7629)","v":"https://www.refaccionariagonzalez.com/alta/7-9/90445118_1.jpg"}]
["2020-09-29T17:45:00",9,"90500102","90500102_9.jpg",{"$f":"+GetURL(D7654)","v":"https://www.refaccionariagonzalez.com/alta/7-9/90500102_9.jpg"}]
["2020-09-29T18:49:00",14,"90538595-MACH","90538595-MACH_1.jpg",{"$f":"+GetURL(D7668)","v":"https://www.refaccionariagonzalez.com/alta/7-9/90538595-MACH_1.jpg"}]
["2020-09-29T19:00:00",9,"92089854","92089854_6.jpg",{"$f":"+GetURL(D7697)","v":"https://www.refaccionariagonzalez.com/alta/7-9/92089854_6.jpg"}]
["2024-04-24T18:46:00",12,"93227142-KB","93227142-KB_0.jpg",{"$f":"+GetURL(D7716)","v":"https://www.refaccionariagonzalez.com/alta/7-9/93227142-KB_0.jpg"}]
["2020-09-29T18:18:00",10,"93294288A","93294288A_9.jpg",{"$f":"+GetURL(D7737)","v":"https://www.refaccionariagonzalez.com/alta/7-9/93294288A_9.jpg"}]
["2020-09-29T18:44:00",14,"93296756-EURO","93296756-EURO_8.jpg",{"$f":"+GetURL(D7740)","v":"https://www.refaccionariagonzalez.com/alta/7-9/93296756-EURO_8.jpg"}]
["2020-09-29T18:18:00",9,"93302282","93302282_8.jpg",{"$f":"+GetURL(D7759)","v":"https://www.refaccionariagonzalez.com/alta/7-9/93302282_8.jpg"}]
["2020-09-29T18:00:00",9,"93335205","93335205_1.jpg",{"$f":"+GetURL(D7784)","v":"https://www.refaccionariagonzalez.com/alta/7-9/93335205_1.jpg"}]
["2020-09-29T18:13:00",9,"93371742","93371742_4.jpg",{"$f":"+GetURL(D7814)","v":"https://www.refaccionariagonzalez.com/alta/7-9/93371742_4.jpg"}]
["2020-09-29T18:46:00",9,"93376217","93376217_9.jpg",{"$f":"+GetURL(D7821)","v":"https://www.refaccionariagonzalez.com/alta/7-9/93376217_9.jpg"}]
["2024-04-24T12:31:00",12,"93441534-KB","93441534-KB_0.jpg",{"$f":"+GetURL(D7846)","v":"https://www.refaccionariagonzalez.com/alta/7-9/93441534-KB_0.jpg"}]
["2020-09-29T18:58:00",9,"93741009","93741009_9.jpg",{"$f":"+GetURL(D7865)","v":"https://www.refaccionariagonzalez.com/alta/7-9/93741009_9.jpg"}]
["2020-09-29T18:58:00",10,"94535472K","94535472K_1.jpg",{"$f":"+GetURL(D7883)","v":"https://www.refaccionariagonzalez.com/alta/7-9/94535472K_1.jpg"}]
["2020-09-29T18:04:00",10,"94580182K","94580182K_9.jpg",{"$f":"+GetURL(D7908)","v":"https://www.refaccionariagonzalez.com/alta/7-9/94580182K_9.jpg"}]
["2020-09-29T18:14:00",9,"94580817","94580817_1.jpg",{"$f":"+GetURL(D7916)","v":"https://www.refaccionariagonzalez.com/alta/7-9/94580817_1.jpg"}]
["2020-09-29T18:02:00",9,"94721568","94721568_2.jpg",{"$f":"+GetURL(D7932)","v":"https://www.refaccionariagonzalez.com/alta/7-9/94721568_2.jpg"}]
["2020-09-29T18:58:00",9,"95016041","95016041_2.jpg",{"$f":"+GetURL(D7951)","v":"https://www.refaccionariagonzalez.com/alta/7-9/95016041_2.jpg"}]
["2020-09-29T17:56:00",12,"95032441CTR","95032441CTR_9.jpg",{"$f":"+GetURL(D7970)","v":"https://www.refaccionariagonzalez.com/alta/7-9/95032441CTR_9.jpg"}]
["2020-09-29T18:20:00",9,"95227628","95227628_2.jpg",{"$f":"+GetURL(D7993)","v":"https://www.refaccionariagonzalez.com/alta/7-9/95227628_2.jpg"}]
["2021-05-28T17:38:00",11,"95393157FP","95393157FP_2.jpg",{"$f":"+GetURL(D8013)","v":"https://www.refaccionariagonzalez.com/alta/7-9/95393157FP_2.jpg"}]
["2020-09-29T18:29:00",9,"95962016","95962016_2.jpg",{"$f":"+GetURL(D8032)","v":"https://www.refaccionariagonzalez.com/alta/7-9/95962016_2.jpg"}]
["2020-09-29T17:51:00",14,"95967285-EURO","95967285-EURO_2.jpg",{"$f":"+GetURL(D8044)","v":"https://www.refaccionariagonzalez.com/alta/7-9/95967285-EURO_2.jpg"}]
["2024-05-15T10:01:00",{"$f":"+FIND(\".\",D8075)","v":10},"96238726K","96238726K.jpg",{"$f":"+GetURL(D8075)","v":"https://www.refaccionariagonzalez.com/alta/7-9/96238726K.jpg"}]
["2020-09-29T18:57:00",9,"96253545","96253545_3.jpg",{"$f":"+GetURL(D8081)","v":"https://www.refaccionariagonzalez.com/alta/7-9/96253545_3.jpg"}]
["2020-09-29T17:59:00",12,"96316283SFT","96316283SFT_9.jpg",{"$f":"+GetURL(D8113)","v":"https://www.refaccionariagonzalez.com/alta/7-9/96316283SFT_9.jpg"}]
["2020-09-29T18:39:00",9,"96325222","96325222_3.jpg",{"$f":"+GetURL(D8118)","v":"https://www.refaccionariagonzalez.com/alta/7-9/96325222_3.jpg"}]
["2020-09-29T18:23:00",9,"96350161","96350161_1.jpg",{"$f":"+GetURL(D8143)","v":"https://www.refaccionariagonzalez.com/alta/7-9/96350161_1.jpg"}]
["2020-09-29T18:58:00",9,"96352740","96352740_3.jpg",{"$f":"+GetURL(D8162)","v":"https://www.refaccionariagonzalez.com/alta/7-9/96352740_3.jpg"}]
["2020-09-29T17:59:00",10,"96378805K","96378805K_9.jpg",{"$f":"+GetURL(D8172)","v":"https://www.refaccionariagonzalez.com/alta/7-9/96378805K_9.jpg"}]
["2020-09-29T18:41:00",10,"96408134K","96408134K_9.jpg",{"$f":"+GetURL(D8205)","v":"https://www.refaccionariagonzalez.com/alta/7-9/96408134K_9.jpg"}]
["2020-09-29T18:24:00",12,"96424025SFT","96424025SFT_1.jpg",{"$f":"+GetURL(D8224)","v":"https://www.refaccionariagonzalez.com/alta/7-9/96424025SFT_1.jpg"}]
["2020-09-29T18:01:00",11,"96452590NK","96452590NK_4.jpg",{"$f":"+GetURL(D8241)","v":"https://www.refaccionariagonzalez.com/alta/7-9/96452590NK_4.jpg"}]
["2020-09-29T18:00:00",10,"96473400K","96473400K_1.jpg",{"$f":"+GetURL(D8248)","v":"https://www.refaccionariagonzalez.com/alta/7-9/96473400K_1.jpg"}]
["2024-05-08T08:24:00",{"$f":"+FIND(\".\",D8267)","v":12},"96491285SFT","96491285SFT.jpg",{"$f":"+GetURL(D8267)","v":"https://www.refaccionariagonzalez.com/alta/7-9/96491285SFT.jpg"}]
["2020-09-29T18:17:00",11,"96534871NK","96534871NK_1.jpg",{"$f":"+GetURL(D8292)","v":"https://www.refaccionariagonzalez.com/alta/7-9/96534871NK_1.jpg"}]
["2020-09-29T18:58:00",14,"96535089-EURO","96535089-EURO_3.jpg",{"$f":"+GetURL(D8310)","v":"https://www.refaccionariagonzalez.com/alta/7-9/96535089-EURO_3.jpg"}]
["2020-09-29T18:23:00",10,"96535499K","96535499K_3.jpg",{"$f":"+GetURL(D8335)","v":"https://www.refaccionariagonzalez.com/alta/7-9/96535499K_3.jpg"}]
["2020-09-29T18:37:00",12,"96535510SFT","96535510SFT_1.jpg",{"$f":"+GetURL(D8343)","v":"https://www.refaccionariagonzalez.com/alta/7-9/96535510SFT_1.jpg"}]
["2020-09-29T17:41:00",10,"96567247K","96567247K_8.jpg",{"$f":"+GetURL(D8372)","v":"https://www.refaccionariagonzalez.com/alta/7-9/96567247K_8.jpg"}]
["2020-09-29T17:48:00",9,"96590793","96590793_1.jpg",{"$f":"+GetURL(D8378)","v":"https://www.refaccionariagonzalez.com/alta/7-9/96590793_1.jpg"}]
["2021-09-03T11:40:00",9,"96666227","96666227_1.jpg",{"$f":"+GetURL(D8397)","v":"https://www.refaccionariagonzalez.com/alta/7-9/96666227_1.jpg"}]
["2024-05-02T08:39:00",{"$f":"+FIND(\".\",D8420)","v":12},"96817343-KB","96817343-KB.jpg",{"$f":"+GetURL(D8420)","v":"https://www.refaccionariagonzalez.com/alta/7-9/96817343-KB.jpg"}]
["2024-05-06T09:04:00",11,"96827737MF","96827737MF_2.jpg",{"$f":"+GetURL(D8440)","v":"https://www.refaccionariagonzalez.com/alta/7-9/96827737MF_2.jpg"}]
["2020-09-29T17:42:00",9,"96874572","96874572_3.jpg",{"$f":"+GetURL(D8459)","v":"https://www.refaccionariagonzalez.com/alta/7-9/96874572_3.jpg"}]
["2022-07-12T08:09:00",9,"96943729","96943729_1.jpg",{"$f":"+GetURL(D8471)","v":"https://www.refaccionariagonzalez.com/alta/7-9/96943729_1.jpg"}]
["2020-09-29T18:28:00",16,"701411049B-EURO","701411049B-EURO_9.jpg",{"$f":"+GetURL(D8502)","v":"https://www.refaccionariagonzalez.com/alta/7-9/701411049B-EURO_9.jpg"}]
["2020-09-29T18:30:00",10,"781740072","781740072_1.jpg",{"$f":"+GetURL(D8521)","v":"https://www.refaccionariagonzalez.com/alta/7-9/781740072_1.jpg"}]
["2020-09-29T18:18:00",10,"857407181","857407181_9.jpg",{"$f":"+GetURL(D8540)","v":"https://www.refaccionariagonzalez.com/alta/7-9/857407181_9.jpg"}]
["2024-04-24T13:49:00",10,"904313630","904313630_0.jpg",{"$f":"+GetURL(D8545)","v":"https://www.refaccionariagonzalez.com/alta/7-9/904313630_0.jpg"}]
["2020-09-29T17:52:00",11,"8481012080","8481012080_3.jpg",{"$f":"+GetURL(D8570)","v":"https://www.refaccionariagonzalez.com/alta/7-9/8481012080_3.jpg"}]
["2023-11-27T13:16:00",13,"750101920065","750101920065_6.jpg",{"$f":"+GetURL(D8589)","v":"https://www.refaccionariagonzalez.com/alta/7-9/750101920065_6.jpg"}]
["2020-09-28T18:44:00",5,"A009","A009_8.jpg",{"$f":"+GetURL(D8613)","v":"https://www.refaccionariagonzalez.com/alta/A-C/A009_8.jpg"}]
["2020-09-28T18:20:00",5,"A142","A142.jpg",{"$f":"+GetURL(D8632)","v":"https://www.refaccionariagonzalez.com/alta/A-C/A142.jpg"}]
["2023-12-27T09:08:00",7,"A310EM","A310EM_T.jpg",{"$f":"+GetURL(D8651)","v":"https://www.refaccionariagonzalez.com/alta/A-C/A310EM_T.jpg"}]
["2020-09-28T18:42:00",8,"AANC081","AANC081_0.jpg",{"$f":"+GetURL(D8664)","v":"https://www.refaccionariagonzalez.com/alta/A-C/AANC081_0.jpg"}]
["2020-09-28T17:50:00",8,"AANH041","AANH041_0.jpg",{"$f":"+GetURL(D8675)","v":"https://www.refaccionariagonzalez.com/alta/A-C/AANH041_0.jpg"}]
["2020-09-28T18:10:00",11,"ABSBICR15-","ABSBICR15-_8.jpg",{"$f":"+GetURL(D8694)","v":"https://www.refaccionariagonzalez.com/alta/A-C/ABSBICR15-_8.jpg"}]
["2024-04-24T17:53:00",10,"AC1925198","AC1925198_2.jpg",{"$f":"+GetURL(D8719)","v":"https://www.refaccionariagonzalez.com/alta/A-C/AC1925198_2.jpg"}]
["2020-09-28T17:11:00",11,"ACD1923764","ACD1923764_6.jpg",{"$f":"+GetURL(D8737)","v":"https://www.refaccionariagonzalez.com/alta/A-C/ACD1923764_6.jpg"}]
["2020-09-28T16:53:00",8,"ACDD553","ACDD553_2.jpg",{"$f":"+GetURL(D8756)","v":"https://www.refaccionariagonzalez.com/alta/A-C/ACDD553_2.jpg"}]
["2020-09-28T16:46:00",6,"ADAP1","ADAP1_7.jpg",{"$f":"+GetURL(D8781)","v":"https://www.refaccionariagonzalez.com/alta/A-C/ADAP1_7.jpg"}]
["2020-09-28T17:45:00",{"$f":"+FIND(\".\",D8792)","v":6},"ADAP8","ADAP8.jpg",{"$f":"+GetURL(D8792)","v":"https://www.refaccionariagonzalez.com/alta/A-C/ADAP8.jpg"}]
["2020-09-28T18:35:00",9,"AEDK0101","AEDK0101_3.jpg",{"$f":"+GetURL(D8824)","v":"https://www.refaccionariagonzalez.com/alta/A-C/AEDK0101_3.jpg"}]
["2020-09-28T17:56:00",{"$f":"+FIND(\".\",D8843)","v":9},"AENG0111","AENG0111.jpg",{"$f":"+GetURL(D8843)","v":"https://www.refaccionariagonzalez.com/alta/A-C/AENG0111.jpg"}]
["2020-09-28T18:40:00",9,"AERC0821","AERC0821_3.jpg",{"$f":"+GetURL(D8861)","v":"https://www.refaccionariagonzalez.com/alta/A-C/AERC0821_3.jpg"}]
["2024-05-14T08:30:00",9,"AERC0832","AERC0832.jpg",{"$f":"+GetURL(D8867)","v":"https://www.refaccionariagonzalez.com/alta/A-C/AERC0832.jpg"}]
["2020-09-28T17:16:00",{"$f":"+FIND(\".\",D8886)","v":9},"AERN0421","AERN0421.jpg",{"$f":"+GetURL(D8886)","v":"https://www.refaccionariagonzalez.com/alta/A-C/AERN0421.jpg"}]
["2020-09-28T17:01:00",{"$f":"+FIND(\".\",D8912)","v":9},"AERV0702","AERV0702.jpg",{"$f":"+GetURL(D8912)","v":"https://www.refaccionariagonzalez.com/alta/A-C/AERV0702.jpg"}]
["2020-09-28T17:58:00",10,"AF-FD1688","AF-FD1688_2.jpg",{"$f":"+GetURL(D8929)","v":"https://www.refaccionariagonzalez.com/alta/A-C/AF-FD1688_2.jpg"}]
["2024-01-30T11:55:00",10,"AF-VW1296","AF-VW1296_4.jpg",{"$f":"+GetURL(D8948)","v":"https://www.refaccionariagonzalez.com/alta/A-C/AF-VW1296_4.jpg"}]
["2020-09-28T17:44:00",11,"AF95981206","AF95981206_1.jpg",{"$f":"+GetURL(D8967)","v":"https://www.refaccionariagonzalez.com/alta/A-C/AF95981206_1.jpg"}]
["2020-09-28T18:11:00",8,"AFI8361","AFI8361_9.jpg",{"$f":"+GetURL(D8991)","v":"https://www.refaccionariagonzalez.com/alta/A-C/AFI8361_9.jpg"}]
["2020-09-28T17:57:00",7,"AFL102","AFL102_3.jpg",{"$f":"+GetURL(D9010)","v":"https://www.refaccionariagonzalez.com/alta/A-C/AFL102_3.jpg"}]
["2020-09-28T17:35:00",8,"AG-2667","AG-2667_4.jpg",{"$f":"+GetURL(D9016)","v":"https://www.refaccionariagonzalez.com/alta/A-C/AG-2667_4.jpg"}]
["2020-09-28T16:51:00",8,"AG9653B","AG9653B_3.jpg",{"$f":"+GetURL(D9040)","v":"https://www.refaccionariagonzalez.com/alta/A-C/AG9653B_3.jpg"}]
["2020-09-28T17:16:00",9,"AGNT0400","AGNT0400_8.jpg",{"$f":"+GetURL(D9059)","v":"https://www.refaccionariagonzalez.com/alta/A-C/AGNT0400_8.jpg"}]
["2020-09-28T17:09:00",7,"AL0975","AL0975_9.jpg",{"$f":"+GetURL(D9078)","v":"https://www.refaccionariagonzalez.com/alta/A-C/AL0975_9.jpg"}]
["2024-05-13T08:11:00",{"$f":"+FIND(\".\",D9091)","v":7},"AL4037","AL4037.jpg",{"$f":"+GetURL(D9091)","v":"https://www.refaccionariagonzalez.com/alta/A-C/AL4037.jpg"}]
["2020-09-28T18:32:00",14,"ALE0269061615","ALE0269061615_9.jpg",{"$f":"+GetURL(D9121)","v":"https://www.refaccionariagonzalez.com/alta/A-C/ALE0269061615_9.jpg"}]
["2020-09-28T18:32:00",14,"ALE038103085B","ALE038103085B_9.jpg",{"$f":"+GetURL(D9140)","v":"https://www.refaccionariagonzalez.com/alta/A-C/ALE038103085B_9.jpg"}]
["2020-09-28T18:35:00",14,"ALE056121113A","ALE056121113A_8.jpg",{"$f":"+GetURL(D9160)","v":"https://www.refaccionariagonzalez.com/alta/A-C/ALE056121113A_8.jpg"}]
["2020-09-28T18:32:00",8,"ALE058B","ALE058B_8.jpg",{"$f":"+GetURL(D9164)","v":"https://www.refaccionariagonzalez.com/alta/A-C/ALE058B_8.jpg"}]
["2020-09-28T16:53:00",13,"ALE061AA-REP","ALE061AA-REP_9.jpg",{"$f":"+GetURL(D9183)","v":"https://www.refaccionariagonzalez.com/alta/A-C/ALE061AA-REP_9.jpg"}]
["2020-09-28T17:47:00",13,"ALE1H0422803","ALE1H0422803_9.jpg",{"$f":"+GetURL(D9208)","v":"https://www.refaccionariagonzalez.com/alta/A-C/ALE1H0422803_9.jpg"}]
["2020-09-28T18:16:00",13,"ALE1HO422804","ALE1HO422804_9.jpg",{"$f":"+GetURL(D9219)","v":"https://www.refaccionariagonzalez.com/alta/A-C/ALE1HO422804_9.jpg"}]
["2020-09-28T18:40:00",14,"ALE6N0412331E","ALE6N0412331E_8.jpg",{"$f":"+GetURL(D9245)","v":"https://www.refaccionariagonzalez.com/alta/A-C/ALE6N0412331E_8.jpg"}]
["2020-09-28T16:50:00",8,"ALE6277","ALE6277_9.jpg",{"$f":"+GetURL(D9270)","v":"https://www.refaccionariagonzalez.com/alta/A-C/ALE6277_9.jpg"}]
["2020-09-28T17:53:00",10,"ALE463132","ALE463132_1.jpg",{"$f":"+GetURL(D9288)","v":"https://www.refaccionariagonzalez.com/alta/A-C/ALE463132_1.jpg"}]
["2024-02-06T18:03:00",11,"ALE3202159","ALE3202159_2.jpg",{"$f":"+GetURL(D9307)","v":"https://www.refaccionariagonzalez.com/alta/A-C/ALE3202159_2.jpg"}]
["2020-09-28T18:40:00",14,"ALE111721335C","ALE111721335C_1.jpg",{"$f":"+GetURL(D9313)","v":"https://www.refaccionariagonzalez.com/alta/A-C/ALE111721335C_1.jpg"}]
["2020-09-28T16:56:00",13,"ALE173839401","ALE173839401_9.jpg",{"$f":"+GetURL(D9339)","v":"https://www.refaccionariagonzalez.com/alta/A-C/ALE173839401_9.jpg"}]
["2020-09-28T18:10:00",13,"ALE191711574","ALE191711574_1.jpg",{"$f":"+GetURL(D9356)","v":"https://www.refaccionariagonzalez.com/alta/A-C/ALE191711574_1.jpg"}]
["2020-09-28T18:06:00",14,"ALE211498171A","ALE211498171A_9.jpg",{"$f":"+GetURL(D9375)","v":"https://www.refaccionariagonzalez.com/alta/A-C/ALE211498171A_9.jpg"}]
["2020-09-28T17:51:00",13,"ALE701407077","ALE701407077_1.jpg",{"$f":"+GetURL(D9394)","v":"https://www.refaccionariagonzalez.com/alta/A-C/ALE701407077_1.jpg"}]
["2020-09-28T17:41:00",10,"ALEBALERO","ALEBALERO_1.jpg",{"$f":"+GetURL(D9416)","v":"https://www.refaccionariagonzalez.com/alta/A-C/ALEBALERO_1.jpg"}]
["2020-09-28T18:35:00",10,"ALEC15008","ALEC15008_2.jpg",{"$f":"+GetURL(D9437)","v":"https://www.refaccionariagonzalez.com/alta/A-C/ALEC15008_2.jpg"}]
["2024-04-24T15:08:00",12,"ALEC27154-1","ALEC27154-1.jpg",{"$f":"+GetURL(D9443)","v":"https://www.refaccionariagonzalez.com/alta/A-C/ALEC27154-1.jpg"}]
["2020-09-28T17:40:00",10,"ALECU1738","ALECU1738_3.jpg",{"$f":"+GetURL(D9467)","v":"https://www.refaccionariagonzalez.com/alta/A-C/ALECU1738_3.jpg"}]
["2020-09-28T18:07:00",8,"ALEJ012","ALEJ012_1.jpg",{"$f":"+GetURL(D9480)","v":"https://www.refaccionariagonzalez.com/alta/A-C/ALEJ012_1.jpg"}]
["2024-04-24T13:38:00",{"$f":"+FIND(\".\",D9505)","v":11},"ALEW712-94","ALEW712-94.jpg",{"$f":"+GetURL(D9505)","v":"https://www.refaccionariagonzalez.com/alta/A-C/ALEW712-94.jpg"}]
["2020-09-28T16:43:00",9,"ALEWK59X","ALEWK59X_2.jpg",{"$f":"+GetURL(D9518)","v":"https://www.refaccionariagonzalez.com/alta/A-C/ALEWK59X_2.jpg"}]
["2020-09-30T08:22:00",{"$f":"+FIND(\".\",D9542)","v":12},"AM-02-NEGRO","AM-02-NEGRO.1.jpg",{"$f":"+GetURL(D9542)","v":"https://www.refaccionariagonzalez.com/alta/A-C/AM-02-NEGRO.1.jpg"}]
["2020-09-28T17:14:00",16,"AMARILLO-PORRON","AMARILLO-PORRON_1.jpg",{"$f":"+GetURL(D9567)","v":"https://www.refaccionariagonzalez.com/alta/A-C/AMARILLO-PORRON_1.jpg"}]
["2020-09-28T17:33:00",8,"AMB4378","AMB4378_9.jpg",{"$f":"+GetURL(D9587)","v":"https://www.refaccionariagonzalez.com/alta/A-C/AMB4378_9.jpg"}]
["2020-09-28T18:29:00",8,"AMB4735","AMB4735_9.jpg",{"$f":"+GetURL(D9591)","v":"https://www.refaccionariagonzalez.com/alta/A-C/AMB4735_9.jpg"}]
["2020-09-28T17:00:00",8,"AMB5889","AMB5889_9.jpg",{"$f":"+GetURL(D9610)","v":"https://www.refaccionariagonzalez.com/alta/A-C/AMB5889_9.jpg"}]
["2020-09-28T18:32:00",9,"AMBID150","AMBID150_1.jpg",{"$f":"+GetURL(D9629)","v":"https://www.refaccionariagonzalez.com/alta/A-C/AMBID150_1.jpg"}]
["2024-04-24T14:59:00",7,"AN121A","AN121A_2.jpg",{"$f":"+GetURL(D9664)","v":"https://www.refaccionariagonzalez.com/alta/A-C/AN121A_2.jpg"}]
["2020-09-28T17:59:00",8,"AN4020E","AN4020E_8.jpg",{"$f":"+GetURL(D9672)","v":"https://www.refaccionariagonzalez.com/alta/A-C/AN4020E_8.jpg"}]
["2020-09-28T16:43:00",9,"ANC154MR","ANC154MR_1.jpg",{"$f":"+GetURL(D9691)","v":"https://www.refaccionariagonzalez.com/alta/A-C/ANC154MR_1.jpg"}]
["2020-09-28T16:46:00",10,"ANTIFAZ02","ANTIFAZ02_9.jpg",{"$f":"+GetURL(D9715)","v":"https://www.refaccionariagonzalez.com/alta/A-C/ANTIFAZ02_9.jpg"}]
["2020-09-28T16:46:00",10,"ANTIFAZ09","ANTIFAZ09_9.jpg",{"$f":"+GetURL(D9734)","v":"https://www.refaccionariagonzalez.com/alta/A-C/ANTIFAZ09_9.jpg"}]
["2020-09-28T18:22:00",10,"ANTIFAZ19","ANTIFAZ19_9.jpg",{"$f":"+GetURL(D9759)","v":"https://www.refaccionariagonzalez.com/alta/A-C/ANTIFAZ19_9.jpg"}]
["2020-09-28T18:49:00",10,"ANTIFAZ22","ANTIFAZ22_9.jpg",{"$f":"+GetURL(D9766)","v":"https://www.refaccionariagonzalez.com/alta/A-C/ANTIFAZ22_9.jpg"}]
["2020-09-28T17:50:00",11,"ANTIFAZ592","ANTIFAZ592_9.jpg",{"$f":"+GetURL(D9796)","v":"https://www.refaccionariagonzalez.com/alta/A-C/ANTIFAZ592_9.jpg"}]
["2023-05-17T11:31:00",11,"ANTIFAZ599","ANTIFAZ599_1.jpg",{"$f":"+GetURL(D9802)","v":"https://www.refaccionariagonzalez.com/alta/A-C/ANTIFAZ599_1.jpg"}]
["2020-09-28T16:59:00",11,"ANTJBA-247","ANTJBA-247_1.jpg",{"$f":"+GetURL(D9821)","v":"https://www.refaccionariagonzalez.com/alta/A-C/ANTJBA-247_1.jpg"}]
["2020-09-28T17:21:00",9,"AR-DP393","AR-DP393_9.jpg",{"$f":"+GetURL(D9843)","v":"https://www.refaccionariagonzalez.com/alta/A-C/AR-DP393_9.jpg"}]
["2020-09-28T17:31:00",13,"AREON-967426","AREON-967426_1.jpg",{"$f":"+GetURL(D9864)","v":"https://www.refaccionariagonzalez.com/alta/A-C/AREON-967426_1.jpg"}]
["2024-05-18T10:14:00",{"$f":"+FIND(\".\",D9883)","v":7},"ARM-22","ARM-22.jpg",{"$f":"+GetURL(D9883)","v":"https://www.refaccionariagonzalez.com/alta/A-C/ARM-22.jpg"}]
["2020-09-28T16:39:00",8,"ARMOR-1","ARMOR-1_9.jpg",{"$f":"+GetURL(D9894)","v":"https://www.refaccionariagonzalez.com/alta/A-C/ARMOR-1_9.jpg"}]
["2020-09-28T17:05:00",9,"ASP-L200","ASP-L200_2.jpg",{"$f":"+GetURL(D9926)","v":"https://www.refaccionariagonzalez.com/alta/A-C/ASP-L200_2.jpg"}]
["2020-09-28T17:29:00",10,"ATSB21204","ATSB21204_2.jpg",{"$f":"+GetURL(D9945)","v":"https://www.refaccionariagonzalez.com/alta/A-C/ATSB21204_2.jpg"}]
["2020-09-28T18:44:00",7,"AUMA68","AUMA68_9.jpg",{"$f":"+GetURL(D9963)","v":"https://www.refaccionariagonzalez.com/alta/A-C/AUMA68_9.jpg"}]
["2020-09-28T18:12:00",8,"AUMA81E","AUMA81E_1.jpg",{"$f":"+GetURL(D9969)","v":"https://www.refaccionariagonzalez.com/alta/A-C/AUMA81E_1.jpg"}]
["2020-09-28T17:04:00",6,"AUT63","AUT63_9.jpg",{"$f":"+GetURL(D9994)","v":"https://www.refaccionariagonzalez.com/alta/A-C/AUT63_9.jpg"}]
["2020-09-28T17:29:00",8,"AUT1211","AUT1211_9.jpg",{"$f":"+GetURL(D10013)","v":"https://www.refaccionariagonzalez.com/alta/A-C/AUT1211_9.jpg"}]
["2020-09-28T18:12:00",7,"AV0117","AV0117_8.jpg",{"$f":"+GetURL(D10036)","v":"https://www.refaccionariagonzalez.com/alta/A-C/AV0117_8.jpg"}]
["2020-09-28T17:24:00",7,"AV8477","AV8477_9.jpg",{"$f":"+GetURL(D10056)","v":"https://www.refaccionariagonzalez.com/alta/A-C/AV8477_9.jpg"}]
["2020-09-28T17:16:00",7,"AW-52L","AW-52L_9.jpg",{"$f":"+GetURL(D10075)","v":"https://www.refaccionariagonzalez.com/alta/A-C/AW-52L_9.jpg"}]
["2020-09-28T18:04:00",8,"AW-3022","AW-3022_1.jpg",{"$f":"+GetURL(D10091)","v":"https://www.refaccionariagonzalez.com/alta/A-C/AW-3022_1.jpg"}]
["2020-09-28T18:21:00",8,"AW-4859","AW-4859_1.jpg",{"$f":"+GetURL(D10099)","v":"https://www.refaccionariagonzalez.com/alta/A-C/AW-4859_1.jpg"}]
["2020-09-28T17:11:00",9,"AW-9007L","AW-9007L_1.jpg",{"$f":"+GetURL(D10118)","v":"https://www.refaccionariagonzalez.com/alta/A-C/AW-9007L_1.jpg"}]
["2020-09-28T17:08:00",7,"AW001D","AW001D_1.jpg",{"$f":"+GetURL(D10142)","v":"https://www.refaccionariagonzalez.com/alta/A-C/AW001D_1.jpg"}]
["2020-09-28T16:48:00",12,"AW102-123GY","AW102-123GY_1.jpg",{"$f":"+GetURL(D10161)","v":"https://www.refaccionariagonzalez.com/alta/A-C/AW102-123GY_1.jpg"}]
["2020-09-28T18:41:00",7,"AW1002","AW1002_9.jpg",{"$f":"+GetURL(D10180)","v":"https://www.refaccionariagonzalez.com/alta/A-C/AW1002_9.jpg"}]
["2020-09-28T17:05:00",11,"AW1807-25W","AW1807-25W_1.jpg",{"$f":"+GetURL(D10193)","v":"https://www.refaccionariagonzalez.com/alta/A-C/AW1807-25W_1.jpg"}]
["2020-09-28T17:51:00",8,"AW64362","AW64362_2.jpg",{"$f":"+GetURL(D10223)","v":"https://www.refaccionariagonzalez.com/alta/A-C/AW64362_2.jpg"}]
["2020-09-28T18:43:00",9,"AW102115","AW102115_2.jpg",{"$f":"+GetURL(D10229)","v":"https://www.refaccionariagonzalez.com/alta/A-C/AW102115_2.jpg"}]
["2020-09-28T18:51:00",7,"AWLA43","AWLA43_1.jpg",{"$f":"+GetURL(D10248)","v":"https://www.refaccionariagonzalez.com/alta/A-C/AWLA43_1.jpg"}]
["2020-09-28T16:45:00",10,"AWVW10013","AWVW10013_1.jpg",{"$f":"+GetURL(D10266)","v":"https://www.refaccionariagonzalez.com/alta/A-C/AWVW10013_1.jpg"}]
["2020-09-28T18:01:00",12,"AZUL-PORRON","AZUL-PORRON_3.jpg",{"$f":"+GetURL(D10291)","v":"https://www.refaccionariagonzalez.com/alta/A-C/AZUL-PORRON_3.jpg"}]
["2021-10-27T12:46:00",16,"B-043-905-205AD","B-043-905-205AD_1.jpg",{"$f":"+GetURL(D10310)","v":"https://www.refaccionariagonzalez.com/alta/A-C/B-043-905-205AD_1.jpg"}]
["2021-10-27T12:46:00",6,"B-TRV","B-TRV_2.jpg",{"$f":"+GetURL(D10335)","v":"https://www.refaccionariagonzalez.com/alta/A-C/B-TRV_2.jpg"}]
["2024-01-18T17:33:00",7,"BA-015","BA-015_2.jpg",{"$f":"+GetURL(D10353)","v":"https://www.refaccionariagonzalez.com/alta/A-C/BA-015_2.jpg"}]
["2024-01-18T17:33:00",6,"BA-08","BA-08_2.jpg",{"$f":"+GetURL(D10372)","v":"https://www.refaccionariagonzalez.com/alta/A-C/BA-08_2.jpg"}]
["2020-09-28T18:15:00",7,"BA-Z01","BA-Z01_4.jpg",{"$f":"+GetURL(D10390)","v":"https://www.refaccionariagonzalez.com/alta/A-C/BA-Z01_4.jpg"}]
["2020-09-28T18:34:00",7,"BA0280","BA0280_1.jpg",{"$f":"+GetURL(D10396)","v":"https://www.refaccionariagonzalez.com/alta/A-C/BA0280_1.jpg"}]
["2020-09-28T18:01:00",7,"BA1107","BA1107_9.jpg",{"$f":"+GetURL(D10415)","v":"https://www.refaccionariagonzalez.com/alta/A-C/BA1107_9.jpg"}]
["2020-09-28T17:07:00",13,"BAA-129-025B","BAA-129-025B_2.jpg",{"$f":"+GetURL(D10440)","v":"https://www.refaccionariagonzalez.com/alta/A-C/BAA-129-025B_2.jpg"}]
["2022-02-18T16:09:00",9,"BAR12080","BAR12080_1.jpg",{"$f":"+GetURL(D10463)","v":"https://www.refaccionariagonzalez.com/alta/A-C/BAR12080_1.jpg"}]
["2020-09-28T17:56:00",9,"BAR14211","BAR14211_1.jpg",{"$f":"+GetURL(D10483)","v":"https://www.refaccionariagonzalez.com/alta/A-C/BAR14211_1.jpg"}]
["2024-02-15T18:22:00",9,"BAR16510","BAR16510_2.jpg",{"$f":"+GetURL(D10502)","v":"https://www.refaccionariagonzalez.com/alta/A-C/BAR16510_2.jpg"}]
["2024-02-23T13:07:00",9,"BAR17308","BAR17308_1.jpg",{"$f":"+GetURL(D10514)","v":"https://www.refaccionariagonzalez.com/alta/A-C/BAR17308_1.jpg"}]
["2024-02-15T18:22:00",9,"BAR17411","BAR17411_3.jpg",{"$f":"+GetURL(D10526)","v":"https://www.refaccionariagonzalez.com/alta/A-C/BAR17411_3.jpg"}]
["2020-09-28T18:02:00",7,"BARATF","BARATF_2.jpg",{"$f":"+GetURL(D10545)","v":"https://www.refaccionariagonzalez.com/alta/A-C/BARATF_2.jpg"}]
["2024-02-23T13:08:00",16,"BARDAHLGARTITAN","BARDAHLGARTITAN_1.jpg",{"$f":"+GetURL(D10565)","v":"https://www.refaccionariagonzalez.com/alta/A-C/BARDAHLGARTITAN_1.jpg"}]
["2020-09-28T18:41:00",7,"BASTON","BASTON_9.jpg",{"$f":"+GetURL(D10588)","v":"https://www.refaccionariagonzalez.com/alta/A-C/BASTON_9.jpg"}]
["2020-09-28T18:38:00",8,"BC-2504","BC-2504_9.jpg",{"$f":"+GetURL(D10607)","v":"https://www.refaccionariagonzalez.com/alta/A-C/BC-2504_9.jpg"}]
["2020-09-28T18:02:00",10,"BC144J100","BC144J100_1.jpg",{"$f":"+GetURL(D10632)","v":"https://www.refaccionariagonzalez.com/alta/A-C/BC144J100_1.jpg"}]
["2020-09-28T17:31:00",10,"BC184J025","BC184J025_1.jpg",{"$f":"+GetURL(D10642)","v":"https://www.refaccionariagonzalez.com/alta/A-C/BC184J025_1.jpg"}]
["2020-09-28T18:03:00",8,"BD0310T","BD0310T_2.jpg",{"$f":"+GetURL(D10669)","v":"https://www.refaccionariagonzalez.com/alta/A-C/BD0310T_2.jpg"}]
["2020-09-28T18:03:00",9,"BD3300DS","BD3300DS_1.jpg",{"$f":"+GetURL(D10694)","v":"https://www.refaccionariagonzalez.com/alta/A-C/BD3300DS_1.jpg"}]
["2020-09-28T17:05:00",8,"BD4909T","BD4909T_9.jpg",{"$f":"+GetURL(D10711)","v":"https://www.refaccionariagonzalez.com/alta/A-C/BD4909T_9.jpg"}]
["2020-09-28T18:25:00",9,"BD5310DS","BD5310DS_8.jpg",{"$f":"+GetURL(D10731)","v":"https://www.refaccionariagonzalez.com/alta/A-C/BD5310DS_8.jpg"}]
["2020-09-28T17:33:00",9,"BD5602DV","BD5602DV_1.jpg",{"$f":"+GetURL(D10737)","v":"https://www.refaccionariagonzalez.com/alta/A-C/BD5602DV_1.jpg"}]
["2020-09-28T16:51:00",8,"BD9322T","BD9322T_2.jpg",{"$f":"+GetURL(D10762)","v":"https://www.refaccionariagonzalez.com/alta/A-C/BD9322T_2.jpg"}]
["2020-09-28T18:22:00",9,"BE4I2364","BE4I2364_9.jpg",{"$f":"+GetURL(D10780)","v":"https://www.refaccionariagonzalez.com/alta/A-C/BE4I2364_9.jpg"}]
["2020-09-28T17:59:00",9,"BEMFD016","BEMFD016_3.jpg",{"$f":"+GetURL(D10799)","v":"https://www.refaccionariagonzalez.com/alta/A-C/BEMFD016_3.jpg"}]
["2020-09-28T16:54:00",12,"BERU1231AN4","BERU1231AN4_9.jpg",{"$f":"+GetURL(D10813)","v":"https://www.refaccionariagonzalez.com/alta/A-C/BERU1231AN4_9.jpg"}]
["2020-09-28T18:06:00",10,"BFR115010","BFR115010_1.jpg",{"$f":"+GetURL(D10842)","v":"https://www.refaccionariagonzalez.com/alta/A-C/BFR115010_1.jpg"}]
["2020-09-28T18:46:00",10,"BFR350610","BFR350610_9.jpg",{"$f":"+GetURL(D10861)","v":"https://www.refaccionariagonzalez.com/alta/A-C/BFR350610_9.jpg"}]
["2020-09-28T16:53:00",10,"BFR370710","BFR370710_9.jpg",{"$f":"+GetURL(D10867)","v":"https://www.refaccionariagonzalez.com/alta/A-C/BFR370710_9.jpg"}]
["2020-09-28T16:43:00",9,"BFRN0620","BFRN0620_2.jpg",{"$f":"+GetURL(D10890)","v":"https://www.refaccionariagonzalez.com/alta/A-C/BFRN0620_2.jpg"}]
["2020-09-28T16:47:00",9,"BFRV1110","BFRV1110_9.jpg",{"$f":"+GetURL(D10904)","v":"https://www.refaccionariagonzalez.com/alta/A-C/BFRV1110_9.jpg"}]
["2020-09-28T17:02:00",11,"BH-NS46219","BH-NS46219_1.jpg",{"$f":"+GetURL(D10929)","v":"https://www.refaccionariagonzalez.com/alta/A-C/BH-NS46219_1.jpg"}]
["2020-09-28T17:57:00",7,"BI1292","BI1292_1.jpg",{"$f":"+GetURL(D10941)","v":"https://www.refaccionariagonzalez.com/alta/A-C/BI1292_1.jpg"}]
["2020-09-28T16:40:00",9,"BLATT-13","BLATT-13_2.jpg",{"$f":"+GetURL(D10966)","v":"https://www.refaccionariagonzalez.com/alta/A-C/BLATT-13_2.jpg"}]
["2020-09-28T17:28:00",9,"BLATT-15","BLATT-15_9.jpg",{"$f":"+GetURL(D10991)","v":"https://www.refaccionariagonzalez.com/alta/A-C/BLATT-15_9.jpg"}]
["2020-09-28T17:36:00",{"$f":"+FIND(\"_\",D11010)","v":16},{"$f":"+LEFT(D11010,B11010-1)","v":"BLATT-18-BANANA"},"BLATT-18-BANANA_3.jpg",{"$f":"+GetURL(D11010)","v":"https://www.refaccionariagonzalez.com/alta/A-C/BLATT-18-BANANA_3.jpg"}]
["2020-09-28T17:12:00",9,"BLATT-18","BLATT-18_2.jpg",{"$f":"+GetURL(D11015)","v":"https://www.refaccionariagonzalez.com/alta/A-C/BLATT-18_2.jpg"}]
["2020-09-28T18:46:00",16,"BLATT-20-BANANA","BLATT-20-BANANA_9.jpg",{"$f":"+GetURL(D11034)","v":"https://www.refaccionariagonzalez.com/alta/A-C/BLATT-20-BANANA_9.jpg"}]
["2020-09-28T17:47:00",16,"BLATT-22-BANANA","BLATT-22-BANANA_1.jpg",{"$f":"+GetURL(D11053)","v":"https://www.refaccionariagonzalez.com/alta/A-C/BLATT-22-BANANA_1.jpg"}]
["2020-09-28T17:38:00",9,"BLATT-24","BLATT-24_2.jpg",{"$f":"+GetURL(D11069)","v":"https://www.refaccionariagonzalez.com/alta/A-C/BLATT-24_2.jpg"}]
["2020-09-28T17:08:00",13,"BMC-CR390425","BMC-CR390425_2.jpg",{"$f":"+GetURL(D11096)","v":"https://www.refaccionariagonzalez.com/alta/A-C/BMC-CR390425_2.jpg"}]
["2020-09-28T17:57:00",9,"BMNV055A","BMNV055A_1.jpg",{"$f":"+GetURL(D11121)","v":"https://www.refaccionariagonzalez.com/alta/A-C/BMNV055A_1.jpg"}]
["2020-09-28T17:58:00",{"$f":"+FIND(\"_\",D11138)","v":12},{"$f":"+LEFT(D11138,B11138-1)","v":"BOC5M510500"},"BOC5M510500_1.jpg",{"$f":"+GetURL(D11138)","v":"https://www.refaccionariagonzalez.com/alta/A-C/BOC5M510500_1.jpg"}]
["2020-09-28T17:42:00",12,"BOC51639500","BOC51639500_9.jpg",{"$f":"+GetURL(D11158)","v":"https://www.refaccionariagonzalez.com/alta/A-C/BOC51639500_9.jpg"}]
["2020-09-28T17:16:00",12,"BOC52136400","BOC52136400_9.jpg",{"$f":"+GetURL(D11164)","v":"https://www.refaccionariagonzalez.com/alta/A-C/BOC52136400_9.jpg"}]
["2020-09-28T17:00:00",9,"BOCPE601","BOCPE601_2.jpg",{"$f":"+GetURL(D11189)","v":"https://www.refaccionariagonzalez.com/alta/A-C/BOCPE601_2.jpg"}]
["2020-09-28T18:02:00",9,"BOG32034","BOG32034_9.jpg",{"$f":"+GetURL(D11201)","v":"https://www.refaccionariagonzalez.com/alta/A-C/BOG32034_9.jpg"}]
["2020-09-28T17:10:00",9,"BOG32294","BOG32294_1.jpg",{"$f":"+GetURL(D11226)","v":"https://www.refaccionariagonzalez.com/alta/A-C/BOG32294_1.jpg"}]
["2020-09-28T18:26:00",10,"BOG832237","BOG832237_1.jpg",{"$f":"+GetURL(D11245)","v":"https://www.refaccionariagonzalez.com/alta/A-C/BOG832237_1.jpg"}]
["2020-09-28T17:07:00",{"$f":"+FIND(\"_\",D11266)","v":10},{"$f":"+LEFT(D11266,B11266-1)","v":"BOG832480"},"BOG832480_1.jpg",{"$f":"+GetURL(D11266)","v":"https://www.refaccionariagonzalez.com/alta/A-C/BOG832480_1.jpg"}]
["2020-09-28T18:25:00",10,"BOG832688","BOG832688_2.jpg",{"$f":"+GetURL(D11288)","v":"https://www.refaccionariagonzalez.com/alta/A-C/BOG832688_2.jpg"}]
["2024-05-17T09:07:00",{"$f":"+FIND(\".\",D11307)","v":9},"BOGCR004","BOGCR004.jpg",{"$f":"+GetURL(D11307)","v":"https://www.refaccionariagonzalez.com/alta/A-C/BOGCR004.jpg"}]
["2020-09-28T18:00:00",9,"BOGGS045","BOGGS045_2.jpg",{"$f":"+GetURL(D11317)","v":"https://www.refaccionariagonzalez.com/alta/A-C/BOGGS045_2.jpg"}]
["2020-09-28T17:39:00",9,"BOGMP020","BOGMP020_1.jpg",{"$f":"+GetURL(D11331)","v":"https://www.refaccionariagonzalez.com/alta/A-C/BOGMP020_1.jpg"}]
["2020-09-28T17:42:00",9,"BOGMP148","BOGMP148_1.jpg",{"$f":"+GetURL(D11350)","v":"https://www.refaccionariagonzalez.com/alta/A-C/BOGMP148_1.jpg"}]
["2020-09-28T16:50:00",10,"BOGMP8136","BOGMP8136_2.jpg",{"$f":"+GetURL(D11368)","v":"https://www.refaccionariagonzalez.com/alta/A-C/BOGMP8136_2.jpg"}]
["2020-09-28T16:56:00",10,"BOGMP8251","BOGMP8251_1.jpg",{"$f":"+GetURL(D11393)","v":"https://www.refaccionariagonzalez.com/alta/A-C/BOGMP8251_1.jpg"}]
["2024-05-17T09:07:00",{"$f":"+FIND(\".\",D11418)","v":10},"BOGMP8308","BOGMP8308.jpg",{"$f":"+GetURL(D11418)","v":"https://www.refaccionariagonzalez.com/alta/A-C/BOGMP8308.jpg"}]
["2020-09-28T16:59:00",10,"BOGMP8497","BOGMP8497_9.jpg",{"$f":"+GetURL(D11437)","v":"https://www.refaccionariagonzalez.com/alta/A-C/BOGMP8497_9.jpg"}]
["2020-09-28T17:40:00",10,"BOGMP8537","BOGMP8537_9.jpg",{"$f":"+GetURL(D11455)","v":"https://www.refaccionariagonzalez.com/alta/A-C/BOGMP8537_9.jpg"}]
["2020-09-28T17:36:00",10,"BOGMP8613","BOGMP8613_1.jpg",{"$f":"+GetURL(D11461)","v":"https://www.refaccionariagonzalez.com/alta/A-C/BOGMP8613_1.jpg"}]
["2020-09-28T16:39:00",10,"BOGMP8673","BOGMP8673_9.jpg",{"$f":"+GetURL(D11480)","v":"https://www.refaccionariagonzalez.com/alta/A-C/BOGMP8673_9.jpg"}]
["2020-09-28T18:16:00",12,"BOTAEUROVAN","BOTAEUROVAN_1.jpg",{"$f":"+GetURL(D11514)","v":"https://www.refaccionariagonzalez.com/alta/A-C/BOTAEUROVAN_1.jpg"}]
["2020-09-28T16:51:00",8,"BOTAI10","BOTAI10_9.jpg",{"$f":"+GetURL(D11523)","v":"https://www.refaccionariagonzalez.com/alta/A-C/BOTAI10_9.jpg"}]
["2020-09-28T17:20:00",11,"BOTASENTRA","BOTASENTRA_9.jpg",{"$f":"+GetURL(D11542)","v":"https://www.refaccionariagonzalez.com/alta/A-C/BOTASENTRA_9.jpg"}]
["2020-09-28T17:07:00",9,"BPNS207U","BPNS207U_2.jpg",{"$f":"+GetURL(D11565)","v":"https://www.refaccionariagonzalez.com/alta/A-C/BPNS207U_2.jpg"}]
["2020-09-28T17:20:00",8,"BR-2601","BR-2601_1.jpg",{"$f":"+GetURL(D11585)","v":"https://www.refaccionariagonzalez.com/alta/A-C/BR-2601_1.jpg"}]
["2020-09-28T18:20:00",8,"BR-2612","BR-2612_1.jpg",{"$f":"+GetURL(D11604)","v":"https://www.refaccionariagonzalez.com/alta/A-C/BR-2612_1.jpg"}]
["2020-09-28T18:37:00",8,"BR-FD01","BR-FD01_2.jpg",{"$f":"+GetURL(D11616)","v":"https://www.refaccionariagonzalez.com/alta/A-C/BR-FD01_2.jpg"}]
["2020-09-28T18:44:00",14,"BRA049115105A","BRA049115105A_1.jpg",{"$f":"+GetURL(D11647)","v":"https://www.refaccionariagonzalez.com/alta/A-C/BRA049115105A_1.jpg"}]
["2020-09-28T18:09:00",14,"BRA056105313C","BRA056105313C_1.jpg",{"$f":"+GetURL(D11653)","v":"https://www.refaccionariagonzalez.com/alta/A-C/BRA056105313C_1.jpg"}]
["2020-09-28T17:09:00",13,"BRA7D0857513","BRA7D0857513_9.jpg",{"$f":"+GetURL(D11672)","v":"https://www.refaccionariagonzalez.com/alta/A-C/BRA7D0857513_9.jpg"}]
["2020-09-28T18:02:00",11,"BRA501M500","BRA501M500_8.jpg",{"$f":"+GetURL(D11689)","v":"https://www.refaccionariagonzalez.com/alta/A-C/BRA501M500_8.jpg"}]
["2020-09-28T18:07:00",8,"BRA2189","BRA2189_1.jpg",{"$f":"+GetURL(D11715)","v":"https://www.refaccionariagonzalez.com/alta/A-C/BRA2189_1.jpg"}]
["2020-09-28T17:59:00",8,"BRA5940","BRA5940_9.jpg",{"$f":"+GetURL(D11734)","v":"https://www.refaccionariagonzalez.com/alta/A-C/BRA5940_9.jpg"}]
["2020-09-28T18:27:00",9,"BRA19103","BRA19103_1.jpg",{"$f":"+GetURL(D11744)","v":"https://www.refaccionariagonzalez.com/alta/A-C/BRA19103_1.jpg"}]
["2020-09-28T18:06:00",10,"BRA510018","BRA510018_1.jpg",{"$f":"+GetURL(D11777)","v":"https://www.refaccionariagonzalez.com/alta/A-C/BRA510018_1.jpg"}]
["2020-09-28T18:06:00",10,"BRA593200","BRA593200_1.jpg",{"$f":"+GetURL(D11796)","v":"https://www.refaccionariagonzalez.com/alta/A-C/BRA593200_1.jpg"}]
["2020-09-28T16:44:00",12,"BRA90498610","BRA90498610_9.jpg",{"$f":"+GetURL(D11813)","v":"https://www.refaccionariagonzalez.com/alta/A-C/BRA90498610_9.jpg"}]
["2020-09-28T17:54:00",13,"BRA111411106","BRA111411106_1.jpg",{"$f":"+GetURL(D11820)","v":"https://www.refaccionariagonzalez.com/alta/A-C/BRA111411106_1.jpg"}]
["2020-09-28T17:34:00",14,"BRA113611021C","BRA113611021C_1.jpg",{"$f":"+GetURL(D11839)","v":"https://www.refaccionariagonzalez.com/alta/A-C/BRA113611021C_1.jpg"}]
["2020-09-28T17:11:00",14,"BRA251611021C","BRA251611021C_9.jpg",{"$f":"+GetURL(D11864)","v":"https://www.refaccionariagonzalez.com/alta/A-C/BRA251611021C_9.jpg"}]
["2020-09-28T17:56:00",14,"BRA3056110515","BRA3056110515_1.jpg",{"$f":"+GetURL(D11886)","v":"https://www.refaccionariagonzalez.com/alta/A-C/BRA3056110515_1.jpg"}]
["2020-09-28T17:20:00",12,"BRABARRADER","BRABARRADER_1.jpg",{"$f":"+GetURL(D11907)","v":"https://www.refaccionariagonzalez.com/alta/A-C/BRABARRADER_1.jpg"}]
["2020-09-28T16:58:00",10,"BRAELESDI","BRAELESDI_1.jpg",{"$f":"+GetURL(D11926)","v":"https://www.refaccionariagonzalez.com/alta/A-C/BRAELESDI_1.jpg"}]
["2020-09-28T18:29:00",8,"BRAN178","BRAN178_1.jpg",{"$f":"+GetURL(D11937)","v":"https://www.refaccionariagonzalez.com/alta/A-C/BRAN178_1.jpg"}]
["2020-09-28T18:42:00",7,"BRASD1","BRASD1_1.jpg",{"$f":"+GetURL(D11950)","v":"https://www.refaccionariagonzalez.com/alta/A-C/BRASD1_1.jpg"}]
["2020-09-28T17:50:00",9,"BRAUB625","BRAUB625_1.jpg",{"$f":"+GetURL(D11969)","v":"https://www.refaccionariagonzalez.com/alta/A-C/BRAUB625_1.jpg"}]
["2020-09-28T18:21:00",10,"BRAX20J57","BRAX20J57_1.jpg",{"$f":"+GetURL(D11988)","v":"https://www.refaccionariagonzalez.com/alta/A-C/BRAX20J57_1.jpg"}]
["2020-09-28T17:32:00",9,"BRNN0400","BRNN0400_1.jpg",{"$f":"+GetURL(D12012)","v":"https://www.refaccionariagonzalez.com/alta/A-C/BRNN0400_1.jpg"}]
["2020-09-28T17:46:00",9,"BRRK0112","BRRK0112_1.jpg",{"$f":"+GetURL(D12031)","v":"https://www.refaccionariagonzalez.com/alta/A-C/BRRK0112_1.jpg"}]
["2024-05-02T10:09:00",14,"BRU02M911023G","BRU02M911023G.jpg",{"$f":"+GetURL(D12043)","v":"https://www.refaccionariagonzalez.com/alta/A-C/BRU02M911023G.jpg"}]
["2020-09-28T17:58:00",13,"BRU026121133","BRU026121133_9.jpg",{"$f":"+GetURL(D12074)","v":"https://www.refaccionariagonzalez.com/alta/A-C/BRU026121133_9.jpg"}]
["2024-04-24T13:38:00",14,"BRU03C121008J","BRU03C121008J_2.jpg",{"$f":"+GetURL(D12093)","v":"https://www.refaccionariagonzalez.com/alta/A-C/BRU03C121008J_2.jpg"}]
["2020-10-08T17:15:00",13,"BRU03L906461","BRU03L906461.2.jpg",{"$f":"+GetURL(D12099)","v":"https://www.refaccionariagonzalez.com/alta/A-C/BRU03L906461.2.jpg"}]
["2020-09-28T18:32:00",14,"BRU032103170A","BRU032103170A_2.jpg",{"$f":"+GetURL(D12116)","v":"https://www.refaccionariagonzalez.com/alta/A-C/BRU032103170A_2.jpg"}]
["2024-04-24T17:53:00",14,"BRU036103085G","BRU036103085G.jpg",{"$f":"+GetURL(D12142)","v":"https://www.refaccionariagonzalez.com/alta/A-C/BRU036103085G.jpg"}]
["2020-09-28T17:11:00",14,"BRU037905205J","BRU037905205J_3.jpg",{"$f":"+GetURL(D12161)","v":"https://www.refaccionariagonzalez.com/alta/A-C/BRU037905205J_3.jpg"}]
["2024-04-25T10:01:00",14,"BRU04E121112G","BRU04E121112G.png",{"$f":"+GetURL(D12185)","v":"https://www.refaccionariagonzalez.com/alta/A-C/BRU04E121112G.png"}]
["2020-09-28T18:26:00",14,"BRU043905205M","BRU043905205M_6.jpg",{"$f":"+GetURL(D12204)","v":"https://www.refaccionariagonzalez.com/alta/A-C/BRU043905205M_6.jpg"}]
["2020-09-28T18:14:00",14,"BRU055905225B","BRU055905225B_1.jpg",{"$f":"+GetURL(D12223)","v":"https://www.refaccionariagonzalez.com/alta/A-C/BRU055905225B_1.jpg"}]
["2020-09-28T16:40:00",14,"BRU06A109105C","BRU06A109105C_8.jpg",{"$f":"+GetURL(D12236)","v":"https://www.refaccionariagonzalez.com/alta/A-C/BRU06A109105C_8.jpg"}]
["2020-09-28T17:20:00",14,"BRU06B109243D","BRU06B109243D_2.jpg",{"$f":"+GetURL(D12247)","v":"https://www.refaccionariagonzalez.com/alta/A-C/BRU06B109243D_2.jpg"}]
["2024-04-24T13:50:00",14,"BRU06H103085G","BRU06H103085G.jpg",{"$f":"+GetURL(D12266)","v":"https://www.refaccionariagonzalez.com/alta/A-C/BRU06H103085G.jpg"}]
["2024-04-24T18:28:00",14,"BRU06J906461B","BRU06J906461B.jpg",{"$f":"+GetURL(D12291)","v":"https://www.refaccionariagonzalez.com/alta/A-C/BRU06J906461B.jpg"}]
["2024-04-24T18:28:00",14,"BRU07K121115C","BRU07K121115C.jpg",{"$f":"+GetURL(D12313)","v":"https://www.refaccionariagonzalez.com/alta/A-C/BRU07K121115C.jpg"}]
["2020-09-28T18:29:00",13,"BRU084409197","BRU084409197_9.jpg",{"$f":"+GetURL(D12328)","v":"https://www.refaccionariagonzalez.com/alta/A-C/BRU084409197_9.jpg"}]
["2024-04-25T09:46:00",13,"BRU1H0611701","BRU1H0611701.jpg",{"$f":"+GetURL(D12353)","v":"https://www.refaccionariagonzalez.com/alta/A-C/BRU1H0611701.jpg"}]
["2020-09-28T18:07:00",14,"BRU1HM103493A","BRU1HM103493A_1.jpg",{"$f":"+GetURL(D12364)","v":"https://www.refaccionariagonzalez.com/alta/A-C/BRU1HM103493A_1.jpg"}]
["2024-04-24T13:25:00",17,"BRU1J0422812BEUR","BRU1J0422812BEUR.jpg",{"$f":"+GetURL(D12390)","v":"https://www.refaccionariagonzalez.com/alta/A-C/BRU1J0422812BEUR.jpg"}]
["2020-09-28T17:19:00",14,"BRU1J0820411D","BRU1J0820411D_1.jpg",{"$f":"+GetURL(D12396)","v":"https://www.refaccionariagonzalez.com/alta/A-C/BRU1J0820411D_1.jpg"}]
["2020-09-28T17:45:00",17,"BRU1K0-721-261BF","BRU1K0-721-261BF_8.jpg",{"$f":"+GetURL(D12415)","v":"https://www.refaccionariagonzalez.com/alta/A-C/BRU1K0-721-261BF_8.jpg"}]
["2024-04-24T14:20:00",17,"BRU1K0407151PEUR","BRU1K0407151PEUR.jpg",{"$f":"+GetURL(D12439)","v":"https://www.refaccionariagonzalez.com/alta/A-C/BRU1K0407151PEUR.jpg"}]
["2024-04-25T10:33:00",17,"BRU1K0498099MACH","BRU1K0498099MACH.jpg",{"$f":"+GetURL(D12458)","v":"https://www.refaccionariagonzalez.com/alta/A-C/BRU1K0498099MACH.jpg"}]
["2024-04-24T13:50:00",{"$f":"+FIND(\".\",D12477)","v":13},"BRU1K1819015","BRU1K1819015.jpg",{"$f":"+GetURL(D12477)","v":"https://www.refaccionariagonzalez.com/alta/A-C/BRU1K1819015.jpg"}]
["2024-04-24T14:46:00",17,"BRU2S6J3290ACEUR","BRU2S6J3290ACEUR.jpg",{"$f":"+GetURL(D12492)","v":"https://www.refaccionariagonzalez.com/alta/A-C/BRU2S6J3290ACEUR.jpg"}]
["2024-01-05T08:48:00",18,"BRU5Q0501529FEUR ","BRU5Q0501529FEUR _2.jpg",{"$f":"+GetURL(D12520)","v":"https://www.refaccionariagonzalez.com/alta/A-C/BRU5Q0501529FEUR _2.jpg"}]
["2024-05-08T08:27:00",14,"BRU5U0959455A","BRU5U0959455A.jpg",{"$f":"+GetURL(D12545)","v":"https://www.refaccionariagonzalez.com/alta/A-C/BRU5U0959455A.jpg"}]
["2020-09-28T16:41:00",13,"BRU5X0412113","BRU5X0412113_1.jpg",{"$f":"+GetURL(D12561)","v":"https://www.refaccionariagonzalez.com/alta/A-C/BRU5X0412113_1.jpg"}]
["2020-09-28T17:22:00",14,"BRU6K0611019G","BRU6K0611019G_2.jpg",{"$f":"+GetURL(D12582)","v":"https://www.refaccionariagonzalez.com/alta/A-C/BRU6K0611019G_2.jpg"}]
["2020-09-28T18:21:00",14,"BRU6K6827550A","BRU6K6827550A_1.jpg",{"$f":"+GetURL(D12588)","v":"https://www.refaccionariagonzalez.com/alta/A-C/BRU6K6827550A_1.jpg"}]
["2020-09-28T17:50:00",13,"BRU6Q0407621","BRU6Q0407621_1.jpg",{"$f":"+GetURL(D12612)","v":"https://www.refaccionariagonzalez.com/alta/A-C/BRU6Q0407621_1.jpg"}]
["2024-04-25T10:01:00",13,"BRU6Q0501117","BRU6Q0501117.png",{"$f":"+GetURL(D12625)","v":"https://www.refaccionariagonzalez.com/alta/A-C/BRU6Q0501117.png"}]
["2024-05-07T08:05:00",{"$f":"+FIND(\".\",D12650)","v":17},"BRU6QE419810EURO","BRU6QE419810EURO.jpg",{"$f":"+GetURL(D12650)","v":"https://www.refaccionariagonzalez.com/alta/A-C/BRU6QE419810EURO.jpg"}]
["2024-05-07T08:05:00",17,"BRU6RD423810EURO","BRU6RD423810EURO.jpg",{"$f":"+GetURL(D12663)","v":"https://www.refaccionariagonzalez.com/alta/A-C/BRU6RD423810EURO.jpg"}]
["2022-04-30T08:24:00",13,"BRU8Z0820535","BRU8Z0820535_1.jpg",{"$f":"+GetURL(D12693)","v":"https://www.refaccionariagonzalez.com/alta/A-C/BRU8Z0820535_1.jpg"}]
["2024-05-07T08:05:00",{"$f":"+FIND(\".\",D12712)","v":14},"BRU10101EN200","BRU10101EN200.jpg",{"$f":"+GetURL(D12712)","v":"https://www.refaccionariagonzalez.com/alta/A-C/BRU10101EN200.jpg"}]
["2024-04-24T17:53:00",{"$f":"+FIND(\".\",D12731)","v":14},"BRU11826ET000","BRU11826ET000.jpg",{"$f":"+GetURL(D12731)","v":"https://www.refaccionariagonzalez.com/alta/A-C/BRU11826ET000.jpg"}]
["2024-01-08T08:42:00",15,"BRU13049F4300 ","BRU13049F4300 _5.jpg",{"$f":"+GetURL(D12740)","v":"https://www.refaccionariagonzalez.com/alta/A-C/BRU13049F4300 _5.jpg"}]
["2020-09-28T18:50:00",14,"BRU21010VW126","BRU21010VW126_8.jpg",{"$f":"+GetURL(D12755)","v":"https://www.refaccionariagonzalez.com/alta/A-C/BRU21010VW126_8.jpg"}]
["2020-09-28T18:12:00",14,"BRU23796ZE00C","BRU23796ZE00C.1.jpg",{"$f":"+GetURL(D12780)","v":"https://www.refaccionariagonzalez.com/alta/A-C/BRU23796ZE00C.1.jpg"}]
["2024-04-24T12:27:00",14,"BRU27226E050A","BRU27226E050A.jpg",{"$f":"+GetURL(D12791)","v":"https://www.refaccionariagonzalez.com/alta/A-C/BRU27226E050A.jpg"}]
["2024-04-24T12:28:00",17,"BRU39710X08G0MAC","BRU39710X08G0MAC_2.jpg",{"$f":"+GetURL(D12817)","v":"https://www.refaccionariagonzalez.com/alta/A-C/BRU39710X08G0MAC_2.jpg"}]
["2024-05-17T09:07:00",14,"BRU46211VN20A","BRU46211VN20A.jpg",{"$f":"+GetURL(D12842)","v":"https://www.refaccionariagonzalez.com/alta/A-C/BRU46211VN20A.jpg"}]
["2024-04-24T17:53:00",17,"BRU48630C07G0EUR","BRU48630C07G0EUR_2.jpg",{"$f":"+GetURL(D12860)","v":"https://www.refaccionariagonzalez.com/alta/A-C/BRU48630C07G0EUR_2.jpg"}]
["2024-04-24T14:20:00",14,"BRU111403RC0A","BRU111403RC0A.jpg",{"$f":"+GetURL(D12879)","v":"https://www.refaccionariagonzalez.com/alta/A-C/BRU111403RC0A.jpg"}]
["2024-04-24T13:50:00",14,"BRU112201HA0B","BRU112201HA0B.jpg",{"$f":"+GetURL(D12885)","v":"https://www.refaccionariagonzalez.com/alta/A-C/BRU112201HA0B.jpg"}]
["2024-01-18T17:34:00",15,"BRU130483HC0A ","BRU130483HC0A _2.jpg",{"$f":"+GetURL(D12904)","v":"https://www.refaccionariagonzalez.com/alta/A-C/BRU130483HC0A _2.jpg"}]
["2020-10-08T14:19:00",14,"BRU226807S000","BRU226807S000.3.jpg",{"$f":"+GetURL(D12937)","v":"https://www.refaccionariagonzalez.com/alta/A-C/BRU226807S000.3.jpg"}]
["2024-04-25T10:34:00",{"$f":"+FIND(\".\",D12947)","v":14},"BRU311111G500","BRU311111G500.jpg",{"$f":"+GetURL(D12947)","v":"https://www.refaccionariagonzalez.com/alta/A-C/BRU311111G500.jpg"}]
["2024-04-24T14:20:00",14,"BRU462101HK5A","BRU462101HK5A.jpg",{"$f":"+GetURL(D12966)","v":"https://www.refaccionariagonzalez.com/alta/A-C/BRU462101HK5A.jpg"}]
["2024-04-24T13:00:00",15,"BRU485211HK02A","BRU485211HK02A.jpg",{"$f":"+GetURL(D12988)","v":"https://www.refaccionariagonzalez.com/alta/A-C/BRU485211HK02A.jpg"}]
["2020-09-28T17:12:00",10,"BRU610835","BRU610835_9.jpg",{"$f":"+GetURL(D13009)","v":"https://www.refaccionariagonzalez.com/alta/A-C/BRU610835_9.jpg"}]
["2024-04-25T10:17:00",14,"BRU1104474Y00","BRU1104474Y00.jpg",{"$f":"+GetURL(D13028)","v":"https://www.refaccionariagonzalez.com/alta/A-C/BRU1104474Y00.jpg"}]
["2024-04-24T13:00:00",14,"BRU1192000QAB","BRU1192000QAB.jpg",{"$f":"+GetURL(D13039)","v":"https://www.refaccionariagonzalez.com/alta/A-C/BRU1192000QAB.jpg"}]
["2024-01-04T09:37:00",15,"BRU1704259G00 ","BRU1704259G00 _3.jpg",{"$f":"+GetURL(D13052)","v":"https://www.refaccionariagonzalez.com/alta/A-C/BRU1704259G00 _3.jpg"}]
["2020-09-28T18:06:00",14,"BRU2375000QAO","BRU2375000QAO_3.jpg",{"$f":"+GetURL(D13077)","v":"https://www.refaccionariagonzalez.com/alta/A-C/BRU2375000QAO_3.jpg"}]
["2020-09-28T17:10:00",14,"BRU4410000QAA","BRU4410000QAA_1.jpg",{"$f":"+GetURL(D13096)","v":"https://www.refaccionariagonzalez.com/alta/A-C/BRU4410000QAA_1.jpg"}]
["2024-04-24T13:26:00",{"$f":"+FIND(\".\",D13112)","v":14},"BRU4621060A10","BRU4621060A10.jpg",{"$f":"+GetURL(D13112)","v":"https://www.refaccionariagonzalez.com/alta/A-C/BRU4621060A10.jpg"}]
["2020-09-28T17:58:00",14,"BRU8060650Y00","BRU8060650Y00_1.jpg",{"$f":"+GetURL(D13139)","v":"https://www.refaccionariagonzalez.com/alta/A-C/BRU8060650Y00_1.jpg"}]
["2024-04-24T13:50:00",{"$f":"+FIND(\".\",D13158)","v":12},"BRU13500590","BRU13500590.jpg",{"$f":"+GetURL(D13158)","v":"https://www.refaccionariagonzalez.com/alta/A-C/BRU13500590.jpg"}]
["2024-04-24T13:00:00",16,"BRU19141981EURO","BRU19141981EURO.jpg",{"$f":"+GetURL(D13167)","v":"https://www.refaccionariagonzalez.com/alta/A-C/BRU19141981EURO.jpg"}]
["2024-05-09T08:05:00",12,"BRU24445173","BRU24445173.jpg",{"$f":"+GetURL(D13182)","v":"https://www.refaccionariagonzalez.com/alta/A-C/BRU24445173.jpg"}]
["2020-09-28T17:01:00",12,"BRU25189002","BRU25189002_3.jpg",{"$f":"+GetURL(D13201)","v":"https://www.refaccionariagonzalez.com/alta/A-C/BRU25189002_3.jpg"}]
["2024-04-24T12:22:00",{"$f":"+FIND(\".\",D13236)","v":12},"BRU55564395","BRU55564395.jpg",{"$f":"+GetURL(D13236)","v":"https://www.refaccionariagonzalez.com/alta/A-C/BRU55564395.jpg"}]
["2024-01-09T09:19:00",13,"BRU55566404 ","BRU55566404 _3.jpg",{"$f":"+GetURL(D13244)","v":"https://www.refaccionariagonzalez.com/alta/A-C/BRU55566404 _3.jpg"}]
["2024-04-24T18:29:00",12,"BRU86535162","BRU86535162.jpg",{"$f":"+GetURL(D13263)","v":"https://www.refaccionariagonzalez.com/alta/A-C/BRU86535162.jpg"}]
["2020-09-28T17:55:00",12,"BRU90451442","BRU90451442_1.jpg",{"$f":"+GetURL(D13287)","v":"https://www.refaccionariagonzalez.com/alta/A-C/BRU90451442_1.jpg"}]
["2024-04-24T14:35:00",12,"BRU93182264","BRU93182264.jpg",{"$f":"+GetURL(D13306)","v":"https://www.refaccionariagonzalez.com/alta/A-C/BRU93182264.jpg"}]
["2020-09-28T16:59:00",13,"BRU93231079A","BRU93231079A_1.jpg",{"$f":"+GetURL(D13312)","v":"https://www.refaccionariagonzalez.com/alta/A-C/BRU93231079A_1.jpg"}]
["2020-09-28T18:42:00",12,"BRU93396483","BRU93396483_2.jpg",{"$f":"+GetURL(D13331)","v":"https://www.refaccionariagonzalez.com/alta/A-C/BRU93396483_2.jpg"}]
["2024-01-09T09:19:00",13,"BRU95161622 ","BRU95161622 _2.jpg",{"$f":"+GetURL(D13360)","v":"https://www.refaccionariagonzalez.com/alta/A-C/BRU95161622 _2.jpg"}]
["2024-04-25T10:13:00",17,"BRU95228685-MACH","BRU95228685-MACH.jpg",{"$f":"+GetURL(D13374)","v":"https://www.refaccionariagonzalez.com/alta/A-C/BRU95228685-MACH.jpg"}]
["2024-04-25T10:34:00",12,"BRU95493722","BRU95493722.jpg",{"$f":"+GetURL(D13393)","v":"https://www.refaccionariagonzalez.com/alta/A-C/BRU95493722.jpg"}]
["2020-10-08T14:19:00",12,"BRU96183228","BRU96183228.1.jpg",{"$f":"+GetURL(D13411)","v":"https://www.refaccionariagonzalez.com/alta/A-C/BRU96183228.1.jpg"}]
["2024-04-24T13:26:00",17,"BRU96407485-EURO","BRU96407485-EURO.jpg",{"$f":"+GetURL(D13436)","v":"https://www.refaccionariagonzalez.com/alta/A-C/BRU96407485-EURO.jpg"}]
["2020-09-28T17:48:00",12,"BRU96462709","BRU96462709_1.jpg",{"$f":"+GetURL(D13455)","v":"https://www.refaccionariagonzalez.com/alta/A-C/BRU96462709_1.jpg"}]
["2024-04-24T14:20:00",{"$f":"+FIND(\".\",D13466)","v":12},"BRU96471274","BRU96471274.jpg",{"$f":"+GetURL(D13466)","v":"https://www.refaccionariagonzalez.com/alta/A-C/BRU96471274.jpg"}]
["2024-04-25T10:17:00",12,"BRU96540683","BRU96540683.jpg",{"$f":"+GetURL(D13498)","v":"https://www.refaccionariagonzalez.com/alta/A-C/BRU96540683.jpg"}]
["2022-06-10T13:47:00",12,"BRU96808460","BRU96808460_4.jpg",{"$f":"+GetURL(D13517)","v":"https://www.refaccionariagonzalez.com/alta/A-C/BRU96808460_4.jpg"}]
["2024-04-24T14:20:00",{"$f":"+FIND(\".\",D13523)","v":12},"BRU96843553","BRU96843553.jpg",{"$f":"+GetURL(D13523)","v":"https://www.refaccionariagonzalez.com/alta/A-C/BRU96843553.jpg"}]
["2024-04-25T09:40:00",13,"BRU111598021","BRU111598021_2.jpg",{"$f":"+GetURL(D13539)","v":"https://www.refaccionariagonzalez.com/alta/A-C/BRU111598021_2.jpg"}]
["2020-09-28T17:49:00",13,"BRU171419063","BRU171419063_4.jpg",{"$f":"+GetURL(D13566)","v":"https://www.refaccionariagonzalez.com/alta/A-C/BRU171419063_4.jpg"}]
["2020-09-28T16:45:00",14,"BRU191407271Q","BRU191407271Q_9.jpg",{"$f":"+GetURL(D13585)","v":"https://www.refaccionariagonzalez.com/alta/A-C/BRU191407271Q_9.jpg"}]
["2024-04-24T12:22:00",17,"BRU191512131BPOL","BRU191512131BPOL.jpg",{"$f":"+GetURL(D13608)","v":"https://www.refaccionariagonzalez.com/alta/A-C/BRU191512131BPOL.jpg"}]
["2024-04-24T15:08:00",17,"BRU211415701DEUR","BRU211415701DEUR_2.jpg",{"$f":"+GetURL(D13628)","v":"https://www.refaccionariagonzalez.com/alta/A-C/BRU211415701DEUR_2.jpg"}]
["2024-05-02T08:44:00",17,"BRU321407331MACH","BRU321407331MACH.jpg",{"$f":"+GetURL(D13647)","v":"https://www.refaccionariagonzalez.com/alta/A-C/BRU321407331MACH.jpg"}]
["2020-09-28T18:35:00",14,"BRU357611019A","BRU357611019A_3.jpg",{"$f":"+GetURL(D13659)","v":"https://www.refaccionariagonzalez.com/alta/A-C/BRU357611019A_3.jpg"}]
["2024-04-24T17:53:00",17,"BRU373919051AA-R","BRU373919051AA-R.jpg",{"$f":"+GetURL(D13671)","v":"https://www.refaccionariagonzalez.com/alta/A-C/BRU373919051AA-R.jpg"}]
["2020-09-28T17:20:00",14,"BRU377611015B","BRU377611015B_9.jpg",{"$f":"+GetURL(D13690)","v":"https://www.refaccionariagonzalez.com/alta/A-C/BRU377611015B_9.jpg"}]
["2020-09-28T18:02:00",14,"BRU701419081A","BRU701419081A_2.jpg",{"$f":"+GetURL(D13715)","v":"https://www.refaccionariagonzalez.com/alta/A-C/BRU701419081A_2.jpg"}]
["2024-04-24T15:00:00",{"$f":"+FIND(\".\",D13736)","v":14},"BRU2730102600","BRU2730102600.jpg",{"$f":"+GetURL(D13736)","v":"https://www.refaccionariagonzalez.com/alta/A-C/BRU2730102600.jpg"}]
["2020-09-28T17:58:00",14,"BRU3931002600","BRU3931002600_2.jpg",{"$f":"+GetURL(D13752)","v":"https://www.refaccionariagonzalez.com/alta/A-C/BRU3931002600_2.jpg"}]
["2020-09-28T18:49:00",14,"BRU9311002000","BRU9311002000_2.jpg",{"$f":"+GetURL(D13777)","v":"https://www.refaccionariagonzalez.com/alta/A-C/BRU9311002000_2.jpg"}]
["2024-04-24T15:08:00",17,"BRUBE8Z3280AEURO","BRUBE8Z3280AEURO.jpg",{"$f":"+GetURL(D13787)","v":"https://www.refaccionariagonzalez.com/alta/A-C/BRUBE8Z3280AEURO.jpg"}]
["2020-09-28T18:13:00",16,"BRUCK027905205L","BRUCK027905205L_9.jpg",{"$f":"+GetURL(D13801)","v":"https://www.refaccionariagonzalez.com/alta/A-C/BRUCK027905205L_9.jpg"}]
["2020-09-28T18:18:00",17,"BRUCK1H0919051AK","BRUCK1H0919051AK_9.jpg",{"$f":"+GetURL(D13820)","v":"https://www.refaccionariagonzalez.com/alta/A-C/BRUCK1H0919051AK_9.jpg"}]
["2020-09-28T16:58:00",10,"BRUCK1600","BRUCK1600_9.jpg",{"$f":"+GetURL(D13838)","v":"https://www.refaccionariagonzalez.com/alta/A-C/BRUCK1600_9.jpg"}]
["2020-09-28T18:01:00",16,"BRUCK1133112691","BRUCK1133112691_1.jpg",{"$f":"+GetURL(D13863)","v":"https://www.refaccionariagonzalez.com/alta/A-C/BRUCK1133112691_1.jpg"}]
["2024-05-02T08:44:00",17,"BRUEE8212D1107CE","BRUEE8212D1107CE.jpg",{"$f":"+GetURL(D13882)","v":"https://www.refaccionariagonzalez.com/alta/A-C/BRUEE8212D1107CE.jpg"}]
["2024-04-25T10:22:00",{"$f":"+FIND(\".\",D13907)","v":17},"BRUXS614K258AAMA","BRUXS614K258AAMA.jpg",{"$f":"+GetURL(D13907)","v":"https://www.refaccionariagonzalez.com/alta/A-C/BRUXS614K258AAMA.jpg"}]
["2020-09-28T18:00:00",7,"BS0707","BS0707_2.jpg",{"$f":"+GetURL(D13925)","v":"https://www.refaccionariagonzalez.com/alta/A-C/BS0707_2.jpg"}]
["2020-09-28T17:22:00",14,"BSH0101302111","BSH0101302111_1.jpg",{"$f":"+GetURL(D13944)","v":"https://www.refaccionariagonzalez.com/alta/A-C/BSH0101302111_1.jpg"}]
["2020-09-28T17:13:00",14,"BSH0140551891","BSH0140551891_1.jpg",{"$f":"+GetURL(D13950)","v":"https://www.refaccionariagonzalez.com/alta/A-C/BSH0140551891_1.jpg"}]
["2020-09-28T17:06:00",14,"BSH0280218002","BSH0280218002_2.jpg",{"$f":"+GetURL(D13984)","v":"https://www.refaccionariagonzalez.com/alta/A-C/BSH0280218002_2.jpg"}]
["2020-09-28T18:12:00",14,"BSH0280218002","BSH0280218002_7.jpg",{"$f":"+GetURL(D13987)","v":"https://www.refaccionariagonzalez.com/alta/A-C/BSH0280218002_7.jpg"}]
["2020-09-28T17:11:00",14,"BSH0450905280","BSH0450905280_1.jpg",{"$f":"+GetURL(D14012)","v":"https://www.refaccionariagonzalez.com/alta/A-C/BSH0450905280_1.jpg"}]
["2020-09-28T16:42:00",14,"BSH0986MG2601","BSH0986MG2601_9.jpg",{"$f":"+GetURL(D14035)","v":"https://www.refaccionariagonzalez.com/alta/A-C/BSH0986MG2601_9.jpg"}]
["2020-09-28T17:58:00",7,"BSH400","BSH400_9.jpg",{"$f":"+GetURL(D14049)","v":"https://www.refaccionariagonzalez.com/alta/A-C/BSH400_9.jpg"}]
["2020-09-28T18:07:00",8,"BSH4819","BSH4819_9.jpg",{"$f":"+GetURL(D14074)","v":"https://www.refaccionariagonzalez.com/alta/A-C/BSH4819_9.jpg"}]
["2020-09-28T18:09:00",8,"BSH4824","BSH4824_1.jpg",{"$f":"+GetURL(D14086)","v":"https://www.refaccionariagonzalez.com/alta/A-C/BSH4824_1.jpg"}]
["2020-09-28T18:19:00",9,"BSH12014","BSH12014_1.jpg",{"$f":"+GetURL(D14098)","v":"https://www.refaccionariagonzalez.com/alta/A-C/BSH12014_1.jpg"}]
["2020-09-28T16:51:00",13,"BSH332019110","BSH332019110_1.jpg",{"$f":"+GetURL(D14117)","v":"https://www.refaccionariagonzalez.com/alta/A-C/BSH332019110_1.jpg"}]
["2020-09-28T17:27:00",14,"BSH3032119150","BSH3032119150_2.jpg",{"$f":"+GetURL(D14136)","v":"https://www.refaccionariagonzalez.com/alta/A-C/BSH3032119150_2.jpg"}]
["2020-09-28T17:26:00",14,"BSH9008042136","BSH9008042136_1.jpg",{"$f":"+GetURL(D14163)","v":"https://www.refaccionariagonzalez.com/alta/A-C/BSH9008042136_1.jpg"}]
["2020-09-28T18:27:00",14,"BSH9130451171","BSH9130451171_9.jpg",{"$f":"+GetURL(D14179)","v":"https://www.refaccionariagonzalez.com/alta/A-C/BSH9130451171_9.jpg"}]
["2020-09-28T17:05:00",14,"BSH9231081575","BSH9231081575_9.jpg",{"$f":"+GetURL(D14204)","v":"https://www.refaccionariagonzalez.com/alta/A-C/BSH9231081575_9.jpg"}]
["2020-09-28T18:33:00",14,"BSH9330043502","BSH9330043502_9.jpg",{"$f":"+GetURL(D14214)","v":"https://www.refaccionariagonzalez.com/alta/A-C/BSH9330043502_9.jpg"}]
["2020-09-28T18:00:00",9,"BSHHR9BP","BSHHR9BP_9.jpg",{"$f":"+GetURL(D14241)","v":"https://www.refaccionariagonzalez.com/alta/A-C/BSHHR9BP_9.jpg"}]
["2020-09-28T17:03:00",8,"BSHW8AP","BSHW8AP_9.jpg",{"$f":"+GetURL(D14247)","v":"https://www.refaccionariagonzalez.com/alta/A-C/BSHW8AP_9.jpg"}]
["2020-09-28T18:18:00",6,"BUJ18","BUJ18_1.jpg",{"$f":"+GetURL(D14283)","v":"https://www.refaccionariagonzalez.com/alta/A-C/BUJ18_1.jpg"}]
["2020-09-28T17:18:00",6,"BUJ18","BUJ18_2.jpg",{"$f":"+GetURL(D14284)","v":"https://www.refaccionariagonzalez.com/alta/A-C/BUJ18_2.jpg"}]
["2020-09-28T18:34:00",9,"BUJ212_1","BUJ212_1.jpg",{"$f":"+GetURL(D14309)","v":"https://www.refaccionariagonzalez.com/alta/A-C/BUJ212_1.jpg"}]
["2020-09-28T17:59:00",11,"BUJ1900M_2","BUJ1900M_2.jpg",{"$f":"+GetURL(D14328)","v":"https://www.refaccionariagonzalez.com/alta/A-C/BUJ1900M_2.jpg"}]
["2020-09-28T18:25:00",10,"BUJE003_9","BUJE003_9.jpg",{"$f":"+GetURL(D14342)","v":"https://www.refaccionariagonzalez.com/alta/A-C/BUJE003_9.jpg"}]
["2020-09-28T17:10:00",11,"BUNVW500_1","BUNVW500_1.jpg",{"$f":"+GetURL(D14371)","v":"https://www.refaccionariagonzalez.com/alta/A-C/BUNVW500_1.jpg"}]
["2021-12-03T10:02:00",14,"C-006447M3_02","C-006447M3_02.jpg",{"$f":"+GetURL(D14390)","v":"https://www.refaccionariagonzalez.com/alta/A-C/C-006447M3_02.jpg"}]
["2021-12-03T10:03:00",11,"C-020112N5","C-020112N5_01.jpg",{"$f":"+GetURL(D14411)","v":"https://www.refaccionariagonzalez.com/alta/A-C/C-020112N5_01.jpg"}]
["2022-06-03T15:42:00",11,"C-038222M3","C-038222M3_1.jpg",{"$f":"+GetURL(D14433)","v":"https://www.refaccionariagonzalez.com/alta/A-C/C-038222M3_1.jpg"}]
["2022-01-03T18:07:00",11,"C-042200B9","C-042200B9_01.jpg",{"$f":"+GetURL(D14439)","v":"https://www.refaccionariagonzalez.com/alta/A-C/C-042200B9_01.jpg"}]
["2021-12-03T10:04:00",14,"C-049415M3_01","C-049415M3_01.jpg",{"$f":"+GetURL(D14462)","v":"https://www.refaccionariagonzalez.com/alta/A-C/C-049415M3_01.jpg"}]
["2021-12-03T10:04:00",14,"C-185005M3_01","C-185005M3_01.jpg",{"$f":"+GetURL(D14476)","v":"https://www.refaccionariagonzalez.com/alta/A-C/C-185005M3_01.jpg"}]
["2021-12-03T10:04:00",14,"C-185114M3_01","C-185114M3_01.jpg",{"$f":"+GetURL(D14501)","v":"https://www.refaccionariagonzalez.com/alta/A-C/C-185114M3_01.jpg"}]
["2022-06-03T15:42:00",13,"C-186007M3_1","C-186007M3_1.jpg",{"$f":"+GetURL(D14513)","v":"https://www.refaccionariagonzalez.com/alta/A-C/C-186007M3_1.jpg"}]
["2021-12-03T10:05:00",14,"C-188007M3_01","C-188007M3_01.jpg",{"$f":"+GetURL(D14538)","v":"https://www.refaccionariagonzalez.com/alta/A-C/C-188007M3_01.jpg"}]
["2021-12-03T10:05:00",14,"C-189005M3_01","C-189005M3_01.jpg",{"$f":"+GetURL(D14563)","v":"https://www.refaccionariagonzalez.com/alta/A-C/C-189005M3_01.jpg"}]
["2021-12-03T10:05:00",14,"C-192004M3_05","C-192004M3_05.jpg",{"$f":"+GetURL(D14582)","v":"https://www.refaccionariagonzalez.com/alta/A-C/C-192004M3_05.jpg"}]
["2021-12-03T10:05:00",14,"C-193002M3_01","C-193002M3_01.jpg",{"$f":"+GetURL(D14590)","v":"https://www.refaccionariagonzalez.com/alta/A-C/C-193002M3_01.jpg"}]
["2022-06-03T15:43:00",13,"C-195001M3_2","C-195001M3_2.jpg",{"$f":"+GetURL(D14606)","v":"https://www.refaccionariagonzalez.com/alta/A-C/C-195001M3_2.jpg"}]
["2020-09-28T17:33:00",{"$f":"+FIND(\".\",D14625)","v":9},"C45-ES_1","C45-ES_1.jpg",{"$f":"+GetURL(D14625)","v":"https://www.refaccionariagonzalez.com/alta/A-C/C45-ES_1.jpg"}]
["2020-09-28T18:26:00",12,"C347PALCS_1","C347PALCS_1.jpg",{"$f":"+GetURL(D14641)","v":"https://www.refaccionariagonzalez.com/alta/A-C/C347PALCS_1.jpg"}]
["2020-09-28T18:36:00",12,"C440PARCS_4","C440PARCS_4.jpg",{"$f":"+GetURL(D14668)","v":"https://www.refaccionariagonzalez.com/alta/A-C/C440PARCS_4.jpg"}]
["2020-09-28T18:38:00",12,"C1796-STD_1","C1796-STD_1.jpg",{"$f":"+GetURL(D14687)","v":"https://www.refaccionariagonzalez.com/alta/A-C/C1796-STD_1.jpg"}]
["2020-09-28T17:08:00",12,"C5044-020_9","C5044-020_9.jpg",{"$f":"+GetURL(D14710)","v":"https://www.refaccionariagonzalez.com/alta/A-C/C5044-020_9.jpg"}]
["2020-09-28T18:24:00",7,"CA-6_1","CA-6_1.jpg",{"$f":"+GetURL(D14730)","v":"https://www.refaccionariagonzalez.com/alta/A-C/CA-6_1.jpg"}]
["2020-09-28T18:49:00",6,"CAB-1","CAB-1.6_1.jpg",{"$f":"+GetURL(D14736)","v":"https://www.refaccionariagonzalez.com/alta/A-C/CAB-1.6_1.jpg"}]
["2020-09-28T17:07:00",10,"CAB1150_9","CAB1150_9.jpg",{"$f":"+GetURL(D14755)","v":"https://www.refaccionariagonzalez.com/alta/A-C/CAB1150_9.jpg"}]
["2020-09-28T17:41:00",11,"CAHGM307_1","CAHGM307_1.jpg",{"$f":"+GetURL(D14783)","v":"https://www.refaccionariagonzalez.com/alta/A-C/CAHGM307_1.jpg"}]
["2020-09-28T18:09:00",11,"CAHHY601_9","CAHHY601_9.jpg",{"$f":"+GetURL(D14798)","v":"https://www.refaccionariagonzalez.com/alta/A-C/CAHHY601_9.jpg"}]
["2020-09-28T18:06:00",{"$f":"+FIND(\".\",D14817)","v":11},"CAHVW106_1","CAHVW106_1.jpg",{"$f":"+GetURL(D14817)","v":"https://www.refaccionariagonzalez.com/alta/A-C/CAHVW106_1.jpg"}]
["2020-09-28T17:23:00",11,"CAHVW119_9","CAHVW119_9.jpg",{"$f":"+GetURL(D14838)","v":"https://www.refaccionariagonzalez.com/alta/A-C/CAHVW119_9.jpg"}]
["2020-09-28T17:38:00",11,"CAHVW306_1","CAHVW306_1.jpg",{"$f":"+GetURL(D14860)","v":"https://www.refaccionariagonzalez.com/alta/A-C/CAHVW306_1.jpg"}]
["2020-09-28T16:58:00",11,"CAHVW353_9","CAHVW353_9.jpg",{"$f":"+GetURL(D14879)","v":"https://www.refaccionariagonzalez.com/alta/A-C/CAHVW353_9.jpg"}]
["2020-09-28T17:25:00",11,"CAHVW404_9","CAHVW404_9.jpg",{"$f":"+GetURL(D14889)","v":"https://www.refaccionariagonzalez.com/alta/A-C/CAHVW404_9.jpg"}]
["2020-09-28T17:20:00",11,"CAHVW526_1","CAHVW526_1.jpg",{"$f":"+GetURL(D14903)","v":"https://www.refaccionariagonzalez.com/alta/A-C/CAHVW526_1.jpg"}]
["2020-09-28T17:17:00",11,"CAHVW621_1","CAHVW621_1.jpg",{"$f":"+GetURL(D14922)","v":"https://www.refaccionariagonzalez.com/alta/A-C/CAHVW621_1.jpg"}]
["2020-09-28T16:50:00",11,"CAHVW802_9","CAHVW802_9.jpg",{"$f":"+GetURL(D14947)","v":"https://www.refaccionariagonzalez.com/alta/A-C/CAHVW802_9.jpg"}]
["2023-05-17T11:29:00",12,"CALEURO24_1","CALEURO24_1.jpg",{"$f":"+GetURL(D14962)","v":"https://www.refaccionariagonzalez.com/alta/A-C/CALEURO24_1.jpg"}]
["2020-09-28T18:10:00",13,"CANASTILLA_9","CANASTILLA_9.jpg",{"$f":"+GetURL(D14990)","v":"https://www.refaccionariagonzalez.com/alta/A-C/CANASTILLA_9.jpg"}]
["2020-09-28T17:45:00",{"$f":"+FIND(\".\",D15009)","v":13},"CARBON-327_4","CARBON-327_4.jpg",{"$f":"+GetURL(D15009)","v":"https://www.refaccionariagonzalez.com/alta/A-C/CARBON-327_4.jpg"}]
["2024-05-06T09:05:00",17,"CAS-ACTEVO-20W50","CAS-ACTEVO-20W50.jpg",{"$f":"+GetURL(D15031)","v":"https://www.refaccionariagonzalez.com/alta/A-C/CAS-ACTEVO-20W50.jpg"}]
["2024-02-23T13:08:00",{"$f":"+FIND(\"_\",D15033)","v":17},"CAS-HD40-GARRAFA","CAS-HD40-GARRAFA_2.jpg",{"$f":"+GetURL(D15033)","v":"https://www.refaccionariagonzalez.com/alta/A-C/CAS-HD40-GARRAFA_2.jpg"}]
["2024-05-10T08:07:00",9,"CAS20W50","CAS20W50.jpg",{"$f":"+GetURL(D15052)","v":"https://www.refaccionariagonzalez.com/alta/A-C/CAS20W50.jpg"}]
["2020-09-28T18:44:00",15,"CASMAGARR20W50","CASMAGARR20W50_1.jpg",{"$f":"+GetURL(D15082)","v":"https://www.refaccionariagonzalez.com/alta/A-C/CASMAGARR20W50_1.jpg"}]
["2020-09-28T17:10:00",8,"CASMOTO","CASMOTO_1.jpg",{"$f":"+GetURL(D15095)","v":"https://www.refaccionariagonzalez.com/alta/A-C/CASMOTO_1.jpg"}]
["2020-12-11T16:05:00",9,"CAU13497","CAU13497_3.jpg",{"$f":"+GetURL(D15114)","v":"https://www.refaccionariagonzalez.com/alta/A-C/CAU13497_3.jpg"}]
["2020-09-28T17:17:00",9,"CBFN0102","CBFN0102_1.jpg",{"$f":"+GetURL(D15137)","v":"https://www.refaccionariagonzalez.com/alta/A-C/CBFN0102_1.jpg"}]
["2020-09-28T18:03:00",9,"CBRN0122","CBRN0122_1.jpg",{"$f":"+GetURL(D15157)","v":"https://www.refaccionariagonzalez.com/alta/A-C/CBRN0122_1.jpg"}]
["2022-02-15T15:08:00",9,"CCJC0800","CCJC0800_3.png",{"$f":"+GetURL(D15176)","v":"https://www.refaccionariagonzalez.com/alta/A-C/CCJC0800_3.png"}]
["2020-09-28T18:23:00",9,"CCJF0200","CCJF0200_2.jpg",{"$f":"+GetURL(D15182)","v":"https://www.refaccionariagonzalez.com/alta/A-C/CCJF0200_2.jpg"}]
["2020-09-28T17:40:00",9,"CCJV0150","CCJV0150_4.jpg",{"$f":"+GetURL(D15210)","v":"https://www.refaccionariagonzalez.com/alta/A-C/CCJV0150_4.jpg"}]
["2020-09-28T16:59:00",{"$f":"+FIND(\"_\",D15225)","v":9},"CCMN1500","CCMN1500_2.jpg",{"$f":"+GetURL(D15225)","v":"https://www.refaccionariagonzalez.com/alta/A-C/CCMN1500_2.jpg"}]
["2023-12-28T09:04:00",13,"CDM11468256 ","CDM11468256 _1.jpg",{"$f":"+GetURL(D15244)","v":"https://www.refaccionariagonzalez.com/alta/A-C/CDM11468256 _1.jpg"}]
["2020-09-28T17:29:00",9,"CERN0151","CERN0151_9.jpg",{"$f":"+GetURL(D15261)","v":"https://www.refaccionariagonzalez.com/alta/A-C/CERN0151_9.jpg"}]
["2020-09-28T16:58:00",9,"CFGV0152","CFGV0152_1.jpg",{"$f":"+GetURL(D15287)","v":"https://www.refaccionariagonzalez.com/alta/A-C/CFGV0152_1.jpg"}]
["2020-09-28T17:08:00",15,"CFJN0901-PROMO","CFJN0901-PROMO_4.jpg",{"$f":"+GetURL(D15306)","v":"https://www.refaccionariagonzalez.com/alta/A-C/CFJN0901-PROMO_4.jpg"}]
["2020-09-28T18:22:00",9,"CFNC9921","CFNC9921_2.jpg",{"$f":"+GetURL(D15330)","v":"https://www.refaccionariagonzalez.com/alta/A-C/CFNC9921_2.jpg"}]
["2020-09-28T18:12:00",9,"CFRT0401","CFRT0401_1.jpg",{"$f":"+GetURL(D15349)","v":"https://www.refaccionariagonzalez.com/alta/A-C/CFRT0401_1.jpg"}]
["2020-09-28T17:00:00",9,"CFTT0412","CFTT0412_3.jpg",{"$f":"+GetURL(D15368)","v":"https://www.refaccionariagonzalez.com/alta/A-C/CFTT0412_3.jpg"}]
["2020-09-28T18:34:00",9,"CFTT0421","CFTT0421_4.jpg",{"$f":"+GetURL(D15374)","v":"https://www.refaccionariagonzalez.com/alta/A-C/CFTT0421_4.jpg"}]
["2020-09-28T18:14:00",8,"CH-137G","CH-137G_4.jpg",{"$f":"+GetURL(D15389)","v":"https://www.refaccionariagonzalez.com/alta/A-C/CH-137G_4.jpg"}]
["2020-09-28T17:04:00",10,"CH-WL-014","CH-WL-014_4.jpg",{"$f":"+GetURL(D15411)","v":"https://www.refaccionariagonzalez.com/alta/A-C/CH-WL-014_4.jpg"}]
["2020-09-28T18:02:00",8,"CHA7975","CHA7975_1.jpg",{"$f":"+GetURL(D15436)","v":"https://www.refaccionariagonzalez.com/alta/A-C/CHA7975_1.jpg"}]
["2020-09-28T16:58:00",13,"CHAKC8ZPYPB4","CHAKC8ZPYPB4_1.jpg",{"$f":"+GetURL(D15458)","v":"https://www.refaccionariagonzalez.com/alta/A-C/CHAKC8ZPYPB4_1.jpg"}]
["2020-09-28T18:19:00",9,"CHARC9YC","CHARC9YC_1.jpg",{"$f":"+GetURL(D15479)","v":"https://www.refaccionariagonzalez.com/alta/A-C/CHARC9YC_1.jpg"}]
["2024-05-08T08:27:00",12,"CHAREC10YC4","CHAREC10YC4.jpg",{"$f":"+GetURL(D15498)","v":"https://www.refaccionariagonzalez.com/alta/A-C/CHAREC10YC4.jpg"}]
["2020-09-28T18:33:00",11,"CHEVYEMB_1","CHEVYEMB_1.jpg",{"$f":"+GetURL(D15509)","v":"https://www.refaccionariagonzalez.com/alta/A-C/CHEVYEMB_1.jpg"}]
["2020-09-28T17:56:00",10,"CHISGUE_1","CHISGUE_1.jpg",{"$f":"+GetURL(D15522)","v":"https://www.refaccionariagonzalez.com/alta/A-C/CHISGUE_1.jpg"}]
["2024-02-01T18:24:00",12,"CIB325422_6","CIB325422_6.jpg",{"$f":"+GetURL(D15541)","v":"https://www.refaccionariagonzalez.com/alta/A-C/CIB325422_6.jpg"}]
["2024-05-06T09:05:00",6,"CIN20","CIN20.jpg",{"$f":"+GetURL(D15560)","v":"https://www.refaccionariagonzalez.com/alta/A-C/CIN20.jpg"}]
["2024-01-18T17:34:00",8,"CJ-28_2","CJ-28_2.jpg",{"$f":"+GetURL(D15586)","v":"https://www.refaccionariagonzalez.com/alta/A-C/CJ-28_2.jpg"}]
["2020-09-28T17:01:00",10,"CLAX004_9","CLAX004_9.jpg",{"$f":"+GetURL(D15603)","v":"https://www.refaccionariagonzalez.com/alta/A-C/CLAX004_9.jpg"}]
["2020-09-28T17:17:00",15,"CLECB780PSTD_1","CLECB780PSTD_1.jpg",{"$f":"+GetURL(D15628)","v":"https://www.refaccionariagonzalez.com/alta/A-C/CLECB780PSTD_1.jpg"}]
["2020-09-28T17:17:00",16,"CLECB1451P030_1","CLECB1451P030_1.jpg",{"$f":"+GetURL(D15637)","v":"https://www.refaccionariagonzalez.com/alta/A-C/CLECB1451P030_1.jpg"}]
["2020-09-28T18:50:00",16,"CLECB7005PSTD_1","CLECB7005PSTD_1.jpg",{"$f":"+GetURL(D15665)","v":"https://www.refaccionariagonzalez.com/alta/A-C/CLECB7005PSTD_1.jpg"}]
["2020-09-28T17:08:00",15,"CLEMS1157P20_1","CLEMS1157P20_1.jpg",{"$f":"+GetURL(D15671)","v":"https://www.refaccionariagonzalez.com/alta/A-C/CLEMS1157P20_1.jpg"}]
["2020-09-28T18:13:00",16,"CLEMS1949P010_2","CLEMS1949P010_2.jpg",{"$f":"+GetURL(D15688)","v":"https://www.refaccionariagonzalez.com/alta/A-C/CLEMS1949P010_2.jpg"}]
["2020-09-28T18:01:00",13,"CLESH1209S_1","CLESH1209S_1.jpg",{"$f":"+GetURL(D15708)","v":"https://www.refaccionariagonzalez.com/alta/A-C/CLESH1209S_1.jpg"}]
["2024-04-24T13:26:00",13,"CMD1146825_6","CMD1146825_6.jpg",{"$f":"+GetURL(D15733)","v":"https://www.refaccionariagonzalez.com/alta/A-C/CMD1146825_6.jpg"}]
["2024-04-24T17:53:00",14,"CMD15908801_2","CMD15908801_2.jpg",{"$f":"+GetURL(D15757)","v":"https://www.refaccionariagonzalez.com/alta/A-C/CMD15908801_2.jpg"}]
["2020-09-28T17:57:00",10,"CMT-142_2","CMT-142_2.jpg",{"$f":"+GetURL(D15776)","v":"https://www.refaccionariagonzalez.com/alta/A-C/CMT-142_2.jpg"}]
["2024-04-24T12:31:00",16,"CNRC0331PROMO_0","CNRC0331PROMO_0.jpg",{"$f":"+GetURL(D15795)","v":"https://www.refaccionariagonzalez.com/alta/A-C/CNRC0331PROMO_0.jpg"}]
["2020-09-28T18:32:00",9,"CO-323_1","CO-323_1.jpg",{"$f":"+GetURL(D15814)","v":"https://www.refaccionariagonzalez.com/alta/A-C/CO-323_1.jpg"}]
["2020-09-28T17:27:00",8,"CO722_2","CO722_2.jpg",{"$f":"+GetURL(D15834)","v":"https://www.refaccionariagonzalez.com/alta/A-C/CO722_2.jpg"}]
["2020-12-03T12:18:00",11,"COB31-WH_1","COB31-WH_1.jpg",{"$f":"+GetURL(D15838)","v":"https://www.refaccionariagonzalez.com/alta/A-C/COB31-WH_1.jpg"}]
["2020-09-28T18:33:00",11,"CONA3154_9","CONA3154_9.jpg",{"$f":"+GetURL(D15863)","v":"https://www.refaccionariagonzalez.com/alta/A-C/CONA3154_9.jpg"}]
["2020-09-28T17:18:00",12,"CONPCA620_9","CONPCA620_9.jpg",{"$f":"+GetURL(D15885)","v":"https://www.refaccionariagonzalez.com/alta/A-C/CONPCA620_9.jpg"}]
["2020-09-28T16:47:00",13,"COPA-URVAN_9","COPA-URVAN_9.jpg",{"$f":"+GetURL(D15900)","v":"https://www.refaccionariagonzalez.com/alta/A-C/COPA-URVAN_9.jpg"}]
["2024-05-17T08:47:00",9,"COR-ATOS","COR-ATOS.jpg",{"$f":"+GetURL(D15925)","v":"https://www.refaccionariagonzalez.com/alta/A-C/COR-ATOS.jpg"}]
["2022-06-03T15:43:00",14,"COR-PLEGMED_1","COR-PLEGMED_1.jpg",{"$f":"+GetURL(D15936)","v":"https://www.refaccionariagonzalez.com/alta/A-C/COR-PLEGMED_1.jpg"}]
["2020-09-28T16:40:00",11,"CPFN1300_9","CPFN1300_9.jpg",{"$f":"+GetURL(D15962)","v":"https://www.refaccionariagonzalez.com/alta/A-C/CPFN1300_9.jpg"}]
["2020-09-28T18:32:00",11,"CPGN0430_2","CPGN0430_2.jpg",{"$f":"+GetURL(D15968)","v":"https://www.refaccionariagonzalez.com/alta/A-C/CPGN0430_2.jpg"}]
["2020-09-28T17:14:00",11,"CPNV0700_3","CPNV0700_3.jpg",{"$f":"+GetURL(D15987)","v":"https://www.refaccionariagonzalez.com/alta/A-C/CPNV0700_3.jpg"}]
["2020-09-28T16:43:00",11,"CPYN1100_2","CPYN1100_2.jpg",{"$f":"+GetURL(D16013)","v":"https://www.refaccionariagonzalez.com/alta/A-C/CPYN1100_2.jpg"}]
["2020-09-28T18:51:00",11,"CQMN1500_1","CQMN1500_1.jpg",{"$f":"+GetURL(D16030)","v":"https://www.refaccionariagonzalez.com/alta/A-C/CQMN1500_1.jpg"}]
["2020-09-28T18:31:00",11,"CQRF0200_9","CQRF0200_9.jpg",{"$f":"+GetURL(D16049)","v":"https://www.refaccionariagonzalez.com/alta/A-C/CQRF0200_9.jpg"}]
["2024-05-06T09:39:00",12,"CRNC0810-OP","CRNC0810-OP.jpg",{"$f":"+GetURL(D16064)","v":"https://www.refaccionariagonzalez.com/alta/A-C/CRNC0810-OP.jpg"}]
["2020-09-28T17:04:00",9,"CS-976_9","CS-976_9.jpg",{"$f":"+GetURL(D16092)","v":"https://www.refaccionariagonzalez.com/alta/A-C/CS-976_9.jpg"}]
["2020-09-28T16:55:00",10,"CS-3063_9","CS-3063_9.jpg",{"$f":"+GetURL(D16098)","v":"https://www.refaccionariagonzalez.com/alta/A-C/CS-3063_9.jpg"}]
["2020-09-28T17:45:00",17,"CSJC0602-PROMO_1","CSJC0602-PROMO_1.jpg",{"$f":"+GetURL(D16133)","v":"https://www.refaccionariagonzalez.com/alta/A-C/CSJC0602-PROMO_1.jpg"}]
["2020-09-28T16:48:00",11,"CSJC0602_1","CSJC0602_1.jpg",{"$f":"+GetURL(D16135)","v":"https://www.refaccionariagonzalez.com/alta/A-C/CSJC0602_1.jpg"}]
["2020-09-28T18:27:00",11,"CSJC9912_2","CSJC9912_2.jpg",{"$f":"+GetURL(D16160)","v":"https://www.refaccionariagonzalez.com/alta/A-C/CSJC9912_2.jpg"}]
["2020-09-28T16:45:00",11,"CSJN0101_1","CSJN0101_1.jpg",{"$f":"+GetURL(D16179)","v":"https://www.refaccionariagonzalez.com/alta/A-C/CSJN0101_1.jpg"}]
["2020-09-28T17:14:00",11,"CSJV0151_1","CSJV0151_1.jpg",{"$f":"+GetURL(D16206)","v":"https://www.refaccionariagonzalez.com/alta/A-C/CSJV0151_1.jpg"}]
["2020-09-28T17:47:00",11,"CSJV0511_1","CSJV0511_1.jpg",{"$f":"+GetURL(D16222)","v":"https://www.refaccionariagonzalez.com/alta/A-C/CSJV0511_1.jpg"}]
["2020-09-28T18:27:00",17,"CSJV3112-PROMO_1","CSJV3112-PROMO_1.jpg",{"$f":"+GetURL(D16241)","v":"https://www.refaccionariagonzalez.com/alta/A-C/CSJV3112-PROMO_1.jpg"}]
["2020-09-28T18:35:00",11,"CTNN0102_1","CTNN0102_1.jpg",{"$f":"+GetURL(D16261)","v":"https://www.refaccionariagonzalez.com/alta/A-C/CTNN0102_1.jpg"}]
["2020-09-28T17:06:00",11,"CUBRE-05_1","CUBRE-05_1.jpg",{"$f":"+GetURL(D16284)","v":"https://www.refaccionariagonzalez.com/alta/A-C/CUBRE-05_1.jpg"}]
["2020-09-28T17:08:00",11,"CUBRE-12_9","CUBRE-12_9.jpg",{"$f":"+GetURL(D16303)","v":"https://www.refaccionariagonzalez.com/alta/A-C/CUBRE-12_9.jpg"}]
["2020-09-28T17:58:00",11,"CUP3-016_2","CUP3-016_2.jpg",{"$f":"+GetURL(D16312)","v":"https://www.refaccionariagonzalez.com/alta/A-C/CUP3-016_2.jpg"}]
["2020-09-28T17:13:00",11,"CV20088A_9","CV20088A_9.jpg",{"$f":"+GetURL(D16327)","v":"https://www.refaccionariagonzalez.com/alta/A-C/CV20088A_9.jpg"}]
["2020-09-28T18:28:00",10,"CVHY806_1","CVHY806_1.jpg",{"$f":"+GetURL(D16346)","v":"https://www.refaccionariagonzalez.com/alta/A-C/CVHY806_1.jpg"}]
["2020-09-28T17:25:00",9,"CVN058_1","CVN058_1.jpg",{"$f":"+GetURL(D16363)","v":"https://www.refaccionariagonzalez.com/alta/A-C/CVN058_1.jpg"}]
["2020-09-28T17:39:00",14,"D-803775BSK_9","D-803775BSK_9.jpg",{"$f":"+GetURL(D16389)","v":"https://www.refaccionariagonzalez.com/alta/D-F/D-803775BSK_9.jpg"}]
["2020-09-28T17:36:00",12,"D00013160_9","D00013160_9.jpg",{"$f":"+GetURL(D16414)","v":"https://www.refaccionariagonzalez.com/alta/D-F/D00013160_9.jpg"}]
["2020-09-28T17:05:00",4,"D08","D08.jpg",{"$f":"+GetURL(D16433)","v":"https://www.refaccionariagonzalez.com/alta/D-F/D08.jpg"}]
["2020-09-28T17:57:00",5,"D170","D170.jpg",{"$f":"+GetURL(D16436)","v":"https://www.refaccionariagonzalez.com/alta/D-F/D170.jpg"}]
["2020-09-28T18:12:00",8,"D6906_3","D6906_3.jpg",{"$f":"+GetURL(D16457)","v":"https://www.refaccionariagonzalez.com/alta/D-F/D6906_3.jpg"}]
["2020-09-28T17:03:00",8,"D7499_2","D7499_2.jpg",{"$f":"+GetURL(D16476)","v":"https://www.refaccionariagonzalez.com/alta/D-F/D7499_2.jpg"}]
["2024-05-16T08:47:00",15,"D8560-VK91ASFT","D8560-VK91ASFT.jpg",{"$f":"+GetURL(D16491)","v":"https://www.refaccionariagonzalez.com/alta/D-F/D8560-VK91ASFT.jpg"}]
["2023-12-28T09:04:00",13,"D11738284 _1","D11738284 _1.jpg",{"$f":"+GetURL(D16519)","v":"https://www.refaccionariagonzalez.com/alta/D-F/D11738284 _1.jpg"}]
["2020-09-28T17:30:00",12,"D70475780_9","D70475780_9.jpg",{"$f":"+GetURL(D16538)","v":"https://www.refaccionariagonzalez.com/alta/D-F/D70475780_9.jpg"}]
["2024-01-26T15:09:00",13,"DB3564ENSB_1","DB3564ENSB_1.jpg",{"$f":"+GetURL(D16560)","v":"https://www.refaccionariagonzalez.com/alta/D-F/DB3564ENSB_1.jpg"}]
["2020-09-28T17:24:00",11,"DBRT0400_9","DBRT0400_9.jpg",{"$f":"+GetURL(D16581)","v":"https://www.refaccionariagonzalez.com/alta/D-F/DBRT0400_9.jpg"}]
["2020-09-28T18:41:00",9,"DECO09_1","DECO09_1.jpg",{"$f":"+GetURL(D16600)","v":"https://www.refaccionariagonzalez.com/alta/D-F/DECO09_1.jpg"}]
["2020-09-28T18:03:00",9,"DECO12_1","DECO12_1.jpg",{"$f":"+GetURL(D16606)","v":"https://www.refaccionariagonzalez.com/alta/D-F/DECO12_1.jpg"}]
["2020-09-28T16:58:00",9,"DECO25_9","DECO25_9.jpg",{"$f":"+GetURL(D16633)","v":"https://www.refaccionariagonzalez.com/alta/D-F/DECO25_9.jpg"}]
["2020-09-28T16:42:00",10,"DED-CAF_1","DED-CAF_1.jpg",{"$f":"+GetURL(D16649)","v":"https://www.refaccionariagonzalez.com/alta/D-F/DED-CAF_1.jpg"}]
["2020-09-28T18:46:00",10,"DED-INF_9","DED-INF_9.jpg",{"$f":"+GetURL(D16668)","v":"https://www.refaccionariagonzalez.com/alta/D-F/DED-INF_9.jpg"}]
["2020-09-28T16:49:00",9,"DEFDEL_9","DEFDEL_9.jpg",{"$f":"+GetURL(D16684)","v":"https://www.refaccionariagonzalez.com/alta/D-F/DEFDEL_9.jpg"}]
["2020-09-28T16:56:00",11,"DENF2333_8","DENF2333_8.jpg",{"$f":"+GetURL(D16711)","v":"https://www.refaccionariagonzalez.com/alta/D-F/DENF2333_8.jpg"}]
["2022-06-10T13:47:00",11,"DENN0900_1","DENN0900_1.jpg",{"$f":"+GetURL(D16730)","v":"https://www.refaccionariagonzalez.com/alta/D-F/DENN0900_1.jpg"}]
["2020-09-28T17:14:00",11,"DENV312V_9","DENV312V_9.jpg",{"$f":"+GetURL(D16735)","v":"https://www.refaccionariagonzalez.com/alta/D-F/DENV312V_9.jpg"}]
["2020-09-28T17:14:00",16,"DESENGRASANTE_9","DESENGRASANTE_9.jpg",{"$f":"+GetURL(D16754)","v":"https://www.refaccionariagonzalez.com/alta/D-F/DESENGRASANTE_9.jpg"}]
["2020-09-28T17:22:00",8,"DF605_1","DF605_1.jpg",{"$f":"+GetURL(D16773)","v":"https://www.refaccionariagonzalez.com/alta/D-F/DF605_1.jpg"}]
["2020-09-28T16:51:00",11,"DGNN0400_2","DGNN0400_2.jpg",{"$f":"+GetURL(D16798)","v":"https://www.refaccionariagonzalez.com/alta/D-F/DGNN0400_2.jpg"}]
["2020-09-28T17:30:00",9,"DH-029_1","DH-029_1.jpg",{"$f":"+GetURL(D16812)","v":"https://www.refaccionariagonzalez.com/alta/D-F/DH-029_1.jpg"}]
["2020-09-28T17:45:00",11,"DIENER58_2","DIENER58_2.jpg",{"$f":"+GetURL(D16835)","v":"https://www.refaccionariagonzalez.com/alta/D-F/DIENER58_2.jpg"}]
["2024-04-25T10:18:00",10,"DK28024SM","DK28024SM.jpg",{"$f":"+GetURL(D16860)","v":"https://www.refaccionariagonzalez.com/alta/D-F/DK28024SM.jpg"}]
["2023-12-11T10:45:00",12,"DL9007-MINI","DL9007-MINI.jpg",{"$f":"+GetURL(D16881)","v":"https://www.refaccionariagonzalez.com/alta/D-F/DL9007-MINI.jpg"}]
["2023-12-11T10:45:00",10,"DLH4-MINI","DLH4-MINI.jpg",{"$f":"+GetURL(D16884)","v":"https://www.refaccionariagonzalez.com/alta/D-F/DLH4-MINI.jpg"}]
["2021-10-27T12:46:00",11,"DMNK1100_2","DMNK1100_2.jpg",{"$f":"+GetURL(D16903)","v":"https://www.refaccionariagonzalez.com/alta/D-F/DMNK1100_2.jpg"}]
["2023-05-30T09:27:00",11,"DMNV0610_2","DMNV0610_2.jpg",{"$f":"+GetURL(D16932)","v":"https://www.refaccionariagonzalez.com/alta/D-F/DMNV0610_2.jpg"}]
["2024-05-15T10:02:00",12,"DNK7192D289","DNK7192D289.jpg",{"$f":"+GetURL(D16946)","v":"https://www.refaccionariagonzalez.com/alta/D-F/DNK7192D289.jpg"}]
["2024-04-24T13:39:00",14,"DNK7563D688_2","DNK7563D688_2.jpg",{"$f":"+GetURL(D16965)","v":"https://www.refaccionariagonzalez.com/alta/D-F/DNK7563D688_2.jpg"}]
["2024-04-24T13:39:00",13,"DNK8251D1140","DNK8251D1140.jpg",{"$f":"+GetURL(D16983)","v":"https://www.refaccionariagonzalez.com/alta/D-F/DNK8251D1140.jpg"}]
["2024-05-14T08:30:00",13,"DNK8456D1345","DNK8456D1345.jpg",{"$f":"+GetURL(D17008)","v":"https://www.refaccionariagonzalez.com/alta/D-F/DNK8456D1345.jpg"}]
["2024-04-24T13:27:00",17,"DNK8804D1592SD_2","DNK8804D1592SD_2.jpg",{"$f":"+GetURL(D17027)","v":"https://www.refaccionariagonzalez.com/alta/D-F/DNK8804D1592SD_2.jpg"}]
["2024-04-24T14:21:00",15,"DNK8811D1596SD","DNK8811D1596SD.jpg",{"$f":"+GetURL(D17033)","v":"https://www.refaccionariagonzalez.com/alta/D-F/DNK8811D1596SD.jpg"}]
["2024-04-24T17:54:00",17,"DNK8952D2275CK_2","DNK8952D2275CK_2.jpg",{"$f":"+GetURL(D17060)","v":"https://www.refaccionariagonzalez.com/alta/D-F/DNK8952D2275CK_2.jpg"}]
["2024-04-25T10:22:00",15,"DNK8996D1761CK","DNK8996D1761CK.jpg",{"$f":"+GetURL(D17070)","v":"https://www.refaccionariagonzalez.com/alta/D-F/DNK8996D1761CK.jpg"}]
["2024-05-14T08:30:00",15,"DNK9412D2168CK","DNK9412D2168CK.jpg",{"$f":"+GetURL(D17095)","v":"https://www.refaccionariagonzalez.com/alta/D-F/DNK9412D2168CK.jpg"}]
["2020-09-28T17:04:00",10,"DQ-2024_1","DQ-2024_1.jpg",{"$f":"+GetURL(D17111)","v":"https://www.refaccionariagonzalez.com/alta/D-F/DQ-2024_1.jpg"}]
["2020-09-28T18:36:00",10,"DQ-6045_1","DQ-6045_1.jpg",{"$f":"+GetURL(D17138)","v":"https://www.refaccionariagonzalez.com/alta/D-F/DQ-6045_1.jpg"}]
["2020-09-28T18:05:00",10,"DQ-8018_2","DQ-8018_2.jpg",{"$f":"+GetURL(D17157)","v":"https://www.refaccionariagonzalez.com/alta/D-F/DQ-8018_2.jpg"}]
["2020-09-28T17:45:00",10,"DQ-8055_1","DQ-8055_1.jpg",{"$f":"+GetURL(D17180)","v":"https://www.refaccionariagonzalez.com/alta/D-F/DQ-8055_1.jpg"}]
["2020-09-28T17:37:00",10,"DQ-8124_1","DQ-8124_1.jpg",{"$f":"+GetURL(D17200)","v":"https://www.refaccionariagonzalez.com/alta/D-F/DQ-8124_1.jpg"}]
["2020-09-28T18:23:00",10,"DQ-8188_9","DQ-8188_9.jpg",{"$f":"+GetURL(D17219)","v":"https://www.refaccionariagonzalez.com/alta/D-F/DQ-8188_9.jpg"}]
["2020-09-28T17:47:00",12,"DS10152AR_9","DS10152AR_9.jpg",{"$f":"+GetURL(D17238)","v":"https://www.refaccionariagonzalez.com/alta/D-F/DS10152AR_9.jpg"}]
["2020-09-28T18:30:00",11,"DS10601L_1","DS10601L_1.jpg",{"$f":"+GetURL(D17239)","v":"https://www.refaccionariagonzalez.com/alta/D-F/DS10601L_1.jpg"}]
["2020-09-28T17:52:00",13,"DU-26R-450_9","DU-26R-450_9.jpg",{"$f":"+GetURL(D17262)","v":"https://www.refaccionariagonzalez.com/alta/D-F/DU-26R-450_9.jpg"}]
["2020-09-28T16:52:00",9,"E-0032_1","E-0032_1.jpg",{"$f":"+GetURL(D17287)","v":"https://www.refaccionariagonzalez.com/alta/D-F/E-0032_1.jpg"}]
["2020-09-28T17:03:00",8,"E-035_9","E-035_9.jpg",{"$f":"+GetURL(D17308)","v":"https://www.refaccionariagonzalez.com/alta/D-F/E-035_9.jpg"}]
["2020-09-28T17:44:00",8,"E-058_9","E-058_9.jpg",{"$f":"+GetURL(D17324)","v":"https://www.refaccionariagonzalez.com/alta/D-F/E-058_9.jpg"}]
["2020-09-28T17:58:00",8,"E-074_1","E-074_1.jpg",{"$f":"+GetURL(D17349)","v":"https://www.refaccionariagonzalez.com/alta/D-F/E-074_1.jpg"}]
["2020-09-28T17:20:00",8,"E-080_2","E-080_2.jpg",{"$f":"+GetURL(D17359)","v":"https://www.refaccionariagonzalez.com/alta/D-F/E-080_2.jpg"}]
["2020-09-28T17:34:00",14,"E4032-EL00A_1","E4032-EL00A_1.jpg",{"$f":"+GetURL(D17386)","v":"https://www.refaccionariagonzalez.com/alta/D-F/E4032-EL00A_1.jpg"}]
["2020-09-28T18:01:00",17,"E4033-EL00ASFT_9","E4033-EL00ASFT_9.jpg",{"$f":"+GetURL(D17392)","v":"https://www.refaccionariagonzalez.com/alta/D-F/E4033-EL00ASFT_9.jpg"}]
["2020-09-28T18:04:00",9,"E35113_1","E35113_1.jpg",{"$f":"+GetURL(D17411)","v":"https://www.refaccionariagonzalez.com/alta/D-F/E35113_1.jpg"}]
["2020-09-28T17:04:00",11,"ECHEP143_9","ECHEP143_9.jpg",{"$f":"+GetURL(D17436)","v":"https://www.refaccionariagonzalez.com/alta/D-F/ECHEP143_9.jpg"}]
["2020-09-28T18:28:00",9,"ECO025_1","ECO025_1.jpg",{"$f":"+GetURL(D17454)","v":"https://www.refaccionariagonzalez.com/alta/D-F/ECO025_1.jpg"}]
["2020-09-28T17:17:00",12,"ECO055001_2","ECO055001_2.jpg",{"$f":"+GetURL(D17473)","v":"https://www.refaccionariagonzalez.com/alta/D-F/ECO055001_2.jpg"}]
["2020-09-28T17:25:00",12,"ECO1H0422_9","ECO1H0422_9.jpg",{"$f":"+GetURL(D17487)","v":"https://www.refaccionariagonzalez.com/alta/D-F/ECO1H0422_9.jpg"}]
["2020-09-28T18:03:00",8,"ECO47_1","ECO47_1.jpg",{"$f":"+GetURL(D17516)","v":"https://www.refaccionariagonzalez.com/alta/D-F/ECO47_1.jpg"}]
["2020-09-28T18:31:00",10,"ECO54ETVW","ECO54ETVW_2.jpg",{"$f":"+GetURL(D17522)","v":"https://www.refaccionariagonzalez.com/alta/D-F/ECO54ETVW_2.jpg"}]
["2024-01-18T17:40:00",8,{"$f":"+LEFT(D17538,B17538-1)","v":"ECO90CM"},"ECO90CM_1.jpg",{"$f":"+GetURL(D17538)","v":"https://www.refaccionariagonzalez.com/alta/D-F/ECO90CM_1.jpg"}]
["2020-09-28T16:59:00",13,"ECO107-21021","ECO107-21021_1.jpg",{"$f":"+GetURL(D17559)","v":"https://www.refaccionariagonzalez.com/alta/D-F/ECO107-21021_1.jpg"}]
["2023-11-09T16:31:00",{"$f":"+FIND(\".\",D17584)","v":8},"ECO114L","ECO114L.jpg",{"$f":"+GetURL(D17584)","v":"https://www.refaccionariagonzalez.com/alta/D-F/ECO114L.jpg"}]
["2020-09-28T17:01:00",9,"ECO117_4","ECO117_4.jpg",{"$f":"+GetURL(D17607)","v":"https://www.refaccionariagonzalez.com/alta/D-F/ECO117_4.jpg"}]
["2020-09-28T17:08:00",11,"ECO140CM_9","ECO140CM_9.jpg",{"$f":"+GetURL(D17621)","v":"https://www.refaccionariagonzalez.com/alta/D-F/ECO140CM_9.jpg"}]
["2020-09-28T17:06:00",9,"ECO193_2","ECO193_2.jpg",{"$f":"+GetURL(D17646)","v":"https://www.refaccionariagonzalez.com/alta/D-F/ECO193_2.jpg"}]
["2020-09-28T17:11:00",10,"ECO208E_1","ECO208E_1.jpg",{"$f":"+GetURL(D17665)","v":"https://www.refaccionariagonzalez.com/alta/D-F/ECO208E_1.jpg"}]
["2020-09-28T17:06:00",9,"ECO214_1","ECO214_1.jpg",{"$f":"+GetURL(D17684)","v":"https://www.refaccionariagonzalez.com/alta/D-F/ECO214_1.jpg"}]
["2020-09-28T17:43:00",9,"ECO215_9","ECO215_9.jpg",{"$f":"+GetURL(D17689)","v":"https://www.refaccionariagonzalez.com/alta/D-F/ECO215_9.jpg"}]
["2020-09-28T18:26:00",9,"ECO301_3","ECO301_3.jpg",{"$f":"+GetURL(D17708)","v":"https://www.refaccionariagonzalez.com/alta/D-F/ECO301_3.jpg"}]
["2020-09-28T18:38:00",14,"ECO503T131V_9","ECO503T131V_9.jpg",{"$f":"+GetURL(D17735)","v":"https://www.refaccionariagonzalez.com/alta/D-F/ECO503T131V_9.jpg"}]
["2024-02-01T18:24:00",14,"ECO516T1210_9","ECO516T1210_9.jpg",{"$f":"+GetURL(D17751)","v":"https://www.refaccionariagonzalez.com/alta/D-F/ECO516T1210_9.jpg"}]
["2020-09-28T17:59:00",10,"ECO1000_1","ECO1000_1.jpg",{"$f":"+GetURL(D17770)","v":"https://www.refaccionariagonzalez.com/alta/D-F/ECO1000_1.jpg"}]
["2020-09-28T17:14:00",11,"ECO1696T_2","ECO1696T_2.jpg",{"$f":"+GetURL(D17786)","v":"https://www.refaccionariagonzalez.com/alta/D-F/ECO1696T_2.jpg"}]
["2020-09-28T17:22:00",10,"ECO3100_2","ECO3100_2.jpg",{"$f":"+GetURL(D17813)","v":"https://www.refaccionariagonzalez.com/alta/D-F/ECO3100_2.jpg"}]
["2020-09-28T18:07:00",10,"ECO4100_9","ECO4100_9.jpg",{"$f":"+GetURL(D17819)","v":"https://www.refaccionariagonzalez.com/alta/D-F/ECO4100_9.jpg"}]
["2020-09-28T16:44:00",10,"ECO9564_9","ECO9564_9.jpg",{"$f":"+GetURL(D17838)","v":"https://www.refaccionariagonzalez.com/alta/D-F/ECO9564_9.jpg"}]
["2020-09-28T17:10:00",10,"ECO9815_1","ECO9815_1.jpg",{"$f":"+GetURL(D17859)","v":"https://www.refaccionariagonzalez.com/alta/D-F/ECO9815_1.jpg"}]
["2020-09-28T18:33:00",12,"ECO113411_9","ECO113411_9.jpg",{"$f":"+GetURL(D17881)","v":"https://www.refaccionariagonzalez.com/alta/D-F/ECO113411_9.jpg"}]
["2020-09-28T17:13:00",13,"ECO191407G_1","ECO191407G_1.jpg",{"$f":"+GetURL(D17900)","v":"https://www.refaccionariagonzalez.com/alta/D-F/ECO191407G_1.jpg"}]
["2020-09-28T18:21:00",{"$f":"+FIND(\"_\",D17914)","v":10},"ECO311115","ECO311115_9.jpg",{"$f":"+GetURL(D17914)","v":"https://www.refaccionariagonzalez.com/alta/D-F/ECO311115_9.jpg"}]
["2020-09-28T17:35:00",11,"ECO921894I","ECO921894I_1.jpg",{"$f":"+GetURL(D17943)","v":"https://www.refaccionariagonzalez.com/alta/D-F/ECO921894I_1.jpg"}]
["2020-09-28T17:12:00",15,"ECO113853505ZC","ECO113853505ZC_1.jpg",{"$f":"+GetURL(D17962)","v":"https://www.refaccionariagonzalez.com/alta/D-F/ECO113853505ZC_1.jpg"}]
["2020-09-28T18:12:00",13,"ECO191853535","ECO191853535_9.jpg",{"$f":"+GetURL(D17983)","v":"https://www.refaccionariagonzalez.com/alta/D-F/ECO191853535_9.jpg"}]
["2020-09-28T17:49:00",14,{"$f":"+LEFT(D17986,B17986-1)","v":"ECO193853516F"},"ECO193853516F_1.jpg",{"$f":"+GetURL(D17986)","v":"https://www.refaccionariagonzalez.com/alta/D-F/ECO193853516F_1.jpg"}]
["2020-09-28T18:18:00",9,"ECOADA02","ECOADA02_9.jpg",{"$f":"+GetURL(D18005)","v":"https://www.refaccionariagonzalez.com/alta/D-F/ECOADA02_9.jpg"}]
["2020-09-28T17:27:00",8,"ECOC205","ECOC205_3.jpg",{"$f":"+GetURL(D18030)","v":"https://www.refaccionariagonzalez.com/alta/D-F/ECOC205_3.jpg"}]
["2020-09-28T18:20:00",10,"ECOE1300I","ECOE1300I_9.jpg",{"$f":"+GetURL(D18056)","v":"https://www.refaccionariagonzalez.com/alta/D-F/ECOE1300I_9.jpg"}]
["2020-09-28T17:50:00",10,"ECOFILCAR","ECOFILCAR_1.jpg",{"$f":"+GetURL(D18073)","v":"https://www.refaccionariagonzalez.com/alta/D-F/ECOFILCAR_1.jpg"}]
["2020-09-28T17:04:00",9,"ECOHORQ3","ECOHORQ3_1.jpg",{"$f":"+GetURL(D18092)","v":"https://www.refaccionariagonzalez.com/alta/D-F/ECOHORQ3_1.jpg"}]
["2020-09-28T18:38:00",{"$f":"+FIND(\"_\",D18107)","v":9},"ECOISA01","ECOISA01_2.jpg",{"$f":"+GetURL(D18107)","v":"https://www.refaccionariagonzalez.com/alta/D-F/ECOISA01_2.jpg"}]
["2020-09-28T18:31:00",11,"ECOP1122_2","ECOP1122_2.jpg",{"$f":"+GetURL(D18135)","v":"https://www.refaccionariagonzalez.com/alta/D-F/ECOP1122_2.jpg"}]
["2020-09-28T16:56:00",9,"ECORE1_1","ECORE1_1.jpg",{"$f":"+GetURL(D18154)","v":"https://www.refaccionariagonzalez.com/alta/D-F/ECORE1_1.jpg"}]
["2020-09-28T18:08:00",9,"ECORE5_9","ECORE5_9.jpg",{"$f":"+GetURL(D18162)","v":"https://www.refaccionariagonzalez.com/alta/D-F/ECORE5_9.jpg"}]
["2020-09-28T16:40:00",10,{"$f":"+LEFT(D18178,B18178-1)","v":"ECOREFR_9"},"ECOREFR_9.jpg",{"$f":"+GetURL(D18178)","v":"https://www.refaccionariagonzalez.com/alta/D-F/ECOREFR_9.jpg"}]
["2020-09-28T18:05:00",10,"ECOT231_1","ECOT231_1.jpg",{"$f":"+GetURL(D18197)","v":"https://www.refaccionariagonzalez.com/alta/D-F/ECOT231_1.jpg"}]
["2020-09-28T18:17:00",11,"ECOTAPON_1","ECOTAPON_1.jpg",{"$f":"+GetURL(D18213)","v":"https://www.refaccionariagonzalez.com/alta/D-F/ECOTAPON_1.jpg"}]
["2020-09-28T18:38:00",10,"EDC1800_1","EDC1800_1.jpg",{"$f":"+GetURL(D18240)","v":"https://www.refaccionariagonzalez.com/alta/D-F/EDC1800_1.jpg"}]
["2020-09-28T16:40:00",13,"EG-GM-1224_1","EG-GM-1224_1.jpg",{"$f":"+GetURL(D18259)","v":"https://www.refaccionariagonzalez.com/alta/D-F/EG-GM-1224_1.jpg"}]
["2020-09-28T18:44:00",11,"EGNC4800_9","EGNC4800_9.jpg",{"$f":"+GetURL(D18284)","v":"https://www.refaccionariagonzalez.com/alta/D-F/EGNC4800_9.jpg"}]
["2020-09-28T18:09:00",11,"EGNC9900_2","EGNC9900_2.jpg",{"$f":"+GetURL(D18286)","v":"https://www.refaccionariagonzalez.com/alta/D-F/EGNC9900_2.jpg"}]
["2020-09-28T17:16:00",16,"EGP026103383K_1","EGP026103383K_1.jpg",{"$f":"+GetURL(D18308)","v":"https://www.refaccionariagonzalez.com/alta/D-F/EGP026103383K_1.jpg"}]
["2020-09-28T17:44:00",16,"EGP030109243K_9","EGP030109243K_9.jpg",{"$f":"+GetURL(D18327)","v":"https://www.refaccionariagonzalez.com/alta/D-F/EGP030109243K_9.jpg"}]
["2020-09-28T18:24:00",16,"EGP0471052691_1","EGP0471052691_1.jpg",{"$f":"+GetURL(D18355)","v":"https://www.refaccionariagonzalez.com/alta/D-F/EGP0471052691_1.jpg"}]
["2020-09-28T17:38:00",16,{"$f":"+LEFT(D18370,B18370-1)","v":"EGP056105313C_2"},"EGP056105313C_2.jpg",{"$f":"+GetURL(D18370)","v":"https://www.refaccionariagonzalez.com/alta/D-F/EGP056105313C_2.jpg"}]
["2020-09-28T17:10:00",16,"EGP074103383S_1","EGP074103383S_1.jpg",{"$f":"+GetURL(D18389)","v":"https://www.refaccionariagonzalez.com/alta/D-F/EGP074103383S_1.jpg"}]
["2020-09-28T17:49:00",16,"EGP1J0121205B_1","EGP1J0121205B_1.jpg",{"$f":"+GetURL(D18406)","v":"https://www.refaccionariagonzalez.com/alta/D-F/EGP1J0121205B_1.jpg"}]
["2020-09-28T18:34:00",15,"EGP6Q0407621_3","EGP6Q0407621_3.jpg",{"$f":"+GetURL(D18432)","v":"https://www.refaccionariagonzalez.com/alta/D-F/EGP6Q0407621_3.jpg"}]
["2020-09-28T18:24:00",16,"EGP7D0199132D_2","EGP7D0199132D_2.jpg",{"$f":"+GetURL(D18451)","v":"https://www.refaccionariagonzalez.com/alta/D-F/EGP7D0199132D_2.jpg"}]
["2020-09-28T18:48:00",17,"EGP7D0399107AC_4","EGP7D0399107AC_4.jpg",{"$f":"+GetURL(D18457)","v":"https://www.refaccionariagonzalez.com/alta/D-F/EGP7D0399107AC_4.jpg"}]
["2020-09-28T17:28:00",10,"EGP187A_2","EGP187A_2.jpg",{"$f":"+GetURL(D18483)","v":"https://www.refaccionariagonzalez.com/alta/D-F/EGP187A_2.jpg"}]
["2020-09-28T17:16:00",17,"EGP11044-00QAA_1","EGP11044-00QAA_1.jpg",{"$f":"+GetURL(D18494)","v":"https://www.refaccionariagonzalez.com/alta/D-F/EGP11044-00QAA_1.jpg"}]
["2020-09-28T17:22:00",17,"EGP11220-VW0NK_3","EGP11220-VW0NK_3.jpg",{"$f":"+GetURL(D18519)","v":"https://www.refaccionariagonzalez.com/alta/D-F/EGP11220-VW0NK_3.jpg"}]
["2020-09-28T17:19:00",17,"EGP11920-VW100_1","EGP11920-VW100_1.jpg",{"$f":"+GetURL(D18534)","v":"https://www.refaccionariagonzalez.com/alta/D-F/EGP11920-VW100_1.jpg"}]
["2020-09-28T16:46:00",17,{"$f":"+LEFT(D18562,B18562-1)","v":"EGP15208-31001_9"},"EGP15208-31001_9.jpg",{"$f":"+GetURL(D18562)","v":"https://www.refaccionariagonzalez.com/alta/D-F/EGP15208-31001_9.jpg"}]
["2021-03-01T16:44:00",17,"EGP17042-00QAA_1","EGP17042-00QAA_1.jpg",{"$f":"+GetURL(D18581)","v":"https://www.refaccionariagonzalez.com/alta/D-F/EGP17042-00QAA_1.jpg"}]
["2020-09-28T16:58:00",17,"EGP18201-00QAA_1","EGP18201-00QAA_1.jpg",{"$f":"+GetURL(D18585)","v":"https://www.refaccionariagonzalez.com/alta/D-F/EGP18201-00QAA_1.jpg"}]
["2020-09-28T16:52:00",18,"EGP21410-F4200E_9","EGP21410-F4200E_9.jpg",{"$f":"+GetURL(D18605)","v":"https://www.refaccionariagonzalez.com/alta/D-F/EGP21410-F4200E_9.jpg"}]
["2020-09-28T18:18:00",17,"EGP22100-VJ262_2","EGP22100-VJ262_2.jpg",{"$f":"+GetURL(D18624)","v":"https://www.refaccionariagonzalez.com/alta/D-F/EGP22100-VJ262_2.jpg"}]
["2020-09-28T18:51:00",13,"EGP22274VM_3","EGP22274VM_3.jpg",{"$f":"+GetURL(D18643)","v":"https://www.refaccionariagonzalez.com/alta/D-F/EGP22274VM_3.jpg"}]
["2020-09-28T18:29:00",17,"EGP23100-00QZK_9","EGP23100-00QZK_9.jpg",{"$f":"+GetURL(D18662)","v":"https://www.refaccionariagonzalez.com/alta/D-F/EGP23100-00QZK_9.jpg"}]
["2020-09-28T18:14:00",19,"EGP23731-ED01AVM_3","EGP23731-ED01AVM_3.jpg",{"$f":"+GetURL(D18686)","v":"https://www.refaccionariagonzalez.com/alta/D-F/EGP23731-ED01AVM_3.jpg"}]
["2024-05-24T09:58:00",15,"EGP28113-02750","EGP28113-02750.jpg",{"$f":"+GetURL(D18711)","v":"https://www.refaccionariagonzalez.com/alta/D-F/EGP28113-02750.jpg"}]
["2020-09-28T18:08:00",11,"EGP30211_9","EGP30211_9.jpg",{"$f":"+GetURL(D18731)","v":"https://www.refaccionariagonzalez.com/alta/D-F/EGP30211_9.jpg"}]
["2020-09-28T17:20:00",18,"EGP31010-24000K_9","EGP31010-24000K_9.jpg",{"$f":"+GetURL(D18748)","v":"https://www.refaccionariagonzalez.com/alta/D-F/EGP31010-24000K_9.jpg"}]
["2020-09-28T17:31:00",17,{"$f":"+LEFT(D18754,B18754-1)","v":"EGP38423-C6100_2"},"EGP38423-C6100_2.jpg",{"$f":"+GetURL(D18754)","v":"https://www.refaccionariagonzalez.com/alta/D-F/EGP38423-C6100_2.jpg"}]
["2020-09-28T17:17:00",17,"EGP40210-VW000_1","EGP40210-VW000_1.jpg",{"$f":"+GetURL(D18782)","v":"https://www.refaccionariagonzalez.com/alta/D-F/EGP40210-VW000_1.jpg"}]
["2020-09-28T16:56:00",17,"EGP43206-F4000_2","EGP43206-F4000_2.jpg",{"$f":"+GetURL(D18797)","v":"https://www.refaccionariagonzalez.com/alta/D-F/EGP43206-F4000_2.jpg"}]
["2020-09-28T18:07:00",17,"EGP44201-01A00_9","EGP44201-01A00_9.jpg",{"$f":"+GetURL(D18816)","v":"https://www.refaccionariagonzalez.com/alta/D-F/EGP44201-01A00_9.jpg"}]
["2020-09-28T17:02:00",17,"EGP48520-VW000_9","EGP48520-VW000_9.jpg",{"$f":"+GetURL(D18833)","v":"https://www.refaccionariagonzalez.com/alta/D-F/EGP48520-VW000_9.jpg"}]
["2020-09-28T18:31:00",17,"EGP54524-PROMO_2","EGP54524-PROMO_2.jpg",{"$f":"+GetURL(D18859)","v":"https://www.refaccionariagonzalez.com/alta/D-F/EGP54524-PROMO_2.jpg"}]
["2020-09-28T18:47:00",17,"EGP80701-50Y05_3","EGP80701-50Y05_3.jpg",{"$f":"+GetURL(D18878)","v":"https://www.refaccionariagonzalez.com/alta/D-F/EGP80701-50Y05_3.jpg"}]
["2020-09-28T18:38:00",17,"EGP93400-02202_1","EGP93400-02202_1.jpg",{"$f":"+GetURL(D18897)","v":"https://www.refaccionariagonzalez.com/alta/D-F/EGP93400-02202_1.jpg"}]
["2020-09-28T18:45:00",13,"EGP121111B_3","EGP121111B_3.jpg",{"$f":"+GetURL(D18910)","v":"https://www.refaccionariagonzalez.com/alta/D-F/EGP121111B_3.jpg"}]
["2020-09-28T17:54:00",12,"EGP597074_1","EGP597074_1.jpg",{"$f":"+GetURL(D18921)","v":"https://www.refaccionariagonzalez.com/alta/D-F/EGP597074_1.jpg"}]
["2020-09-28T16:44:00",13,{"$f":"+LEFT(D18946,B18946-1)","v":"EGP1034417_9"},"EGP1034417_9.jpg",{"$f":"+GetURL(D18946)","v":"https://www.refaccionariagonzalez.com/alta/D-F/EGP1034417_9.jpg"}]
["2020-09-28T18:05:00",15,"EGP2501079-2_1","EGP2501079-2_1.jpg",{"$f":"+GetURL(D18961)","v":"https://www.refaccionariagonzalez.com/alta/D-F/EGP2501079-2_1.jpg"}]
["2020-09-28T18:02:00",14,"EGP10468391_2","EGP10468391_2.jpg",{"$f":"+GetURL(D18983)","v":"https://www.refaccionariagonzalez.com/alta/D-F/EGP10468391_2.jpg"}]
["2020-09-28T18:39:00",14,"EGP90445098_1","EGP90445098_1.jpg",{"$f":"+GetURL(D19008)","v":"https://www.refaccionariagonzalez.com/alta/D-F/EGP90445098_1.jpg"}]
["2020-09-28T17:06:00",14,"EGP96350550_2","EGP96350550_2.jpg",{"$f":"+GetURL(D19030)","v":"https://www.refaccionariagonzalez.com/alta/D-F/EGP96350550_2.jpg"}]
["2020-09-28T17:20:00",15,"EGP191611019_1","EGP191611019_1.jpg",{"$f":"+GetURL(D19045)","v":"https://www.refaccionariagonzalez.com/alta/D-F/EGP191611019_1.jpg"}]
["2020-09-28T17:16:00",16,"EGP357611019B_9","EGP357611019B_9.jpg",{"$f":"+GetURL(D19070)","v":"https://www.refaccionariagonzalez.com/alta/D-F/EGP357611019B_9.jpg"}]
["2020-09-28T18:06:00",14,"EGPBM0-GM01_2","EGPBM0-GM01_2.jpg",{"$f":"+GetURL(D19089)","v":"https://www.refaccionariagonzalez.com/alta/D-F/EGPBM0-GM01_2.jpg"}]
["2020-09-28T17:55:00",14,"EGPEFP-FD01_9","EGPEFP-FD01_9.jpg",{"$f":"+GetURL(D19107)","v":"https://www.refaccionariagonzalez.com/alta/D-F/EGPEFP-FD01_9.jpg"}]
["2020-09-28T18:29:00",14,"EGPEFP-FD03_9","EGPEFP-FD03_9.jpg",{"$f":"+GetURL(D19113)","v":"https://www.refaccionariagonzalez.com/alta/D-F/EGPEFP-FD03_9.jpg"}]
["2020-09-28T17:49:00",14,"EGPEG-GM-14_9","EGPEG-GM-14_9.jpg",{"$f":"+GetURL(D19132)","v":"https://www.refaccionariagonzalez.com/alta/D-F/EGPEG-GM-14_9.jpg"}]
["2020-09-28T18:40:00",18,"EGPFD-RSET-12CB_9","EGPFD-RSET-12CB_9.jpg",{"$f":"+GetURL(D19158)","v":"https://www.refaccionariagonzalez.com/alta/D-F/EGPFD-RSET-12CB_9.jpg"}]
["2020-09-28T17:50:00",14,"EGPHG-GM-02_1","EGPHG-GM-02_1.jpg",{"$f":"+GetURL(D19175)","v":"https://www.refaccionariagonzalez.com/alta/D-F/EGPHG-GM-02_1.jpg"}]
["2020-09-28T16:57:00",13,"EGPRD-GM05_1","EGPRD-GM05_1.jpg",{"$f":"+GetURL(D19200)","v":"https://www.refaccionariagonzalez.com/alta/D-F/EGPRD-GM05_1.jpg"}]
["2020-09-28T16:40:00",18,"EGPTY-RSET-06CJ_1","EGPTY-RSET-06CJ_1.jpg",{"$f":"+GetURL(D19209)","v":"https://www.refaccionariagonzalez.com/alta/D-F/EGPTY-RSET-06CJ_1.jpg"}]
["2020-09-28T18:05:00",16,"EGPWH-FF68Z-B_1","EGPWH-FF68Z-B_1.jpg",{"$f":"+GetURL(D19237)","v":"https://www.refaccionariagonzalez.com/alta/D-F/EGPWH-FF68Z-B_1.jpg"}]
["2020-09-28T18:36:00",11,"EINV5102_1","EINV5102_1.jpg",{"$f":"+GetURL(D19243)","v":"https://www.refaccionariagonzalez.com/alta/D-F/EINV5102_1.jpg"}]
["2020-09-28T16:39:00",10,"EL119-A_1","EL119-A_1.jpg",{"$f":"+GetURL(D19262)","v":"https://www.refaccionariagonzalez.com/alta/D-F/EL119-A_1.jpg"}]
["2020-09-28T17:44:00",12,"ELCCH09LR_2","ELCCH09LR_2.jpg",{"$f":"+GetURL(D19282)","v":"https://www.refaccionariagonzalez.com/alta/D-F/ELCCH09LR_2.jpg"}]
["2020-09-28T17:29:00",9,"EMB-02_1","EMB-02_1.jpg",{"$f":"+GetURL(D19305)","v":"https://www.refaccionariagonzalez.com/alta/D-F/EMB-02_1.jpg"}]
["2024-04-24T17:54:00",10,"EMB201IMP","EMB201IMP.jpg",{"$f":"+GetURL(D19324)","v":"https://www.refaccionariagonzalez.com/alta/D-F/EMB201IMP.jpg"}]
["2021-02-10T15:20:00",13,"EMBMONSTER_1","EMBMONSTER_1.jpg",{"$f":"+GetURL(D19337)","v":"https://www.refaccionariagonzalez.com/alta/D-F/EMBMONSTER_1.jpg"}]
["2020-09-28T18:10:00",14,"EP-VW01-STD_1","EP-VW01-STD_1.jpg",{"$f":"+GetURL(D19367)","v":"https://www.refaccionariagonzalez.com/alta/D-F/EP-VW01-STD_1.jpg"}]
["2023-12-11T10:45:00",9,"ES-C6 _1","ES-C6 _1.jpg",{"$f":"+GetURL(D19386)","v":"https://www.refaccionariagonzalez.com/alta/D-F/ES-C6 _1.jpg"}]
["2020-09-28T16:40:00",9,"ES5255_1","ES5255_1.jpg",{"$f":"+GetURL(D19406)","v":"https://www.refaccionariagonzalez.com/alta/D-F/ES5255_1.jpg"}]
["2024-05-02T10:16:00",8,"ESMU76R","ESMU76R.jpg",{"$f":"+GetURL(D19410)","v":"https://www.refaccionariagonzalez.com/alta/D-F/ESMU76R.jpg"}]
["2020-09-28T17:54:00",9,"ESP006_5","ESP006_5.jpg",{"$f":"+GetURL(D19429)","v":"https://www.refaccionariagonzalez.com/alta/D-F/ESP006_5.jpg"}]
["2022-06-10T13:47:00",8,"EST10_1","EST10_1.jpg",{"$f":"+GetURL(D19457)","v":"https://www.refaccionariagonzalez.com/alta/D-F/EST10_1.jpg"}]
["2020-09-28T17:08:00",10,"ETT0002_9","ETT0002_9.jpg",{"$f":"+GetURL(D19472)","v":"https://www.refaccionariagonzalez.com/alta/D-F/ETT0002_9.jpg"}]
["2020-09-28T18:48:00",9,"ETW102_9","ETW102_9.jpg",{"$f":"+GetURL(D19497)","v":"https://www.refaccionariagonzalez.com/alta/D-F/ETW102_9.jpg"}]
["2020-09-28T17:20:00",15,"EUR7H0498103_9","EUR7H0498103_9.jpg",{"$f":"+GetURL(D19516)","v":"https://www.refaccionariagonzalez.com/alta/D-F/EUR7H0498103_9.jpg"}]
["2020-09-28T16:40:00",16,"EUR402064Z810_9","EUR402064Z810_9.jpg",{"$f":"+GetURL(D19530)","v":"https://www.refaccionariagonzalez.com/alta/D-F/EUR402064Z810_9.jpg"}]
["2020-09-28T17:46:00",16,"EUR1132000QAA_9","EUR1132000QAA_9.jpg",{"$f":"+GetURL(D19540)","v":"https://www.refaccionariagonzalez.com/alta/D-F/EUR1132000QAA_9.jpg"}]
["2020-09-28T16:58:00",14,"EUR17113196_2","EUR17113196_2.jpg",{"$f":"+GetURL(D19559)","v":"https://www.refaccionariagonzalez.com/alta/D-F/EUR17113196_2.jpg"}]
["2020-09-28T18:00:00",13,"EURO-CH-09_1","EURO-CH-09_1.jpg",{"$f":"+GetURL(D19585)","v":"https://www.refaccionariagonzalez.com/alta/D-F/EURO-CH-09_1.jpg"}]
["2020-09-28T16:41:00",13,"EURO-CH-25_8","EURO-CH-25_8.jpg",{"$f":"+GetURL(D19602)","v":"https://www.refaccionariagonzalez.com/alta/D-F/EURO-CH-25_8.jpg"}]
["2020-09-28T17:16:00",9,"EURO02_1","EURO02_1.jpg",{"$f":"+GetURL(D19621)","v":"https://www.refaccionariagonzalez.com/alta/D-F/EURO02_1.jpg"}]
["2020-09-28T18:11:00",17,"EURO075121113D_9","EURO075121113D_9.jpg",{"$f":"+GetURL(D19636)","v":"https://www.refaccionariagonzalez.com/alta/D-F/EURO075121113D_9.jpg"}]
["2020-09-28T17:11:00",17,"EURO7H0419804D_9","EURO7H0419804D_9.jpg",{"$f":"+GetURL(D19664)","v":"https://www.refaccionariagonzalez.com/alta/D-F/EURO7H0419804D_9.jpg"}]
["2020-09-28T18:46:00",9,"EURO15_9","EURO15_9.jpg",{"$f":"+GetURL(D19683)","v":"https://www.refaccionariagonzalez.com/alta/D-F/EURO15_9.jpg"}]
["2020-09-28T18:11:00",9,"EURO18_9","EURO18_9.jpg",{"$f":"+GetURL(D19689)","v":"https://www.refaccionariagonzalez.com/alta/D-F/EURO18_9.jpg"}]
["2020-09-28T18:47:00",9,"EURO28_9","EURO28_9.jpg",{"$f":"+GetURL(D19709)","v":"https://www.refaccionariagonzalez.com/alta/D-F/EURO28_9.jpg"}]
["2020-09-28T17:55:00",9,"EURO40_1","EURO40_1.jpg",{"$f":"+GetURL(D19732)","v":"https://www.refaccionariagonzalez.com/alta/D-F/EURO40_1.jpg"}]
["2020-09-28T18:14:00",18,"EURO356G8575A2A_1","EURO356G8575A2A_1.jpg",{"$f":"+GetURL(D19751)","v":"https://www.refaccionariagonzalez.com/alta/D-F/EURO356G8575A2A_1.jpg"}]
["2020-09-28T17:05:00",15,{"$f":"+LEFT(D19778,B19778-1)","v":"EURO32145276_4"},"EURO32145276_4.jpg",{"$f":"+GetURL(D19778)","v":"https://www.refaccionariagonzalez.com/alta/D-F/EURO32145276_4.jpg"}]
["2020-09-28T17:02:00",13,"EURODIESEL_1","EURODIESEL_1.jpg",{"$f":"+GetURL(D19794)","v":"https://www.refaccionariagonzalez.com/alta/D-F/EURODIESEL_1.jpg"}]
["2020-09-28T18:35:00",11,"EVNN0100_1","EVNN0100_1.jpg",{"$f":"+GetURL(D19813)","v":"https://www.refaccionariagonzalez.com/alta/D-F/EVNN0100_1.jpg"}]
["2020-09-28T18:03:00",9,"EX-SPA_1","EX-SPA_1.jpg",{"$f":"+GetURL(D19833)","v":"https://www.refaccionariagonzalez.com/alta/D-F/EX-SPA_1.jpg"}]
["2020-09-28T16:41:00",9,"EX-URV_1","EX-URV_1.jpg",{"$f":"+GetURL(D19837)","v":"https://www.refaccionariagonzalez.com/alta/D-F/EX-URV_1.jpg"}]
["2020-09-28T18:03:00",12,"EXC-R1403_1","EXC-R1403_1.jpg",{"$f":"+GetURL(D19856)","v":"https://www.refaccionariagonzalez.com/alta/D-F/EXC-R1403_1.jpg"}]
["2020-09-28T17:11:00",11,"EXT-500B_2","EXT-500B_2.jpg",{"$f":"+GetURL(D19881)","v":"https://www.refaccionariagonzalez.com/alta/D-F/EXT-500B_2.jpg"}]
["2020-09-28T17:24:00",9,{"$f":"+LEFT(D19906,B19906-1)","v":"F-H4AL_3"},"F-H4AL_3.jpg",{"$f":"+GetURL(D19906)","v":"https://www.refaccionariagonzalez.com/alta/D-F/F-H4AL_3.jpg"}]
["2020-09-28T17:05:00",12,"F000A0507_9","F000A0507_9.jpg",{"$f":"+GetURL(D19918)","v":"https://www.refaccionariagonzalez.com/alta/D-F/F000A0507_9.jpg"}]
["2024-05-02T10:33:00",10,"F7NA15-KB","F7NA15-KB.jpg",{"$f":"+GetURL(D19943)","v":"https://www.refaccionariagonzalez.com/alta/D-F/F7NA15-KB.jpg"}]
["2024-04-24T13:51:00",10,"F41A29-KB","F41A29-KB.jpg",{"$f":"+GetURL(D19957)","v":"https://www.refaccionariagonzalez.com/alta/D-F/F41A29-KB.jpg"}]
["2024-04-24T14:21:00",10,"F96A90-KB","F96A90-KB.jpg",{"$f":"+GetURL(D19986)","v":"https://www.refaccionariagonzalez.com/alta/D-F/F96A90-KB.jpg"}]
["2024-03-26T12:24:00",5,"F402","F402.jpg",{"$f":"+GetURL(D20005)","v":"https://www.refaccionariagonzalez.com/alta/D-F/F402.jpg"}]
["2024-03-26T12:24:00",5,"F405","F405.jpg",{"$f":"+GetURL(D20008)","v":"https://www.refaccionariagonzalez.com/alta/D-F/F405.jpg"}]
["2020-09-28T18:48:00",11,"FA-LH284_2","FA-LH284_2.jpg",{"$f":"+GetURL(D20029)","v":"https://www.refaccionariagonzalez.com/alta/D-F/FA-LH284_2.jpg"}]
["2020-09-28T16:58:00",12,"FA-MLHR4B_1","FA-MLHR4B_1.jpg",{"$f":"+GetURL(D20048)","v":"https://www.refaccionariagonzalez.com/alta/D-F/FA-MLHR4B_1.jpg"}]
["2020-09-28T18:13:00",9,"FA225A_1","FA225A_1.jpg",{"$f":"+GetURL(D20077)","v":"https://www.refaccionariagonzalez.com/alta/D-F/FA225A_1.jpg"}]
["2020-09-28T18:32:00",10,"FA2002Y_1","FA2002Y_1.jpg",{"$f":"+GetURL(D20091)","v":"https://www.refaccionariagonzalez.com/alta/D-F/FA2002Y_1.jpg"}]
["2020-09-28T17:34:00",14,"FACCFGC0201_1","FACCFGC0201_1.jpg",{"$f":"+GetURL(D20110)","v":"https://www.refaccionariagonzalez.com/alta/D-F/FACCFGC0201_1.jpg"}]
["2020-09-28T18:41:00",15,"FACDCFNF0221_9","FACDCFNF0221_9.jpg",{"$f":"+GetURL(D20135)","v":"https://www.refaccionariagonzalez.com/alta/D-F/FACDCFNF0221_9.jpg"}]
["2024-05-07T08:06:00",8,"FACE40Y","FACE40Y.jpg",{"$f":"+GetURL(D20154)","v":"https://www.refaccionariagonzalez.com/alta/D-F/FACE40Y.jpg"}]
["2020-09-28T17:57:00",12,"FACT85022_1","FACT85022_1.jpg",{"$f":"+GetURL(D20172)","v":"https://www.refaccionariagonzalez.com/alta/D-F/FACT85022_1.jpg"}]
["2020-09-28T18:48:00",11,"FACTGO92_2","FACTGO92_2.jpg",{"$f":"+GetURL(D20178)","v":"https://www.refaccionariagonzalez.com/alta/D-F/FACTGO92_2.jpg"}]
["2020-09-28T17:59:00",12,"FAG30204A_9","FAG30204A_9.jpg",{"$f":"+GetURL(D20205)","v":"https://www.refaccionariagonzalez.com/alta/D-F/FAG30204A_9.jpg"}]
["2024-03-26T12:24:00",12,"FAG546467_3","FAG546467_3.jpg",{"$f":"+GetURL(D20221)","v":"https://www.refaccionariagonzalez.com/alta/D-F/FAG546467_3.jpg"}]
["2020-09-28T18:46:00",12,"FAG572428_2","FAG572428_2.jpg",{"$f":"+GetURL(D20240)","v":"https://www.refaccionariagonzalez.com/alta/D-F/FAG572428_2.jpg"}]
["2020-09-28T16:50:00",14,"FAG580400CA_9","FAG580400CA_9.jpg",{"$f":"+GetURL(D20256)","v":"https://www.refaccionariagonzalez.com/alta/D-F/FAG580400CA_9.jpg"}]
["2024-03-26T12:25:00",12,"FAG803775_6","FAG803775_6.jpg",{"$f":"+GetURL(D20283)","v":"https://www.refaccionariagonzalez.com/alta/D-F/FAG803775_6.jpg"}]
["2024-03-26T12:25:00",10,"FAGFW8-10","FAGFW8-10.jpg",{"$f":"+GetURL(D20302)","v":"https://www.refaccionariagonzalez.com/alta/D-F/FAGFW8-10.jpg"}]
["2020-09-28T17:22:00",{"$f":"+FIND(\".\",D20321)","v":14},"FAGKLM11949_2","FAGKLM11949_2.jpg",{"$f":"+GetURL(D20321)","v":"https://www.refaccionariagonzalez.com/alta/D-F/FAGKLM11949_2.jpg"}]
["2020-09-28T18:38:00",12,"FAGSA0061_2","FAGSA0061_2.jpg",{"$f":"+GetURL(D20333)","v":"https://www.refaccionariagonzalez.com/alta/D-F/FAGSA0061_2.jpg"}]
["2024-03-26T12:25:00",7,"FAL01W","FAL01W.jpg",{"$f":"+GetURL(D20345)","v":"https://www.refaccionariagonzalez.com/alta/D-F/FAL01W.jpg"}]
["2024-03-26T12:25:00",10,"FAL54C _1","FAL54C _1.jpg",{"$f":"+GetURL(D20370)","v":"https://www.refaccionariagonzalez.com/alta/D-F/FAL54C _1.jpg"}]
["2024-03-26T12:25:00",8,"FAL150F","FAL150F.jpg",{"$f":"+GetURL(D20384)","v":"https://www.refaccionariagonzalez.com/alta/D-F/FAL150F.jpg"}]
["2024-03-26T12:25:00",8,"FALH630","FALH630.jpg",{"$f":"+GetURL(D20407)","v":"https://www.refaccionariagonzalez.com/alta/D-F/FALH630.jpg"}]
["2020-09-28T17:06:00",9,"FALM22_1","FALM22_1.jpg",{"$f":"+GetURL(D20432)","v":"https://www.refaccionariagonzalez.com/alta/D-F/FALM22_1.jpg"}]
["2022-06-10T13:47:00",11,"FAMLHR6R_1","FAMLHR6R_1.jpg",{"$f":"+GetURL(D20453)","v":"https://www.refaccionariagonzalez.com/alta/D-F/FAMLHR6R_1.jpg"}]
["2020-09-28T18:44:00",10,"FARO-03_1","FARO-03_1.jpg",{"$f":"+GetURL(D20456)","v":"https://www.refaccionariagonzalez.com/alta/D-F/FARO-03_1.jpg"}]
["2020-09-28T18:48:00",11,"FCHC0201_1","FCHC0201_1.jpg",{"$f":"+GetURL(D20475)","v":"https://www.refaccionariagonzalez.com/alta/D-F/FCHC0201_1.jpg"}]
["2020-09-28T17:19:00",11,"FCNC0101_1","FCNC0101_1.jpg",{"$f":"+GetURL(D20494)","v":"https://www.refaccionariagonzalez.com/alta/D-F/FCNC0101_1.jpg"}]
["2020-09-28T18:12:00",11,"FCNC0611_9","FCNC0611_9.jpg",{"$f":"+GetURL(D20512)","v":"https://www.refaccionariagonzalez.com/alta/D-F/FCNC0611_9.jpg"}]
["2020-09-28T17:14:00",11,"FCNC9911_9","FCNC9911_9.jpg",{"$f":"+GetURL(D20537)","v":"https://www.refaccionariagonzalez.com/alta/D-F/FCNC9911_9.jpg"}]
["2020-09-28T17:46:00",11,"FCNF0231_9","FCNF0231_9.jpg",{"$f":"+GetURL(D20556)","v":"https://www.refaccionariagonzalez.com/alta/D-F/FCNF0231_9.jpg"}]
["2020-09-28T18:15:00",11,"FCNK2502_1","FCNK2502_1.jpg",{"$f":"+GetURL(D20581)","v":"https://www.refaccionariagonzalez.com/alta/D-F/FCNK2502_1.jpg"}]
["2020-09-28T18:42:00",11,"FCNN0311_1","FCNN0311_1.jpg",{"$f":"+GetURL(D20599)","v":"https://www.refaccionariagonzalez.com/alta/D-F/FCNN0311_1.jpg"}]
["2020-09-28T17:04:00",11,"FCNN0312_9","FCNN0312_9.jpg",{"$f":"+GetURL(D20605)","v":"https://www.refaccionariagonzalez.com/alta/D-F/FCNN0312_9.jpg"}]
["2020-09-28T17:33:00",11,"FCNT0422_3","FCNT0422_3.jpg",{"$f":"+GetURL(D20632)","v":"https://www.refaccionariagonzalez.com/alta/D-F/FCNT0422_3.jpg"}]
["2020-09-28T18:08:00",11,"FCNV0201_4","FCNV0201_4.jpg",{"$f":"+GetURL(D20642)","v":"https://www.refaccionariagonzalez.com/alta/D-F/FCNV0201_4.jpg"}]
["2020-09-28T18:25:00",11,"FCNV0612_9","FCNV0612_9.jpg",{"$f":"+GetURL(D20667)","v":"https://www.refaccionariagonzalez.com/alta/D-F/FCNV0612_9.jpg"}]
["2020-09-28T17:09:00",11,"FCNV0672_4","FCNV0672_4.jpg",{"$f":"+GetURL(D20686)","v":"https://www.refaccionariagonzalez.com/alta/D-F/FCNV0672_4.jpg"}]
["2020-09-28T16:41:00",{"$f":"+FIND(\".\",D20705)","v":11},"FD20094A_3","FD20094A_3.jpg",{"$f":"+GetURL(D20705)","v":"https://www.refaccionariagonzalez.com/alta/D-F/FD20094A_3.jpg"}]
["2020-09-28T16:49:00",13,"FEC0003600_1","FEC0003600_1.jpg",{"$f":"+GetURL(D20729)","v":"https://www.refaccionariagonzalez.com/alta/D-F/FEC0003600_1.jpg"}]
["2020-09-28T16:58:00",11,"FF-VW105_1","FF-VW105_1.jpg",{"$f":"+GetURL(D20748)","v":"https://www.refaccionariagonzalez.com/alta/D-F/FF-VW105_1.jpg"}]
["2020-09-28T18:08:00",11,"FFNC0602_1","FFNC0602_1.jpg",{"$f":"+GetURL(D20760)","v":"https://www.refaccionariagonzalez.com/alta/D-F/FFNC0602_1.jpg"}]
["2024-04-24T18:39:00",9,"FFNC1101","FFNC1101.jpg",{"$f":"+GetURL(D20772)","v":"https://www.refaccionariagonzalez.com/alta/D-F/FFNC1101.jpg"}]
["2024-04-24T12:23:00",9,"FFNC9912","FFNC9912.jpg",{"$f":"+GetURL(D20791)","v":"https://www.refaccionariagonzalez.com/alta/D-F/FFNC9912.jpg"}]
["2020-09-28T16:59:00",11,"FFNC9924_2","FFNC9924_2.jpg",{"$f":"+GetURL(D20811)","v":"https://www.refaccionariagonzalez.com/alta/D-F/FFNC9924_2.jpg"}]
["2020-09-28T17:47:00",11,"FFNF0232_1","FFNF0232_1.jpg",{"$f":"+GetURL(D20834)","v":"https://www.refaccionariagonzalez.com/alta/D-F/FFNF0232_1.jpg"}]
["2020-09-28T18:08:00",11,"FFNN0301_1","FFNN0301_1.jpg",{"$f":"+GetURL(D20859)","v":"https://www.refaccionariagonzalez.com/alta/D-F/FFNN0301_1.jpg"}]
["2020-09-28T17:22:00",11,"FFNN0901_9","FFNN0901_9.jpg",{"$f":"+GetURL(D20880)","v":"https://www.refaccionariagonzalez.com/alta/D-F/FFNN0901_9.jpg"}]
["2020-09-28T17:02:00",14,"FFNN1101DIF_2","FFNN1101DIF_2.jpg",{"$f":"+GetURL(D20896)","v":"https://www.refaccionariagonzalez.com/alta/D-F/FFNN1101DIF_2.jpg"}]
["2020-09-28T17:13:00",11,"FFNN1322_4","FFNN1322_4.jpg",{"$f":"+GetURL(D20921)","v":"https://www.refaccionariagonzalez.com/alta/D-F/FFNN1322_4.jpg"}]
["2020-09-28T17:41:00",11,"FFNT0421_9","FFNT0421_9.jpg",{"$f":"+GetURL(D20940)","v":"https://www.refaccionariagonzalez.com/alta/D-F/FFNT0421_9.jpg"}]
["2020-09-28T18:40:00",11,"FFNV0122_9","FFNV0122_9.jpg",{"$f":"+GetURL(D20953)","v":"https://www.refaccionariagonzalez.com/alta/D-F/FFNV0122_9.jpg"}]
["2020-09-28T18:45:00",11,"FFNV0162_9","FFNV0162_9.jpg",{"$f":"+GetURL(D20964)","v":"https://www.refaccionariagonzalez.com/alta/D-F/FFNV0162_9.jpg"}]
["2020-09-28T17:45:00",11,"FFNV0621_9","FFNV0621_9.jpg",{"$f":"+GetURL(D20983)","v":"https://www.refaccionariagonzalez.com/alta/D-F/FFNV0621_9.jpg"}]
["2020-09-28T18:17:00",11,"FFNV1111_9","FFNV1111_9.jpg",{"$f":"+GetURL(D21008)","v":"https://www.refaccionariagonzalez.com/alta/D-F/FFNV1111_9.jpg"}]
["2020-09-28T17:11:00",11,"FFYK2211_1","FFYK2211_1.jpg",{"$f":"+GetURL(D21026)","v":"https://www.refaccionariagonzalez.com/alta/D-F/FFYK2211_1.jpg"}]
["2020-09-28T17:52:00",10,"FG338LE_1","FG338LE_1.jpg",{"$f":"+GetURL(D21045)","v":"https://www.refaccionariagonzalez.com/alta/D-F/FG338LE_1.jpg"}]
["2020-09-28T17:37:00",10,"FGI-268_1","FGI-268_1.jpg",{"$f":"+GetURL(D21059)","v":"https://www.refaccionariagonzalez.com/alta/D-F/FGI-268_1.jpg"}]
["2021-04-14T18:57:00",13,"FIC8006100_2","FIC8006100_2.jpg",{"$f":"+GetURL(D21088)","v":"https://www.refaccionariagonzalez.com/alta/D-F/FIC8006100_2.jpg"}]
["2020-09-28T18:13:00",10,"FLCS694_9","FLCS694_9.jpg",{"$f":"+GetURL(D21107)","v":"https://www.refaccionariagonzalez.com/alta/D-F/FLCS694_9.jpg"}]
["2020-09-28T17:42:00",10,"FLCS919_9","FLCS919_9.jpg",{"$f":"+GetURL(D21113)","v":"https://www.refaccionariagonzalez.com/alta/D-F/FLCS919_9.jpg"}]
["2020-09-28T17:51:00",9,"FLO155_2","FLO155_2.jpg",{"$f":"+GetURL(D21132)","v":"https://www.refaccionariagonzalez.com/alta/D-F/FLO155_2.jpg"}]
["2020-09-28T17:47:00",13,"FM-1303477_1","FM-1303477_1.jpg",{"$f":"+GetURL(D21156)","v":"https://www.refaccionariagonzalez.com/alta/D-F/FM-1303477_1.jpg"}]
["2020-09-28T16:41:00",14,"FM2380CP010_1","FM2380CP010_1.jpg",{"$f":"+GetURL(D21175)","v":"https://www.refaccionariagonzalez.com/alta/D-F/FM2380CP010_1.jpg"}]
["2020-09-28T17:11:00",14,"FM3695CP030_1","FM3695CP030_1.jpg",{"$f":"+GetURL(D21201)","v":"https://www.refaccionariagonzalez.com/alta/D-F/FM3695CP030_1.jpg"}]
["2020-09-28T18:32:00",13,"FM4213M030_2","FM4213M030_2.jpg",{"$f":"+GetURL(D21218)","v":"https://www.refaccionariagonzalez.com/alta/D-F/FM4213M030_2.jpg"}]
["2020-09-28T16:59:00",13,"FM5123M030_1","FM5123M030_1.jpg",{"$f":"+GetURL(D21237)","v":"https://www.refaccionariagonzalez.com/alta/D-F/FM5123M030_1.jpg"}]
["2020-09-28T18:40:00",13,"FM6665M010_1","FM6665M010_1.jpg",{"$f":"+GetURL(D21256)","v":"https://www.refaccionariagonzalez.com/alta/D-F/FM6665M010_1.jpg"}]
["2020-09-28T16:56:00",13,"FM6678M030_2","FM6678M030_2.jpg",{"$f":"+GetURL(D21261)","v":"https://www.refaccionariagonzalez.com/alta/D-F/FM6678M030_2.jpg"}]
["2020-09-28T18:07:00",13,"FM6809M020_9","FM6809M020_9.jpg",{"$f":"+GetURL(D21280)","v":"https://www.refaccionariagonzalez.com/alta/D-F/FM6809M020_9.jpg"}]
["2020-09-28T17:34:00",15,"FM66780CP020_9","FM66780CP020_9.jpg",{"$f":"+GetURL(D21305)","v":"https://www.refaccionariagonzalez.com/alta/D-F/FM66780CP020_9.jpg"}]
["2020-09-28T18:40:00",11,"FM100940_9","FM100940_9.jpg",{"$f":"+GetURL(D21329)","v":"https://www.refaccionariagonzalez.com/alta/D-F/FM100940_9.jpg"}]
["2024-03-26T12:26:00",7,"FML49G","FML49G.jpg",{"$f":"+GetURL(D21342)","v":"https://www.refaccionariagonzalez.com/alta/D-F/FML49G.jpg"}]
["2020-09-28T17:48:00",11,"FMR3517S_9","FMR3517S_9.jpg",{"$f":"+GetURL(D21367)","v":"https://www.refaccionariagonzalez.com/alta/D-F/FMR3517S_9.jpg"}]
["2020-09-28T16:45:00",10,"FMR5604_1","FMR5604_1.jpg",{"$f":"+GetURL(D21380)","v":"https://www.refaccionariagonzalez.com/alta/D-F/FMR5604_1.jpg"}]
["2020-09-28T16:44:00",11,"FMR6936S_9","FMR6936S_9.jpg",{"$f":"+GetURL(D21391)","v":"https://www.refaccionariagonzalez.com/alta/D-F/FMR6936S_9.jpg"}]
["2020-09-28T18:41:00",11,"FMR50064_1","FMR50064_1.jpg",{"$f":"+GetURL(D21410)","v":"https://www.refaccionariagonzalez.com/alta/D-F/FMR50064_1.jpg"}]
["2020-09-28T18:15:00",12,"FMR130055_3","FMR130055_3.jpg",{"$f":"+GetURL(D21431)","v":"https://www.refaccionariagonzalez.com/alta/D-F/FMR130055_3.jpg"}]
["2020-09-28T17:44:00",12,"FMR205064_1","FMR205064_1.jpg",{"$f":"+GetURL(D21453)","v":"https://www.refaccionariagonzalez.com/alta/D-F/FMR205064_1.jpg"}]
["2020-09-28T17:28:00",12,"FMR474069_2","FMR474069_2.jpg",{"$f":"+GetURL(D21472)","v":"https://www.refaccionariagonzalez.com/alta/D-F/FMR474069_2.jpg"}]
["2024-03-26T12:26:00",9,"FMRG1171","FMRG1171.jpg",{"$f":"+GetURL(D21486)","v":"https://www.refaccionariagonzalez.com/alta/D-F/FMRG1171.jpg"}]
["2020-09-28T17:48:00",11,"FMTS358N_3","FMTS358N_3.jpg",{"$f":"+GetURL(D21515)","v":"https://www.refaccionariagonzalez.com/alta/D-F/FMTS358N_3.jpg"}]
["2020-09-28T18:42:00",10,"FMTS539_3","FMTS539_3.jpg",{"$f":"+GetURL(D21534)","v":"https://www.refaccionariagonzalez.com/alta/D-F/FMTS539_3.jpg"}]
["2020-09-28T16:46:00",10,"FMTS617_2","FMTS617_2.jpg",{"$f":"+GetURL(D21540)","v":"https://www.refaccionariagonzalez.com/alta/D-F/FMTS617_2.jpg"}]
["2020-09-28T17:10:00",11,"FNC68389_1","FNC68389_1.jpg",{"$f":"+GetURL(D21559)","v":"https://www.refaccionariagonzalez.com/alta/D-F/FNC68389_1.jpg"}]
["2020-09-28T17:31:00",12,"FO-C1586B_2","FO-C1586B_2.jpg",{"$f":"+GetURL(D21577)","v":"https://www.refaccionariagonzalez.com/alta/D-F/FO-C1586B_2.jpg"}]
["2020-09-28T17:00:00",15,"FO-LE10343FY_1","FO-LE10343FY_1.jpg",{"$f":"+GetURL(D21602)","v":"https://www.refaccionariagonzalez.com/alta/D-F/FO-LE10343FY_1.jpg"}]
["2022-06-10T13:47:00",10,"FO1587B_1","FO1587B_1.jpg",{"$f":"+GetURL(D21628)","v":"https://www.refaccionariagonzalez.com/alta/D-F/FO1587B_1.jpg"}]
["2024-03-26T12:26:00",12,"FOC1034R _1","FOC1034R _1.jpg",{"$f":"+GetURL(D21645)","v":"https://www.refaccionariagonzalez.com/alta/D-F/FOC1034R _1.jpg"}]
["2021-05-14T18:16:00",14,"FOCO-STR-RD_2","FOCO-STR-RD_2.jpg",{"$f":"+GetURL(D21664)","v":"https://www.refaccionariagonzalez.com/alta/D-F/FOCO-STR-RD_2.jpg"}]
["2020-11-30T18:02:00",8,"FOCO101","FOCO101.1.jpg",{"$f":"+GetURL(D21679)","v":"https://www.refaccionariagonzalez.com/alta/D-F/FOCO101.1.jpg"}]
["2020-11-19T17:42:00",8,"FOCO105","FOCO105.2.jpg",{"$f":"+GetURL(D21688)","v":"https://www.refaccionariagonzalez.com/alta/D-F/FOCO105.2.jpg"}]
["2020-09-28T16:49:00",14,"FOCO1157ROJ_9","FOCO1157ROJ_9.jpg",{"$f":"+GetURL(D21707)","v":"https://www.refaccionariagonzalez.com/alta/D-F/FOCO1157ROJ_9.jpg"}]
["2020-09-28T18:22:00",11,"FOCO9007_9","FOCO9007_9.jpg",{"$f":"+GetURL(D21726)","v":"https://www.refaccionariagonzalez.com/alta/D-F/FOCO9007_9.jpg"}]
["2020-09-28T17:03:00",14,"FOL010G-FJI_2","FOL010G-FJI_2.jpg",{"$f":"+GetURL(D21756)","v":"https://www.refaccionariagonzalez.com/alta/D-F/FOL010G-FJI_2.jpg"}]
["2022-06-30T10:08:00",14,"FOL4HID9007_3","FOL4HID9007_3.jpg",{"$f":"+GetURL(D21769)","v":"https://www.refaccionariagonzalez.com/alta/D-F/FOL4HID9007_3.jpg"}]
["2020-09-28T16:56:00",16,"FOL1176FW-FJI_2","FOL1176FW-FJI_2.jpg",{"$f":"+GetURL(D21794)","v":"https://www.refaccionariagonzalez.com/alta/D-F/FOL1176FW-FJI_2.jpg"}]
["2020-09-28T16:45:00",13,"FOL103413C_1","FOL103413C_1.jpg",{"$f":"+GetURL(D21807)","v":"https://www.refaccionariagonzalez.com/alta/D-F/FOL103413C_1.jpg"}]
["2024-03-26T12:27:00",15,"FOL315787FC _2","FOL315787FC _2.jpg",{"$f":"+GetURL(D21831)","v":"https://www.refaccionariagonzalez.com/alta/D-F/FOL315787FC _2.jpg"}]
["2024-03-26T12:27:00",15,"FOLE11413FY _1","FOLE11413FY _1.jpg",{"$f":"+GetURL(D21856)","v":"https://www.refaccionariagonzalez.com/alta/D-F/FOLE11413FY _1.jpg"}]
["2024-03-26T12:27:00",12,"FOLE31573FC","FOLE31573FC.jpg",{"$f":"+GetURL(D21858)","v":"https://www.refaccionariagonzalez.com/alta/D-F/FOLE31573FC.jpg"}]
["2024-03-26T12:28:00",8,"FOLH4_2","FOLH4_2.jpg",{"$f":"+GetURL(D21880)","v":"https://www.refaccionariagonzalez.com/alta/D-F/FOLH4_2.jpg"}]
["2020-09-28T17:58:00",11,"FOLHIDH4_1","FOLHIDH4_1.jpg",{"$f":"+GetURL(D21899)","v":"https://www.refaccionariagonzalez.com/alta/D-F/FOLHIDH4_1.jpg"}]
["2020-09-28T17:41:00",12,"FP-34-650_1","FP-34-650_1.jpg",{"$f":"+GetURL(D21918)","v":"https://www.refaccionariagonzalez.com/alta/D-F/FP-34-650_1.jpg"}]
["2021-11-08T12:56:00",10,"FR05093_1","FR05093_1.jpg",{"$f":"+GetURL(D21935)","v":"https://www.refaccionariagonzalez.com/alta/D-F/FR05093_1.jpg"}]
["2024-05-07T08:06:00",10,"FR27018_2","FR27018_2.jpg",{"$f":"+GetURL(D21961)","v":"https://www.refaccionariagonzalez.com/alta/D-F/FR27018_2.jpg"}]
["2020-09-28T16:42:00",12,"FRAMG7018_3","FRAMG7018_3.jpg",{"$f":"+GetURL(D21980)","v":"https://www.refaccionariagonzalez.com/alta/D-F/FRAMG7018_3.jpg"}]
["2020-09-28T18:08:00",12,"FRIFTX7X5_5","FRIFTX7X5_5.jpg",{"$f":"+GetURL(D22004)","v":"https://www.refaccionariagonzalez.com/alta/D-F/FRIFTX7X5_5.jpg"}]
["2020-09-28T17:27:00",13,"FRIHD7681Z_9","FRIHD7681Z_9.jpg",{"$f":"+GetURL(D22023)","v":"https://www.refaccionariagonzalez.com/alta/D-F/FRIHD7681Z_9.jpg"}]
["2020-09-28T18:19:00",18,"FRIJ1N42X99ZFTV_9","FRIJ1N42X99ZFTV_9.jpg",{"$f":"+GetURL(D22029)","v":"https://www.refaccionariagonzalez.com/alta/D-F/FRIJ1N42X99ZFTV_9.jpg"}]
["2020-09-28T17:50:00",12,"FRIM7X77Z_2","FRIM7X77Z_2.jpg",{"$f":"+GetURL(D22055)","v":"https://www.refaccionariagonzalez.com/alta/D-F/FRIM7X77Z_2.jpg"}]
["2020-09-28T17:24:00",12,"FRIM71X5Z_1","FRIM71X5Z_1.jpg",{"$f":"+GetURL(D22066)","v":"https://www.refaccionariagonzalez.com/alta/D-F/FRIM71X5Z_1.jpg"}]
["2020-09-28T18:28:00",13,"FRIM765X-Z_9","FRIM765X-Z_9.jpg",{"$f":"+GetURL(D22091)","v":"https://www.refaccionariagonzalez.com/alta/D-F/FRIM765X-Z_9.jpg"}]
["2020-09-28T18:07:00",11,"FRIM1399_1","FRIM1399_1.jpg",{"$f":"+GetURL(D22106)","v":"https://www.refaccionariagonzalez.com/alta/D-F/FRIM1399_1.jpg"}]
["2020-09-28T16:43:00",15,"FRIM7192D289_1","FRIM7192D289_1.jpg",{"$f":"+GetURL(D22128)","v":"https://www.refaccionariagonzalez.com/alta/D-F/FRIM7192D289_1.jpg"}]
["2020-09-28T17:35:00",12,"FRIM7406Z_9","FRIM7406Z_9.jpg",{"$f":"+GetURL(D22153)","v":"https://www.refaccionariagonzalez.com/alta/D-F/FRIM7406Z_9.jpg"}]
["2020-09-28T16:48:00",12,"FRIM7546Z_5","FRIM7546Z_5.jpg",{"$f":"+GetURL(D22172)","v":"https://www.refaccionariagonzalez.com/alta/D-F/FRIM7546Z_5.jpg"}]
["2020-09-28T18:43:00",15,"FRIM7623D730_3","FRIM7623D730_3.jpg",{"$f":"+GetURL(D22183)","v":"https://www.refaccionariagonzalez.com/alta/D-F/FRIM7623D730_3.jpg"}]
["2020-09-28T17:49:00",11,"FRIM7709_9","FRIM7709_9.jpg",{"$f":"+GetURL(D22196)","v":"https://www.refaccionariagonzalez.com/alta/D-F/FRIM7709_9.jpg"}]
["2020-09-28T17:24:00",17,"FRIMS72Y1ZF395_9","FRIMS72Y1ZF395_9.jpg",{"$f":"+GetURL(D22215)","v":"https://www.refaccionariagonzalez.com/alta/D-F/FRIMS72Y1ZF395_9.jpg"}]
["2020-09-28T17:51:00",16,"FRIS71X4FC051_2","FRIS71X4FC051_2.jpg",{"$f":"+GetURL(D22234)","v":"https://www.refaccionariagonzalez.com/alta/D-F/FRIS71X4FC051_2.jpg"}]
["2020-09-28T16:51:00",16,"FRIS8989D1760_1","FRIS8989D1760_1.jpg",{"$f":"+GetURL(D22258)","v":"https://www.refaccionariagonzalez.com/alta/D-F/FRIS8989D1760_1.jpg"}]
["2020-09-28T17:09:00",13,"FRISHD7864_1","FRISHD7864_1.jpg",{"$f":"+GetURL(D22283)","v":"https://www.refaccionariagonzalez.com/alta/D-F/FRISHD7864_1.jpg"}]
["2020-09-28T17:44:00",12,"FST-NP300_1","FST-NP300_1.jpg",{"$f":"+GetURL(D22303)","v":"https://www.refaccionariagonzalez.com/alta/D-F/FST-NP300_1.jpg"}]
["2024-05-02T08:47:00",6,"FUCXJ","FUCXJ.jpg",{"$f":"+GetURL(D22320)","v":"https://www.refaccionariagonzalez.com/alta/D-F/FUCXJ.jpg"}]
["2020-09-28T17:58:00",15,"FUJ1379-S707_9","FUJ1379-S707_9.jpg",{"$f":"+GetURL(D22326)","v":"https://www.refaccionariagonzalez.com/alta/D-F/FUJ1379-S707_9.jpg"}]
["2020-09-28T17:29:00",16,"FUJD1590-8801_1","FUJD1590-8801_1.jpg",{"$f":"+GetURL(D22345)","v":"https://www.refaccionariagonzalez.com/alta/D-F/FUJD1590-8801_1.jpg"}]
["2022-05-24T11:13:00",18,"FUNDA-SWAROVSKY_2","FUNDA-SWAROVSKY_2.jpg",{"$f":"+GetURL(D22376)","v":"https://www.refaccionariagonzalez.com/alta/D-F/FUNDA-SWAROVSKY_2.jpg"}]
["2024-05-08T08:28:00",13,"FUNDAPROMO_6","FUNDAPROMO_6.jpg",{"$f":"+GetURL(D22388)","v":"https://www.refaccionariagonzalez.com/alta/D-F/FUNDAPROMO_6.jpg"}]
["2020-09-28T16:44:00",10,"FUNSENTRA","FUNSENTRA.1.jpg",{"$f":"+GetURL(D22407)","v":"https://www.refaccionariagonzalez.com/alta/D-F/FUNSENTRA.1.jpg"}]
["2020-09-28T18:48:00",11,"FXNC0101_1","FXNC0101_1.jpg",{"$f":"+GetURL(D22431)","v":"https://www.refaccionariagonzalez.com/alta/D-F/FXNC0101_1.jpg"}]
["2020-09-29T10:34:00",5,"G2TC","G2TC.jpg",{"$f":"+GetURL(D22450)","v":"https://www.refaccionariagonzalez.com/alta/G-I/G2TC.jpg"}]
["2020-09-29T11:09:00",5,"G20C","G20C.jpg",{"$f":"+GetURL(D22469)","v":"https://www.refaccionariagonzalez.com/alta/G-I/G20C.jpg"}]
["2020-09-29T10:51:00",8,"G29T007","G29T007.jpg",{"$f":"+GetURL(D22482)","v":"https://www.refaccionariagonzalez.com/alta/G-I/G29T007.jpg"}]
["2020-09-29T10:44:00",6,"G40BS","G40BS.jpg",{"$f":"+GetURL(D22493)","v":"https://www.refaccionariagonzalez.com/alta/G-I/G40BS.jpg"}]
["2020-09-29T10:39:00",6,"G47_9","G47_9.jpg",{"$f":"+GetURL(D22518)","v":"https://www.refaccionariagonzalez.com/alta/G-I/G47_9.jpg"}]
["2020-09-29T10:50:00",7,"G51R_2","G51R_2.jpg",{"$f":"+GetURL(D22537)","v":"https://www.refaccionariagonzalez.com/alta/G-I/G51R_2.jpg"}]
["2020-09-29T11:02:00",8,"G59PC_1","G59PC_1.jpg",{"$f":"+GetURL(D22555)","v":"https://www.refaccionariagonzalez.com/alta/G-I/G59PC_1.jpg"}]
["2020-09-29T11:04:00",7,"G70S_9","G70S_9.jpg",{"$f":"+GetURL(D22580)","v":"https://www.refaccionariagonzalez.com/alta/G-I/G70S_9.jpg"}]
["2020-09-29T10:42:00",7,"G80C_1","G80C_1.jpg",{"$f":"+GetURL(D22599)","v":"https://www.refaccionariagonzalez.com/alta/G-I/G80C_1.jpg"}]
["2020-09-29T10:58:00",8,"G83CO_1","G83CO_1.jpg",{"$f":"+GetURL(D22606)","v":"https://www.refaccionariagonzalez.com/alta/G-I/G83CO_1.jpg"}]
["2024-05-14T08:40:00",6,"G151R","G151R.jpg",{"$f":"+GetURL(D22623)","v":"https://www.refaccionariagonzalez.com/alta/G-I/G151R.jpg"}]
["2023-11-09T16:32:00",7,"G713_2","G713_2.jpg",{"$f":"+GetURL(D22642)","v":"https://www.refaccionariagonzalez.com/alta/G-I/G713_2.jpg"}]
["2023-12-15T13:54:00",8,"G2310_4","G2310_4.jpg",{"$f":"+GetURL(D22661)","v":"https://www.refaccionariagonzalez.com/alta/G-I/G2310_4.jpg"}]
["2020-09-29T10:49:00",7,"GA54_9","GA54_9.jpg",{"$f":"+GetURL(D22685)","v":"https://www.refaccionariagonzalez.com/alta/G-I/GA54_9.jpg"}]
["2024-05-24T10:00:00",6,"GA127","GA127.jpg",{"$f":"+GetURL(D22704)","v":"https://www.refaccionariagonzalez.com/alta/G-I/GA127.jpg"}]
["2020-09-29T10:51:00",8,"GA158_9","GA158_9.jpg",{"$f":"+GetURL(D22730)","v":"https://www.refaccionariagonzalez.com/alta/G-I/GA158_9.jpg"}]
["2024-05-24T10:00:00",6,"GA179","GA179.jpg",{"$f":"+GetURL(D22747)","v":"https://www.refaccionariagonzalez.com/alta/G-I/GA179.jpg"}]
["2020-09-29T10:45:00",8,"GA198_1","GA198_1.jpg",{"$f":"+GetURL(D22766)","v":"https://www.refaccionariagonzalez.com/alta/G-I/GA198_1.jpg"}]
["2024-05-07T08:07:00",6,"GA247","GA247.jpg",{"$f":"+GetURL(D22791)","v":"https://www.refaccionariagonzalez.com/alta/G-I/GA247.jpg"}]
["2024-05-24T10:00:00",6,"GA268","GA268.jpg",{"$f":"+GetURL(D22803)","v":"https://www.refaccionariagonzalez.com/alta/G-I/GA268.jpg"}]
["2020-09-29T11:04:00",8,"GA275_1","GA275_1.jpg",{"$f":"+GetURL(D22815)","v":"https://www.refaccionariagonzalez.com/alta/G-I/GA275_1.jpg"}]
["2020-09-29T10:45:00",8,"GA283_3","GA283_3.jpg",{"$f":"+GetURL(D22834)","v":"https://www.refaccionariagonzalez.com/alta/G-I/GA283_3.jpg"}]
["2020-09-29T10:54:00",8,"GA293_2","GA293_2.jpg",{"$f":"+GetURL(D22854)","v":"https://www.refaccionariagonzalez.com/alta/G-I/GA293_2.jpg"}]
["2020-09-29T10:26:00",8,"GA324_9","GA324_9.jpg",{"$f":"+GetURL(D22877)","v":"https://www.refaccionariagonzalez.com/alta/G-I/GA324_9.jpg"}]
["2021-06-16T13:41:00",8,"GA347_1","GA347_1.jpg",{"$f":"+GetURL(D22896)","v":"https://www.refaccionariagonzalez.com/alta/G-I/GA347_1.jpg"}]
["2020-09-29T10:23:00",8,"GA362_2","GA362_2.jpg",{"$f":"+GetURL(D22909)","v":"https://www.refaccionariagonzalez.com/alta/G-I/GA362_2.jpg"}]
["2020-09-29T10:54:00",9,"GA414R_2","GA414R_2.jpg",{"$f":"+GetURL(D22939)","v":"https://www.refaccionariagonzalez.com/alta/G-I/GA414R_2.jpg"}]
["2020-09-29T10:34:00",8,"GA488_1","GA488_1.jpg",{"$f":"+GetURL(D22958)","v":"https://www.refaccionariagonzalez.com/alta/G-I/GA488_1.jpg"}]
["2020-09-29T10:35:00",8,"GA489_9","GA489_9.jpg",{"$f":"+GetURL(D22964)","v":"https://www.refaccionariagonzalez.com/alta/G-I/GA489_9.jpg"}]
["2024-04-25T10:38:00",6,"GA606","GA606.jpg",{"$f":"+GetURL(D22982)","v":"https://www.refaccionariagonzalez.com/alta/G-I/GA606.jpg"}]
["2021-05-13T11:41:00",9,"GA1033_4","GA1033_4.jpg",{"$f":"+GetURL(D23001)","v":"https://www.refaccionariagonzalez.com/alta/G-I/GA1033_4.jpg"}]
["2020-09-29T11:11:00",9,"GA1616_9","GA1616_9.jpg",{"$f":"+GetURL(D23026)","v":"https://www.refaccionariagonzalez.com/alta/G-I/GA1616_9.jpg"}]
["2020-09-29T10:54:00",9,"GA2159_1","GA2159_1.jpg",{"$f":"+GetURL(D23051)","v":"https://www.refaccionariagonzalez.com/alta/G-I/GA2159_1.jpg"}]
["2024-04-24T15:01:00",7,"GA2313","GA2313.jpg",{"$f":"+GetURL(D23069)","v":"https://www.refaccionariagonzalez.com/alta/G-I/GA2313.jpg"}]
["2023-05-17T11:34:00",9,"GA2374_1","GA2374_1.jpg",{"$f":"+GetURL(D23088)","v":"https://www.refaccionariagonzalez.com/alta/G-I/GA2374_1.jpg"}]
["2023-11-09T16:32:00",9,"GA2498_1","GA2498_1.jpg",{"$f":"+GetURL(D23102)","v":"https://www.refaccionariagonzalez.com/alta/G-I/GA2498_1.jpg"}]
["2024-05-24T10:00:00",7,"GA3916","GA3916.jpg",{"$f":"+GetURL(D23112)","v":"https://www.refaccionariagonzalez.com/alta/G-I/GA3916.jpg"}]
["2021-05-13T11:41:00",9,"GA6826_2","GA6826_2.jpg",{"$f":"+GetURL(D23131)","v":"https://www.refaccionariagonzalez.com/alta/G-I/GA6826_2.jpg"}]
["2020-09-29T10:32:00",16,"GAB72012-AUSA_1","GAB72012-AUSA_1.jpg",{"$f":"+GetURL(D23156)","v":"https://www.refaccionariagonzalez.com/alta/G-I/GAB72012-AUSA_1.jpg"}]
["2020-09-29T10:38:00",12,"GAB164030_2","GAB164030_2.jpg",{"$f":"+GetURL(D23179)","v":"https://www.refaccionariagonzalez.com/alta/G-I/GAB164030_2.jpg"}]
["2023-12-15T14:01:00",9,"GAC19 _3","GAC19 _3.jpg",{"$f":"+GetURL(D23193)","v":"https://www.refaccionariagonzalez.com/alta/G-I/GAC19 _3.jpg"}]
["2023-12-15T14:01:00",9,"GAC92 _1","GAC92 _1.jpg",{"$f":"+GetURL(D23218)","v":"https://www.refaccionariagonzalez.com/alta/G-I/GAC92 _1.jpg"}]
["2023-12-15T14:01:00",11,"GAC2273 _3","GAC2273 _3.jpg",{"$f":"+GetURL(D23230)","v":"https://www.refaccionariagonzalez.com/alta/G-I/GAC2273 _3.jpg"}]
["2020-09-29T11:04:00",8,"GAD29_9","GAD29_9.jpg",{"$f":"+GetURL(D23255)","v":"https://www.refaccionariagonzalez.com/alta/G-I/GAD29_9.jpg"}]
["2020-09-29T11:10:00",9,"GAD116_1","GAD116_1.jpg",{"$f":"+GetURL(D23261)","v":"https://www.refaccionariagonzalez.com/alta/G-I/GAD116_1.jpg"}]
["2024-05-02T08:48:00",8,"GANASPB","GANASPB.jpg",{"$f":"+GetURL(D23281)","v":"https://www.refaccionariagonzalez.com/alta/G-I/GANASPB.jpg"}]
["2020-09-29T11:03:00",10,"GAT6263GS","GAT6263GS_1.jpg",{"$f":"+GetURL(D23304)","v":"https://www.refaccionariagonzalez.com/alta/G-I/GAT6263GS_1.jpg"}]
["2020-09-29T10:36:00",10,"GAT6360GS","GAT6360GS_2.jpg",{"$f":"+GetURL(D23323)","v":"https://www.refaccionariagonzalez.com/alta/G-I/GAT6360GS_2.jpg"}]
["2020-09-29T10:58:00",10,"GAT6433GS","GAT6433GS_1.jpg",{"$f":"+GetURL(D23350)","v":"https://www.refaccionariagonzalez.com/alta/G-I/GAT6433GS_1.jpg"}]
["2020-09-29T10:39:00",10,"GAT8594GS","GAT8594GS_1.jpg",{"$f":"+GetURL(D23366)","v":"https://www.refaccionariagonzalez.com/alta/G-I/GAT8594GS_1.jpg"}]
["2020-09-29T10:24:00",11,"GAT33238_9","GAT33238_9.jpg",{"$f":"+GetURL(D23385)","v":"https://www.refaccionariagonzalez.com/alta/G-I/GAT33238_9.jpg"}]
["2020-09-29T10:48:00",11,"GAT38200_8","GAT38200_8.jpg",{"$f":"+GetURL(D23404)","v":"https://www.refaccionariagonzalez.com/alta/G-I/GAT38200_8.jpg"}]
["2020-09-29T10:52:00",11,"GAT38315_1","GAT38315_1.jpg",{"$f":"+GetURL(D23409)","v":"https://www.refaccionariagonzalez.com/alta/G-I/GAT38315_1.jpg"}]
["2020-09-29T10:48:00",11,"GAT42261_3","GAT42261_3.jpg",{"$f":"+GetURL(D23428)","v":"https://www.refaccionariagonzalez.com/alta/G-I/GAT42261_3.jpg"}]
["2020-09-29T10:54:00",12,"GAT130223_1","GAT130223_1.jpg",{"$f":"+GetURL(D23453)","v":"https://www.refaccionariagonzalez.com/alta/G-I/GAT130223_1.jpg"}]
["2020-09-29T11:07:00",9,"GATA35_9","GATA35_9.jpg",{"$f":"+GetURL(D23478)","v":"https://www.refaccionariagonzalez.com/alta/G-I/GATA35_9.jpg"}]
["2020-09-29T10:46:00",14,{"$f":"+LEFT(D23490,B23490-1)","v":"GATCH130142_9"},"GATCH130142_9.jpg",{"$f":"+GetURL(D23490)","v":"https://www.refaccionariagonzalez.com/alta/G-I/GATCH130142_9.jpg"}]
["2020-09-29T10:41:00",14,"GATCH220112_1","GATCH220112_1.jpg",{"$f":"+GetURL(D23515)","v":"https://www.refaccionariagonzalez.com/alta/G-I/GATCH220112_1.jpg"}]
["2020-09-29T10:34:00",13,"GATK040310_1","GATK040310_1.jpg",{"$f":"+GetURL(D23529)","v":"https://www.refaccionariagonzalez.com/alta/G-I/GATK040310_1.jpg"}]
["2024-02-15T18:24:00",13,"GATK040335_1","GATK040335_1.jpg",{"$f":"+GetURL(D23539)","v":"https://www.refaccionariagonzalez.com/alta/G-I/GATK040335_1.jpg"}]
["2020-09-29T10:26:00",13,"GATK040381_1","GATK040381_1.jpg",{"$f":"+GetURL(D23558)","v":"https://www.refaccionariagonzalez.com/alta/G-I/GATK040381_1.jpg"}]
["2020-09-29T10:50:00",13,"GATK050570_1","GATK050570_1.jpg",{"$f":"+GetURL(D23577)","v":"https://www.refaccionariagonzalez.com/alta/G-I/GATK050570_1.jpg"}]
["2020-09-29T10:57:00",13,"GATK060406_9","GATK060406_9.jpg",{"$f":"+GetURL(D23606)","v":"https://www.refaccionariagonzalez.com/alta/G-I/GATK060406_9.jpg"}]
["2020-09-29T10:56:00",13,"GATK060434_2","GATK060434_2.jpg",{"$f":"+GetURL(D23620)","v":"https://www.refaccionariagonzalez.com/alta/G-I/GATK060434_2.jpg"}]
["2020-09-29T10:41:00",13,"GATK060529_1","GATK060529_1.jpg",{"$f":"+GetURL(D23639)","v":"https://www.refaccionariagonzalez.com/alta/G-I/GATK060529_1.jpg"}]
["2020-09-29T10:31:00",13,"GATK060692_9","GATK060692_9.jpg",{"$f":"+GetURL(D23657)","v":"https://www.refaccionariagonzalez.com/alta/G-I/GATK060692_9.jpg"}]
["2020-09-29T10:23:00",13,{"$f":"+LEFT(D23682,B23682-1)","v":"GATK060888_9"},"GATK060888_9.jpg",{"$f":"+GetURL(D23682)","v":"https://www.refaccionariagonzalez.com/alta/G-I/GATK060888_9.jpg"}]
["2020-09-29T11:04:00",13,"GATK070840_9","GATK070840_9.jpg",{"$f":"+GetURL(D23707)","v":"https://www.refaccionariagonzalez.com/alta/G-I/GATK070840_9.jpg"}]
["2020-09-29T10:33:00",13,"GATK070855_1","GATK070855_1.jpg",{"$f":"+GetURL(D23708)","v":"https://www.refaccionariagonzalez.com/alta/G-I/GATK070855_1.jpg"}]
["2020-09-29T10:40:00",10,"GATT246_9","GATT246_9.jpg",{"$f":"+GetURL(D23744)","v":"https://www.refaccionariagonzalez.com/alta/G-I/GATT246_9.jpg"}]
["2020-09-29T11:05:00",10,"GATT262_9","GATT262_9.jpg",{"$f":"+GetURL(D23750)","v":"https://www.refaccionariagonzalez.com/alta/G-I/GATT262_9.jpg"}]
["2020-09-29T10:21:00",10,"GATT333_1","GATT333_1.jpg",{"$f":"+GetURL(D23769)","v":"https://www.refaccionariagonzalez.com/alta/G-I/GATT333_1.jpg"}]
["2020-09-29T10:48:00",12,"GATT41058_1","GATT41058_1.jpg",{"$f":"+GetURL(D23799)","v":"https://www.refaccionariagonzalez.com/alta/G-I/GATT41058_1.jpg"}]
["2020-09-29T10:28:00",12,"GATT41267_9","GATT41267_9.jpg",{"$f":"+GetURL(D23812)","v":"https://www.refaccionariagonzalez.com/alta/G-I/GATT41267_9.jpg"}]
["2020-09-29T10:46:00",8,"GAVW2_1","GAVW2_1.jpg",{"$f":"+GetURL(D23831)","v":"https://www.refaccionariagonzalez.com/alta/G-I/GAVW2_1.jpg"}]
["2020-09-29T11:06:00",10,"GAVW621_9","GAVW621_9.jpg",{"$f":"+GetURL(D23854)","v":"https://www.refaccionariagonzalez.com/alta/G-I/GAVW621_9.jpg"}]
["2020-09-29T10:39:00",10,{"$f":"+LEFT(D23874,B23874-1)","v":"GAVW629_4"},"GAVW629_4.jpg",{"$f":"+GetURL(D23874)","v":"https://www.refaccionariagonzalez.com/alta/G-I/GAVW629_4.jpg"}]
["2020-10-20T08:20:00",13,"GEL-AMARILLO","GEL-AMARILLO.1.jpg",{"$f":"+GetURL(D23893)","v":"https://www.refaccionariagonzalez.com/alta/G-I/GEL-AMARILLO.1.jpg"}]
["2020-10-20T08:20:00",{"$f":"+FIND(\".\",D23905)","v":10},"GEL-CIELO","GEL-CIELO.3.jpg",{"$f":"+GetURL(D23905)","v":"https://www.refaccionariagonzalez.com/alta/G-I/GEL-CIELO.3.jpg"}]
["2020-10-20T08:21:00",9,"GEL-ROJO","GEL-ROJO.4.jpg",{"$f":"+GetURL(D23917)","v":"https://www.refaccionariagonzalez.com/alta/G-I/GEL-ROJO.4.jpg"}]
["2020-09-29T10:33:00",7,"GG5L_1","GG5L_1.jpg",{"$f":"+GetURL(D23942)","v":"https://www.refaccionariagonzalez.com/alta/G-I/GG5L_1.jpg"}]
["2020-09-29T10:52:00",7,"GG29_9","GG29_9.jpg",{"$f":"+GetURL(D23956)","v":"https://www.refaccionariagonzalez.com/alta/G-I/GG29_9.jpg"}]
["2020-09-29T11:07:00",7,"GG64_1","GG64_1.jpg",{"$f":"+GetURL(D23979)","v":"https://www.refaccionariagonzalez.com/alta/G-I/GG64_1.jpg"}]
["2020-09-29T10:30:00",7,"GG99_9","GG99_9.jpg",{"$f":"+GetURL(D24004)","v":"https://www.refaccionariagonzalez.com/alta/G-I/GG99_9.jpg"}]
["2020-09-29T10:39:00",8,"GG161_1","GG161_1.jpg",{"$f":"+GetURL(D24023)","v":"https://www.refaccionariagonzalez.com/alta/G-I/GG161_1.jpg"}]
["2020-09-29T10:58:00",8,"GG195_1","GG195_1.jpg",{"$f":"+GetURL(D24029)","v":"https://www.refaccionariagonzalez.com/alta/G-I/GG195_1.jpg"}]
["2020-09-29T10:54:00",8,"GG267_1","GG267_1.jpg",{"$f":"+GetURL(D24047)","v":"https://www.refaccionariagonzalez.com/alta/G-I/GG267_1.jpg"}]
["2020-09-29T11:10:00",8,{"$f":"+LEFT(D24066,B24066-1)","v":"GG915_1"},"GG915_1.jpg",{"$f":"+GetURL(D24066)","v":"https://www.refaccionariagonzalez.com/alta/G-I/GG915_1.jpg"}]
["2020-09-29T10:41:00",11,"GM-012-E_1","GM-012-E_1.jpg",{"$f":"+GetURL(D24084)","v":"https://www.refaccionariagonzalez.com/alta/G-I/GM-012-E_1.jpg"}]
["2020-09-29T10:53:00",15,"GM-RSET-21CK_1","GM-RSET-21CK_1.jpg",{"$f":"+GetURL(D24109)","v":"https://www.refaccionariagonzalez.com/alta/G-I/GM-RSET-21CK_1.jpg"}]
["2020-09-29T10:58:00",13,"GM214C0251_2","GM214C0251_2.jpg",{"$f":"+GetURL(D24128)","v":"https://www.refaccionariagonzalez.com/alta/G-I/GM214C0251_2.jpg"}]
["2020-09-29T10:58:00",13,"GM214C1901_2","GM214C1901_2.jpg",{"$f":"+GetURL(D24153)","v":"https://www.refaccionariagonzalez.com/alta/G-I/GM214C1901_2.jpg"}]
["2020-09-29T10:37:00",13,"GM214T0700_2","GM214T0700_2.jpg",{"$f":"+GetURL(D24171)","v":"https://www.refaccionariagonzalez.com/alta/G-I/GM214T0700_2.jpg"}]
["2020-09-29T10:41:00",13,"GM214T0754_9","GM214T0754_9.jpg",{"$f":"+GetURL(D24177)","v":"https://www.refaccionariagonzalez.com/alta/G-I/GM214T0754_9.jpg"}]
["2020-09-29T10:54:00",13,"GM232B1022_1","GM232B1022_1.jpg",{"$f":"+GetURL(D24196)","v":"https://www.refaccionariagonzalez.com/alta/G-I/GM232B1022_1.jpg"}]
["2020-09-29T10:53:00",13,"GM232F1131_1","GM232F1131_1.jpg",{"$f":"+GetURL(D24226)","v":"https://www.refaccionariagonzalez.com/alta/G-I/GM232F1131_1.jpg"}]
["2020-09-29T11:11:00",13,"GM254F0702_1","GM254F0702_1.jpg",{"$f":"+GetURL(D24239)","v":"https://www.refaccionariagonzalez.com/alta/G-I/GM254F0702_1.jpg"}]
["2020-09-29T10:29:00",14,{"$f":"+LEFT(D24258,B24258-1)","v":"GM442-1123R_1"},"GM442-1123R_1.jpg",{"$f":"+GetURL(D24258)","v":"https://www.refaccionariagonzalez.com/alta/G-I/GM442-1123R_1.jpg"}]
["2020-09-29T11:06:00",12,"GM1104120_1","GM1104120_1.jpg",{"$f":"+GetURL(D24277)","v":"https://www.refaccionariagonzalez.com/alta/G-I/GM1104120_1.jpg"}]
["2020-09-29T10:52:00",12,"GM9053989_1","GM9053989_1.jpg",{"$f":"+GetURL(D24301)","v":"https://www.refaccionariagonzalez.com/alta/G-I/GM9053989_1.jpg"}]
["2021-02-10T15:21:00",13,"GM19103873_2","GM19103873_2.jpg",{"$f":"+GetURL(D24320)","v":"https://www.refaccionariagonzalez.com/alta/G-I/GM19103873_2.jpg"}]
["2020-09-29T10:46:00",13,"GM19334774_1","GM19334774_1.jpg",{"$f":"+GetURL(D24332)","v":"https://www.refaccionariagonzalez.com/alta/G-I/GM19334774_1.jpg"}]
["2024-04-24T18:40:00",13,"GM19425047_4","GM19425047_4.jpg",{"$f":"+GetURL(D24344)","v":"https://www.refaccionariagonzalez.com/alta/G-I/GM19425047_4.jpg"}]
["2020-09-29T11:00:00",14,"GM90052498C_1","GM90052498C_1.jpg",{"$f":"+GetURL(D24363)","v":"https://www.refaccionariagonzalez.com/alta/G-I/GM90052498C_1.jpg"}]
["2020-09-29T10:50:00",13,"GM90215296_1","GM90215296_1.jpg",{"$f":"+GetURL(D24388)","v":"https://www.refaccionariagonzalez.com/alta/G-I/GM90215296_1.jpg"}]
["2020-09-29T10:24:00",13,"GM90250663_2","GM90250663_2.jpg",{"$f":"+GetURL(D24405)","v":"https://www.refaccionariagonzalez.com/alta/G-I/GM90250663_2.jpg"}]
["2020-09-29T10:36:00",13,"GM90386222_9","GM90386222_9.jpg",{"$f":"+GetURL(D24425)","v":"https://www.refaccionariagonzalez.com/alta/G-I/GM90386222_9.jpg"}]
["2020-09-29T11:04:00",13,{"$f":"+LEFT(D24450,B24450-1)","v":"GM90410792_2"},"GM90410792_2.jpg",{"$f":"+GetURL(D24450)","v":"https://www.refaccionariagonzalez.com/alta/G-I/GM90410792_2.jpg"}]
["2020-09-29T10:34:00",13,"GM90428131_1","GM90428131_1.jpg",{"$f":"+GetURL(D24456)","v":"https://www.refaccionariagonzalez.com/alta/G-I/GM90428131_1.jpg"}]
["2020-09-29T10:41:00",13,"GM90445986_1","GM90445986_1.jpg",{"$f":"+GetURL(D24474)","v":"https://www.refaccionariagonzalez.com/alta/G-I/GM90445986_1.jpg"}]
["2020-09-29T10:52:00",13,"GM90482081_1","GM90482081_1.jpg",{"$f":"+GetURL(D24493)","v":"https://www.refaccionariagonzalez.com/alta/G-I/GM90482081_1.jpg"}]
["2020-09-29T10:24:00",13,"GM90543935_4","GM90543935_4.jpg",{"$f":"+GetURL(D24525)","v":"https://www.refaccionariagonzalez.com/alta/G-I/GM90543935_4.jpg"}]
["2020-09-29T10:37:00",13,"GM93206675_1","GM93206675_1.jpg",{"$f":"+GetURL(D24536)","v":"https://www.refaccionariagonzalez.com/alta/G-I/GM93206675_1.jpg"}]
["2020-09-29T10:22:00",13,"GM93230694_2","GM93230694_2.jpg",{"$f":"+GetURL(D24555)","v":"https://www.refaccionariagonzalez.com/alta/G-I/GM93230694_2.jpg"}]
["2020-09-29T10:21:00",13,"GM93328876_1","GM93328876_1.jpg",{"$f":"+GetURL(D24580)","v":"https://www.refaccionariagonzalez.com/alta/G-I/GM93328876_1.jpg"}]
["2020-09-29T11:04:00",13,"GM93367722_2","GM93367722_2.jpg",{"$f":"+GetURL(D24598)","v":"https://www.refaccionariagonzalez.com/alta/G-I/GM93367722_2.jpg"}]
["2020-09-29T11:08:00",13,"GM93430862_1","GM93430862_1.jpg",{"$f":"+GetURL(D24617)","v":"https://www.refaccionariagonzalez.com/alta/G-I/GM93430862_1.jpg"}]
["2020-09-29T11:03:00",13,{"$f":"+LEFT(D24642,B24642-1)","v":"GM93802515_9"},"GM93802515_9.jpg",{"$f":"+GetURL(D24642)","v":"https://www.refaccionariagonzalez.com/alta/G-I/GM93802515_9.jpg"}]
["2020-09-29T10:47:00",13,"GM94580139_9","GM94580139_9.jpg",{"$f":"+GetURL(D24653)","v":"https://www.refaccionariagonzalez.com/alta/G-I/GM94580139_9.jpg"}]
["2020-09-29T11:08:00",13,"GM96239408_1","GM96239408_1.jpg",{"$f":"+GetURL(D24679)","v":"https://www.refaccionariagonzalez.com/alta/G-I/GM96239408_1.jpg"}]
["2020-09-29T11:08:00",13,"GM96314169_1","GM96314169_1.jpg",{"$f":"+GetURL(D24685)","v":"https://www.refaccionariagonzalez.com/alta/G-I/GM96314169_1.jpg"}]
["2020-09-29T10:41:00",13,"GM96325246_3","GM96325246_3.jpg",{"$f":"+GetURL(D24704)","v":"https://www.refaccionariagonzalez.com/alta/G-I/GM96325246_3.jpg"}]
["2020-09-29T10:42:00",13,"GM96591485_9","GM96591485_9.jpg",{"$f":"+GetURL(D24728)","v":"https://www.refaccionariagonzalez.com/alta/G-I/GM96591485_9.jpg"}]
["2020-09-29T10:29:00",10,"GMBANDA_9","GMBANDA_9.jpg",{"$f":"+GetURL(D24747)","v":"https://www.refaccionariagonzalez.com/alta/G-I/GMBANDA_9.jpg"}]
["2020-09-29T10:55:00",8,"GMDER_9","GMDER_9.jpg",{"$f":"+GetURL(D24755)","v":"https://www.refaccionariagonzalez.com/alta/G-I/GMDER_9.jpg"}]
["2020-09-29T10:59:00",14,"GON-1021399_1","GON-1021399_1.jpg",{"$f":"+GetURL(D24790)","v":"https://www.refaccionariagonzalez.com/alta/G-I/GON-1021399_1.jpg"}]
["2020-09-29T10:38:00",6,"GP9_9","GP9_9.jpg",{"$f":"+GetURL(D24809)","v":"https://www.refaccionariagonzalez.com/alta/G-I/GP9_9.jpg"}]
["2020-09-29T10:35:00",7,"GP40_9","GP40_9.jpg",{"$f":"+GetURL(D24828)","v":"https://www.refaccionariagonzalez.com/alta/G-I/GP40_9.jpg"}]
["2020-09-29T10:37:00",7,"GP46_9","GP46_9.jpg",{"$f":"+GetURL(D24832)","v":"https://www.refaccionariagonzalez.com/alta/G-I/GP46_9.jpg"}]
["2020-09-29T10:47:00",17,"GP149SINTETICO_1","GP149SINTETICO_1.jpg",{"$f":"+GetURL(D24852)","v":"https://www.refaccionariagonzalez.com/alta/G-I/GP149SINTETICO_1.jpg"}]
["2020-09-29T10:54:00",8,"GP406_9","GP406_9.jpg",{"$f":"+GetURL(D24877)","v":"https://www.refaccionariagonzalez.com/alta/G-I/GP406_9.jpg"}]
["2023-12-15T13:57:00",10,"GP2507 _1","GP2507 _1.jpg",{"$f":"+GetURL(D24901)","v":"https://www.refaccionariagonzalez.com/alta/G-I/GP2507 _1.jpg"}]
["2020-09-29T10:57:00",10,"GP6714F_2","GP6714F_2.jpg",{"$f":"+GetURL(D24914)","v":"https://www.refaccionariagonzalez.com/alta/G-I/GP6714F_2.jpg"}]
["2020-09-29T11:02:00",11,"GRRN0100_9","GRRN0100_9.jpg",{"$f":"+GetURL(D24939)","v":"https://www.refaccionariagonzalez.com/alta/G-I/GRRN0100_9.jpg"}]
["2020-09-29T10:54:00",11,"GRRN1522_8","GRRN1522_8.jpg",{"$f":"+GetURL(D24952)","v":"https://www.refaccionariagonzalez.com/alta/G-I/GRRN1522_8.jpg"}]
["2020-09-29T10:20:00",9,"GS1261_2","GS1261_2.jpg",{"$f":"+GetURL(D24963)","v":"https://www.refaccionariagonzalez.com/alta/G-I/GS1261_2.jpg"}]
["2020-09-29T11:08:00",8,"GUIA2_9","GUIA2_9.jpg",{"$f":"+GetURL(D24982)","v":"https://www.refaccionariagonzalez.com/alta/G-I/GUIA2_9.jpg"}]
["2021-11-17T16:59:00",12,"H-070A-LH_2","H-070A-LH_2.jpg",{"$f":"+GetURL(D25001)","v":"https://www.refaccionariagonzalez.com/alta/G-I/H-070A-LH_2.jpg"}]
["2021-11-17T17:00:00",12,"H-498A-RH_1","H-498A-RH_1.jpg",{"$f":"+GetURL(D25029)","v":"https://www.refaccionariagonzalez.com/alta/G-I/H-498A-RH_1.jpg"}]
["2022-01-03T18:45:00",13,"H-537A-RH_01","H-537A-RH_01.jpg",{"$f":"+GetURL(D25044)","v":"https://www.refaccionariagonzalez.com/alta/G-I/H-537A-RH_01.jpg"}]
["2022-02-25T18:23:00",12,"H-552A-LH_2","H-552A-LH_2.jpg",{"$f":"+GetURL(D25063)","v":"https://www.refaccionariagonzalez.com/alta/G-I/H-552A-LH_2.jpg"}]
["2021-11-17T17:00:00",9,"H-560C_1","H-560C_1.jpg",{"$f":"+GetURL(D25080)","v":"https://www.refaccionariagonzalez.com/alta/G-I/H-560C_1.jpg"}]
["2021-11-17T17:01:00",12,"H-571A-RH_2","H-571A-RH_2.jpg",{"$f":"+GetURL(D25106)","v":"https://www.refaccionariagonzalez.com/alta/G-I/H-571A-RH_2.jpg"}]
["2021-11-17T17:01:00",12,"H-576A-RH_2","H-576A-RH_2.jpg",{"$f":"+GetURL(D25112)","v":"https://www.refaccionariagonzalez.com/alta/G-I/H-576A-RH_2.jpg"}]
["2021-11-17T17:01:00",12,"H-B098-RH_2","H-B098-RH_2.jpg",{"$f":"+GetURL(D25131)","v":"https://www.refaccionariagonzalez.com/alta/G-I/H-B098-RH_2.jpg"}]
["2021-11-17T17:01:00",9,"H-F006_1","H-F006_1.jpg",{"$f":"+GetURL(D25149)","v":"https://www.refaccionariagonzalez.com/alta/G-I/H-F006_1.jpg"}]
["2020-09-29T10:27:00",8,"H4-UL_9","H4-UL_9.jpg",{"$f":"+GetURL(D25174)","v":"https://www.refaccionariagonzalez.com/alta/G-I/H4-UL_9.jpg"}]
["2020-09-29T10:57:00",10,"HAS4602_1","HAS4602_1.jpg",{"$f":"+GetURL(D25200)","v":"https://www.refaccionariagonzalez.com/alta/G-I/HAS4602_1.jpg"}]
["2020-09-29T10:59:00",13,"HAS5136STD_9","HAS5136STD_9.jpg",{"$f":"+GetURL(D25217)","v":"https://www.refaccionariagonzalez.com/alta/G-I/HAS5136STD_9.jpg"}]
["2020-09-29T10:25:00",13,"HAS5099030_1","HAS5099030_1.jpg",{"$f":"+GetURL(D25236)","v":"https://www.refaccionariagonzalez.com/alta/G-I/HAS5099030_1.jpg"}]
["2020-09-29T10:21:00",18,"HEL1A6906268011_1","HEL1A6906268011_1.jpg",{"$f":"+GetURL(D25255)","v":"https://www.refaccionariagonzalez.com/alta/G-I/HEL1A6906268011_1.jpg"}]
["2020-09-29T10:38:00",18,"HEL2VA962064521_9","HEL2VA962064521_9.jpg",{"$f":"+GetURL(D25277)","v":"https://www.refaccionariagonzalez.com/alta/G-I/HEL2VA962064521_9.jpg"}]
["2020-09-29T10:26:00",18,"HEL2VP002501031_2","HEL2VP002501031_2.jpg",{"$f":"+GetURL(D25279)","v":"https://www.refaccionariagonzalez.com/alta/G-I/HEL2VP002501031_2.jpg"}]
["2020-09-29T11:07:00",18,"HEL8SA906882611_1","HEL8SA906882611_1.jpg",{"$f":"+GetURL(D25298)","v":"https://www.refaccionariagonzalez.com/alta/G-I/HEL8SA906882611_1.jpg"}]
["2020-09-29T10:35:00",18,"HEL9SG920606001_9","HEL9SG920606001_9.jpg",{"$f":"+GetURL(D25328)","v":"https://www.refaccionariagonzalez.com/alta/G-I/HEL9SG920606001_9.jpg"}]
["2020-09-29T10:38:00",12,"HEL104-06_9","HEL104-06_9.jpg",{"$f":"+GetURL(D25341)","v":"https://www.refaccionariagonzalez.com/alta/G-I/HEL104-06_9.jpg"}]
["2024-02-01T18:22:00",11,"HELLA-H7YL","HELLA-H7YL_1.jpg",{"$f":"+GetURL(D25366)","v":"https://www.refaccionariagonzalez.com/alta/G-I/HELLA-H7YL_1.jpg"}]
["2024-02-23T13:09:00",{"$f":"+FIND(\"_\",D25379)","v":16},"HELLA5W50-LITRO","HELLA5W50-LITRO_2.jpg",{"$f":"+GetURL(D25379)","v":"https://www.refaccionariagonzalez.com/alta/G-I/HELLA5W50-LITRO_2.jpg"}]
["2023-06-23T14:16:00",10,"HELLA1003","HELLA1003. 1.jpg",{"$f":"+GetURL(D25403)","v":"https://www.refaccionariagonzalez.com/alta/G-I/HELLA1003. 1.jpg"}]
["2023-06-23T14:16:00",11,"HELLA1157A","HELLA1157A. 1.jpg",{"$f":"+GetURL(D25409)","v":"https://www.refaccionariagonzalez.com/alta/G-I/HELLA1157A. 1.jpg"}]
["2023-06-23T14:16:00",10,"HELLA7225","HELLA7225. 3.jpg",{"$f":"+GetURL(D25428)","v":"https://www.refaccionariagonzalez.com/alta/G-I/HELLA7225. 3.jpg"}]
["2020-09-29T10:26:00",18,"HELLAH4XE100TDB_1","HELLAH4XE100TDB_1.jpg",{"$f":"+GetURL(D25452)","v":"https://www.refaccionariagonzalez.com/alta/G-I/HELLAH4XE100TDB_1.jpg"}]
["2020-09-29T10:41:00",16,"HER027905207A_4","HER027905207A_4.jpg",{"$f":"+GetURL(D25471)","v":"https://www.refaccionariagonzalez.com/alta/G-I/HER027905207A_4.jpg"}]
["2020-09-29T10:25:00",19,"HER95BF9F715AC-H_9","HER95BF9F715AC-H_9.jpg",{"$f":"+GetURL(D25490)","v":"https://www.refaccionariagonzalez.com/alta/G-I/HER95BF9F715AC-H_9.jpg"}]
["2020-09-29T10:34:00",14,"HER90128603_1","HER90128603_1.jpg",{"$f":"+GetURL(D25507)","v":"https://www.refaccionariagonzalez.com/alta/G-I/HER90128603_1.jpg"}]
["2020-09-29T11:08:00",13,"HG-CR-15-G_1","HG-CR-15-G_1.jpg",{"$f":"+GetURL(D25533)","v":"https://www.refaccionariagonzalez.com/alta/G-I/HG-CR-15-G_1.jpg"}]
["2023-11-13T18:42:00",11,"HJFS-24-FP","HJFS-24-FP.jpg",{"$f":"+GetURL(D25552)","v":"https://www.refaccionariagonzalez.com/alta/G-I/HJFS-24-FP.jpg"}]
["2021-05-14T18:16:00",11,"HL11-H13_2","HL11-H13_2.jpg",{"$f":"+GetURL(D25576)","v":"https://www.refaccionariagonzalez.com/alta/G-I/HL11-H13_2.jpg"}]
["2020-09-29T11:00:00",11,"HMRN0441_1","HMRN0441_1.jpg",{"$f":"+GetURL(D25595)","v":"https://www.refaccionariagonzalez.com/alta/G-I/HMRN0441_1.jpg"}]
["2020-09-29T10:46:00",12,"HN04055BA_9","HN04055BA_9.jpg",{"$f":"+GetURL(D25601)","v":"https://www.refaccionariagonzalez.com/alta/G-I/HN04055BA_9.jpg"}]
["2020-09-29T10:45:00",15,"HOL71024-BPA_1","HOL71024-BPA_1.jpg",{"$f":"+GetURL(D25620)","v":"https://www.refaccionariagonzalez.com/alta/G-I/HOL71024-BPA_1.jpg"}]
["2020-09-29T10:25:00",14,"HY009-CLEAR_1","HY009-CLEAR_1.jpg",{"$f":"+GetURL(D25649)","v":"https://www.refaccionariagonzalez.com/alta/G-I/HY009-CLEAR_1.jpg"}]
["2020-09-29T10:49:00",10,"HY053BL_1","HY053BL_1.jpg",{"$f":"+GetURL(D25663)","v":"https://www.refaccionariagonzalez.com/alta/G-I/HY053BL_1.jpg"}]
["2020-09-29T10:33:00",8,"HY304_9","HY304_9.jpg",{"$f":"+GetURL(D25682)","v":"https://www.refaccionariagonzalez.com/alta/G-I/HY304_9.jpg"}]
["2020-09-29T10:44:00",11,"HYPB5230_1","HYPB5230_1.jpg",{"$f":"+GetURL(D25700)","v":"https://www.refaccionariagonzalez.com/alta/G-I/HYPB5230_1.jpg"}]
["2020-09-29T11:02:00",11,"HYPB5741_9","HYPB5741_9.jpg",{"$f":"+GetURL(D25725)","v":"https://www.refaccionariagonzalez.com/alta/G-I/HYPB5741_9.jpg"}]
["2020-09-29T11:12:00",13,"HYPB5830G4_1","HYPB5830G4_1.jpg",{"$f":"+GetURL(D25744)","v":"https://www.refaccionariagonzalez.com/alta/G-I/HYPB5830G4_1.jpg"}]
["2020-09-29T10:44:00",13,"HYPB5913F4_9","HYPB5913F4_9.jpg",{"$f":"+GetURL(D25755)","v":"https://www.refaccionariagonzalez.com/alta/G-I/HYPB5913F4_9.jpg"}]
["2020-09-29T11:09:00",13,"HYPB5975F6_1","HYPB5975F6_1.jpg",{"$f":"+GetURL(D25768)","v":"https://www.refaccionariagonzalez.com/alta/G-I/HYPB5975F6_1.jpg"}]
["2020-09-29T11:11:00",13,"HYPB9220N4_9","HYPB9220N4_9.jpg",{"$f":"+GetURL(D25787)","v":"https://www.refaccionariagonzalez.com/alta/G-I/HYPB9220N4_9.jpg"}]
["2020-09-29T11:07:00",11,"IAC66003_9","IAC66003_9.jpg",{"$f":"+GetURL(D25806)","v":"https://www.refaccionariagonzalez.com/alta/G-I/IAC66003_9.jpg"}]
["2023-05-29T18:46:00",13,"IAC7100900_1","IAC7100900_1.png",{"$f":"+GetURL(D25830)","v":"https://www.refaccionariagonzalez.com/alta/G-I/IAC7100900_1.png"}]
["2020-09-29T10:48:00",13,"ICT5636400_1","ICT5636400_1.jpg",{"$f":"+GetURL(D25855)","v":"https://www.refaccionariagonzalez.com/alta/G-I/ICT5636400_1.jpg"}]
["2020-09-29T10:32:00",11,"IEAP516W_9","IEAP516W_9.jpg",{"$f":"+GetURL(D25874)","v":"https://www.refaccionariagonzalez.com/alta/G-I/IEAP516W_9.jpg"}]
["2020-09-29T10:21:00",13,"IEC0012800_1","IEC0012800_1.jpg",{"$f":"+GetURL(D25879)","v":"https://www.refaccionariagonzalez.com/alta/G-I/IEC0012800_1.jpg"}]
["2020-09-29T10:39:00",13,"IEC2005000_1","IEC2005000_1.jpg",{"$f":"+GetURL(D25898)","v":"https://www.refaccionariagonzalez.com/alta/G-I/IEC2005000_1.jpg"}]
["2020-09-29T10:53:00",16,"IKH20TT-PROMO_1","IKH20TT-PROMO_1.jpg",{"$f":"+GetURL(D25917)","v":"https://www.refaccionariagonzalez.com/alta/G-I/IKH20TT-PROMO_1.jpg"}]
["2020-09-29T10:22:00",13,"ILC7050216_9","ILC7050216_9.jpg",{"$f":"+GetURL(D25948)","v":"https://www.refaccionariagonzalez.com/alta/G-I/ILC7050216_9.jpg"}]
["2020-09-29T11:10:00",13,"ILC7050234_9","ILC7050234_9.jpg",{"$f":"+GetURL(D25960)","v":"https://www.refaccionariagonzalez.com/alta/G-I/ILC7050234_9.jpg"}]
["2020-09-29T10:43:00",10,"ILSF140_9","ILSF140_9.jpg",{"$f":"+GetURL(D25979)","v":"https://www.refaccionariagonzalez.com/alta/G-I/ILSF140_9.jpg"}]
["2020-09-29T10:36:00",16,"IND191611019X_1","IND191611019X_1.jpg",{"$f":"+GetURL(D26003)","v":"https://www.refaccionariagonzalez.com/alta/G-I/IND191611019X_1.jpg"}]
["2020-09-29T11:08:00",11,"INJ06715_2","INJ06715_2.jpg",{"$f":"+GetURL(D26022)","v":"https://www.refaccionariagonzalez.com/alta/G-I/INJ06715_2.jpg"}]
["2020-09-29T10:40:00",11,"INJ08596_1","INJ08596_1.jpg",{"$f":"+GetURL(D26041)","v":"https://www.refaccionariagonzalez.com/alta/G-I/INJ08596_1.jpg"}]
["2020-09-29T10:22:00",11,"INJ08946_8","INJ08946_8.jpg",{"$f":"+GetURL(D26047)","v":"https://www.refaccionariagonzalez.com/alta/G-I/INJ08946_8.jpg"}]
["2021-03-05T18:17:00",11,"INJ38984_3","INJ38984_3.jpg",{"$f":"+GetURL(D26076)","v":"https://www.refaccionariagonzalez.com/alta/G-I/INJ38984_3.jpg"}]
["2024-04-25T10:02:00",9,"INJ39038","INJ39038.png",{"$f":"+GetURL(D26084)","v":"https://www.refaccionariagonzalez.com/alta/G-I/INJ39038.png"}]
["2020-09-29T10:36:00",11,"INJ42099_3","INJ42099_3.jpg",{"$f":"+GetURL(D26109)","v":"https://www.refaccionariagonzalez.com/alta/G-I/INJ42099_3.jpg"}]
["2024-04-24T13:51:00",10,"INJ47218C","INJ47218C.jpg",{"$f":"+GetURL(D26127)","v":"https://www.refaccionariagonzalez.com/alta/G-I/INJ47218C.jpg"}]
["2024-05-10T08:09:00",9,"INJN0912","INJN0912.jpg",{"$f":"+GetURL(D26152)","v":"https://www.refaccionariagonzalez.com/alta/G-I/INJN0912.jpg"}]
["2022-06-30T10:09:00",11,"INJV0711_1","INJV0711_1.jpg",{"$f":"+GetURL(D26171)","v":"https://www.refaccionariagonzalez.com/alta/G-I/INJV0711_1.jpg"}]
["2020-09-29T10:42:00",10,{"$f":"+LEFT(D26178,B26178-1)","v":"IOL-249_1"},"IOL-249_1.jpg",{"$f":"+GetURL(D26178)","v":"https://www.refaccionariagonzalez.com/alta/G-I/IOL-249_1.jpg"}]
["2023-12-11T10:47:00",10,"IOLLFL185","IOLLFL185.jpg",{"$f":"+GetURL(D26195)","v":"https://www.refaccionariagonzalez.com/alta/G-I/IOLLFL185.jpg"}]
["2020-09-29T10:40:00",12,"ITA010126_2","ITA010126_2.jpg",{"$f":"+GetURL(D26214)","v":"https://www.refaccionariagonzalez.com/alta/G-I/ITA010126_2.jpg"}]
["2020-09-29T10:45:00",16,"ITA191407103A_1","ITA191407103A_1.jpg",{"$f":"+GetURL(D26239)","v":"https://www.refaccionariagonzalez.com/alta/G-I/ITA191407103A_1.jpg"}]
["2020-09-29T10:36:00",8,"IXU22_1","IXU22_1.jpg",{"$f":"+GetURL(D26255)","v":"https://www.refaccionariagonzalez.com/alta/G-I/IXU22_1.jpg"}]
["2024-05-17T09:10:00",14,"JC-1242-LTE_2","JC-1242-LTE_2.jpg",{"$f":"+GetURL(D26276)","v":"https://www.refaccionariagonzalez.com/alta/J-L/JC-1242-LTE_2.jpg"}]
["2020-09-29T10:41:00",11,"JCSC9900_9","JCSC9900_9.jpg",{"$f":"+GetURL(D26301)","v":"https://www.refaccionariagonzalez.com/alta/J-L/JCSC9900_9.jpg"}]
["2024-05-02T10:04:00",10,"JK350=WHI","JK350=WHI.jpg",{"$f":"+GetURL(D26324)","v":"https://www.refaccionariagonzalez.com/alta/J-L/JK350=WHI.jpg"}]
["2024-04-24T14:48:00",11,"JMRN0950_6","JMRN0950_6.jpg",{"$f":"+GetURL(D26338)","v":"https://www.refaccionariagonzalez.com/alta/J-L/JMRN0950_6.jpg"}]
["2024-04-24T13:40:00",11,"JMSC9900_6","JMSC9900_6.jpg",{"$f":"+GetURL(D26344)","v":"https://www.refaccionariagonzalez.com/alta/J-L/JMSC9900_6.jpg"}]
["2020-09-29T11:02:00",12,"JS-2099-1_9","JS-2099-1_9.jpg",{"$f":"+GetURL(D26375)","v":"https://www.refaccionariagonzalez.com/alta/J-L/JS-2099-1_9.jpg"}]
["2020-09-29T10:20:00",8,"JTCA2_9","JTCA2_9.jpg",{"$f":"+GetURL(D26387)","v":"https://www.refaccionariagonzalez.com/alta/J-L/JTCA2_9.jpg"}]
["2020-09-29T10:24:00",8,"JTWNG_9","JTWNG_9.jpg",{"$f":"+GetURL(D26406)","v":"https://www.refaccionariagonzalez.com/alta/J-L/JTWNG_9.jpg"}]
["2020-09-29T10:52:00",12,"JUNIORS06_2","JUNIORS06_2.jpg",{"$f":"+GetURL(D26426)","v":"https://www.refaccionariagonzalez.com/alta/J-L/JUNIORS06_2.jpg"}]
["2020-09-29T10:36:00",9,"JUNTA8_1","JUNTA8_1.jpg",{"$f":"+GetURL(D26449)","v":"https://www.refaccionariagonzalez.com/alta/J-L/JUNTA8_1.jpg"}]
["2020-09-29T10:21:00",10,"JUNTA20_1","JUNTA20_1.jpg",{"$f":"+GetURL(D26468)","v":"https://www.refaccionariagonzalez.com/alta/J-L/JUNTA20_1.jpg"}]
["2020-09-29T10:40:00",10,"JUNTA30_9","JUNTA30_9.jpg",{"$f":"+GetURL(D26487)","v":"https://www.refaccionariagonzalez.com/alta/J-L/JUNTA30_9.jpg"}]
["2020-09-29T10:50:00",10,"JUNTA41_9","JUNTA41_9.jpg",{"$f":"+GetURL(D26503)","v":"https://www.refaccionariagonzalez.com/alta/J-L/JUNTA41_9.jpg"}]
["2020-09-29T11:00:00",9,"K16R-U_9","K16R-U_9.jpg",{"$f":"+GetURL(D26530)","v":"https://www.refaccionariagonzalez.com/alta/J-L/K16R-U_9.jpg"}]
["2020-09-29T11:02:00",10,"K136331_3","K136331_3.jpg",{"$f":"+GetURL(D26536)","v":"https://www.refaccionariagonzalez.com/alta/J-L/K136331_3.jpg"}]
["2023-11-23T18:57:00",6,"KIP02","KIP02.jpg",{"$f":"+GetURL(D26554)","v":"https://www.refaccionariagonzalez.com/alta/J-L/KIP02.jpg"}]
["2024-04-24T18:30:00",14,"KITDIST-NS12V","KITDIST-NS12V.jpg",{"$f":"+GetURL(D26573)","v":"https://www.refaccionariagonzalez.com/alta/J-L/KITDIST-NS12V.jpg"}]
["2024-04-24T15:01:00",12,"KITDIST2-A4","KITDIST2-A4.jpg",{"$f":"+GetURL(D26598)","v":"https://www.refaccionariagonzalez.com/alta/J-L/KITDIST2-A4.jpg"}]
["2020-09-29T10:47:00",8,"KL-HK_9","KL-HK_9.jpg",{"$f":"+GetURL(D26623)","v":"https://www.refaccionariagonzalez.com/alta/J-L/KL-HK_9.jpg"}]
["2020-09-29T10:32:00",12,"KOYO30208_9","KOYO30208_9.jpg",{"$f":"+GetURL(D26641)","v":"https://www.refaccionariagonzalez.com/alta/J-L/KOYO30208_9.jpg"}]
["2020-09-29T10:48:00",11,"KR138210_9","KR138210_9.jpg",{"$f":"+GetURL(D26660)","v":"https://www.refaccionariagonzalez.com/alta/J-L/KR138210_9.jpg"}]
["2020-09-29T10:37:00",11,"KS-40111_1","KS-40111_1.jpg",{"$f":"+GetURL(D26679)","v":"https://www.refaccionariagonzalez.com/alta/J-L/KS-40111_1.jpg"}]
["2020-09-29T10:53:00",12,"KS-401201_9","KS-401201_9.jpg",{"$f":"+GetURL(D26682)","v":"https://www.refaccionariagonzalez.com/alta/J-L/KS-401201_9.jpg"}]
["2020-09-29T10:54:00",12,"KYB332153_1","KYB332153_1.jpg",{"$f":"+GetURL(D26703)","v":"https://www.refaccionariagonzalez.com/alta/J-L/KYB332153_1.jpg"}]
["2020-09-29T10:39:00",12,"KYB333418_9","KYB333418_9.jpg",{"$f":"+GetURL(D26722)","v":"https://www.refaccionariagonzalez.com/alta/J-L/KYB333418_9.jpg"}]
["2020-09-29T10:30:00",12,"KYB343328_9","KYB343328_9.jpg",{"$f":"+GetURL(D26751)","v":"https://www.refaccionariagonzalez.com/alta/J-L/KYB343328_9.jpg"}]
["2020-09-29T10:54:00",12,"KYB344204_9","KYB344204_9.jpg",{"$f":"+GetURL(D26765)","v":"https://www.refaccionariagonzalez.com/alta/J-L/KYB344204_9.jpg"}]
["2020-09-29T10:43:00",12,"KYB633116_9","KYB633116_9.jpg",{"$f":"+GetURL(D26790)","v":"https://www.refaccionariagonzalez.com/alta/J-L/KYB633116_9.jpg"}]
["2020-09-29T10:36:00",14,"KYB88914200_9","KYB88914200_9.jpg",{"$f":"+GetURL(D26802)","v":"https://www.refaccionariagonzalez.com/alta/J-L/KYB88914200_9.jpg"}]
["2020-09-29T10:46:00",10,"LA-G30C_1","LA-G30C_1.jpg",{"$f":"+GetURL(D26827)","v":"https://www.refaccionariagonzalez.com/alta/J-L/LA-G30C_1.jpg"}]
["2020-09-29T11:08:00",11,"LA-ML11B_1","LA-ML11B_1.jpg",{"$f":"+GetURL(D26833)","v":"https://www.refaccionariagonzalez.com/alta/J-L/LA-ML11B_1.jpg"}]
["2024-05-14T08:40:00",13,"LABUENA-34_1","LABUENA-34_1.jpg",{"$f":"+GetURL(D26852)","v":"https://www.refaccionariagonzalez.com/alta/J-L/LABUENA-34_1.jpg"}]
["2024-05-16T08:51:00",11,"LABUENA-99","LABUENA-99.jpg",{"$f":"+GetURL(D26879)","v":"https://www.refaccionariagonzalez.com/alta/J-L/LABUENA-99.jpg"}]
["2024-04-24T12:33:00",10,"LACH1013P","LACH1013P.jpg",{"$f":"+GetURL(D26895)","v":"https://www.refaccionariagonzalez.com/alta/J-L/LACH1013P.jpg"}]
["2020-10-08T14:20:00",8,"LAL3810","LAL3810.1.jpg",{"$f":"+GetURL(D26914)","v":"https://www.refaccionariagonzalez.com/alta/J-L/LAL3810.1.jpg"}]
["2024-05-17T09:10:00",8,"LAPCG4Y","LAPCG4Y.jpg",{"$f":"+GetURL(D26930)","v":"https://www.refaccionariagonzalez.com/alta/J-L/LAPCG4Y.jpg"}]
["2020-09-29T11:05:00",9,"LB1255_4","LB1255_4.jpg",{"$f":"+GetURL(D26957)","v":"https://www.refaccionariagonzalez.com/alta/J-L/LB1255_4.jpg"}]
["2020-09-29T11:06:00",8,"LC115_9","LC115_9.jpg",{"$f":"+GetURL(D26976)","v":"https://www.refaccionariagonzalez.com/alta/J-L/LC115_9.jpg"}]
["2020-09-29T11:12:00",8,"LC124_1","LC124_1.jpg",{"$f":"+GetURL(D26981)","v":"https://www.refaccionariagonzalez.com/alta/J-L/LC124_1.jpg"}]
["2020-09-29T10:55:00",8,"LC194_1","LC194_1.jpg",{"$f":"+GetURL(D27000)","v":"https://www.refaccionariagonzalez.com/alta/J-L/LC194_1.jpg"}]
["2020-09-29T10:28:00",9,"LC2215_9","LC2215_9.jpg",{"$f":"+GetURL(D27025)","v":"https://www.refaccionariagonzalez.com/alta/J-L/LC2215_9.jpg"}]
["2020-09-29T11:07:00",10,"LC17508_1","LC17508_1.jpg",{"$f":"+GetURL(D27050)","v":"https://www.refaccionariagonzalez.com/alta/J-L/LC17508_1.jpg"}]
["2020-09-29T10:28:00",10,"LC33118_2","LC33118_2.jpg",{"$f":"+GetURL(D27062)","v":"https://www.refaccionariagonzalez.com/alta/J-L/LC33118_2.jpg"}]
["2020-09-29T10:41:00",10,"LC96363_1","LC96363_1.jpg",{"$f":"+GetURL(D27087)","v":"https://www.refaccionariagonzalez.com/alta/J-L/LC96363_1.jpg"}]
["2020-09-29T10:42:00",11,"LC100797_9","LC100797_9.jpg",{"$f":"+GetURL(D27106)","v":"https://www.refaccionariagonzalez.com/alta/J-L/LC100797_9.jpg"}]
["2020-09-29T10:34:00",11,"LC390951_1","LC390951_1.jpg",{"$f":"+GetURL(D27123)","v":"https://www.refaccionariagonzalez.com/alta/J-L/LC390951_1.jpg"}]
["2020-09-29T10:39:00",11,"LED-8015_3","LED-8015_3.jpg",{"$f":"+GetURL(D27130)","v":"https://www.refaccionariagonzalez.com/alta/J-L/LED-8015_3.jpg"}]
["2021-01-07T13:42:00",15,"LEDS-1141_BL_1","LEDS-1141_BL_1.jpg",{"$f":"+GetURL(D27149)","v":"https://www.refaccionariagonzalez.com/alta/J-L/LEDS-1141_BL_1.jpg"}]
["2020-09-29T10:45:00",10,"LEDS-H7_9","LEDS-H7_9.jpg",{"$f":"+GetURL(D27178)","v":"https://www.refaccionariagonzalez.com/alta/J-L/LEDS-H7_9.jpg"}]
["2020-09-29T11:04:00",7,"LEDS_9","LEDS_9.jpg",{"$f":"+GetURL(D27192)","v":"https://www.refaccionariagonzalez.com/alta/J-L/LEDS_9.jpg"}]
["2020-09-29T10:24:00",9,"LIECRD_1","LIECRD_1.jpg",{"$f":"+GetURL(D27211)","v":"https://www.refaccionariagonzalez.com/alta/J-L/LIECRD_1.jpg"}]
["2020-09-29T10:56:00",{"$f":"+FIND(\"_\",D27229)","v":9},"LIQ-1040","LIQ-1040_1.jpg",{"$f":"+GetURL(D27229)","v":"https://www.refaccionariagonzalez.com/alta/J-L/LIQ-1040_1.jpg"}]
["2020-09-29T10:35:00",9,"LIQ-2506","LIQ-2506_1.jpg",{"$f":"+GetURL(D27254)","v":"https://www.refaccionariagonzalez.com/alta/J-L/LIQ-2506_1.jpg"}]
["2020-09-29T10:49:00",9,"LIQ-3110","LIQ-3110_1.jpg",{"$f":"+GetURL(D27260)","v":"https://www.refaccionariagonzalez.com/alta/J-L/LIQ-3110_1.jpg"}]
["2020-09-29T10:56:00",9,"LIQ-9503","LIQ-9503_1.jpg",{"$f":"+GetURL(D27279)","v":"https://www.refaccionariagonzalez.com/alta/J-L/LIQ-9503_1.jpg"}]
["2020-09-29T10:56:00",9,"LL-PUMAS","LL-PUMAS_1.jpg",{"$f":"+GetURL(D27302)","v":"https://www.refaccionariagonzalez.com/alta/J-L/LL-PUMAS_1.jpg"}]
["2020-12-11T16:05:00",13,"LOC708939643","LOC708939643.1.jpg",{"$f":"+GetURL(D27322)","v":"https://www.refaccionariagonzalez.com/alta/J-L/LOC708939643.1.jpg"}]
["2024-05-16T08:51:00",7,"LTH-42","LTH-42.jpg",{"$f":"+GetURL(D27341)","v":"https://www.refaccionariagonzalez.com/alta/J-L/LTH-42.jpg"}]
["2020-09-29T10:51:00",9,"LUB80W90","LUB80W90_1.jpg",{"$f":"+GetURL(D27371)","v":"https://www.refaccionariagonzalez.com/alta/J-L/LUB80W90_1.jpg"}]
["2020-09-29T10:32:00",7,"LUBATF","LUBATF_9.jpg",{"$f":"+GetURL(D27384)","v":"https://www.refaccionariagonzalez.com/alta/J-L/LUBATF_9.jpg"}]
["2020-09-29T10:48:00",8,"LUDL470","LUDL470_2.jpg",{"$f":"+GetURL(D27403)","v":"https://www.refaccionariagonzalez.com/alta/J-L/LUDL470_2.jpg"}]
["2020-09-29T10:30:00",13,"LUK230213800","LUK230213800_4.jpg",{"$f":"+GetURL(D27426)","v":"https://www.refaccionariagonzalez.com/alta/J-L/LUK230213800_4.jpg"}]
["2020-09-29T10:38:00",13,"LUK500052110","LUK500052110_9.jpg",{"$f":"+GetURL(D27446)","v":"https://www.refaccionariagonzalez.com/alta/J-L/LUK500052110_9.jpg"}]
["2020-09-29T10:50:00",13,"LUK530017110","LUK530017110_2.jpg",{"$f":"+GetURL(D27465)","v":"https://www.refaccionariagonzalez.com/alta/J-L/LUK530017110_2.jpg"}]
["2020-09-29T10:49:00",13,"LUK530052010","LUK530052010_9.jpg",{"$f":"+GetURL(D27471)","v":"https://www.refaccionariagonzalez.com/alta/J-L/LUK530052010_9.jpg"}]
["2020-09-29T11:08:00",13,"LUK619000406","LUK619000406_2.jpg",{"$f":"+GetURL(D27499)","v":"https://www.refaccionariagonzalez.com/alta/J-L/LUK619000406_2.jpg"}]
["2020-09-29T11:02:00",13,"LUK619310533","LUK619310533_1.jpg",{"$f":"+GetURL(D27514)","v":"https://www.refaccionariagonzalez.com/alta/J-L/LUK619310533_1.jpg"}]
["2020-09-29T10:20:00",13,"LUK620308900","LUK620308900_8.jpg",{"$f":"+GetURL(D27533)","v":"https://www.refaccionariagonzalez.com/alta/J-L/LUK620308900_8.jpg"}]
["2020-09-29T10:22:00",13,"LUK620335600","LUK620335600_9.jpg",{"$f":"+GetURL(D27550)","v":"https://www.refaccionariagonzalez.com/alta/J-L/LUK620335600_9.jpg"}]
["2020-09-29T11:10:00",13,"LUK621303733","LUK621303733_2.jpg",{"$f":"+GetURL(D27576)","v":"https://www.refaccionariagonzalez.com/alta/J-L/LUK621303733_2.jpg"}]
["2020-09-29T10:41:00",13,"LUK622315033","LUK622315033_8.jpg",{"$f":"+GetURL(D27595)","v":"https://www.refaccionariagonzalez.com/alta/J-L/LUK622315033_8.jpg"}]
["2020-09-29T10:47:00",13,"LUK622332433","LUK622332433_2.jpg",{"$f":"+GetURL(D27601)","v":"https://www.refaccionariagonzalez.com/alta/J-L/LUK622332433_2.jpg"}]
["2020-09-29T10:23:00",13,"LUK623288700","LUK623288700_1.jpg",{"$f":"+GetURL(D27619)","v":"https://www.refaccionariagonzalez.com/alta/J-L/LUK623288700_1.jpg"}]
["2020-09-29T10:58:00",13,"LUK624339600","LUK624339600_2.jpg",{"$f":"+GetURL(D27638)","v":"https://www.refaccionariagonzalez.com/alta/J-L/LUK624339600_2.jpg"}]
["2020-09-29T10:55:00",13,"LUK751000112","LUK751000112_1.jpg",{"$f":"+GetURL(D27656)","v":"https://www.refaccionariagonzalez.com/alta/J-L/LUK751000112_1.jpg"}]
["2020-09-29T10:29:00",7,"LX230T","LX230T_9.jpg",{"$f":"+GetURL(D27681)","v":"https://www.refaccionariagonzalez.com/alta/J-L/LX230T_9.jpg"}]
["2023-12-29T10:46:00",18,"LYS8212-D1107A _1","LYS8212-D1107A _1.jpg",{"$f":"+GetURL(D27700)","v":"https://www.refaccionariagonzalez.com/alta/J-L/LYS8212-D1107A _1.jpg"}]
["2020-09-29T17:03:00",8,"M-C2A-1","M-C2A-1_9.jpg",{"$f":"+GetURL(D27725)","v":"https://www.refaccionariagonzalez.com/alta/M-O/M-C2A-1_9.jpg"}]
["2020-09-29T16:31:00",9,"M-C2A-D1","M-C2A-D1_9.jpg",{"$f":"+GetURL(D27729)","v":"https://www.refaccionariagonzalez.com/alta/M-O/M-C2A-D1_9.jpg"}]
["2022-02-18T16:10:00",8,"M6-9007","M6-9007_1.jpg",{"$f":"+GetURL(D27762)","v":"https://www.refaccionariagonzalez.com/alta/M-O/M6-9007_1.jpg"}]
["2024-02-20T18:56:00",7,"M6-H13","M6-H13_1.jpg",{"$f":"+GetURL(D27768)","v":"https://www.refaccionariagonzalez.com/alta/M-O/M6-H13_1.jpg"}]
["2020-11-13T14:58:00",8,"M24-RGB","M24-RGB.1.jpg",{"$f":"+GetURL(D27798)","v":"https://www.refaccionariagonzalez.com/alta/M-O/M24-RGB.1.jpg"}]
["2020-11-13T11:02:00",7,"M28-RD","M28-RD.1.jpg",{"$f":"+GetURL(D27811)","v":"https://www.refaccionariagonzalez.com/alta/M-O/M28-RD.1.jpg"}]
["2020-09-29T16:59:00",14,"M75658200AE_3","M75658200AE_3.jpg",{"$f":"+GetURL(D27830)","v":"https://www.refaccionariagonzalez.com/alta/M-O/M75658200AE_3.jpg"}]
["2024-04-24T18:49:00",8,"MA275_2","MA275_2.jpg",{"$f":"+GetURL(D27849)","v":"https://www.refaccionariagonzalez.com/alta/M-O/MA275_2.jpg"}]
["2020-09-29T16:35:00",{"$f":"+FIND(\".\",D27873)","v":9},"MA6045_9","MA6045_9.jpg",{"$f":"+GetURL(D27873)","v":"https://www.refaccionariagonzalez.com/alta/M-O/MA6045_9.jpg"}]
["2020-09-29T16:33:00",9,"MA6087_9","MA6087_9.jpg",{"$f":"+GetURL(D27892)","v":"https://www.refaccionariagonzalez.com/alta/M-O/MA6087_9.jpg"}]
["2020-09-29T16:12:00",9,"MA6176_9","MA6176_9.jpg",{"$f":"+GetURL(D27898)","v":"https://www.refaccionariagonzalez.com/alta/M-O/MA6176_9.jpg"}]
["2020-09-29T16:50:00",9,"MA8004_4","MA8004_4.jpg",{"$f":"+GetURL(D27926)","v":"https://www.refaccionariagonzalez.com/alta/M-O/MA8004_4.jpg"}]
["2020-09-29T16:40:00",10,"MA34203_9","MA34203_9.jpg",{"$f":"+GetURL(D27935)","v":"https://www.refaccionariagonzalez.com/alta/M-O/MA34203_9.jpg"}]
["2024-04-24T18:31:00",8,"MALLA27","MALLA27.jpg",{"$f":"+GetURL(D27960)","v":"https://www.refaccionariagonzalez.com/alta/M-O/MALLA27.jpg"}]
["2020-09-29T17:06:00",9,"MAN001_9","MAN001_9.jpg",{"$f":"+GetURL(D27977)","v":"https://www.refaccionariagonzalez.com/alta/M-O/MAN001_9.jpg"}]
["2020-09-29T17:10:00",11,"MANC1410_1","MANC1410_1.jpg",{"$f":"+GetURL(D27997)","v":"https://www.refaccionariagonzalez.com/alta/M-O/MANC1410_1.jpg"}]
["2020-09-29T17:13:00",11,"MANP0110_9","MANP0110_9.jpg",{"$f":"+GetURL(D28022)","v":"https://www.refaccionariagonzalez.com/alta/M-O/MANP0110_9.jpg"}]
["2022-05-24T11:15:00",12,"MAP4602C030","MAP4602C030_1.jpg",{"$f":"+GetURL(D28028)","v":"https://www.refaccionariagonzalez.com/alta/M-O/MAP4602C030_1.jpg"}]
["2024-04-24T12:25:00",12,"MAP5298F020","MAP5298F020.jpg",{"$f":"+GetURL(D28046)","v":"https://www.refaccionariagonzalez.com/alta/M-O/MAP5298F020.jpg"}]
["2020-09-29T16:25:00",9,"MAT67901","MAT67901_1.jpg",{"$f":"+GetURL(D28065)","v":"https://www.refaccionariagonzalez.com/alta/M-O/MAT67901_1.jpg"}]
["2020-10-16T18:22:00",12,"MATIC-25W60","MATIC-25W60.2.jpg",{"$f":"+GetURL(D28084)","v":"https://www.refaccionariagonzalez.com/alta/M-O/MATIC-25W60.2.jpg"}]
["2020-09-29T16:52:00",9,"MBA05623","MBA05623_1.jpg",{"$f":"+GetURL(D28105)","v":"https://www.refaccionariagonzalez.com/alta/M-O/MBA05623_1.jpg"}]
["2020-09-29T16:33:00",9,"MBA05896","MBA05896_9.jpg",{"$f":"+GetURL(D28127)","v":"https://www.refaccionariagonzalez.com/alta/M-O/MBA05896_9.jpg"}]
["2020-09-29T16:23:00",10,"MBA059139","MBA059139_3.jpg",{"$f":"+GetURL(D28146)","v":"https://www.refaccionariagonzalez.com/alta/M-O/MBA059139_3.jpg"}]
["2020-09-29T16:21:00",10,"MBA082157","MBA082157_2.jpg",{"$f":"+GetURL(D28174)","v":"https://www.refaccionariagonzalez.com/alta/M-O/MBA082157_2.jpg"}]
["2020-09-29T16:07:00",9,"MBA08546","MBA08546_2.jpg",{"$f":"+GetURL(D28189)","v":"https://www.refaccionariagonzalez.com/alta/M-O/MBA08546_2.jpg"}]
["2020-09-29T17:07:00",9,"MBA08548","MBA08548_1.jpg",{"$f":"+GetURL(D28195)","v":"https://www.refaccionariagonzalez.com/alta/M-O/MBA08548_1.jpg"}]
["2020-09-29T16:30:00",9,"MBA08959","MBA08959_8.jpg",{"$f":"+GetURL(D28225)","v":"https://www.refaccionariagonzalez.com/alta/M-O/MBA08959_8.jpg"}]
["2020-09-29T17:02:00",9,"MBA08964","MBA08964_1.jpg",{"$f":"+GetURL(D28232)","v":"https://www.refaccionariagonzalez.com/alta/M-O/MBA08964_1.jpg"}]
["2020-09-29T16:13:00",10,"MBA091448","MBA091448_8.jpg",{"$f":"+GetURL(D28257)","v":"https://www.refaccionariagonzalez.com/alta/M-O/MBA091448_8.jpg"}]
["2020-09-29T17:06:00",10,"MBA092061","MBA092061_1.jpg",{"$f":"+GetURL(D28276)","v":"https://www.refaccionariagonzalez.com/alta/M-O/MBA092061_1.jpg"}]
["2020-09-29T16:37:00",9,"MBA09860","MBA09860_9.jpg",{"$f":"+GetURL(D28300)","v":"https://www.refaccionariagonzalez.com/alta/M-O/MBA09860_9.jpg"}]
["2024-04-24T15:10:00",10,"MBA099048","MBA099048.jpg",{"$f":"+GetURL(D28319)","v":"https://www.refaccionariagonzalez.com/alta/M-O/MBA099048.jpg"}]
["2020-09-29T17:06:00",12,"MBA202040_1","MBA202040_1.jpg",{"$f":"+GetURL(D28338)","v":"https://www.refaccionariagonzalez.com/alta/M-O/MBA202040_1.jpg"}]
["2020-09-29T16:26:00",12,"MBA202198_8","MBA202198_8.jpg",{"$f":"+GetURL(D28353)","v":"https://www.refaccionariagonzalez.com/alta/M-O/MBA202198_8.jpg"}]
["2020-09-29T16:39:00",12,"MBA212481_1","MBA212481_1.jpg",{"$f":"+GetURL(D28381)","v":"https://www.refaccionariagonzalez.com/alta/M-O/MBA212481_1.jpg"}]
["2020-09-29T16:54:00",12,"MBA271891_3","MBA271891_3.jpg",{"$f":"+GetURL(D28400)","v":"https://www.refaccionariagonzalez.com/alta/M-O/MBA271891_3.jpg"}]
["2020-09-29T16:25:00",12,"MBA272470_9","MBA272470_9.jpg",{"$f":"+GetURL(D28404)","v":"https://www.refaccionariagonzalez.com/alta/M-O/MBA272470_9.jpg"}]
["2020-09-29T16:46:00",14,"MBA282190BH_9","MBA282190BH_9.jpg",{"$f":"+GetURL(D28424)","v":"https://www.refaccionariagonzalez.com/alta/M-O/MBA282190BH_9.jpg"}]
["2020-09-29T16:46:00",{"$f":"+FIND(\".\",D28449)","v":12},"MBA289029_9","MBA289029_9.jpg",{"$f":"+GetURL(D28449)","v":"https://www.refaccionariagonzalez.com/alta/M-O/MBA289029_9.jpg"}]
["2020-09-29T16:19:00",11,"MBRC0200_1","MBRC0200_1.jpg",{"$f":"+GetURL(D28473)","v":"https://www.refaccionariagonzalez.com/alta/M-O/MBRC0200_1.jpg"}]
["2020-09-29T16:01:00",11,"MBTUERCA_2","MBTUERCA_2.jpg",{"$f":"+GetURL(D28486)","v":"https://www.refaccionariagonzalez.com/alta/M-O/MBTUERCA_2.jpg"}]
["2020-09-29T17:11:00",10,"MED3734_1","MED3734_1.jpg",{"$f":"+GetURL(D28511)","v":"https://www.refaccionariagonzalez.com/alta/M-O/MED3734_1.jpg"}]
["2020-09-29T17:11:00",15,"MEX1HM905865_1","MEX1HM905865_1.jpg",{"$f":"+GetURL(D28530)","v":"https://www.refaccionariagonzalez.com/alta/M-O/MEX1HM905865_1.jpg"}]
["2020-09-29T16:59:00",15,"MEX1HM905865_9","MEX1HM905865_9.jpg",{"$f":"+GetURL(D28532)","v":"https://www.refaccionariagonzalez.com/alta/M-O/MEX1HM905865_9.jpg"}]
["2020-09-29T17:16:00",9,"MEX828_9","MEX828_9.jpg",{"$f":"+GetURL(D28554)","v":"https://www.refaccionariagonzalez.com/alta/M-O/MEX828_9.jpg"}]
["2020-09-29T17:08:00",9,"MEX835_1","MEX835_1.jpg",{"$f":"+GetURL(D28573)","v":"https://www.refaccionariagonzalez.com/alta/M-O/MEX835_1.jpg"}]
["2020-09-29T16:17:00",9,"MEX846_2","MEX846_2.jpg",{"$f":"+GetURL(D28601)","v":"https://www.refaccionariagonzalez.com/alta/M-O/MEX846_2.jpg"}]
["2020-09-29T16:26:00",9,"MEX900_1","MEX900_1.jpg",{"$f":"+GetURL(D28616)","v":"https://www.refaccionariagonzalez.com/alta/M-O/MEX900_1.jpg"}]
["2020-09-29T16:18:00",10,"MEX1004_1","MEX1004_1.jpg",{"$f":"+GetURL(D28635)","v":"https://www.refaccionariagonzalez.com/alta/M-O/MEX1004_1.jpg"}]
["2020-09-29T16:36:00",10,"MEX1092_1","MEX1092_1.jpg",{"$f":"+GetURL(D28652)","v":"https://www.refaccionariagonzalez.com/alta/M-O/MEX1092_1.jpg"}]
["2020-09-29T16:30:00",11,"MEX21410_9","MEX21410_9.jpg",{"$f":"+GetURL(D28678)","v":"https://www.refaccionariagonzalez.com/alta/M-O/MEX21410_9.jpg"}]
["2024-05-18T10:16:00",9,"MEX36000","MEX36000.jpg",{"$f":"+GetURL(D28684)","v":"https://www.refaccionariagonzalez.com/alta/M-O/MEX36000.jpg"}]
["2020-09-29T16:21:00",12,"MEX407150_9","MEX407150_9.jpg",{"$f":"+GetURL(D28703)","v":"https://www.refaccionariagonzalez.com/alta/M-O/MEX407150_9.jpg"}]
["2020-09-29T17:05:00",9,"MF3325_9","MF3325_9.jpg",{"$f":"+GetURL(D28725)","v":"https://www.refaccionariagonzalez.com/alta/M-O/MF3325_9.jpg"}]
["2020-09-29T15:59:00",12,"MFG-986-B_1","MFG-986-B_1.jpg",{"$f":"+GetURL(D28746)","v":"https://www.refaccionariagonzalez.com/alta/M-O/MFG-986-B_1.jpg"}]
["2020-09-29T16:52:00",7,"MIC1_1","MIC1_1.jpg",{"$f":"+GetURL(D28765)","v":"https://www.refaccionariagonzalez.com/alta/M-O/MIC1_1.jpg"}]
["2020-09-29T16:44:00",9,"MIC11H_1","MIC11H_1.jpg",{"$f":"+GetURL(D28776)","v":"https://www.refaccionariagonzalez.com/alta/M-O/MIC11H_1.jpg"}]
["2020-09-29T16:16:00",10,"MIC26BL_1","MIC26BL_1.jpg",{"$f":"+GetURL(D28808)","v":"https://www.refaccionariagonzalez.com/alta/M-O/MIC26BL_1.jpg"}]
["2020-09-29T16:18:00",8,"MIC35_1","MIC35_1.jpg",{"$f":"+GetURL(D28827)","v":"https://www.refaccionariagonzalez.com/alta/M-O/MIC35_1.jpg"}]
["2020-09-29T16:11:00",8,"MIC37_1","MIC37_1.jpg",{"$f":"+GetURL(D28831)","v":"https://www.refaccionariagonzalez.com/alta/M-O/MIC37_1.jpg"}]
["2020-09-29T16:30:00",8,"MIC51_9","MIC51_9.jpg",{"$f":"+GetURL(D28851)","v":"https://www.refaccionariagonzalez.com/alta/M-O/MIC51_9.jpg"}]
["2020-09-29T16:32:00",8,"MIC63_1","MIC63_1.jpg",{"$f":"+GetURL(D28870)","v":"https://www.refaccionariagonzalez.com/alta/M-O/MIC63_1.jpg"}]
["2020-09-29T16:36:00",10,"MIC110L_9","MIC110L_9.jpg",{"$f":"+GetURL(D28900)","v":"https://www.refaccionariagonzalez.com/alta/M-O/MIC110L_9.jpg"}]
["2020-09-29T16:50:00",9,"MIC201_1","MIC201_1.jpg",{"$f":"+GetURL(D28913)","v":"https://www.refaccionariagonzalez.com/alta/M-O/MIC201_1.jpg"}]
["2024-01-26T15:12:00",17,"MIR51720-02000_2","MIR51720-02000_2.jpg",{"$f":"+GetURL(D28938)","v":"https://www.refaccionariagonzalez.com/alta/M-O/MIR51720-02000_2.jpg"}]
["2024-02-09T09:28:00",13,"MIRLM11749_3","MIRLM11749_3.jpg",{"$f":"+GetURL(D28957)","v":"https://www.refaccionariagonzalez.com/alta/M-O/MIRLM11749_3.jpg"}]
["2020-09-29T16:08:00",8,"MIT14_9","MIT14_9.jpg",{"$f":"+GetURL(D28973)","v":"https://www.refaccionariagonzalez.com/alta/M-O/MIT14_9.jpg"}]
["2020-09-29T16:28:00",10,"MIZ0600_9","MIZ0600_9.jpg",{"$f":"+GetURL(D28981)","v":"https://www.refaccionariagonzalez.com/alta/M-O/MIZ0600_9.jpg"}]
["2020-09-29T16:05:00",14,"MIZ107T6601_9","MIZ107T6601_9.jpg",{"$f":"+GetURL(D29000)","v":"https://www.refaccionariagonzalez.com/alta/M-O/MIZ107T6601_9.jpg"}]
["2020-09-29T16:51:00",14,"MIZ422D0600_1","MIZ422D0600_1.jpg",{"$f":"+GetURL(D29024)","v":"https://www.refaccionariagonzalez.com/alta/M-O/MIZ422D0600_1.jpg"}]
["2020-09-29T16:06:00",14,"MIZ501M5330_1","MIZ501M5330_1.jpg",{"$f":"+GetURL(D29043)","v":"https://www.refaccionariagonzalez.com/alta/M-O/MIZ501M5330_1.jpg"}]
["2020-09-29T16:22:00",14,"MIZ503C2320_1","MIZ503C2320_1.jpg",{"$f":"+GetURL(D29062)","v":"https://www.refaccionariagonzalez.com/alta/M-O/MIZ503C2320_1.jpg"}]
["2020-09-29T16:45:00",14,"MIZ516T0700_2","MIZ516T0700_2.jpg",{"$f":"+GetURL(D29079)","v":"https://www.refaccionariagonzalez.com/alta/M-O/MIZ516T0700_2.jpg"}]
["2020-09-29T16:09:00",10,"MIZ1400_2","MIZ1400_2.jpg",{"$f":"+GetURL(D29105)","v":"https://www.refaccionariagonzalez.com/alta/M-O/MIZ1400_2.jpg"}]
["2020-09-29T16:04:00",13,"MIZESNV022_1","MIZESNV022_1.jpg",{"$f":"+GetURL(D29124)","v":"https://www.refaccionariagonzalez.com/alta/M-O/MIZESNV022_1.jpg"}]
["2020-09-29T16:35:00",14,"MIZFFNC0211_9","MIZFFNC0211_9.jpg",{"$f":"+GetURL(D29130)","v":"https://www.refaccionariagonzalez.com/alta/M-O/MIZFFNC0211_9.jpg"}]
["2020-09-29T17:06:00",14,"MIZSANV1300_2","MIZSANV1300_2.jpg",{"$f":"+GetURL(D29152)","v":"https://www.refaccionariagonzalez.com/alta/M-O/MIZSANV1300_2.jpg"}]
["2020-09-29T17:18:00",11,"MKNC0800_2","MKNC0800_2.jpg",{"$f":"+GetURL(D29167)","v":"https://www.refaccionariagonzalez.com/alta/M-O/MKNC0800_2.jpg"}]
["2020-09-29T17:13:00",11,"MLRK0100_9","MLRK0100_9.jpg",{"$f":"+GetURL(D29192)","v":"https://www.refaccionariagonzalez.com/alta/M-O/MLRK0100_9.jpg"}]
["2020-09-29T17:04:00",12,"MM1040201_9","MM1040201_9.jpg",{"$f":"+GetURL(D29221)","v":"https://www.refaccionariagonzalez.com/alta/M-O/MM1040201_9.jpg"}]
["2020-09-29T16:28:00",12,"MM1290101_9","MM1290101_9.jpg",{"$f":"+GetURL(D29235)","v":"https://www.refaccionariagonzalez.com/alta/M-O/MM1290101_9.jpg"}]
["2024-04-24T15:02:00",9,"MMNC9902","MMNC9902.jpg",{"$f":"+GetURL(D29254)","v":"https://www.refaccionariagonzalez.com/alta/M-O/MMNC9902.jpg"}]
["2024-02-20T18:56:00",10,"MMPL-H7_2","MMPL-H7_2.jpg",{"$f":"+GetURL(D29272)","v":"https://www.refaccionariagonzalez.com/alta/M-O/MMPL-H7_2.jpg"}]
["2024-02-23T13:12:00",9,"MOB10W30","MOB10W30_2.jpg",{"$f":"+GetURL(D29297)","v":"https://www.refaccionariagonzalez.com/alta/M-O/MOB10W30_2.jpg"}]
["2020-09-29T16:39:00",12,"MOBDELVACLT","MOBDELVACLT_1.jpg",{"$f":"+GetURL(D29316)","v":"https://www.refaccionariagonzalez.com/alta/M-O/MOBDELVACLT_1.jpg"}]
["2024-05-09T08:10:00",10,"MOBG15W40","MOBG15W40.jpg",{"$f":"+GetURL(D29322)","v":"https://www.refaccionariagonzalez.com/alta/M-O/MOBG15W40.jpg"}]
["2020-09-29T16:01:00",7,"MOD-GR","MOD-GR_9.jpg",{"$f":"+GetURL(D29349)","v":"https://www.refaccionariagonzalez.com/alta/M-O/MOD-GR_9.jpg"}]
["2020-09-29T16:22:00",7,"MOD-WH","MOD-WH_3.jpg",{"$f":"+GetURL(D29359)","v":"https://www.refaccionariagonzalez.com/alta/M-O/MOD-WH_3.jpg"}]
["2020-09-29T16:34:00",7,"MOH-05","MOH-05_1.jpg",{"$f":"+GetURL(D29384)","v":"https://www.refaccionariagonzalez.com/alta/M-O/MOH-05_1.jpg"}]
["2020-09-29T16:41:00",10,"MON250147","MON250147_2.jpg",{"$f":"+GetURL(D29400)","v":"https://www.refaccionariagonzalez.com/alta/M-O/MON250147_2.jpg"}]
["2020-09-29T16:31:00",10,"MON400017","MON400017_3.jpg",{"$f":"+GetURL(D29421)","v":"https://www.refaccionariagonzalez.com/alta/M-O/MON400017_3.jpg"}]
["2020-09-29T17:11:00",10,"MON400888","MON400888_1.jpg",{"$f":"+GetURL(D29446)","v":"https://www.refaccionariagonzalez.com/alta/M-O/MON400888_1.jpg"}]
["2020-09-29T17:09:00",9,"MONMW873","MONMW873_1.jpg",{"$f":"+GetURL(D29451)","v":"https://www.refaccionariagonzalez.com/alta/M-O/MONMW873_1.jpg"}]
["2020-09-29T16:31:00",8,"MOR5523","MOR5523_2.jpg",{"$f":"+GetURL(D29470)","v":"https://www.refaccionariagonzalez.com/alta/M-O/MOR5523_2.jpg"}]
["2020-09-29T16:50:00",8,"MOR9574","MOR9574_9.jpg",{"$f":"+GetURL(D29489)","v":"https://www.refaccionariagonzalez.com/alta/M-O/MOR9574_9.jpg"}]
["2020-09-29T15:59:00",13,"MORCM6031600","MORCM6031600_9.jpg",{"$f":"+GetURL(D29520)","v":"https://www.refaccionariagonzalez.com/alta/M-O/MORCM6031600_9.jpg"}]
["2020-09-29T16:20:00",8,"MORH378","MORH378_9.jpg",{"$f":"+GetURL(D29532)","v":"https://www.refaccionariagonzalez.com/alta/M-O/MORH378_9.jpg"}]
["2020-09-29T16:42:00",7,"MORRA4","MORRA4_9.jpg",{"$f":"+GetURL(D29551)","v":"https://www.refaccionariagonzalez.com/alta/M-O/MORRA4_9.jpg"}]
["2020-09-29T16:16:00",9,"MORS9738","MORS9738_9.jpg",{"$f":"+GetURL(D29576)","v":"https://www.refaccionariagonzalez.com/alta/M-O/MORS9738_9.jpg"}]
["2020-09-29T16:56:00",9,"MORS9868","MORS9868_1.jpg",{"$f":"+GetURL(D29579)","v":"https://www.refaccionariagonzalez.com/alta/M-O/MORS9868_1.jpg"}]
["2020-09-29T17:05:00",9,"MORV9839","MORV9839_1.jpg",{"$f":"+GetURL(D29613)","v":"https://www.refaccionariagonzalez.com/alta/M-O/MORV9839_1.jpg"}]
["2020-09-29T16:56:00",{"$f":"+FIND(\"_\",D29619)","v":8},"MOSCOW1","MOSCOW1_1.jpg",{"$f":"+GetURL(D29619)","v":"https://www.refaccionariagonzalez.com/alta/M-O/MOSCOW1_1.jpg"}]
["2020-09-29T16:01:00",11,"MP-8045SFT","MP-8045SFT_9.jpg",{"$f":"+GetURL(D29648)","v":"https://www.refaccionariagonzalez.com/alta/M-O/MP-8045SFT_9.jpg"}]
["2020-09-29T16:42:00",11,"MP-8388SFT","MP-8388SFT_2.jpg",{"$f":"+GetURL(D29656)","v":"https://www.refaccionariagonzalez.com/alta/M-O/MP-8388SFT_2.jpg"}]
["2020-09-29T16:33:00",10,"MP380201G","MP380201G_1.jpg",{"$f":"+GetURL(D29681)","v":"https://www.refaccionariagonzalez.com/alta/M-O/MP380201G_1.jpg"}]
["2020-09-29T16:41:00",10,"MP381602G","MP381602G_1.jpg",{"$f":"+GetURL(D29699)","v":"https://www.refaccionariagonzalez.com/alta/M-O/MP381602G_1.jpg"}]
["2024-04-25T09:48:00",10,"MPU505IMP","MPU505IMP.jpg",{"$f":"+GetURL(D29724)","v":"https://www.refaccionariagonzalez.com/alta/M-O/MPU505IMP.jpg"}]
["2020-09-29T16:18:00",9,"MS-791-E","MS-791-E_9.jpg",{"$f":"+GetURL(D29743)","v":"https://www.refaccionariagonzalez.com/alta/M-O/MS-791-E_9.jpg"}]
["2020-09-29T16:18:00",10,{"$f":"+LEFT(D29762,B29762-1)","v":"MS-7076-A"},"MS-7076-A_1.jpg",{"$f":"+GetURL(D29762)","v":"https://www.refaccionariagonzalez.com/alta/M-O/MS-7076-A_1.jpg"}]
["2020-09-29T16:33:00",11,"MS-70201-A","MS-70201-A_1.jpg",{"$f":"+GetURL(D29776)","v":"https://www.refaccionariagonzalez.com/alta/M-O/MS-70201-A_1.jpg"}]
["2020-09-29T16:26:00",12,"MS-701523-E","MS-701523-E_1.jpg",{"$f":"+GetURL(D29786)","v":"https://www.refaccionariagonzalez.com/alta/M-O/MS-701523-E_1.jpg"}]
["2024-03-04T12:44:00",{"$f":"+FIND(\"_\",D29805)","v":15},"MSLCF5W30RTSG4","MSLCF5W30RTSG4_2.jpg",{"$f":"+GetURL(D29805)","v":"https://www.refaccionariagonzalez.com/alta/M-O/MSLCF5W30RTSG4_2.jpg"}]
["2020-09-29T16:10:00",9,"MSNK0112","MSNK0112_1.jpg",{"$f":"+GetURL(D29827)","v":"https://www.refaccionariagonzalez.com/alta/M-O/MSNK0112_1.jpg"}]
["2020-09-29T16:25:00",7,"MT3245","MT3245_9.jpg",{"$f":"+GetURL(D29848)","v":"https://www.refaccionariagonzalez.com/alta/M-O/MT3245_9.jpg"}]
["2020-09-29T16:51:00",12,"MTR5505ST06","MTR5505ST06_1.jpg",{"$f":"+GetURL(D29873)","v":"https://www.refaccionariagonzalez.com/alta/M-O/MTR5505ST06_1.jpg"}]
["2020-09-29T16:59:00",12,"MTR5505ST06","MTR5505ST06_8.jpg",{"$f":"+GetURL(D29878)","v":"https://www.refaccionariagonzalez.com/alta/M-O/MTR5505ST06_8.jpg"}]
["2020-09-29T16:56:00",9,"MXNC9910","MXNC9910_2.jpg",{"$f":"+GetURL(D29910)","v":"https://www.refaccionariagonzalez.com/alta/M-O/MXNC9910_2.jpg"}]
["2020-09-29T17:15:00",9,"MXNN0310","MXNN0310_5.jpg",{"$f":"+GetURL(D29916)","v":"https://www.refaccionariagonzalez.com/alta/M-O/MXNN0310_5.jpg"}]
["2020-09-29T16:15:00",15,"MXO-5W20-QSP_9","MXO-5W20-QSP_9.jpg",{"$f":"+GetURL(D29935)","v":"https://www.refaccionariagonzalez.com/alta/M-O/MXO-5W20-QSP_9.jpg"}]
["2020-09-29T16:07:00",8,"MYR-055","MYR-055_2.jpg",{"$f":"+GetURL(D29955)","v":"https://www.refaccionariagonzalez.com/alta/M-O/MYR-055_2.jpg"}]
["2020-09-29T16:16:00",6,"N44_1","N44_1.jpg",{"$f":"+GetURL(D29978)","v":"https://www.refaccionariagonzalez.com/alta/M-O/N44_1.jpg"}]
["2020-09-29T16:51:00",14,"NAC112B1002_2","NAC112B1002_2.jpg",{"$f":"+GetURL(D29997)","v":"https://www.refaccionariagonzalez.com/alta/M-O/NAC112B1002_2.jpg"}]
["2020-09-29T16:20:00",15,"NAC855407615_2","NAC855407615_2.jpg",{"$f":"+GetURL(D30024)","v":"https://www.refaccionariagonzalez.com/alta/M-O/NAC855407615_2.jpg"}]
["2020-09-29T16:04:00",13,"NACNIY02G0_1","NACNIY02G0_1.jpg",{"$f":"+GetURL(D30040)","v":"https://www.refaccionariagonzalez.com/alta/M-O/NACNIY02G0_1.jpg"}]
["2020-09-29T16:06:00",16,"NAK377407365C_9","NAK377407365C_9.jpg",{"$f":"+GetURL(D30059)","v":"https://www.refaccionariagonzalez.com/alta/M-O/NAK377407365C_9.jpg"}]
["2023-11-14T18:19:00",6,"NBACO","NBACO.jpg",{"$f":"+GetURL(D30075)","v":"https://www.refaccionariagonzalez.com/alta/M-O/NBACO.jpg"}]
["2020-09-29T16:31:00",9,"NBC2PA_1","NBC2PA_1.jpg",{"$f":"+GetURL(D30083)","v":"https://www.refaccionariagonzalez.com/alta/M-O/NBC2PA_1.jpg"}]
["2020-09-29T16:56:00",7,"NBVA_1","NBVA_1.jpg",{"$f":"+GetURL(D30108)","v":"https://www.refaccionariagonzalez.com/alta/M-O/NBVA_1.jpg"}]
["2020-09-29T16:40:00",9,"NEGRAS_1","NEGRAS_1.jpg",{"$f":"+GetURL(D30126)","v":"https://www.refaccionariagonzalez.com/alta/M-O/NEGRAS_1.jpg"}]
["2020-09-29T16:52:00",13,"NGKBKR5EGP_9","NGKBKR5EGP_9.jpg",{"$f":"+GetURL(D30145)","v":"https://www.refaccionariagonzalez.com/alta/M-O/NGKBKR5EGP_9.jpg"}]
["2022-01-24T18:11:00",14,"NGKDILKAR6A11","NGKDILKAR6A11.jpg",{"$f":"+GetURL(D30170)","v":"https://www.refaccionariagonzalez.com/alta/M-O/NGKDILKAR6A11.jpg"}]
["2020-09-29T16:22:00",16,"NGKLZFR5BI-11_1","NGKLZFR5BI-11_1.jpg",{"$f":"+GetURL(D30189)","v":"https://www.refaccionariagonzalez.com/alta/M-O/NGKLZFR5BI-11_1.jpg"}]
["2020-09-29T17:00:00",17,"NGKPLZKAR6A-11_1","NGKPLZKAR6A-11_1.jpg",{"$f":"+GetURL(D30203)","v":"https://www.refaccionariagonzalez.com/alta/M-O/NGKPLZKAR6A-11_1.jpg"}]
["2020-09-29T16:55:00",16,"NIK0280156034_3","NIK0280156034_3.jpg",{"$f":"+GetURL(D30232)","v":"https://www.refaccionariagonzalez.com/alta/M-O/NIK0280156034_3.jpg"}]
["2020-09-29T16:12:00",10,"NIK1829_1","NIK1829_1.jpg",{"$f":"+GetURL(D30251)","v":"https://www.refaccionariagonzalez.com/alta/M-O/NIK1829_1.jpg"}]
["2020-09-29T16:36:00",10,"NIK1829_8","NIK1829_8.jpg",{"$f":"+GetURL(D30254)","v":"https://www.refaccionariagonzalez.com/alta/M-O/NIK1829_8.jpg"}]
["2020-09-29T16:38:00",17,"NIK13063-75011_1","NIK13063-75011_1.jpg",{"$f":"+GetURL(D30275)","v":"https://www.refaccionariagonzalez.com/alta/M-O/NIK13063-75011_1.jpg"}]
["2020-09-29T16:31:00",17,"NIK31420-26200_2","NIK31420-26200_2.jpg",{"$f":"+GetURL(D30294)","v":"https://www.refaccionariagonzalez.com/alta/M-O/NIK31420-26200_2.jpg"}]
["2020-09-29T16:00:00",17,"NIK54321-EL00A_1","NIK54321-EL00A_1.jpg",{"$f":"+GetURL(D30323)","v":"https://www.refaccionariagonzalez.com/alta/M-O/NIK54321-EL00A_1.jpg"}]
["2020-09-29T17:05:00",16,"NIK22712361BC_1","NIK22712361BC_1.jpg",{"$f":"+GetURL(D30337)","v":"https://www.refaccionariagonzalez.com/alta/M-O/NIK22712361BC_1.jpg"}]
["2020-09-29T16:23:00",16,"NIK251611021C_9","NIK251611021C_9.jpg",{"$f":"+GetURL(D30362)","v":"https://www.refaccionariagonzalez.com/alta/M-O/NIK251611021C_9.jpg"}]
["2020-09-29T17:09:00",10,"NIS0302_1","NIS0302_1.jpg",{"$f":"+GetURL(D30381)","v":"https://www.refaccionariagonzalez.com/alta/M-O/NIS0302_1.jpg"}]
["2024-01-26T15:12:00",14,"NIS51KWH01A_4","NIS51KWH01A_4.jpg",{"$f":"+GetURL(D30396)","v":"https://www.refaccionariagonzalez.com/alta/M-O/NIS51KWH01A_4.jpg"}]
["2020-09-29T16:07:00",11,"NIS65Y10_9","NIS65Y10_9.jpg",{"$f":"+GetURL(D30405)","v":"https://www.refaccionariagonzalez.com/alta/M-O/NIS65Y10_9.jpg"}]
["2020-09-29T16:30:00",14,"NIS105M1600_3","NIS105M1600_3.jpg",{"$f":"+GetURL(D30424)","v":"https://www.refaccionariagonzalez.com/alta/M-O/NIS105M1600_3.jpg"}]
["2020-09-29T17:11:00",14,"NIS107A0101_9","NIS107A0101_9.jpg",{"$f":"+GetURL(D30447)","v":"https://www.refaccionariagonzalez.com/alta/M-O/NIS107A0101_9.jpg"}]
["2020-09-29T16:41:00",14,"NIS107C2202_1","NIS107C2202_1.jpg",{"$f":"+GetURL(D30467)","v":"https://www.refaccionariagonzalez.com/alta/M-O/NIS107C2202_1.jpg"}]
["2020-09-29T16:09:00",14,"NIS107E5700_1","NIS107E5700_1.jpg",{"$f":"+GetURL(D30486)","v":"https://www.refaccionariagonzalez.com/alta/M-O/NIS107E5700_1.jpg"}]
["2020-09-29T16:29:00",14,"NIS107F0342_1","NIS107F0342_1.jpg",{"$f":"+GetURL(D30502)","v":"https://www.refaccionariagonzalez.com/alta/M-O/NIS107F0342_1.jpg"}]
["2020-09-29T16:51:00",14,"NIS107F0751_9","NIS107F0751_9.jpg",{"$f":"+GetURL(D30529)","v":"https://www.refaccionariagonzalez.com/alta/M-O/NIS107F0751_9.jpg"}]
["2020-09-29T17:09:00",14,"NIS107F1122_1","NIS107F1122_1.jpg",{"$f":"+GetURL(D30548)","v":"https://www.refaccionariagonzalez.com/alta/M-O/NIS107F1122_1.jpg"}]
["2020-09-29T16:23:00",14,"NIS107F1151_1","NIS107F1151_1.jpg",{"$f":"+GetURL(D30554)","v":"https://www.refaccionariagonzalez.com/alta/M-O/NIS107F1151_1.jpg"}]
["2020-09-29T17:14:00",14,"NIS107I0400_9","NIS107I0400_9.jpg",{"$f":"+GetURL(D30575)","v":"https://www.refaccionariagonzalez.com/alta/M-O/NIS107I0400_9.jpg"}]
["2020-09-29T16:45:00",14,"NIS107T0720_1","NIS107T0720_1.jpg",{"$f":"+GetURL(D30597)","v":"https://www.refaccionariagonzalez.com/alta/M-O/NIS107T0720_1.jpg"}]
["2020-09-29T17:15:00",14,"NIS107T1260_9","NIS107T1260_9.jpg",{"$f":"+GetURL(D30616)","v":"https://www.refaccionariagonzalez.com/alta/M-O/NIS107T1260_9.jpg"}]
["2020-09-29T16:47:00",14,"NIS111I0520_1","NIS111I0520_1.jpg",{"$f":"+GetURL(D30626)","v":"https://www.refaccionariagonzalez.com/alta/M-O/NIS111I0520_1.jpg"}]
["2020-09-29T16:41:00",14,"NIS121F1112_9","NIS121F1112_9.jpg",{"$f":"+GetURL(D30659)","v":"https://www.refaccionariagonzalez.com/alta/M-O/NIS121F1112_9.jpg"}]
["2020-09-29T16:33:00",14,"NIS121T1801_8","NIS121T1801_8.jpg",{"$f":"+GetURL(D30678)","v":"https://www.refaccionariagonzalez.com/alta/M-O/NIS121T1801_8.jpg"}]
["2020-09-29T16:40:00",14,"NIS124C0502_3","NIS124C0502_3.jpg",{"$f":"+GetURL(D30695)","v":"https://www.refaccionariagonzalez.com/alta/M-O/NIS124C0502_3.jpg"}]
["2020-09-29T16:40:00",14,"NIS124C0800_1","NIS124C0800_1.jpg",{"$f":"+GetURL(D30702)","v":"https://www.refaccionariagonzalez.com/alta/M-O/NIS124C0800_1.jpg"}]
["2020-09-29T16:42:00",14,"NIS124M050S_9","NIS124M050S_9.jpg",{"$f":"+GetURL(D30721)","v":"https://www.refaccionariagonzalez.com/alta/M-O/NIS124M050S_9.jpg"}]
["2020-09-29T16:19:00",9,"NIS210_2","NIS210_2.jpg",{"$f":"+GetURL(D30750)","v":"https://www.refaccionariagonzalez.com/alta/M-O/NIS210_2.jpg"}]
["2020-09-29T16:13:00",17,"NIS226AO-WL000_1","NIS226AO-WL000_1.jpg",{"$f":"+GetURL(D30764)","v":"https://www.refaccionariagonzalez.com/alta/M-O/NIS226AO-WL000_1.jpg"}]
["2020-09-29T16:14:00",17,"NIS11060-00QAA_9","NIS11060-00QAA_9.jpg",{"$f":"+GetURL(D30783)","v":"https://www.refaccionariagonzalez.com/alta/M-O/NIS11060-00QAA_9.jpg"}]
["2020-09-29T16:47:00",17,"NIS12303-00QA4_1","NIS12303-00QA4_1.jpg",{"$f":"+GetURL(D30808)","v":"https://www.refaccionariagonzalez.com/alta/M-O/NIS12303-00QA4_1.jpg"}]
["2020-09-29T16:50:00",17,"NIS13070-53F16_3","NIS13070-53F16_3.jpg",{"$f":"+GetURL(D30823)","v":"https://www.refaccionariagonzalez.com/alta/M-O/NIS13070-53F16_3.jpg"}]
["2020-09-29T16:31:00",17,"NIS15255-40F01_1","NIS15255-40F01_1.jpg",{"$f":"+GetURL(D30845)","v":"https://www.refaccionariagonzalez.com/alta/M-O/NIS15255-40F01_1.jpg"}]
["2020-09-29T16:14:00",17,"NIS16400-4M405_1","NIS16400-4M405_1.jpg",{"$f":"+GetURL(D30851)","v":"https://www.refaccionariagonzalez.com/alta/M-O/NIS16400-4M405_1.jpg"}]
["2020-09-29T17:00:00",18,"NIS21200-F3160I_1","NIS21200-F3160I_1.jpg",{"$f":"+GetURL(D30874)","v":"https://www.refaccionariagonzalez.com/alta/M-O/NIS21200-F3160I_1.jpg"}]
["2020-09-29T16:27:00",11,"NIS22159_1","NIS22159_1.jpg",{"$f":"+GetURL(D30894)","v":"https://www.refaccionariagonzalez.com/alta/M-O/NIS22159_1.jpg"}]
["2020-09-29T16:40:00",17,"NIS22691-AR210_2","NIS22691-AR210_2.jpg",{"$f":"+GetURL(D30913)","v":"https://www.refaccionariagonzalez.com/alta/M-O/NIS22691-AR210_2.jpg"}]
["2020-09-29T16:42:00",17,"NIS23100-VH300_8","NIS23100-VH300_8.jpg",{"$f":"+GetURL(D30925)","v":"https://www.refaccionariagonzalez.com/alta/M-O/NIS23100-VH300_8.jpg"}]
["2020-09-29T16:32:00",11,"NIS25731_9","NIS25731_9.jpg",{"$f":"+GetURL(D30956)","v":"https://www.refaccionariagonzalez.com/alta/M-O/NIS25731_9.jpg"}]
["2020-09-29T17:08:00",17,"NIS26550-3BG0A_4","NIS26550-3BG0A_4.jpg",{"$f":"+GetURL(D30975)","v":"https://www.refaccionariagonzalez.com/alta/M-O/NIS26550-3BG0A_4.jpg"}]
["2020-09-29T17:17:00",17,"NIS28910-65Y10_9","NIS28910-65Y10_9.jpg",{"$f":"+GetURL(D30981)","v":"https://www.refaccionariagonzalez.com/alta/M-O/NIS28910-65Y10_9.jpg"}]
["2020-09-29T16:03:00",11,"NIS34948_1","NIS34948_1.jpg",{"$f":"+GetURL(D31002)","v":"https://www.refaccionariagonzalez.com/alta/M-O/NIS34948_1.jpg"}]
["2020-09-29T16:15:00",17,"NIS40160-VW000_9","NIS40160-VW000_9.jpg",{"$f":"+GetURL(D31018)","v":"https://www.refaccionariagonzalez.com/alta/M-O/NIS40160-VW000_9.jpg"}]
["2020-09-29T17:14:00",17,"NIS46010-00QAB_1","NIS46010-00QAB_1.jpg",{"$f":"+GetURL(D31043)","v":"https://www.refaccionariagonzalez.com/alta/M-O/NIS46010-00QAB_1.jpg"}]
["2020-09-29T17:09:00",17,"NIS54320-4Z0NK_9","NIS54320-4Z0NK_9.jpg",{"$f":"+GetURL(D31071)","v":"https://www.refaccionariagonzalez.com/alta/M-O/NIS54320-4Z0NK_9.jpg"}]
["2020-09-29T16:48:00",17,"NIS54570-48000_9","NIS54570-48000_9.jpg",{"$f":"+GetURL(D31080)","v":"https://www.refaccionariagonzalez.com/alta/M-O/NIS54570-48000_9.jpg"}]
["2020-09-29T16:45:00",11,"NIS62655_1","NIS62655_1.jpg",{"$f":"+GetURL(D31105)","v":"https://www.refaccionariagonzalez.com/alta/M-O/NIS62655_1.jpg"}]
["2020-09-29T16:29:00",17,"NIS96301-ET00E_9","NIS96301-ET00E_9.jpg",{"$f":"+GetURL(D31122)","v":"https://www.refaccionariagonzalez.com/alta/M-O/NIS96301-ET00E_9.jpg"}]
["2020-09-29T17:07:00",16,"NIS1011410W50_3","NIS1011410W50_3.jpg",{"$f":"+GetURL(D31148)","v":"https://www.refaccionariagonzalez.com/alta/M-O/NIS1011410W50_3.jpg"}]
["2020-09-29T16:16:00",15,"NIS3011400NK_2","NIS3011400NK_2.jpg",{"$f":"+GetURL(D31167)","v":"https://www.refaccionariagonzalez.com/alta/M-O/NIS3011400NK_2.jpg"}]
["2020-09-29T16:14:00",13,"NIS4601072_1","NIS4601072_1.jpg",{"$f":"+GetURL(D31186)","v":"https://www.refaccionariagonzalez.com/alta/M-O/NIS4601072_1.jpg"}]
["2020-09-29T16:54:00",16,"NIS7700885831_9","NIS7700885831_9.jpg",{"$f":"+GetURL(D31199)","v":"https://www.refaccionariagonzalez.com/alta/M-O/NIS7700885831_9.jpg"}]
["2020-09-29T16:02:00",14,"NISCRNN1300_9","NISCRNN1300_9.jpg",{"$f":"+GetURL(D31210)","v":"https://www.refaccionariagonzalez.com/alta/M-O/NISCRNN1300_9.jpg"}]
["2020-09-29T17:00:00",14,"NISMSRN1300_1","NISMSRN1300_1.jpg",{"$f":"+GetURL(D31235)","v":"https://www.refaccionariagonzalez.com/alta/M-O/NISMSRN1300_1.jpg"}]
["2020-09-29T16:50:00",14,"NISSHNN1201_9","NISSHNN1201_9.jpg",{"$f":"+GetURL(D31250)","v":"https://www.refaccionariagonzalez.com/alta/M-O/NISSHNN1201_9.jpg"}]
["2020-09-29T16:03:00",19,"NKPLZKAR6A-11STD_1","NKPLZKAR6A-11STD_1.jpg",{"$f":"+GetURL(D31272)","v":"https://www.refaccionariagonzalez.com/alta/M-O/NKPLZKAR6A-11STD_1.jpg"}]
["2020-09-29T16:48:00",8,"NPBAB_9","NPBAB_9.jpg",{"$f":"+GetURL(D31297)","v":"https://www.refaccionariagonzalez.com/alta/M-O/NPBAB_9.jpg"}]
["2024-05-03T09:48:00",6,"NPCVW","NPCVW.jpg",{"$f":"+GetURL(D31301)","v":"https://www.refaccionariagonzalez.com/alta/M-O/NPCVW.jpg"}]
["2024-04-24T15:02:00",7,"NPNMCR","NPNMCR.jpg",{"$f":"+GetURL(D31334)","v":"https://www.refaccionariagonzalez.com/alta/M-O/NPNMCR.jpg"}]
["2020-09-29T16:54:00",10,"NPPCFVF_9","NPPCFVF_9.jpg",{"$f":"+GetURL(D31340)","v":"https://www.refaccionariagonzalez.com/alta/M-O/NPPCFVF_9.jpg"}]
["2020-09-29T17:18:00",10,"NPPPBMC_9","NPPPBMC_9.jpg",{"$f":"+GetURL(D31370)","v":"https://www.refaccionariagonzalez.com/alta/M-O/NPPPBMC_9.jpg"}]
["2020-09-29T16:47:00",10,"NPPPCYC_1","NPPPCYC_1.jpg",{"$f":"+GetURL(D31383)","v":"https://www.refaccionariagonzalez.com/alta/M-O/NPPPCYC_1.jpg"}]
["2020-09-29T16:48:00",9,"NPPPIC_9","NPPPIC_9.jpg",{"$f":"+GetURL(D31402)","v":"https://www.refaccionariagonzalez.com/alta/M-O/NPPPIC_9.jpg"}]
["2020-09-29T16:23:00",10,"NPPPMCC_9","NPPPMCC_9.jpg",{"$f":"+GetURL(D31421)","v":"https://www.refaccionariagonzalez.com/alta/M-O/NPPPMCC_9.jpg"}]
["2020-09-29T16:00:00",9,"NPPPTC_9","NPPPTC_9.jpg",{"$f":"+GetURL(D31447)","v":"https://www.refaccionariagonzalez.com/alta/M-O/NPPPTC_9.jpg"}]
["2020-09-29T17:06:00",8,"NPPRE_1","NPPRE_1.jpg",{"$f":"+GetURL(D31464)","v":"https://www.refaccionariagonzalez.com/alta/M-O/NPPRE_1.jpg"}]
["2020-09-29T16:57:00",11,"NPPRJ4X4_9","NPPRJ4X4_9.jpg",{"$f":"+GetURL(D31483)","v":"https://www.refaccionariagonzalez.com/alta/M-O/NPPRJ4X4_9.jpg"}]
["2020-09-29T16:23:00",9,"NPPRMC_9","NPPRMC_9.jpg",{"$f":"+GetURL(D31498)","v":"https://www.refaccionariagonzalez.com/alta/M-O/NPPRMC_9.jpg"}]
["2020-09-29T17:09:00",8,"NPPRR_1","NPPRR_1.jpg",{"$f":"+GetURL(D31507)","v":"https://www.refaccionariagonzalez.com/alta/M-O/NPPRR_1.jpg"}]
["2023-12-26T09:36:00",9,"NPPSV _1","NPPSV _1.jpg",{"$f":"+GetURL(D31532)","v":"https://www.refaccionariagonzalez.com/alta/M-O/NPPSV _1.jpg"}]
["2024-04-24T18:49:00",7,"NSC064","NSC064.jpg",{"$f":"+GetURL(D31549)","v":"https://www.refaccionariagonzalez.com/alta/M-O/NSC064.jpg"}]
["2024-05-08T08:33:00",10,"NTALK4P_2","NTALK4P_2.jpg",{"$f":"+GetURL(D31569)","v":"https://www.refaccionariagonzalez.com/alta/M-O/NTALK4P_2.jpg"}]
["2023-12-01T15:36:00",8,"NTIRONB","NTIRONB.jpg",{"$f":"+GetURL(D31594)","v":"https://www.refaccionariagonzalez.com/alta/M-O/NTIRONB.jpg"}]
["2024-05-03T09:48:00",5,"NTRS","NTRS.jpg",{"$f":"+GetURL(D31613)","v":"https://www.refaccionariagonzalez.com/alta/M-O/NTRS.jpg"}]
["2020-09-29T16:06:00",13,"OAT6003400_2","OAT6003400_2.jpg",{"$f":"+GetURL(D31626)","v":"https://www.refaccionariagonzalez.com/alta/M-O/OAT6003400_2.jpg"}]
["2020-09-29T16:40:00",10,"OF-6C67_9","OF-6C67_9.jpg",{"$f":"+GetURL(D31637)","v":"https://www.refaccionariagonzalez.com/alta/M-O/OF-6C67_9.jpg"}]
["2020-09-29T16:24:00",13,"OIT5480100_1","OIT5480100_1.jpg",{"$f":"+GetURL(D31656)","v":"https://www.refaccionariagonzalez.com/alta/M-O/OIT5480100_1.jpg"}]
["2020-09-29T16:51:00",16,"ORI002301247A_9","ORI002301247A_9.jpg",{"$f":"+GetURL(D31677)","v":"https://www.refaccionariagonzalez.com/alta/M-O/ORI002301247A_9.jpg"}]
["2020-09-29T16:50:00",16,"ORI02A945413C_3","ORI02A945413C_3.jpg",{"$f":"+GetURL(D31699)","v":"https://www.refaccionariagonzalez.com/alta/M-O/ORI02A945413C_3.jpg"}]
["2020-09-29T16:17:00",16,"ORI020301189N_2","ORI020301189N_2.jpg",{"$f":"+GetURL(D31718)","v":"https://www.refaccionariagonzalez.com/alta/M-O/ORI020301189N_2.jpg"}]
["2020-09-29T16:46:00",16,{"$f":"+LEFT(D31746,B31746-1)","v":"ORI025906041A_9"},"ORI025906041A_9.jpg",{"$f":"+GetURL(D31746)","v":"https://www.refaccionariagonzalez.com/alta/M-O/ORI025906041A_9.jpg"}]
["2020-09-29T17:15:00",16,"ORI026109173A_1","ORI026109173A_1.jpg",{"$f":"+GetURL(D31761)","v":"https://www.refaccionariagonzalez.com/alta/M-O/ORI026109173A_1.jpg"}]
["2020-09-29T16:54:00",16,"ORI0261091731_9","ORI0261091731_9.jpg",{"$f":"+GetURL(D31767)","v":"https://www.refaccionariagonzalez.com/alta/M-O/ORI0261091731_9.jpg"}]
["2020-09-29T16:37:00",16,"ORI026121145F_1","ORI026121145F_1.jpg",{"$f":"+GetURL(D31786)","v":"https://www.refaccionariagonzalez.com/alta/M-O/ORI026121145F_1.jpg"}]
["2020-09-29T16:29:00",15,"ORI027145255_1","ORI027145255_1.jpg",{"$f":"+GetURL(D31819)","v":"https://www.refaccionariagonzalez.com/alta/M-O/ORI027145255_1.jpg"}]
["2020-09-29T16:27:00",16,"ORI028117021L_9","ORI028117021L_9.jpg",{"$f":"+GetURL(D31829)","v":"https://www.refaccionariagonzalez.com/alta/M-O/ORI028117021L_9.jpg"}]
["2020-09-29T16:18:00",16,"ORI030907601E_9","ORI030907601E_9.jpg",{"$f":"+GetURL(D31848)","v":"https://www.refaccionariagonzalez.com/alta/M-O/ORI030907601E_9.jpg"}]
["2020-09-29T16:15:00",16,"ORI037121121A_8","ORI037121121A_8.jpg",{"$f":"+GetURL(D31870)","v":"https://www.refaccionariagonzalez.com/alta/M-O/ORI037121121A_8.jpg"}]
["2020-09-29T16:21:00",16,"ORI037121144H_3","ORI037121144H_3.jpg",{"$f":"+GetURL(D31891)","v":"https://www.refaccionariagonzalez.com/alta/M-O/ORI037121144H_3.jpg"}]
["2020-09-29T17:01:00",16,"ORI037129101H_9","ORI037129101H_9.jpg",{"$f":"+GetURL(D31910)","v":"https://www.refaccionariagonzalez.com/alta/M-O/ORI037129101H_9.jpg"}]
["2020-09-29T17:13:00",15,"ORI037905205_8","ORI037905205_8.jpg",{"$f":"+GetURL(D31925)","v":"https://www.refaccionariagonzalez.com/alta/M-O/ORI037905205_8.jpg"}]
["2020-09-29T17:02:00",14,"ORI038121132C","ORI038121132C_4.jpg",{"$f":"+GetURL(D31934)","v":"https://www.refaccionariagonzalez.com/alta/M-O/ORI038121132C_4.jpg"}]
["2020-09-29T16:48:00",13,"ORI043903117","ORI043903117_1.jpg",{"$f":"+GetURL(D31953)","v":"https://www.refaccionariagonzalez.com/alta/M-O/ORI043903117_1.jpg"}]
["2020-09-29T16:18:00",15,"ORI049-TA-9503","ORI049-TA-9503_1.jpg",{"$f":"+GetURL(D31976)","v":"https://www.refaccionariagonzalez.com/alta/M-O/ORI049-TA-9503_1.jpg"}]
["2020-09-29T16:13:00",{"$f":"+FIND(\"_\",D31996)","v":14},"ORI05096943AA","ORI05096943AA_2.jpg",{"$f":"+GetURL(D31996)","v":"https://www.refaccionariagonzalez.com/alta/M-O/ORI05096943AA_2.jpg"}]
["2020-09-29T16:56:00",14,"ORI055121121F","ORI055121121F_3.jpg",{"$f":"+GetURL(D32021)","v":"https://www.refaccionariagonzalez.com/alta/M-O/ORI055121121F_3.jpg"}]
["2020-09-29T17:15:00",14,"ORI06A103483C","ORI06A103483C_9.jpg",{"$f":"+GetURL(D32040)","v":"https://www.refaccionariagonzalez.com/alta/M-O/ORI06A103483C_9.jpg"}]
["2020-09-29T16:16:00",14,"ORI06A109479B","ORI06A109479B_1.jpg",{"$f":"+GetURL(D32049)","v":"https://www.refaccionariagonzalez.com/alta/M-O/ORI06A109479B_1.jpg"}]
["2020-09-29T16:57:00",14,"ORI06A906461L","ORI06A906461L_4.jpg",{"$f":"+GetURL(D32083)","v":"https://www.refaccionariagonzalez.com/alta/M-O/ORI06A906461L_4.jpg"}]
["2020-09-29T16:02:00",8,"ORI0656","ORI0656_9.jpg",{"$f":"+GetURL(D32102)","v":"https://www.refaccionariagonzalez.com/alta/M-O/ORI0656_9.jpg"}]
["2020-09-29T17:15:00",14,"ORI0801417011","ORI0801417011_1.jpg",{"$f":"+GetURL(D32118)","v":"https://www.refaccionariagonzalez.com/alta/M-O/ORI0801417011_1.jpg"}]
["2020-09-29T16:17:00",13,"ORI091311313","ORI091311313_2.jpg",{"$f":"+GetURL(D32126)","v":"https://www.refaccionariagonzalez.com/alta/M-O/ORI091311313_2.jpg"}]
["2020-09-29T17:03:00",13,"ORI1H0837402","ORI1H0837402_1.jpg",{"$f":"+GetURL(D32145)","v":"https://www.refaccionariagonzalez.com/alta/M-O/ORI1H0837402_1.jpg"}]
["2020-09-29T16:02:00",16,"ORI1HM919051M_1","ORI1HM919051M_1.jpg",{"$f":"+GetURL(D32173)","v":"https://www.refaccionariagonzalez.com/alta/M-O/ORI1HM919051M_1.jpg"}]
["2020-09-29T17:16:00",16,"ORI1J0121087D_2","ORI1J0121087D_2.jpg",{"$f":"+GetURL(D32188)","v":"https://www.refaccionariagonzalez.com/alta/M-O/ORI1J0121087D_2.jpg"}]
["2020-09-29T16:04:00",16,"ORI1J0721261J_1","ORI1J0721261J_1.jpg",{"$f":"+GetURL(D32207)","v":"https://www.refaccionariagonzalez.com/alta/M-O/ORI1J0721261J_1.jpg"}]
["2020-09-29T17:04:00",15,"ORI1J1857506_1","ORI1J1857506_1.jpg",{"$f":"+GetURL(D32232)","v":"https://www.refaccionariagonzalez.com/alta/M-O/ORI1J1857506_1.jpg"}]
["2020-09-29T17:12:00",15,"ORI5X0412319_1","ORI5X0412319_1.jpg",{"$f":"+GetURL(D32246)","v":"https://www.refaccionariagonzalez.com/alta/M-O/ORI5X0412319_1.jpg"}]
["2020-09-29T16:15:00",16,"ORI6K0959455A_1","ORI6K0959455A_1.jpg",{"$f":"+GetURL(D32256)","v":"https://www.refaccionariagonzalez.com/alta/M-O/ORI6K0959455A_1.jpg"}]
["2020-09-29T16:56:00",16,"ORI6K5953049A_2","ORI6K5953049A_2.jpg",{"$f":"+GetURL(D32275)","v":"https://www.refaccionariagonzalez.com/alta/M-O/ORI6K5953049A_2.jpg"}]
["2020-09-29T16:28:00",16,"ORI6Q0407183A_3","ORI6Q0407183A_3.jpg",{"$f":"+GetURL(D32297)","v":"https://www.refaccionariagonzalez.com/alta/M-O/ORI6Q0407183A_3.jpg"}]
["2020-09-29T16:36:00",16,"ORI7H0121407C_1","ORI7H0121407C_1.jpg",{"$f":"+GetURL(D32318)","v":"https://www.refaccionariagonzalez.com/alta/M-O/ORI7H0121407C_1.jpg"}]
["2024-05-27T09:38:00",14,"ORI214E1500_1","ORI214E1500_1.jpg",{"$f":"+GetURL(D32337)","v":"https://www.refaccionariagonzalez.com/alta/M-O/ORI214E1500_1.jpg"}]
["2020-09-29T16:03:00",14,"ORI322A0102_1","ORI322A0102_1.jpg",{"$f":"+GetURL(D32348)","v":"https://www.refaccionariagonzalez.com/alta/M-O/ORI322A0102_1.jpg"}]
["2020-09-29T16:17:00",14,"ORI422C0202_2","ORI422C0202_2.jpg",{"$f":"+GetURL(D32380)","v":"https://www.refaccionariagonzalez.com/alta/M-O/ORI422C0202_2.jpg"}]
["2020-09-29T16:28:00",14,"ORI422I0400_1","ORI422I0400_1.jpg",{"$f":"+GetURL(D32399)","v":"https://www.refaccionariagonzalez.com/alta/M-O/ORI422I0400_1.jpg"}]
["2020-09-29T16:10:00",14,"ORI422M3511_1","ORI422M3511_1.jpg",{"$f":"+GetURL(D32405)","v":"https://www.refaccionariagonzalez.com/alta/M-O/ORI422M3511_1.jpg"}]
["2020-09-29T16:35:00",14,"ORI422T1801_1","ORI422T1801_1.jpg",{"$f":"+GetURL(D32425)","v":"https://www.refaccionariagonzalez.com/alta/M-O/ORI422T1801_1.jpg"}]
["2020-09-29T16:32:00",14,"ORI501B0550_2","ORI501B0550_2.jpg",{"$f":"+GetURL(D32442)","v":"https://www.refaccionariagonzalez.com/alta/M-O/ORI501B0550_2.jpg"}]
["2020-09-29T17:15:00",14,"ORI503F0711_1","ORI503F0711_1.jpg",{"$f":"+GetURL(D32467)","v":"https://www.refaccionariagonzalez.com/alta/M-O/ORI503F0711_1.jpg"}]
["2020-09-29T16:45:00",14,"ORI514T0510_2","ORI514T0510_2.jpg",{"$f":"+GetURL(D32494)","v":"https://www.refaccionariagonzalez.com/alta/M-O/ORI514T0510_2.jpg"}]
["2020-09-29T16:34:00",14,"ORI515C0300_2","ORI515C0300_2.jpg",{"$f":"+GetURL(D32504)","v":"https://www.refaccionariagonzalez.com/alta/M-O/ORI515C0300_2.jpg"}]
["2020-09-29T17:11:00",14,"ORI516F0301_1","ORI516F0301_1.jpg",{"$f":"+GetURL(D32529)","v":"https://www.refaccionariagonzalez.com/alta/M-O/ORI516F0301_1.jpg"}]
["2020-09-29T16:50:00",{"$f":"+FIND(\".\",D32545)","v":14},"ORI552F0701_2","ORI552F0701_2.jpg",{"$f":"+GetURL(D32545)","v":"https://www.refaccionariagonzalez.com/alta/M-O/ORI552F0701_2.jpg"}]
["2020-09-29T17:10:00",9,"ORI644_1","ORI644_1.jpg",{"$f":"+GetURL(D32553)","v":"https://www.refaccionariagonzalez.com/alta/M-O/ORI644_1.jpg"}]
["2020-09-29T16:47:00",10,"ORI2222_2","ORI2222_2.jpg",{"$f":"+GetURL(D32572)","v":"https://www.refaccionariagonzalez.com/alta/M-O/ORI2222_2.jpg"}]
["2020-09-29T16:18:00",11,"ORI20878_2","ORI20878_2.jpg",{"$f":"+GetURL(D32596)","v":"https://www.refaccionariagonzalez.com/alta/M-O/ORI20878_2.jpg"}]
["2020-09-29T16:43:00",18,"ORI25430-02000K_3","ORI25430-02000K_3.jpg",{"$f":"+GetURL(D32615)","v":"https://www.refaccionariagonzalez.com/alta/M-O/ORI25430-02000K_3.jpg"}]
["2020-09-29T17:15:00",17,"ORI54551-22100_1","ORI54551-22100_1.jpg",{"$f":"+GetURL(D32634)","v":"https://www.refaccionariagonzalez.com/alta/M-O/ORI54551-22100_1.jpg"}]
["2020-09-29T16:39:00",17,"ORI93438-02001_2","ORI93438-02001_2.jpg",{"$f":"+GetURL(D32659)","v":"https://www.refaccionariagonzalez.com/alta/M-O/ORI93438-02001_2.jpg"}]
["2020-09-29T16:33:00",{"$f":"+FIND(\".\",D32673)","v":12},"ORI211846_1","ORI211846_1.jpg",{"$f":"+GetURL(D32673)","v":"https://www.refaccionariagonzalez.com/alta/M-O/ORI211846_1.jpg"}]
["2020-09-29T17:08:00",13,"ORI1940503_1","ORI1940503_1.jpg",{"$f":"+GetURL(D32696)","v":"https://www.refaccionariagonzalez.com/alta/M-O/ORI1940503_1.jpg"}]
["2020-09-29T17:10:00",13,"ORI6110003_1","ORI6110003_1.jpg",{"$f":"+GetURL(D32702)","v":"https://www.refaccionariagonzalez.com/alta/M-O/ORI6110003_1.jpg"}]
["2020-09-29T17:12:00",{"$f":"+FIND(\"_\",D32724)","v":13},"ORI96553450K","ORI96553450K_1.jpg",{"$f":"+GetURL(D32724)","v":"https://www.refaccionariagonzalez.com/alta/M-O/ORI96553450K_1.jpg"}]
["2020-09-29T16:47:00",13,"ORI111501286","ORI111501286_1.jpg",{"$f":"+GetURL(D32739)","v":"https://www.refaccionariagonzalez.com/alta/M-O/ORI111501286_1.jpg"}]
["2020-09-29T16:36:00",14,"ORI111857101M","ORI111857101M_9.jpg",{"$f":"+GetURL(D32764)","v":"https://www.refaccionariagonzalez.com/alta/M-O/ORI111857101M_9.jpg"}]
["2020-09-29T16:35:00",13,"ORI113119500","ORI113119500_1.jpg",{"$f":"+GetURL(D32793)","v":"https://www.refaccionariagonzalez.com/alta/M-O/ORI113119500_1.jpg"}]
["2020-09-29T16:50:00",13,"ORI113311245","ORI113311245_1.jpg",{"$f":"+GetURL(D32807)","v":"https://www.refaccionariagonzalez.com/alta/M-O/ORI113311245_1.jpg"}]
["2020-09-29T16:32:00",13,"ORI113807129","ORI113807129_1.jpg",{"$f":"+GetURL(D32826)","v":"https://www.refaccionariagonzalez.com/alta/M-O/ORI113807129_1.jpg"}]
["2020-09-29T17:13:00",14,"ORI113941531B","ORI113941531B_1.jpg",{"$f":"+GetURL(D32845)","v":"https://www.refaccionariagonzalez.com/alta/M-O/ORI113941531B_1.jpg"}]
["2020-09-29T16:38:00",14,"ORI131501189A","ORI131501189A_1.jpg",{"$f":"+GetURL(D32852)","v":"https://www.refaccionariagonzalez.com/alta/M-O/ORI131501189A_1.jpg"}]
["2020-09-29T17:13:00",14,"ORI171711163D","ORI171711163D_2.jpg",{"$f":"+GetURL(D32869)","v":"https://www.refaccionariagonzalez.com/alta/M-O/ORI171711163D_2.jpg"}]
["2020-09-29T16:42:00",13,"ORI176857511","ORI176857511_2.jpg",{"$f":"+GetURL(D32894)","v":"https://www.refaccionariagonzalez.com/alta/M-O/ORI176857511_2.jpg"}]
["2020-09-29T17:11:00",13,"ORI191837402","ORI191837402_2.jpg",{"$f":"+GetURL(D32921)","v":"https://www.refaccionariagonzalez.com/alta/M-O/ORI191837402_2.jpg"}]
["2020-09-29T16:44:00",13,"ORI191953235","ORI191953235_2.jpg",{"$f":"+GetURL(D32931)","v":"https://www.refaccionariagonzalez.com/alta/M-O/ORI191953235_2.jpg"}]
["2020-09-29T16:10:00",14,"ORI211511245A","ORI211511245A_2.jpg",{"$f":"+GetURL(D32956)","v":"https://www.refaccionariagonzalez.com/alta/M-O/ORI211511245A_2.jpg"}]
["2020-09-29T16:05:00",14,"ORI211837296B","ORI211837296B_2.jpg",{"$f":"+GetURL(D32972)","v":"https://www.refaccionariagonzalez.com/alta/M-O/ORI211837296B_2.jpg"}]
["2020-09-29T17:16:00",13,"ORI305407155","ORI305407155_1.jpg",{"$f":"+GetURL(D32993)","v":"https://www.refaccionariagonzalez.com/alta/M-O/ORI305407155_1.jpg"}]
["2020-09-29T16:56:00",14,"ORI321959513B","ORI321959513B_1.jpg",{"$f":"+GetURL(D33018)","v":"https://www.refaccionariagonzalez.com/alta/M-O/ORI321959513B_1.jpg"}]
["2020-09-29T16:10:00",13,"ORI357905851","ORI357905851_3.jpg",{"$f":"+GetURL(D33037)","v":"https://www.refaccionariagonzalez.com/alta/M-O/ORI357905851_3.jpg"}]
["2020-09-29T17:16:00",15,"ORI377121273_2","ORI377121273_2.jpg",{"$f":"+GetURL(D33049)","v":"https://www.refaccionariagonzalez.com/alta/M-O/ORI377121273_2.jpg"}]
["2020-09-29T16:36:00",15,"ORI377501541_2","ORI377501541_2.jpg",{"$f":"+GetURL(D33061)","v":"https://www.refaccionariagonzalez.com/alta/M-O/ORI377501541_2.jpg"}]
["2020-09-29T16:15:00",16,"ORI377857040A_2","ORI377857040A_2.jpg",{"$f":"+GetURL(D33080)","v":"https://www.refaccionariagonzalez.com/alta/M-O/ORI377857040A_2.jpg"}]
["2020-09-29T16:37:00",16,"ORI377953513A_1","ORI377953513A_1.jpg",{"$f":"+GetURL(D33100)","v":"https://www.refaccionariagonzalez.com/alta/M-O/ORI377953513A_1.jpg"}]
["2020-09-29T17:02:00",17,"ORI701959455AM_1","ORI701959455AM_1.jpg",{"$f":"+GetURL(D33123)","v":"https://www.refaccionariagonzalez.com/alta/M-O/ORI701959455AM_1.jpg"}]
["2020-09-29T16:00:00",16,"ORI2550002500_1","ORI2550002500_1.jpg",{"$f":"+GetURL(D33142)","v":"https://www.refaccionariagonzalez.com/alta/M-O/ORI2550002500_1.jpg"}]
["2024-01-30T11:55:00",15,"ORI3279002010K","ORI3279002010K.jpg",{"$f":"+GetURL(D33151)","v":"https://www.refaccionariagonzalez.com/alta/M-O/ORI3279002010K.jpg"}]
["2020-09-29T16:33:00",{"$f":"+FIND(\".\",D33185)","v":13},"ORIARNES10_1","ORIARNES10_1.jpg",{"$f":"+GetURL(D33185)","v":"https://www.refaccionariagonzalez.com/alta/M-O/ORIARNES10_1.jpg"}]
["2020-09-29T16:24:00",13,"ORIARNES12_2","ORIARNES12_2.jpg",{"$f":"+GetURL(D33191)","v":"https://www.refaccionariagonzalez.com/alta/M-O/ORIARNES12_2.jpg"}]
["2020-09-29T16:56:00",16,"ORIBAA255387A_1","ORIBAA255387A_1.jpg",{"$f":"+GetURL(D33220)","v":"https://www.refaccionariagonzalez.com/alta/M-O/ORIBAA255387A_1.jpg"}]
["2020-09-29T16:02:00",17,"ORIBAA857551A2_1","ORIBAA857551A2_1.jpg",{"$f":"+GetURL(D33228)","v":"https://www.refaccionariagonzalez.com/alta/M-O/ORIBAA857551A2_1.jpg"}]
["2020-09-29T17:13:00",15,"ORIBAC857167_1","ORIBAC857167_1.jpg",{"$f":"+GetURL(D33253)","v":"https://www.refaccionariagonzalez.com/alta/M-O/ORIBAC857167_1.jpg"}]
["2020-09-29T16:03:00",16,"ORIBAT953503A_2","ORIBAT953503A_2.jpg",{"$f":"+GetURL(D33272)","v":"https://www.refaccionariagonzalez.com/alta/M-O/ORIBAT953503A_2.jpg"}]
["2020-09-29T17:10:00",12,"ORID22244_2","ORID22244_2.jpg",{"$f":"+GetURL(D33297)","v":"https://www.refaccionariagonzalez.com/alta/M-O/ORID22244_2.jpg"}]
["2020-09-29T17:04:00",14,"ORIN0102002_1","ORIN0102002_1.jpg",{"$f":"+GetURL(D33315)","v":"https://www.refaccionariagonzalez.com/alta/M-O/ORIN0102002_1.jpg"}]
["2020-09-29T16:27:00",13,"ORIS20D663_1","ORIS20D663_1.jpg",{"$f":"+GetURL(D33334)","v":"https://www.refaccionariagonzalez.com/alta/M-O/ORIS20D663_1.jpg"}]
["2020-09-29T16:57:00",11,"ORIT1505_1","ORIT1505_1.jpg",{"$f":"+GetURL(D33348)","v":"https://www.refaccionariagonzalez.com/alta/M-O/ORIT1505_1.jpg"}]
["2020-09-29T17:00:00",16,"ORITABS01-R14_2","ORITABS01-R14_2.jpg",{"$f":"+GetURL(D33358)","v":"https://www.refaccionariagonzalez.com/alta/M-O/ORITABS01-R14_2.jpg"}]
["2020-09-29T17:06:00",{"$f":"+FIND(\"_\",D33377)","v":10},"ORITC0604","ORITC0604_2.jpg",{"$f":"+GetURL(D33377)","v":"https://www.refaccionariagonzalez.com/alta/M-O/ORITC0604_2.jpg"}]
["2020-09-29T16:08:00",{"$f":"+FIND(\"_\",D33399)","v":9},"ORITN09P","ORITN09P_2.jpg",{"$f":"+GetURL(D33399)","v":"https://www.refaccionariagonzalez.com/alta/M-O/ORITN09P_2.jpg"}]
["2020-09-29T17:04:00",8,"ORIVW01","ORIVW01_2.jpg",{"$f":"+GetURL(D33420)","v":"https://www.refaccionariagonzalez.com/alta/M-O/ORIVW01_2.jpg"}]
["2020-09-29T16:15:00",8,"OT527BK","OT527BK_1.jpg",{"$f":"+GetURL(D33445)","v":"https://www.refaccionariagonzalez.com/alta/M-O/OT527BK_1.jpg"}]
["2022-01-25T12:22:00",10,"OW1358Z2V","OW1358Z2V_2.jpg",{"$f":"+GetURL(D33464)","v":"https://www.refaccionariagonzalez.com/alta/M-O/OW1358Z2V_2.jpg"}]
["2020-09-29T17:15:00",9,"OW1452ZV","OW1452ZV_2.jpg",{"$f":"+GetURL(D33472)","v":"https://www.refaccionariagonzalez.com/alta/M-O/OW1452ZV_2.jpg"}]
["2020-09-29T16:00:00",5,"P-AM","P-AM_1.jpg",{"$f":"+GetURL(D33488)","v":"https://www.refaccionariagonzalez.com/alta/P-R/P-AM_1.jpg"}]
["2020-09-29T16:14:00",8,"P035CHR","P035CHR_2.jpg",{"$f":"+GetURL(D33507)","v":"https://www.refaccionariagonzalez.com/alta/P-R/P035CHR_2.jpg"}]
["2020-09-29T16:43:00",10,"P1797-030","P1797-030_2.jpg",{"$f":"+GetURL(D33541)","v":"https://www.refaccionariagonzalez.com/alta/P-R/P1797-030_2.jpg"}]
["2024-04-25T10:36:00",9,"P2364-KB","P2364-KB.jpg",{"$f":"+GetURL(D33550)","v":"https://www.refaccionariagonzalez.com/alta/P-R/P2364-KB.jpg"}]
["2020-09-29T16:36:00",{"$f":"+FIND(\"_\",D33569)","v":8},"PARASOL","PARASOL_1.jpg",{"$f":"+GetURL(D33569)","v":"https://www.refaccionariagonzalez.com/alta/P-R/PARASOL_1.jpg"}]
["2020-09-29T16:48:00",{"$f":"+FIND(\"_\",D33596)","v":7},"PE7103","PE7103_1.jpg",{"$f":"+GetURL(D33596)","v":"https://www.refaccionariagonzalez.com/alta/P-R/PE7103_1.jpg"}]
["2020-09-29T16:28:00",9,"PED120CB","PED120CB_2.jpg",{"$f":"+GetURL(D33612)","v":"https://www.refaccionariagonzalez.com/alta/P-R/PED120CB_2.jpg"}]
["2020-09-29T17:14:00",8,"PED353S","PED353S_1.jpg",{"$f":"+GetURL(D33631)","v":"https://www.refaccionariagonzalez.com/alta/P-R/PED353S_1.jpg"}]
["2020-09-29T16:08:00",10,"PED4300GF","PED4300GF_1.jpg",{"$f":"+GetURL(D33637)","v":"https://www.refaccionariagonzalez.com/alta/P-R/PED4300GF_1.jpg"}]
["2020-09-29T17:00:00",{"$f":"+FIND(\"_\",D33669)","v":8},"PEN5W30","PEN5W30_2.jpg",{"$f":"+GetURL(D33669)","v":"https://www.refaccionariagonzalez.com/alta/P-R/PEN5W30_2.jpg"}]
["2020-09-29T16:20:00",11,"PER127MA_1","PER127MA_1.jpg",{"$f":"+GetURL(D33680)","v":"https://www.refaccionariagonzalez.com/alta/P-R/PER127MA_1.jpg"}]
["2020-09-29T16:05:00",9,"PH2951_1","PH2951_1.jpg",{"$f":"+GetURL(D33699)","v":"https://www.refaccionariagonzalez.com/alta/P-R/PH2951_1.jpg"}]
["2020-09-29T16:50:00",11,"PL-BDCAN_2","PL-BDCAN_2.jpg",{"$f":"+GetURL(D33720)","v":"https://www.refaccionariagonzalez.com/alta/P-R/PL-BDCAN_2.jpg"}]
["2020-09-29T15:59:00",11,"PL-BDNCA_2","PL-BDNCA_2.jpg",{"$f":"+GetURL(D33742)","v":"https://www.refaccionariagonzalez.com/alta/P-R/PL-BDNCA_2.jpg"}]
["2020-09-29T16:19:00",{"$f":"+FIND(\".\",D33761)","v":10},"PL-CHFL_1","PL-CHFL_1.jpg",{"$f":"+GetURL(D33761)","v":"https://www.refaccionariagonzalez.com/alta/P-R/PL-CHFL_1.jpg"}]
["2020-09-29T16:44:00",9,"PL-VAN_1","PL-VAN_1.jpg",{"$f":"+GetURL(D33771)","v":"https://www.refaccionariagonzalez.com/alta/P-R/PL-VAN_1.jpg"}]
["2024-05-17T09:14:00",11,"PLA6611BRD","PLA6611BRD.jpg",{"$f":"+GetURL(D33785)","v":"https://www.refaccionariagonzalez.com/alta/P-R/PLA6611BRD.jpg"}]
["2024-05-20T09:23:00",7,"PLU-18","PLU-18.jpg",{"$f":"+GetURL(D33804)","v":"https://www.refaccionariagonzalez.com/alta/P-R/PLU-18.jpg"}]
["2021-03-29T13:22:00",8,"PO-21_2","PO-21_2.jpg",{"$f":"+GetURL(D33826)","v":"https://www.refaccionariagonzalez.com/alta/P-R/PO-21_2.jpg"}]
["2024-01-18T17:36:00",9,"PO-116_1","PO-116_1.jpg",{"$f":"+GetURL(D33847)","v":"https://www.refaccionariagonzalez.com/alta/P-R/PO-116_1.jpg"}]
["2021-03-23T18:59:00",10,"PO-2259_1","PO-2259_1.jpg",{"$f":"+GetURL(D33866)","v":"https://www.refaccionariagonzalez.com/alta/P-R/PO-2259_1.jpg"}]
["2024-01-22T08:12:00",15,"PO-C-P7GAVEOGM","PO-C-P7GAVEOGM.jpg",{"$f":"+GetURL(D33891)","v":"https://www.refaccionariagonzalez.com/alta/P-R/PO-C-P7GAVEOGM.jpg"}]
["2024-04-24T14:49:00",13,"PO-C-P7VW1-6","PO-C-P7VW1-6.jpg",{"$f":"+GetURL(D33899)","v":"https://www.refaccionariagonzalez.com/alta/P-R/PO-C-P7VW1-6.jpg"}]
["2020-09-29T16:07:00",7,"PO1606","PO1606_2.jpg",{"$f":"+GetURL(D33934)","v":"https://www.refaccionariagonzalez.com/alta/P-R/PO1606_2.jpg"}]
["2022-04-30T08:26:00",13,"PO8738-D1454","PO8738-D1454_1.jpg",{"$f":"+GetURL(D33953)","v":"https://www.refaccionariagonzalez.com/alta/P-R/PO8738-D1454_1.jpg"}]
["2022-05-02T18:58:00",13,"PO9159-D1935","PO9159-D1935_2.jpg",{"$f":"+GetURL(D33968)","v":"https://www.refaccionariagonzalez.com/alta/P-R/PO9159-D1935_2.jpg"}]
["2024-04-24T18:49:00",{"$f":"+FIND(\"_\",D33977)","v":10},"PO2519100","PO2519100_2.jpg",{"$f":"+GetURL(D33977)","v":"https://www.refaccionariagonzalez.com/alta/P-R/PO2519100_2.jpg"}]
["2021-03-23T18:59:00",10,"PO5520170","PO5520170_1.jpg",{"$f":"+GetURL(D33996)","v":"https://www.refaccionariagonzalez.com/alta/P-R/PO5520170_1.jpg"}]
["2024-04-24T15:02:00",12,"PO8522100_3","PO8522100_3.jpg",{"$f":"+GetURL(D34019)","v":"https://www.refaccionariagonzalez.com/alta/P-R/PO8522100_3.jpg"}]
["2022-05-24T11:15:00",7,"POMF_1","POMF_1.jpg",{"$f":"+GetURL(D34039)","v":"https://www.refaccionariagonzalez.com/alta/P-R/POMF_1.jpg"}]
["2021-05-14T18:18:00",11,"PORTAFUS_2","PORTAFUS_2.jpg",{"$f":"+GetURL(D34058)","v":"https://www.refaccionariagonzalez.com/alta/P-R/PORTAFUS_2.jpg"}]
["2020-09-29T16:02:00",14,"PR-NS03-020_2","PR-NS03-020_2.jpg",{"$f":"+GetURL(D34083)","v":"https://www.refaccionariagonzalez.com/alta/P-R/PR-NS03-020_2.jpg"}]
["2020-11-17T18:55:00",16,"PRES-AZUL-LITRO","PRES-AZUL-LITRO.1.jpg",{"$f":"+GetURL(D34096)","v":"https://www.refaccionariagonzalez.com/alta/P-R/PRES-AZUL-LITRO.1.jpg"}]
["2020-09-29T17:04:00",9,"PROCMF_2","PROCMF_2.jpg",{"$f":"+GetURL(D34120)","v":"https://www.refaccionariagonzalez.com/alta/P-R/PROCMF_2.jpg"}]
["2020-09-29T16:53:00",12,"PRODR70HD_2","PRODR70HD_2.jpg",{"$f":"+GetURL(D34126)","v":"https://www.refaccionariagonzalez.com/alta/P-R/PRODR70HD_2.jpg"}]
["2024-02-15T18:26:00",13,"PROK050688_1","PROK050688_1.jpg",{"$f":"+GetURL(D34147)","v":"https://www.refaccionariagonzalez.com/alta/P-R/PROK050688_1.jpg"}]
["2024-05-07T08:09:00",10,"PROPM0129","PROPM0129.jpg",{"$f":"+GetURL(D34163)","v":"https://www.refaccionariagonzalez.com/alta/P-R/PROPM0129.jpg"}]
["2020-09-29T16:55:00",{"$f":"+FIND(\"_\",D34188)","v":8},"PS-6041","PS-6041_1.jpg",{"$f":"+GetURL(D34188)","v":"https://www.refaccionariagonzalez.com/alta/P-R/PS-6041_1.jpg"}]
["2020-09-29T16:18:00",12,"PS-601508-1","PS-601508-1_1.jpg",{"$f":"+GetURL(D34198)","v":"https://www.refaccionariagonzalez.com/alta/P-R/PS-601508-1_1.jpg"}]
["2020-09-29T16:10:00",17,"PTR5W40-SYNTETIC","PTR5W40-SYNTETIC_2.jpg",{"$f":"+GetURL(D34231)","v":"https://www.refaccionariagonzalez.com/alta/P-R/PTR5W40-SYNTETIC_2.jpg"}]
["2020-09-29T16:28:00",16,"PTR25W60-CUBETA","PTR25W60-CUBETA_1.jpg",{"$f":"+GetURL(D34250)","v":"https://www.refaccionariagonzalez.com/alta/P-R/PTR25W60-CUBETA_1.jpg"}]
["2020-09-29T17:13:00",16,"PUNTERIA-NS-322","PUNTERIA-NS-322_2.jpg",{"$f":"+GetURL(D34269)","v":"https://www.refaccionariagonzalez.com/alta/P-R/PUNTERIA-NS-322_2.jpg"}]
["2020-09-29T15:59:00",16,"PUNTERIAGM31234","PUNTERIAGM31234_2.jpg",{"$f":"+GetURL(D34275)","v":"https://www.refaccionariagonzalez.com/alta/P-R/PUNTERIAGM31234_2.jpg"}]
["2020-09-29T16:27:00",8,"PYG0005","PYG0005_1.jpg",{"$f":"+GetURL(D34293)","v":"https://www.refaccionariagonzalez.com/alta/P-R/PYG0005_1.jpg"}]
["2024-05-02T10:19:00",12,"QCA-1234-ML","QCA-1234-ML.jpg",{"$f":"+GetURL(D34318)","v":"https://www.refaccionariagonzalez.com/alta/P-R/QCA-1234-ML.jpg"}]
["2020-09-29T17:02:00",{"$f":"+FIND(\"_\",D34344)","v":12},"QUA4TIEMPOS","QUA4TIEMPOS_2.jpg",{"$f":"+GetURL(D34344)","v":"https://www.refaccionariagonzalez.com/alta/P-R/QUA4TIEMPOS_2.jpg"}]
["2024-03-04T12:44:00",8,"QUA50_1","QUA50_1.jpg",{"$f":"+GetURL(D34355)","v":"https://www.refaccionariagonzalez.com/alta/P-R/QUA50_1.jpg"}]
["2024-03-04T12:44:00",11,"QUACVTBOTE","QUACVTBOTE.jpg",{"$f":"+GetURL(D34380)","v":"https://www.refaccionariagonzalez.com/alta/P-R/QUACVTBOTE.jpg"}]
["2020-10-16T18:22:00",14,"QUAGARRAFAZUL","QUAGARRAFAZUL.1.jpg",{"$f":"+GetURL(D34395)","v":"https://www.refaccionariagonzalez.com/alta/P-R/QUAGARRAFAZUL.1.jpg"}]
["2024-02-01T18:23:00",10,"QUAROJO_3","QUAROJO_3.jpg",{"$f":"+GetURL(D34417)","v":"https://www.refaccionariagonzalez.com/alta/P-R/QUAROJO_3.jpg"}]
["2020-09-29T16:05:00",{"$f":"+FIND(\"_\",D34423)","v":9},"QUELITRO","QUELITRO_1.jpg",{"$f":"+GetURL(D34423)","v":"https://www.refaccionariagonzalez.com/alta/P-R/QUELITRO_1.jpg"}]
["2020-09-29T16:18:00",8,"R1731_1","R1731_1.jpg",{"$f":"+GetURL(D34446)","v":"https://www.refaccionariagonzalez.com/alta/P-R/R1731_1.jpg"}]
["2020-09-29T16:34:00",8,"R1860_1","R1860_1.jpg",{"$f":"+GetURL(D34466)","v":"https://www.refaccionariagonzalez.com/alta/P-R/R1860_1.jpg"}]
["2020-09-29T16:16:00",10,"RC-7747_2","RC-7747_2.jpg",{"$f":"+GetURL(D34485)","v":"https://www.refaccionariagonzalez.com/alta/P-R/RC-7747_2.jpg"}]
["2020-09-29T16:13:00",9,"RC1829_1","RC1829_1.jpg",{"$f":"+GetURL(D34504)","v":"https://www.refaccionariagonzalez.com/alta/P-R/RC1829_1.jpg"}]
["2020-09-29T16:14:00",9,"RC1882_1","RC1882_1.jpg",{"$f":"+GetURL(D34523)","v":"https://www.refaccionariagonzalez.com/alta/P-R/RC1882_1.jpg"}]
["2020-09-29T16:32:00",9,"RC1944_2","RC1944_2.jpg",{"$f":"+GetURL(D34547)","v":"https://www.refaccionariagonzalez.com/alta/P-R/RC1944_2.jpg"}]
["2020-09-29T16:03:00",9,"RC1982_1","RC1982_1.jpg",{"$f":"+GetURL(D34553)","v":"https://www.refaccionariagonzalez.com/alta/P-R/RC1982_1.jpg"}]
["2020-09-29T16:17:00",9,"RC6663_1","RC6663_1.jpg",{"$f":"+GetURL(D34574)","v":"https://www.refaccionariagonzalez.com/alta/P-R/RC6663_1.jpg"}]
["2020-09-29T16:24:00",9,"RC6688_2","RC6688_2.jpg",{"$f":"+GetURL(D34590)","v":"https://www.refaccionariagonzalez.com/alta/P-R/RC6688_2.jpg"}]
["2020-09-29T17:04:00",9,"RC6952_2","RC6952_2.jpg",{"$f":"+GetURL(D34615)","v":"https://www.refaccionariagonzalez.com/alta/P-R/RC6952_2.jpg"}]
["2020-09-29T16:14:00",9,"RC6999_2","RC6999_2.jpg",{"$f":"+GetURL(D34643)","v":"https://www.refaccionariagonzalez.com/alta/P-R/RC6999_2.jpg"}]
["2020-09-29T16:05:00",9,"RC7008_1","RC7008_1.jpg",{"$f":"+GetURL(D34652)","v":"https://www.refaccionariagonzalez.com/alta/P-R/RC7008_1.jpg"}]
["2020-09-29T17:18:00",9,"RC7075_1","RC7075_1.jpg",{"$f":"+GetURL(D34677)","v":"https://www.refaccionariagonzalez.com/alta/P-R/RC7075_1.jpg"}]
["2020-09-29T16:10:00",9,"RC7092_2","RC7092_2.jpg",{"$f":"+GetURL(D34696)","v":"https://www.refaccionariagonzalez.com/alta/P-R/RC7092_2.jpg"}]
["2020-09-29T16:58:00",9,"RC7139_1","RC7139_1.jpg",{"$f":"+GetURL(D34702)","v":"https://www.refaccionariagonzalez.com/alta/P-R/RC7139_1.jpg"}]
["2020-09-29T17:04:00",9,"RC7203_2","RC7203_2.jpg",{"$f":"+GetURL(D34720)","v":"https://www.refaccionariagonzalez.com/alta/P-R/RC7203_2.jpg"}]
["2020-09-29T16:04:00",9,"RC7274_1","RC7274_1.jpg",{"$f":"+GetURL(D34739)","v":"https://www.refaccionariagonzalez.com/alta/P-R/RC7274_1.jpg"}]
["2020-09-29T16:51:00",10,"RC7399H_3","RC7399H_3.jpg",{"$f":"+GetURL(D34771)","v":"https://www.refaccionariagonzalez.com/alta/P-R/RC7399H_3.jpg"}]
["2020-09-29T16:25:00",9,"RC7409_2","RC7409_2.jpg",{"$f":"+GetURL(D34782)","v":"https://www.refaccionariagonzalez.com/alta/P-R/RC7409_2.jpg"}]
["2020-09-29T17:11:00",9,"RC7583_2","RC7583_2.jpg",{"$f":"+GetURL(D34801)","v":"https://www.refaccionariagonzalez.com/alta/P-R/RC7583_2.jpg"}]
["2020-09-29T16:30:00",12,"RCFD00650_2","RCFD00650_2.jpg",{"$f":"+GetURL(D34822)","v":"https://www.refaccionariagonzalez.com/alta/P-R/RCFD00650_2.jpg"}]
["2023-05-17T12:14:00",11,"RDNK1150_1","RDNK1150_1.jpg",{"$f":"+GetURL(D34844)","v":"https://www.refaccionariagonzalez.com/alta/P-R/RDNK1150_1.jpg"}]
["2020-09-29T17:18:00",12,"RE-248015_2","RE-248015_2.jpg",{"$f":"+GetURL(D34869)","v":"https://www.refaccionariagonzalez.com/alta/P-R/RE-248015_2.jpg"}]
["2020-09-29T16:07:00",8,"REC22_2","REC22_2.jpg",{"$f":"+GetURL(D34888)","v":"https://www.refaccionariagonzalez.com/alta/P-R/REC22_2.jpg"}]
["2020-09-29T16:25:00",12,"REC311ABC_2","REC311ABC_2.jpg",{"$f":"+GetURL(D34895)","v":"https://www.refaccionariagonzalez.com/alta/P-R/REC311ABC_2.jpg"}]
["2020-09-29T16:17:00",9,"REC887_2","REC887_2.jpg",{"$f":"+GetURL(D34912)","v":"https://www.refaccionariagonzalez.com/alta/P-R/REC887_2.jpg"}]
["2020-09-29T16:23:00",10,"REC1353_2","REC1353_2.jpg",{"$f":"+GetURL(D34931)","v":"https://www.refaccionariagonzalez.com/alta/P-R/REC1353_2.jpg"}]
["2020-09-29T16:56:00",12,"REC1362-A_2","REC1362-A_2.jpg",{"$f":"+GetURL(D34950)","v":"https://www.refaccionariagonzalez.com/alta/P-R/REC1362-A_2.jpg"}]
["2020-09-29T16:38:00",10,"REC8130_2","REC8130_2.jpg",{"$f":"+GetURL(D34974)","v":"https://www.refaccionariagonzalez.com/alta/P-R/REC8130_2.jpg"}]
["2020-09-29T17:02:00",12,"REC311105_2","REC311105_2.jpg",{"$f":"+GetURL(D34993)","v":"https://www.refaccionariagonzalez.com/alta/P-R/REC311105_2.jpg"}]
["2020-09-29T16:11:00",12,"REC323007_1","REC323007_1.jpg",{"$f":"+GetURL(D35001)","v":"https://www.refaccionariagonzalez.com/alta/P-R/REC323007_1.jpg"}]
["2020-09-29T16:19:00",6,"RETOX","RETOX_1.jpg",{"$f":"+GetURL(D35036)","v":"https://www.refaccionariagonzalez.com/alta/P-R/RETOX_1.jpg"}]
["2020-09-29T17:05:00",7,"ROLLER","ROLLER_2.jpg",{"$f":"+GetURL(D35055)","v":"https://www.refaccionariagonzalez.com/alta/P-R/ROLLER_2.jpg"}]
["2024-03-04T12:45:00",13,"ROS50GALON_1","ROS50GALON_1.jpg",{"$f":"+GetURL(D35070)","v":"https://www.refaccionariagonzalez.com/alta/P-R/ROS50GALON_1.jpg"}]
["2024-03-04T12:45:00",8,"ROS90_1","ROS90_1.jpg",{"$f":"+GetURL(D35079)","v":"https://www.refaccionariagonzalez.com/alta/P-R/ROS90_1.jpg"}]
["2020-09-29T17:03:00",8,"ROSBAT2","ROSBAT2_1.jpg",{"$f":"+GetURL(D35104)","v":"https://www.refaccionariagonzalez.com/alta/P-R/ROSBAT2_1.jpg"}]
["2024-04-25T10:14:00",16,"ROSBOTERUN10W40","ROSBOTERUN10W40.jpg",{"$f":"+GetURL(D35123)","v":"https://www.refaccionariagonzalez.com/alta/P-R/ROSBOTERUN10W40.jpg"}]
["2020-09-29T17:00:00",11,"ROSGARRATF","ROSGARRATF_1.jpg",{"$f":"+GetURL(D35143)","v":"https://www.refaccionariagonzalez.com/alta/P-R/ROSGARRATF_1.jpg"}]
["2020-09-29T16:59:00",10,"ROSHLF950","ROSHLF950_1.jpg",{"$f":"+GetURL(D35166)","v":"https://www.refaccionariagonzalez.com/alta/P-R/ROSHLF950_1.jpg"}]
["2020-09-29T16:55:00",{"$f":"+FIND(\"_\",D35185)","v":10},"RPDI02830","RPDI02830_2.jpg",{"$f":"+GetURL(D35185)","v":"https://www.refaccionariagonzalez.com/alta/P-R/RPDI02830_2.jpg"}]
["2020-09-29T16:24:00",10,"RR-9016_1","RR-9016_1.jpg",{"$f":"+GetURL(D35194)","v":"https://www.refaccionariagonzalez.com/alta/P-R/RR-9016_1.jpg"}]
["2020-09-29T16:54:00",10,"RR-9426_1","RR-9426_1.jpg",{"$f":"+GetURL(D35209)","v":"https://www.refaccionariagonzalez.com/alta/P-R/RR-9426_1.jpg"}]
["2023-05-17T12:14:00",17,"RSET18CC-PROMO_2","RSET18CC-PROMO_2.jpg",{"$f":"+GetURL(D35228)","v":"https://www.refaccionariagonzalez.com/alta/P-R/RSET18CC-PROMO_2.jpg"}]
["2020-09-29T14:56:00",12,"S84X0F368_2","S84X0F368_2.jpg",{"$f":"+GetURL(D35249)","v":"https://www.refaccionariagonzalez.com/alta/S-U/S84X0F368_2.jpg"}]
["2020-09-29T14:38:00",12,"S5216-020_2","S5216-020_2.jpg",{"$f":"+GetURL(D35271)","v":"https://www.refaccionariagonzalez.com/alta/S-U/S5216-020_2.jpg"}]
["2020-09-29T14:17:00",12,"S5278-STD_2","S5278-STD_2.jpg",{"$f":"+GetURL(D35290)","v":"https://www.refaccionariagonzalez.com/alta/S-U/S5278-STD_2.jpg"}]
["2024-04-24T13:52:00",10,"S99416650","S99416650.jpg",{"$f":"+GetURL(D35315)","v":"https://www.refaccionariagonzalez.com/alta/S-U/S99416650.jpg"}]
["2020-09-29T14:30:00",11,"SAC00028_1","SAC00028_1.jpg",{"$f":"+GetURL(D35322)","v":"https://www.refaccionariagonzalez.com/alta/S-U/SAC00028_1.jpg"}]
["2020-09-29T14:18:00",7,"SAN6_1","SAN6_1.jpg",{"$f":"+GetURL(D35339)","v":"https://www.refaccionariagonzalez.com/alta/S-U/SAN6_1.jpg"}]
["2020-09-29T14:50:00",8,"SAN19_2","SAN19_2.jpg",{"$f":"+GetURL(D35358)","v":"https://www.refaccionariagonzalez.com/alta/S-U/SAN19_2.jpg"}]
["2020-09-29T14:56:00",8,"SAN40_1","SAN40_1.jpg",{"$f":"+GetURL(D35391)","v":"https://www.refaccionariagonzalez.com/alta/S-U/SAN40_1.jpg"}]
["2020-09-29T14:15:00",8,"SAN52_1","SAN52_1.jpg",{"$f":"+GetURL(D35401)","v":"https://www.refaccionariagonzalez.com/alta/S-U/SAN52_1.jpg"}]
["2020-09-29T14:34:00",8,"SAN65_2","SAN65_2.jpg",{"$f":"+GetURL(D35420)","v":"https://www.refaccionariagonzalez.com/alta/S-U/SAN65_2.jpg"}]
["2020-09-29T15:02:00",8,"SAN83_2","SAN83_2.jpg",{"$f":"+GetURL(D35442)","v":"https://www.refaccionariagonzalez.com/alta/S-U/SAN83_2.jpg"}]
["2020-09-29T14:43:00",9,"SAN102_1","SAN102_1.jpg",{"$f":"+GetURL(D35463)","v":"https://www.refaccionariagonzalez.com/alta/S-U/SAN102_1.jpg"}]
["2020-09-29T14:36:00",9,"SAN118_1","SAN118_1.jpg",{"$f":"+GetURL(D35482)","v":"https://www.refaccionariagonzalez.com/alta/S-U/SAN118_1.jpg"}]
["2020-09-29T14:39:00",9,"SAN123_3","SAN123_3.jpg",{"$f":"+GetURL(D35488)","v":"https://www.refaccionariagonzalez.com/alta/S-U/SAN123_3.jpg"}]
["2020-09-29T14:18:00",9,"SAN143_2","SAN143_2.jpg",{"$f":"+GetURL(D35519)","v":"https://www.refaccionariagonzalez.com/alta/S-U/SAN143_2.jpg"}]
["2020-09-29T14:44:00",9,"SAN152_2","SAN152_2.jpg",{"$f":"+GetURL(D35525)","v":"https://www.refaccionariagonzalez.com/alta/S-U/SAN152_2.jpg"}]
["2020-09-29T14:29:00",9,"SAN172_2","SAN172_2.jpg",{"$f":"+GetURL(D35550)","v":"https://www.refaccionariagonzalez.com/alta/S-U/SAN172_2.jpg"}]
["2020-09-29T14:38:00",9,"SAN186_2","SAN186_2.jpg",{"$f":"+GetURL(D35570)","v":"https://www.refaccionariagonzalez.com/alta/S-U/SAN186_2.jpg"}]
["2020-09-29T14:37:00",9,"SAN230_1","SAN230_1.jpg",{"$f":"+GetURL(D35593)","v":"https://www.refaccionariagonzalez.com/alta/S-U/SAN230_1.jpg"}]
["2020-09-29T14:38:00",9,"SAN267_1","SAN267_1.jpg",{"$f":"+GetURL(D35612)","v":"https://www.refaccionariagonzalez.com/alta/S-U/SAN267_1.jpg"}]
["2020-09-29T14:39:00",9,"SAN283_2","SAN283_2.jpg",{"$f":"+GetURL(D35621)","v":"https://www.refaccionariagonzalez.com/alta/S-U/SAN283_2.jpg"}]
["2020-09-29T14:49:00",9,"SAN303_1","SAN303_1.jpg",{"$f":"+GetURL(D35636)","v":"https://www.refaccionariagonzalez.com/alta/S-U/SAN303_1.jpg"}]
["2020-09-29T14:16:00",9,"SAN315_1","SAN315_1.jpg",{"$f":"+GetURL(D35655)","v":"https://www.refaccionariagonzalez.com/alta/S-U/SAN315_1.jpg"}]
["2020-09-29T14:35:00",9,"SAN355_1","SAN355_1.jpg",{"$f":"+GetURL(D35690)","v":"https://www.refaccionariagonzalez.com/alta/S-U/SAN355_1.jpg"}]
["2020-09-29T14:59:00",9,"SAN366_1","SAN366_1.jpg",{"$f":"+GetURL(D35698)","v":"https://www.refaccionariagonzalez.com/alta/S-U/SAN366_1.jpg"}]
["2020-09-29T14:50:00",9,"SAN398_1","SAN398_1.jpg",{"$f":"+GetURL(D35717)","v":"https://www.refaccionariagonzalez.com/alta/S-U/SAN398_1.jpg"}]
["2020-09-29T14:44:00",9,"SAN417_1","SAN417_1.jpg",{"$f":"+GetURL(D35742)","v":"https://www.refaccionariagonzalez.com/alta/S-U/SAN417_1.jpg"}]
["2020-09-29T14:34:00",9,"SAN421_2","SAN421_2.jpg",{"$f":"+GetURL(D35749)","v":"https://www.refaccionariagonzalez.com/alta/S-U/SAN421_2.jpg"}]
["2020-09-29T14:20:00",9,"SAN465_2","SAN465_2.jpg",{"$f":"+GetURL(D35779)","v":"https://www.refaccionariagonzalez.com/alta/S-U/SAN465_2.jpg"}]
["2024-05-13T08:16:00",9,"SANC0250","SANC0250.jpg",{"$f":"+GetURL(D35804)","v":"https://www.refaccionariagonzalez.com/alta/S-U/SANC0250.jpg"}]
["2020-09-29T14:40:00",11,"SANC0850_3","SANC0850_3.jpg",{"$f":"+GetURL(D35818)","v":"https://www.refaccionariagonzalez.com/alta/S-U/SANC0850_3.jpg"}]
["2024-04-24T13:41:00",9,"SANF0212","SANF0212.jpg",{"$f":"+GetURL(D35841)","v":"https://www.refaccionariagonzalez.com/alta/S-U/SANF0212.jpg"}]
["2020-09-29T15:03:00",11,"SANN0430_1","SANN0430_1.jpg",{"$f":"+GetURL(D35847)","v":"https://www.refaccionariagonzalez.com/alta/S-U/SANN0430_1.jpg"}]
["2023-05-30T09:27:00",11,"SANN1102_1","SANN1102_1.jpg",{"$f":"+GetURL(D35869)","v":"https://www.refaccionariagonzalez.com/alta/S-U/SANN1102_1.jpg"}]
["2020-09-29T14:56:00",12,"SB-4742SP_2","SB-4742SP_2.jpg",{"$f":"+GetURL(D35890)","v":"https://www.refaccionariagonzalez.com/alta/S-U/SB-4742SP_2.jpg"}]
["2020-09-29T14:55:00",13,"SCHK188601_2","SCHK188601_2.jpg",{"$f":"+GetURL(D35909)","v":"https://www.refaccionariagonzalez.com/alta/S-U/SCHK188601_2.jpg"}]
["2020-09-29T14:34:00",11,"SE-1360A_2","SE-1360A_2.jpg",{"$f":"+GetURL(D35928)","v":"https://www.refaccionariagonzalez.com/alta/S-U/SE-1360A_2.jpg"}]
["2021-07-01T16:39:00",11,"SE-N331R_3","SE-N331R_3.jpg",{"$f":"+GetURL(D35946)","v":"https://www.refaccionariagonzalez.com/alta/S-U/SE-N331R_3.jpg"}]
["2024-05-02T10:06:00",12,"SEG203=14X1","SEG203=14X1.5.jpg",{"$f":"+GetURL(D35971)","v":"https://www.refaccionariagonzalez.com/alta/S-U/SEG203=14X1.5.jpg"}]
["2020-09-29T14:19:00",11,"SEGCHEVY_2","SEGCHEVY_2.jpg",{"$f":"+GetURL(D35977)","v":"https://www.refaccionariagonzalez.com/alta/S-U/SEGCHEVY_2.jpg"}]
["2020-09-29T14:55:00",14,"SEIWL20125P_1","SEIWL20125P_1.jpg",{"$f":"+GetURL(D35997)","v":"https://www.refaccionariagonzalez.com/alta/S-U/SEIWL20125P_1.jpg"}]
["2024-05-07T08:10:00",9,"SFNN0801","SFNN0801.jpg",{"$f":"+GetURL(D36014)","v":"https://www.refaccionariagonzalez.com/alta/S-U/SFNN0801.jpg"}]
["2022-06-27T15:34:00",11,"SHNC9902_2","SHNC9902_2.jpg",{"$f":"+GetURL(D36039)","v":"https://www.refaccionariagonzalez.com/alta/S-U/SHNC9902_2.jpg"}]
["2020-09-29T14:51:00",11,"SHNF0301_2","SHNF0301_2.jpg",{"$f":"+GetURL(D36048)","v":"https://www.refaccionariagonzalez.com/alta/S-U/SHNF0301_2.jpg"}]
["2022-06-27T15:34:00",11,"SHNN0901_3","SHNN0901_3.jpg",{"$f":"+GetURL(D36076)","v":"https://www.refaccionariagonzalez.com/alta/S-U/SHNN0901_3.jpg"}]
["2021-04-06T10:35:00",14,"SI-006056F5_1","SI-006056F5_1.jpg",{"$f":"+GetURL(D36101)","v":"https://www.refaccionariagonzalez.com/alta/S-U/SI-006056F5_1.jpg"}]
["2020-09-29T14:27:00",10,"SIE2148_1","SIE2148_1.jpg",{"$f":"+GetURL(D36120)","v":"https://www.refaccionariagonzalez.com/alta/S-U/SIE2148_1.jpg"}]
["2020-09-29T14:41:00",12,"SILBLANCO_2","SILBLANCO_2.jpg",{"$f":"+GetURL(D36125)","v":"https://www.refaccionariagonzalez.com/alta/S-U/SILBLANCO_2.jpg"}]
["2024-02-01T18:23:00",10,"SJ05--W_1","SJ05--W_1.jpg",{"$f":"+GetURL(D36144)","v":"https://www.refaccionariagonzalez.com/alta/S-U/SJ05--W_1.jpg"}]
["2024-05-13T08:16:00",11,"SKF6200-2Z","SKF6200-2Z.jpg",{"$f":"+GetURL(D36163)","v":"https://www.refaccionariagonzalez.com/alta/S-U/SKF6200-2Z.jpg"}]
["2024-04-25T09:31:00",{"$f":"+FIND(\".\",D36194)","v":10},"SL-3970-M","SL-3970-M.jpg",{"$f":"+GetURL(D36194)","v":"https://www.refaccionariagonzalez.com/alta/S-U/SL-3970-M.jpg"}]
["2021-07-01T16:40:00",10,"SL-N350-B","SL-N350-B_1.jpg",{"$f":"+GetURL(D36206)","v":"https://www.refaccionariagonzalez.com/alta/S-U/SL-N350-B_1.jpg"}]
["2020-09-29T14:28:00",16,"SLX-025W50-AKG4","SLX-025W50-AKG4_2.jpg",{"$f":"+GetURL(D36225)","v":"https://www.refaccionariagonzalez.com/alta/S-U/SLX-025W50-AKG4_2.jpg"}]
["2020-09-29T14:27:00",11,"SNC73148_1","SNC73148_1.jpg",{"$f":"+GetURL(D36245)","v":"https://www.refaccionariagonzalez.com/alta/S-U/SNC73148_1.jpg"}]
["2024-04-24T13:41:00",9,"SOCP9004","SOCP9004.jpg",{"$f":"+GetURL(D36268)","v":"https://www.refaccionariagonzalez.com/alta/S-U/SOCP9004.jpg"}]
["2020-09-29T14:47:00",10,"SONNETI_1","SONNETI_1.jpg",{"$f":"+GetURL(D36274)","v":"https://www.refaccionariagonzalez.com/alta/S-U/SONNETI_1.jpg"}]
["2020-09-29T14:27:00",14,"SP3200KXSTD_2","SP3200KXSTD_2.jpg",{"$f":"+GetURL(D36296)","v":"https://www.refaccionariagonzalez.com/alta/S-U/SP3200KXSTD_2.jpg"}]
["2020-09-29T14:32:00",15,"SP10337KXSTD_1","SP10337KXSTD_1.jpg",{"$f":"+GetURL(D36311)","v":"https://www.refaccionariagonzalez.com/alta/S-U/SP10337KXSTD_1.jpg"}]
["2020-09-29T14:24:00",8,"SPA09_1","SPA09_1.jpg",{"$f":"+GetURL(D36336)","v":"https://www.refaccionariagonzalez.com/alta/S-U/SPA09_1.jpg"}]
["2020-09-29T14:53:00",10,"SPC7Y21_1","SPC7Y21_1.jpg",{"$f":"+GetURL(D36355)","v":"https://www.refaccionariagonzalez.com/alta/S-U/SPC7Y21_1.jpg"}]
["2024-05-02T10:03:00",10,"SPC1913AZ","SPC1913AZ.jpg",{"$f":"+GetURL(D36373)","v":"https://www.refaccionariagonzalez.com/alta/S-U/SPC1913AZ.jpg"}]
["2020-09-29T14:24:00",13,"SPC8212-AZ_1","SPC8212-AZ_1.jpg",{"$f":"+GetURL(D36398)","v":"https://www.refaccionariagonzalez.com/alta/S-U/SPC8212-AZ_1.jpg"}]
["2020-09-29T14:42:00",11,"SPCS7Y93_2","SPCS7Y93_2.jpg",{"$f":"+GetURL(D36417)","v":"https://www.refaccionariagonzalez.com/alta/S-U/SPCS7Y93_2.jpg"}]
["2020-09-29T14:29:00",11,"SPCS782Y_1","SPCS782Y_1.jpg",{"$f":"+GetURL(D36424)","v":"https://www.refaccionariagonzalez.com/alta/S-U/SPCS782Y_1.jpg"}]
["2020-09-29T14:54:00",18,"SPCS8267Z-D1157_2","SPCS8267Z-D1157_2.jpg",{"$f":"+GetURL(D36441)","v":"https://www.refaccionariagonzalez.com/alta/S-U/SPCS8267Z-D1157_2.jpg"}]
["2020-09-30T08:20:00",9,"SPCS9093","SPCS9093.1.jpg",{"$f":"+GetURL(D36460)","v":"https://www.refaccionariagonzalez.com/alta/S-U/SPCS9093.1.jpg"}]
["2021-07-01T16:40:00",10,"SR-4950_1","SR-4950_1.jpg",{"$f":"+GetURL(D36493)","v":"https://www.refaccionariagonzalez.com/alta/S-U/SR-4950_1.jpg"}]
["2021-07-01T16:40:00",10,"SR-N330_2","SR-N330_2.jpg",{"$f":"+GetURL(D36503)","v":"https://www.refaccionariagonzalez.com/alta/S-U/SR-N330_2.jpg"}]
["2021-07-01T16:40:00",10,"SS-3970_2","SS-3970_2.jpg",{"$f":"+GetURL(D36528)","v":"https://www.refaccionariagonzalez.com/alta/S-U/SS-3970_2.jpg"}]
["2020-09-29T14:54:00",11,"SUNN0400_1","SUNN0400_1.jpg",{"$f":"+GetURL(D36547)","v":"https://www.refaccionariagonzalez.com/alta/S-U/SUNN0400_1.jpg"}]
["2024-04-24T15:11:00",6,"SW14N","SW14N.jpg",{"$f":"+GetURL(D36566)","v":"https://www.refaccionariagonzalez.com/alta/S-U/SW14N.jpg"}]
["2020-09-29T14:38:00",9,"SX694B_1","SX694B_1.jpg",{"$f":"+GetURL(D36571)","v":"https://www.refaccionariagonzalez.com/alta/S-U/SX694B_1.jpg"}]
["2024-04-25T10:23:00",14,"SYD4J0422803B","SYD4J0422803B.jpg",{"$f":"+GetURL(D36590)","v":"https://www.refaccionariagonzalez.com/alta/S-U/SYD4J0422803B.jpg"}]
["2020-09-29T14:16:00",13,"SYD1008001_1","SYD1008001_1.jpg",{"$f":"+GetURL(D36621)","v":"https://www.refaccionariagonzalez.com/alta/S-U/SYD1008001_1.jpg"}]
["2020-09-29T14:53:00",13,"SYD1106028_1","SYD1106028_1.jpg",{"$f":"+GetURL(D36633)","v":"https://www.refaccionariagonzalez.com/alta/S-U/SYD1106028_1.jpg"}]
["2020-09-29T14:47:00",13,"SYD1316015_2","SYD1316015_2.jpg",{"$f":"+GetURL(D36652)","v":"https://www.refaccionariagonzalez.com/alta/S-U/SYD1316015_2.jpg"}]
["2020-09-29T14:34:00",13,"SYD1506071_1","SYD1506071_1.jpg",{"$f":"+GetURL(D36672)","v":"https://www.refaccionariagonzalez.com/alta/S-U/SYD1506071_1.jpg"}]
["2020-09-29T14:45:00",13,"SYD2108001_2","SYD2108001_2.jpg",{"$f":"+GetURL(D36695)","v":"https://www.refaccionariagonzalez.com/alta/S-U/SYD2108001_2.jpg"}]
["2022-07-05T16:30:00",13,"SYD7000754_1","SYD7000754_1.jpg",{"$f":"+GetURL(D36714)","v":"https://www.refaccionariagonzalez.com/alta/S-U/SYD7000754_1.jpg"}]
["2020-09-29T14:54:00",16,"SYD701419812D_2","SYD701419812D_2.jpg",{"$f":"+GetURL(D36739)","v":"https://www.refaccionariagonzalez.com/alta/S-U/SYD701419812D_2.jpg"}]
["2020-09-29T14:40:00",12,"SYDCC-201_2","SYDCC-201_2.jpg",{"$f":"+GetURL(D36745)","v":"https://www.refaccionariagonzalez.com/alta/S-U/SYDCC-201_2.jpg"}]
["2020-09-29T14:57:00",11,"SYDX06G5_1","SYDX06G5_1.jpg",{"$f":"+GetURL(D36763)","v":"https://www.refaccionariagonzalez.com/alta/S-U/SYDX06G5_1.jpg"}]
["2020-09-29T14:38:00",8,"T-008_2","T-008_2.jpg",{"$f":"+GetURL(D36782)","v":"https://www.refaccionariagonzalez.com/alta/S-U/T-008_2.jpg"}]
["2024-05-07T08:11:00",5,"T002","T002.jpg",{"$f":"+GetURL(D36796)","v":"https://www.refaccionariagonzalez.com/alta/S-U/T002.jpg"}]
["2020-09-29T14:34:00",6,"T16_1","T16_1.jpg",{"$f":"+GetURL(D36825)","v":"https://www.refaccionariagonzalez.com/alta/S-U/T16_1.jpg"}]
["2020-09-29T14:34:00",6,"T36_2","T36_2.jpg",{"$f":"+GetURL(D36844)","v":"https://www.refaccionariagonzalez.com/alta/S-U/T36_2.jpg"}]
["2020-09-29T15:00:00",7,"T49T_2","T49T_2.jpg",{"$f":"+GetURL(D36865)","v":"https://www.refaccionariagonzalez.com/alta/S-U/T49T_2.jpg"}]
["2020-09-29T14:52:00",6,"T62_2","T62_2.jpg",{"$f":"+GetURL(D36887)","v":"https://www.refaccionariagonzalez.com/alta/S-U/T62_2.jpg"}]
["2020-09-29T14:22:00",6,"T87_1","T87_1.jpg",{"$f":"+GetURL(D36906)","v":"https://www.refaccionariagonzalez.com/alta/S-U/T87_1.jpg"}]
["2020-09-29T14:42:00",8,"T95SF_3","T95SF_3.jpg",{"$f":"+GetURL(D36920)","v":"https://www.refaccionariagonzalez.com/alta/S-U/T95SF_3.jpg"}]
["2020-09-29T14:38:00",13,{"$f":"+LEFT(D36930,B36930-1)","v":"T335MX-KIT_1"},"T335MX-KIT_1.jpg",{"$f":"+GetURL(D36930)","v":"https://www.refaccionariagonzalez.com/alta/S-U/T335MX-KIT_1.jpg"}]
["2020-09-29T14:25:00",8,"T8406_2","T8406_2.jpg",{"$f":"+GetURL(D36949)","v":"https://www.refaccionariagonzalez.com/alta/S-U/T8406_2.jpg"}]
["2020-09-29T14:35:00",9,"T14990_3","T14990_3.jpg",{"$f":"+GetURL(D36974)","v":"https://www.refaccionariagonzalez.com/alta/S-U/T14990_3.jpg"}]
["2020-09-29T14:45:00",9,"T84994_1","T84994_1.jpg",{"$f":"+GetURL(D36993)","v":"https://www.refaccionariagonzalez.com/alta/S-U/T84994_1.jpg"}]
["2020-09-29T14:50:00",5,"TAER","TAER_2.jpg",{"$f":"+GetURL(D37017)","v":"https://www.refaccionariagonzalez.com/alta/S-U/TAER_2.jpg"}]
["2024-05-02T09:32:00",{"$f":"+FIND(\".\",D37036)","v":7},"TAP02C","TAP02C.jpg",{"$f":"+GetURL(D37036)","v":"https://www.refaccionariagonzalez.com/alta/S-U/TAP02C.jpg"}]
["2024-04-24T13:13:00",7,"TAP35P","TAP35P.jpg",{"$f":"+GetURL(D37044)","v":"https://www.refaccionariagonzalez.com/alta/S-U/TAP35P.jpg"}]
["2021-06-01T14:35:00",12,"TAP315NCB_1","TAP315NCB_1.jpg",{"$f":"+GetURL(D37060)","v":"https://www.refaccionariagonzalez.com/alta/S-U/TAP315NCB_1.jpg"}]
["2020-09-29T14:45:00",15,"TAPAW10205GY_1","TAPAW10205GY_1.jpg",{"$f":"+GetURL(D37079)","v":"https://www.refaccionariagonzalez.com/alta/S-U/TAPAW10205GY_1.jpg"}]
["2020-09-29T14:42:00",11,"TAPETE-6_2","TAPETE-6_2.jpg",{"$f":"+GetURL(D37095)","v":"https://www.refaccionariagonzalez.com/alta/S-U/TAPETE-6_2.jpg"}]
["2020-09-29T14:59:00",11,{"$f":"+LEFT(D37122,B37122-1)","v":"TAPETE02_2"},"TAPETE02_2.jpg",{"$f":"+GetURL(D37122)","v":"https://www.refaccionariagonzalez.com/alta/S-U/TAPETE02_2.jpg"}]
["2020-09-29T14:47:00",13,"TAPSPIN-14_2","TAPSPIN-14_2.jpg",{"$f":"+GetURL(D37141)","v":"https://www.refaccionariagonzalez.com/alta/S-U/TAPSPIN-14_2.jpg"}]
["2024-05-02T10:03:00",8,"TAVAB8O","TAVAB8O.jpg",{"$f":"+GetURL(D37166)","v":"https://www.refaccionariagonzalez.com/alta/S-U/TAVAB8O.jpg"}]
["2023-12-01T15:36:00",7,"TAVABB","TAVABB.jpg",{"$f":"+GetURL(D37172)","v":"https://www.refaccionariagonzalez.com/alta/S-U/TAVABB.jpg"}]
["2024-05-07T08:11:00",7,"TAVAHV","TAVAHV.jpg",{"$f":"+GetURL(D37203)","v":"https://www.refaccionariagonzalez.com/alta/S-U/TAVAHV.jpg"}]
["2023-12-01T15:36:00",8,"TAVARGB","TAVARGB.jpg",{"$f":"+GetURL(D37209)","v":"https://www.refaccionariagonzalez.com/alta/S-U/TAVARGB.jpg"}]
["2020-09-29T14:25:00",12,"TAW502F0701","TAW502F0701_1.jpg",{"$f":"+GetURL(D37241)","v":"https://www.refaccionariagonzalez.com/alta/S-U/TAW502F0701_1.jpg"}]
["2020-09-29T14:39:00",12,"TAW503F0742","TAW503F0742_2.jpg",{"$f":"+GetURL(D37252)","v":"https://www.refaccionariagonzalez.com/alta/S-U/TAW503F0742_2.jpg"}]
["2020-09-29T14:57:00",9,"TAW18284","TAW18284_2.jpg",{"$f":"+GetURL(D37271)","v":"https://www.refaccionariagonzalez.com/alta/S-U/TAW18284_2.jpg"}]
["2020-09-29T14:33:00",9,"TAW24437","TAW24437_1.jpg",{"$f":"+GetURL(D37292)","v":"https://www.refaccionariagonzalez.com/alta/S-U/TAW24437_1.jpg"}]
["2020-09-29T14:32:00",10,{"$f":"+LEFT(D37314,B37314-1)","v":"TAWSWX276"},"TAWSWX276_2.jpg",{"$f":"+GetURL(D37314)","v":"https://www.refaccionariagonzalez.com/alta/S-U/TAWSWX276_2.jpg"}]
["2020-09-29T14:22:00",9,"TB1095K1","TB1095K1_2.jpg",{"$f":"+GetURL(D37333)","v":"https://www.refaccionariagonzalez.com/alta/S-U/TB1095K1_2.jpg"}]
["2020-09-29T14:20:00",8,"TCK124M","TCK124M_1.jpg",{"$f":"+GetURL(D37352)","v":"https://www.refaccionariagonzalez.com/alta/S-U/TCK124M_1.jpg"}]
["2022-01-25T12:22:00",7,"TCK343","TCK343_2.jpg",{"$f":"+GetURL(D37369)","v":"https://www.refaccionariagonzalez.com/alta/S-U/TCK343_2.jpg"}]
["2020-09-29T14:55:00",9,"TCK1095M","TCK1095M_1.jpg",{"$f":"+GetURL(D37376)","v":"https://www.refaccionariagonzalez.com/alta/S-U/TCK1095M_1.jpg"}]
["2020-09-29T14:48:00",9,"TD-N523A","TD-N523A_1.jpg",{"$f":"+GetURL(D37401)","v":"https://www.refaccionariagonzalez.com/alta/S-U/TD-N523A_1.jpg"}]
["2020-09-29T14:36:00",10,"TEB207005","TEB207005_2.jpg",{"$f":"+GetURL(D37420)","v":"https://www.refaccionariagonzalez.com/alta/S-U/TEB207005_2.jpg"}]
["2020-09-29T14:40:00",10,"TEBO60005","TEBO60005_1.jpg",{"$f":"+GetURL(D37438)","v":"https://www.refaccionariagonzalez.com/alta/S-U/TEBO60005_1.jpg"}]
["2020-09-29T14:19:00",{"$f":"+FIND(\"_\",D37463)","v":11},"TEBO501001","TEBO501001_1.jpg",{"$f":"+GetURL(D37463)","v":"https://www.refaccionariagonzalez.com/alta/S-U/TEBO501001_1.jpg"}]
["2020-09-29T14:35:00",11,"TEBO501071","TEBO501071_1.jpg",{"$f":"+GetURL(D37471)","v":"https://www.refaccionariagonzalez.com/alta/S-U/TEBO501071_1.jpg"}]
["2020-09-29T15:00:00",11,"TEBO501154","TEBO501154_2.jpg",{"$f":"+GetURL(D37500)","v":"https://www.refaccionariagonzalez.com/alta/S-U/TEBO501154_2.jpg"}]
["2020-09-29T14:27:00",11,{"$f":"+LEFT(D37506,B37506-1)","v":"TEBO501163"},"TEBO501163_1.jpg",{"$f":"+GetURL(D37506)","v":"https://www.refaccionariagonzalez.com/alta/S-U/TEBO501163_1.jpg"}]
["2020-09-29T14:45:00",{"$f":"+FIND(\"_\",D37540)","v":11},"TEBO600066","TEBO600066_1.jpg",{"$f":"+GetURL(D37540)","v":"https://www.refaccionariagonzalez.com/alta/S-U/TEBO600066_1.jpg"}]
["2020-09-29T15:04:00",11,"TEBO600126","TEBO600126_2.jpg",{"$f":"+GetURL(D37549)","v":"https://www.refaccionariagonzalez.com/alta/S-U/TEBO600126_2.jpg"}]
["2020-09-29T14:26:00",5,"TF7B","TF7B_2.jpg",{"$f":"+GetURL(D37568)","v":"https://www.refaccionariagonzalez.com/alta/S-U/TF7B_2.jpg"}]
["2020-09-29T14:51:00",6,"TF53A","TF53A_1.jpg",{"$f":"+GetURL(D37587)","v":"https://www.refaccionariagonzalez.com/alta/S-U/TF53A_1.jpg"}]
["2020-09-29T15:04:00",7,"TFCA94","TFCA94_1.jpg",{"$f":"+GetURL(D37617)","v":"https://www.refaccionariagonzalez.com/alta/S-U/TFCA94_1.jpg"}]
["2020-09-29T14:59:00",8,"TFCA201","TFCA201_1.jpg",{"$f":"+GetURL(D37630)","v":"https://www.refaccionariagonzalez.com/alta/S-U/TFCA201_1.jpg"}]
["2020-09-29T15:02:00",9,"TFCA1523","TFCA1523_2.jpg",{"$f":"+GetURL(D37655)","v":"https://www.refaccionariagonzalez.com/alta/S-U/TFCA1523_2.jpg"}]
["2020-09-29T14:20:00",10,"TFCJ11405","TFCJ11405_1.jpg",{"$f":"+GetURL(D37668)","v":"https://www.refaccionariagonzalez.com/alta/S-U/TFCJ11405_1.jpg"}]
["2020-09-29T14:21:00",8,"TFCR919","TFCR919_2.jpg",{"$f":"+GetURL(D37692)","v":"https://www.refaccionariagonzalez.com/alta/S-U/TFCR919_2.jpg"}]
["2020-09-29T14:43:00",8,{"$f":"+LEFT(D37698,B37698-1)","v":"TFCR927"},"TFCR927_2.jpg",{"$f":"+GetURL(D37698)","v":"https://www.refaccionariagonzalez.com/alta/S-U/TFCR927_2.jpg"}]
["2020-09-29T14:37:00",7,"TFJC39","TFJC39_2.jpg",{"$f":"+GetURL(D37719)","v":"https://www.refaccionariagonzalez.com/alta/S-U/TFJC39_2.jpg"}]
["2020-09-29T14:40:00",8,"TFJC111","TFJC111_2.jpg",{"$f":"+GetURL(D37735)","v":"https://www.refaccionariagonzalez.com/alta/S-U/TFJC111_2.jpg"}]
["2020-09-29T14:31:00",9,"TFMU419A","TFMU419A_1.jpg",{"$f":"+GetURL(D37760)","v":"https://www.refaccionariagonzalez.com/alta/S-U/TFMU419A_1.jpg"}]
["2020-09-29T14:34:00",9,"TFMU430E","TFMU430E_2.jpg",{"$f":"+GetURL(D37779)","v":"https://www.refaccionariagonzalez.com/alta/S-U/TFMU430E_2.jpg"}]
["2020-09-29T14:29:00",10,"TFMU491-E","TFMU491-E_1.jpg",{"$f":"+GetURL(D37796)","v":"https://www.refaccionariagonzalez.com/alta/S-U/TFMU491-E_1.jpg"}]
["2020-09-29T15:02:00",{"$f":"+FIND(\"_\",D37822)","v":10},"TFMU4991E","TFMU4991E_2.jpg",{"$f":"+GetURL(D37822)","v":"https://www.refaccionariagonzalez.com/alta/S-U/TFMU4991E_2.jpg"}]
["2020-09-29T14:20:00",12,"TFMU41310-A","TFMU41310-A_2.jpg",{"$f":"+GetURL(D37841)","v":"https://www.refaccionariagonzalez.com/alta/S-U/TFMU41310-A_2.jpg"}]
["2020-09-29T14:23:00",13,"TFMU41508-1E","TFMU41508-1E_2.jpg",{"$f":"+GetURL(D37847)","v":"https://www.refaccionariagonzalez.com/alta/S-U/TFMU41508-1E_2.jpg"}]
["2020-09-29T14:56:00",8,"TFPS319","TFPS319_2.jpg",{"$f":"+GetURL(D37865)","v":"https://www.refaccionariagonzalez.com/alta/S-U/TFPS319_2.jpg"}]
["2020-09-29T14:38:00",8,"TFPS392","TFPS392_2.jpg",{"$f":"+GetURL(D37884)","v":"https://www.refaccionariagonzalez.com/alta/S-U/TFPS392_2.jpg"}]
["2020-09-29T14:26:00",10,"TFPS31523","TFPS31523_1.jpg",{"$f":"+GetURL(D37916)","v":"https://www.refaccionariagonzalez.com/alta/S-U/TFPS31523_1.jpg"}]
["2020-09-29T14:51:00",10,"TFRE67716","TFRE67716_1.jpg",{"$f":"+GetURL(D37927)","v":"https://www.refaccionariagonzalez.com/alta/S-U/TFRE67716_1.jpg"}]
["2020-09-29T14:38:00",{"$f":"+FIND(\"_\",D37952)","v":10},"TFRE99079","TFRE99079_2.jpg",{"$f":"+GetURL(D37952)","v":"https://www.refaccionariagonzalez.com/alta/S-U/TFRE99079_2.jpg"}]
["2020-09-29T14:32:00",10,"TFRE99330","TFRE99330_2.jpg",{"$f":"+GetURL(D37971)","v":"https://www.refaccionariagonzalez.com/alta/S-U/TFRE99330_2.jpg"}]
["2020-09-29T14:57:00",13,"TFRE99442-PL","TFRE99442-PL_1.jpg",{"$f":"+GetURL(D37989)","v":"https://www.refaccionariagonzalez.com/alta/S-U/TFRE99442-PL_1.jpg"}]
["2020-09-29T14:26:00",7,"TFSV55","TFSV55_1.jpg",{"$f":"+GetURL(D37995)","v":"https://www.refaccionariagonzalez.com/alta/S-U/TFSV55_1.jpg"}]
["2020-09-29T14:43:00",6,"TFV56","TFV56_1.jpg",{"$f":"+GetURL(D38014)","v":"https://www.refaccionariagonzalez.com/alta/S-U/TFV56_1.jpg"}]
["2020-09-29T14:35:00",{"$f":"+FIND(\"_\",D38044)","v":10},"TH12792G1","TH12792G1_3.jpg",{"$f":"+GetURL(D38044)","v":"https://www.refaccionariagonzalez.com/alta/S-U/TH12792G1_3.jpg"}]
["2020-09-29T14:44:00",9,"TIRT0400","TIRT0400_1.jpg",{"$f":"+GetURL(D38057)","v":"https://www.refaccionariagonzalez.com/alta/S-U/TIRT0400_1.jpg"}]
["2020-09-29T14:55:00",12,"TK-KH020-SA","TK-KH020-SA_1.jpg",{"$f":"+GetURL(D38076)","v":"https://www.refaccionariagonzalez.com/alta/S-U/TK-KH020-SA_1.jpg"}]
["2020-09-29T14:39:00",10,"TK-VW1548","TK-VW1548_1.jpg",{"$f":"+GetURL(D38095)","v":"https://www.refaccionariagonzalez.com/alta/S-U/TK-VW1548_1.jpg"}]
["2020-09-29T14:39:00",5,"TM51","TM51_3.jpg",{"$f":"+GetURL(D38119)","v":"https://www.refaccionariagonzalez.com/alta/S-U/TM51_3.jpg"}]
["2020-09-29T14:42:00",14,"TM51750-0X000","TM51750-0X000_3.jpg",{"$f":"+GetURL(D38138)","v":"https://www.refaccionariagonzalez.com/alta/S-U/TM51750-0X000_3.jpg"}]
["2024-01-26T15:13:00",10,{"$f":"+LEFT(D38146,B38146-1)","v":"TM636096A"},"TM636096A_2.jpg",{"$f":"+GetURL(D38146)","v":"https://www.refaccionariagonzalez.com/alta/S-U/TM636096A_2.jpg"}]
["2020-09-29T15:03:00",10,"TMARCHR14","TMARCHR14_1.jpg",{"$f":"+GetURL(D38162)","v":"https://www.refaccionariagonzalez.com/alta/S-U/TMARCHR14_1.jpg"}]
["2024-01-26T15:13:00",10,"TMDB3564E","TMDB3564E_3.jpg",{"$f":"+GetURL(D38187)","v":"https://www.refaccionariagonzalez.com/alta/S-U/TMDB3564E_3.jpg"}]
["2020-09-29T14:53:00",11,"TMHUSZ0853","TMHUSZ0853_3.jpg",{"$f":"+GetURL(D38206)","v":"https://www.refaccionariagonzalez.com/alta/S-U/TMHUSZ0853_3.jpg"}]
["2020-09-29T14:59:00",16,"TMK8667-D1467SM","TMK8667-D1467SM_1.jpg",{"$f":"+GetURL(D38219)","v":"https://www.refaccionariagonzalez.com/alta/S-U/TMK8667-D1467SM_1.jpg"}]
["2024-01-26T15:13:00",10,"TMK803775","TMK803775_1.jpg",{"$f":"+GetURL(D38249)","v":"https://www.refaccionariagonzalez.com/alta/S-U/TMK803775_1.jpg"}]
["2024-02-09T09:30:00",8,"TMKKIT5","TMKKIT5_2.jpg",{"$f":"+GetURL(D38268)","v":"https://www.refaccionariagonzalez.com/alta/S-U/TMKKIT5_2.jpg"}]
["2020-09-29T14:31:00",8,{"$f":"+LEFT(D38274,B38274-1)","v":"TMKSET1"},"TMKSET1_1.jpg",{"$f":"+GetURL(D38274)","v":"https://www.refaccionariagonzalez.com/alta/S-U/TMKSET1_1.jpg"}]
["2024-04-24T18:07:00",{"$f":"+FIND(\".\",D38292)","v":8},"TOM141C","TOM141C.jpg",{"$f":"+GetURL(D38292)","v":"https://www.refaccionariagonzalez.com/alta/S-U/TOM141C.jpg"}]
["2020-09-29T14:29:00",{"$f":"+FIND(\"_\",D38311)","v":13},"TORRETA-AZUL","TORRETA-AZUL_2.jpg",{"$f":"+GetURL(D38311)","v":"https://www.refaccionariagonzalez.com/alta/S-U/TORRETA-AZUL_2.jpg"}]
["2020-09-29T14:53:00",14,"TOT80W90LITRO","TOT80W90LITRO_2.jpg",{"$f":"+GetURL(D38343)","v":"https://www.refaccionariagonzalez.com/alta/S-U/TOT80W90LITRO_2.jpg"}]
["2020-09-29T14:33:00",7,"TOY401","TOY401_1.jpg",{"$f":"+GetURL(D38354)","v":"https://www.refaccionariagonzalez.com/alta/S-U/TOY401_1.jpg"}]
["2020-09-29T14:29:00",12,"TOYFFNT0401","TOYFFNT0401_2.jpg",{"$f":"+GetURL(D38373)","v":"https://www.refaccionariagonzalez.com/alta/S-U/TOYFFNT0401_2.jpg"}]
["2020-09-29T14:58:00",9,"TPG14004","TPG14004_2.jpg",{"$f":"+GetURL(D38398)","v":"https://www.refaccionariagonzalez.com/alta/S-U/TPG14004_2.jpg"}]
["2020-09-29T14:29:00",10,"TPY521001","TPY521001_2.jpg",{"$f":"+GetURL(D38416)","v":"https://www.refaccionariagonzalez.com/alta/S-U/TPY521001_2.jpg"}]
["2020-09-29T14:21:00",10,"TPY521005","TPY521005_2.jpg",{"$f":"+GetURL(D38422)","v":"https://www.refaccionariagonzalez.com/alta/S-U/TPY521005_2.jpg"}]
["2020-09-29T14:23:00",10,"TPY521015","TPY521015_2.jpg",{"$f":"+GetURL(D38441)","v":"https://www.refaccionariagonzalez.com/alta/S-U/TPY521015_2.jpg"}]
["2020-09-29T14:23:00",10,"TPY521028","TPY521028_2.jpg",{"$f":"+GetURL(D38467)","v":"https://www.refaccionariagonzalez.com/alta/S-U/TPY521028_2.jpg"}]
["2020-09-29T14:44:00",10,"TPY521040","TPY521040_1.jpg",{"$f":"+GetURL(D38484)","v":"https://www.refaccionariagonzalez.com/alta/S-U/TPY521040_1.jpg"}]
["2020-09-29T14:39:00",10,"TPY521342","TPY521342_2.jpg",{"$f":"+GetURL(D38503)","v":"https://www.refaccionariagonzalez.com/alta/S-U/TPY521342_2.jpg"}]
["2020-09-29T14:30:00",{"$f":"+FIND(\"_\",D38518)","v":10},"TPY521355","TPY521355_1.jpg",{"$f":"+GetURL(D38518)","v":"https://www.refaccionariagonzalez.com/alta/S-U/TPY521355_1.jpg"}]
["2024-05-08T08:46:00",{"$f":"+FIND(\".\",D38546)","v":7},"TR7014","TR7014.jpg",{"$f":"+GetURL(D38546)","v":"https://www.refaccionariagonzalez.com/alta/S-U/TR7014.jpg"}]
["2020-09-29T14:19:00",13,"TSPORT02-R15","TSPORT02-R15_2.jpg",{"$f":"+GetURL(D38565)","v":"https://www.refaccionariagonzalez.com/alta/S-U/TSPORT02-R15_2.jpg"}]
["2020-09-29T14:42:00",6,"TT011","TT011_2.jpg",{"$f":"+GetURL(D38590)","v":"https://www.refaccionariagonzalez.com/alta/S-U/TT011_2.jpg"}]
["2020-09-29T14:37:00",8,"TT602CH","TT602CH_1.jpg",{"$f":"+GetURL(D38595)","v":"https://www.refaccionariagonzalez.com/alta/S-U/TT602CH_1.jpg"}]
["2024-05-13T08:16:00",{"$f":"+FIND(\".\",D38627)","v":10},"TUR13-R13","TUR13-R13.jpg",{"$f":"+GetURL(D38627)","v":"https://www.refaccionariagonzalez.com/alta/S-U/TUR13-R13.jpg"}]
["2020-09-29T14:24:00",5,"TW-M","TW-M_2.jpg",{"$f":"+GetURL(D38633)","v":"https://www.refaccionariagonzalez.com/alta/S-U/TW-M_2.jpg"}]
["2020-09-29T14:44:00",8,"TZ-6064","TZ-6064_1.jpg",{"$f":"+GetURL(D38664)","v":"https://www.refaccionariagonzalez.com/alta/S-U/TZ-6064_1.jpg"}]
["2020-09-29T14:34:00",10,"U-LH1859L","U-LH1859L_1.jpg",{"$f":"+GetURL(D38676)","v":"https://www.refaccionariagonzalez.com/alta/S-U/U-LH1859L_1.jpg"}]
["2024-04-25T10:03:00",12,"ULH184X10CY","ULH184X10CY.png",{"$f":"+GetURL(D38695)","v":"https://www.refaccionariagonzalez.com/alta/S-U/ULH184X10CY.png"}]
["2024-05-18T10:17:00",7,"UNI-22","UNI-22.jpg",{"$f":"+GetURL(D38715)","v":"https://www.refaccionariagonzalez.com/alta/S-U/UNI-22.jpg"}]
["2020-09-29T14:46:00",10,"URB30206A","URB30206A_2.jpg",{"$f":"+GetURL(D38738)","v":"https://www.refaccionariagonzalez.com/alta/S-U/URB30206A_2.jpg"}]
["2024-02-01T18:25:00",11,"URBLM11949","URBLM11949_4.jpg",{"$f":"+GetURL(D38757)","v":"https://www.refaccionariagonzalez.com/alta/S-U/URBLM11949_4.jpg"}]
["2024-02-09T09:29:00",11,"URBLM67048","URBLM67048_2.jpg",{"$f":"+GetURL(D38766)","v":"https://www.refaccionariagonzalez.com/alta/S-U/URBLM67048_2.jpg"}]
["2020-09-29T14:33:00",9,"USA03474","USA03474_1.jpg",{"$f":"+GetURL(D38781)","v":"https://www.refaccionariagonzalez.com/alta/S-U/USA03474_1.jpg"}]
["2020-09-29T14:48:00",9,"USA07389","USA07389_1.jpg",{"$f":"+GetURL(D38800)","v":"https://www.refaccionariagonzalez.com/alta/S-U/USA07389_1.jpg"}]
["2020-09-29T14:47:00",5,"USA8","USA8_1.jpg",{"$f":"+GetURL(D38825)","v":"https://www.refaccionariagonzalez.com/alta/S-U/USA8_1.jpg"}]
["2020-09-29T14:49:00",6,"USA22","USA22_2.jpg",{"$f":"+GetURL(D38843)","v":"https://www.refaccionariagonzalez.com/alta/S-U/USA22_2.jpg"}]
["2020-09-29T14:45:00",6,"USA36","USA36_2.jpg",{"$f":"+GetURL(D38862)","v":"https://www.refaccionariagonzalez.com/alta/S-U/USA36_2.jpg"}]
["2020-09-29T14:36:00",6,"USA59","USA59_1.jpg",{"$f":"+GetURL(D38887)","v":"https://www.refaccionariagonzalez.com/alta/S-U/USA59_1.jpg"}]
["2020-09-29T14:23:00",6,"USA62","USA62_2.jpg",{"$f":"+GetURL(D38894)","v":"https://www.refaccionariagonzalez.com/alta/S-U/USA62_2.jpg"}]
["2020-09-29T14:56:00",6,"USA84","USA84_2.jpg",{"$f":"+GetURL(D38911)","v":"https://www.refaccionariagonzalez.com/alta/S-U/USA84_2.jpg"}]
["2020-09-29T14:40:00",7,"USA103","USA103_1.jpg",{"$f":"+GetURL(D38930)","v":"https://www.refaccionariagonzalez.com/alta/S-U/USA103_1.jpg"}]
["2020-09-29T14:31:00",{"$f":"+FIND(\"_\",D38963)","v":10},"USA811BHU","USA811BHU_1.jpg",{"$f":"+GetURL(D38963)","v":"https://www.refaccionariagonzalez.com/alta/S-U/USA811BHU_1.jpg"}]
["2024-01-18T17:38:00",8,"USA6000","USA6000_2.jpg",{"$f":"+GetURL(D38973)","v":"https://www.refaccionariagonzalez.com/alta/S-U/USA6000_2.jpg"}]
["2020-09-29T14:38:00",9,"USA12206","USA12206_1.jpg",{"$f":"+GetURL(D38992)","v":"https://www.refaccionariagonzalez.com/alta/S-U/USA12206_1.jpg"}]
["2020-09-29T14:16:00",9,"USA13573","USA13573_3.jpg",{"$f":"+GetURL(D39011)","v":"https://www.refaccionariagonzalez.com/alta/S-U/USA13573_3.jpg"}]
["2020-09-29T14:41:00",9,"USA36174","USA36174_3.jpg",{"$f":"+GetURL(D39022)","v":"https://www.refaccionariagonzalez.com/alta/S-U/USA36174_3.jpg"}]
["2024-05-17T08:53:00",{"$f":"+FIND(\"_\",D39054)","v":9},"USA40061","USA40061_2.jpg",{"$f":"+GetURL(D39054)","v":"https://www.refaccionariagonzalez.com/alta/S-U/USA40061_2.jpg"}]
["2020-09-29T14:19:00",9,"USA41783","USA41783_2.jpg",{"$f":"+GetURL(D39060)","v":"https://www.refaccionariagonzalez.com/alta/S-U/USA41783_2.jpg"}]
["2020-09-29T14:31:00",{"$f":"+FIND(\"_\",D39091)","v":7},"UXF-79","UXF-79_2.jpg",{"$f":"+GetURL(D39091)","v":"https://www.refaccionariagonzalez.com/alta/S-U/UXF-79_2.jpg"}]
["2020-09-29T14:21:00",6,"V0175","V0175_2.jpg",{"$f":"+GetURL(D39097)","v":"https://www.refaccionariagonzalez.com/alta/V-X/V0175_2.jpg"}]
["2020-09-29T14:24:00",10,"VA-FD9863","VA-FD9863_2.jpg",{"$f":"+GetURL(D39122)","v":"https://www.refaccionariagonzalez.com/alta/V-X/VA-FD9863_2.jpg"}]
["2024-04-25T10:15:00",{"$f":"+FIND(\".\",D39142)","v":9},"VAL01Y-2","VAL01Y-2.jpg",{"$f":"+GetURL(D39142)","v":"https://www.refaccionariagonzalez.com/alta/V-X/VAL01Y-2.jpg"}]
["2020-09-29T14:22:00",9,"VAL35811","VAL35811_1.jpg",{"$f":"+GetURL(D39159)","v":"https://www.refaccionariagonzalez.com/alta/V-X/VAL35811_1.jpg"}]
["2020-09-29T14:40:00",11,"VAL2112976","VAL2112976_2.jpg",{"$f":"+GetURL(D39184)","v":"https://www.refaccionariagonzalez.com/alta/V-X/VAL2112976_2.jpg"}]
["2020-09-29T14:19:00",9,"VALTA021","VALTA021_1.jpg",{"$f":"+GetURL(D39203)","v":"https://www.refaccionariagonzalez.com/alta/V-X/VALTA021_1.jpg"}]
["2020-09-29T15:04:00",9,"VALTA707","VALTA707_2.jpg",{"$f":"+GetURL(D39219)","v":"https://www.refaccionariagonzalez.com/alta/V-X/VALTA707_2.jpg"}]
["2020-09-29T14:20:00",10,"VALTA4725","VALTA4725_1.jpg",{"$f":"+GetURL(D39227)","v":"https://www.refaccionariagonzalez.com/alta/V-X/VALTA4725_1.jpg"}]
["2020-09-29T14:44:00",15,"VAR1331POINTER","VAR1331POINTER_1.jpg",{"$f":"+GetURL(D39246)","v":"https://www.refaccionariagonzalez.com/alta/V-X/VAR1331POINTER_1.jpg"}]
["2020-09-29T14:30:00",9,"VC-HAM03","VC-HAM03_1.jpg",{"$f":"+GetURL(D39270)","v":"https://www.refaccionariagonzalez.com/alta/V-X/VC-HAM03_1.jpg"}]
["2020-09-29T14:51:00",10,"VE-VW9750","VE-VW9750_1.jpg",{"$f":"+GetURL(D39289)","v":"https://www.refaccionariagonzalez.com/alta/V-X/VE-VW9750_1.jpg"}]
["2020-09-29T14:35:00",10,"VEL326542","VEL326542_1.jpg",{"$f":"+GetURL(D39314)","v":"https://www.refaccionariagonzalez.com/alta/V-X/VEL326542_1.jpg"}]
["2020-09-29T14:26:00",10,"VEL326574","VEL326574_2.jpg",{"$f":"+GetURL(D39321)","v":"https://www.refaccionariagonzalez.com/alta/V-X/VEL326574_2.jpg"}]
["2020-09-29T14:48:00",10,"VEL328126","VEL328126_2.jpg",{"$f":"+GetURL(D39351)","v":"https://www.refaccionariagonzalez.com/alta/V-X/VEL328126_2.jpg"}]
["2020-09-29T14:30:00",{"$f":"+FIND(\"_\",D39357)","v":12},"VEL10221414","VEL10221414_2.jpg",{"$f":"+GetURL(D39357)","v":"https://www.refaccionariagonzalez.com/alta/V-X/VEL10221414_2.jpg"}]
["2023-12-11T10:50:00",{"$f":"+FIND(\".\",D39376)","v":4},"VEN","VEN.jpg",{"$f":"+GetURL(D39376)","v":"https://www.refaccionariagonzalez.com/alta/V-X/VEN.jpg"}]
["2020-09-29T14:17:00",8,"VF0408B","VF0408B_1.jpg",{"$f":"+GetURL(D39395)","v":"https://www.refaccionariagonzalez.com/alta/V-X/VF0408B_1.jpg"}]
["2020-09-29T15:03:00",8,"VF0408B","VF0408B_2.jpg",{"$f":"+GetURL(D39396)","v":"https://www.refaccionariagonzalez.com/alta/V-X/VF0408B_2.jpg"}]
["2020-09-29T14:45:00",9,"VF0408RC","VF0408RC_1.jpg",{"$f":"+GetURL(D39397)","v":"https://www.refaccionariagonzalez.com/alta/V-X/VF0408RC_1.jpg"}]
["2020-09-29T15:02:00",9,"VF0408RC","VF0408RC_2.jpg",{"$f":"+GetURL(D39398)","v":"https://www.refaccionariagonzalez.com/alta/V-X/VF0408RC_2.jpg"}]
["2020-09-29T14:27:00",13,"VI500CON-APS","VI500CON-APS_1.jpg",{"$f":"+GetURL(D39399)","v":"https://www.refaccionariagonzalez.com/alta/V-X/VI500CON-APS_1.jpg"}]
["2020-09-29T15:03:00",13,"VI500CON-APS","VI500CON-APS_2.jpg",{"$f":"+GetURL(D39400)","v":"https://www.refaccionariagonzalez.com/alta/V-X/VI500CON-APS_2.jpg"}]
["2020-09-29T14:54:00",{"$f":"+FIND(\"_\",D39401)","v":7},"VISCUS","VISCUS_1.jpg",{"$f":"+GetURL(D39401)","v":"https://www.refaccionariagonzalez.com/alta/V-X/VISCUS_1.jpg"}]
["2020-09-29T14:43:00",7,"VISCUS","VISCUS_2.jpg",{"$f":"+GetURL(D39402)","v":"https://www.refaccionariagonzalez.com/alta/V-X/VISCUS_2.jpg"}]
["2024-02-23T13:11:00",11,"VISGARRAFA","VISGARRAFA_1.jpg",{"$f":"+GetURL(D39403)","v":"https://www.refaccionariagonzalez.com/alta/V-X/VISGARRAFA_1.jpg"}]
["2024-02-23T13:11:00",11,"VISGARRAFA","VISGARRAFA_2.jpg",{"$f":"+GetURL(D39404)","v":"https://www.refaccionariagonzalez.com/alta/V-X/VISGARRAFA_2.jpg"}]
["2020-09-29T14:48:00",9,"VL-FD383","VL-FD383_1.jpg",{"$f":"+GetURL(D39405)","v":"https://www.refaccionariagonzalez.com/alta/V-X/VL-FD383_1.jpg"}]
["2020-09-29T14:57:00",9,"VL-FD383","VL-FD383_2.jpg",{"$f":"+GetURL(D39406)","v":"https://www.refaccionariagonzalez.com/alta/V-X/VL-FD383_2.jpg"}]
["2020-10-12T17:18:00",{"$f":"+FIND(\".\",D39407)","v":8},"VM-715B","VM-715B.1.jpg",{"$f":"+GetURL(D39407)","v":"https://www.refaccionariagonzalez.com/alta/V-X/VM-715B.1.jpg"}]
["2020-10-12T17:18:00",8,"VM-715B","VM-715B.2.jpg",{"$f":"+GetURL(D39408)","v":"https://www.refaccionariagonzalez.com/alta/V-X/VM-715B.2.jpg"}]
["2024-04-24T14:38:00",7,"VOL804","VOL804.jpg",{"$f":"+GetURL(D39409)","v":"https://www.refaccionariagonzalez.com/alta/V-X/VOL804.jpg"}]
["2024-04-24T18:31:00",8,"VOL804N","VOL804N.jpg",{"$f":"+GetURL(D39410)","v":"https://www.refaccionariagonzalez.com/alta/V-X/VOL804N.jpg"}]
["2024-04-25T10:03:00",8,"VOL804N","VOL804N.png",{"$f":"+GetURL(D39411)","v":"https://www.refaccionariagonzalez.com/alta/V-X/VOL804N.png"}]
["2024-04-24T18:31:00",{"$f":"+FIND(\"_\",D39412)","v":8},"VOL804N","VOL804N_2.jpg",{"$f":"+GetURL(D39412)","v":"https://www.refaccionariagonzalez.com/alta/V-X/VOL804N_2.jpg"}]
["2024-04-25T10:03:00",{"$f":"+FIND(\"_\",D39413)","v":8},"VOL804N","VOL804N_2.png",{"$f":"+GetURL(D39413)","v":"https://www.refaccionariagonzalez.com/alta/V-X/VOL804N_2.png"}]
["2020-09-29T14:43:00",15,"VOL17042-0M300","VOL17042-0M300_1.jpg",{"$f":"+GetURL(D39414)","v":"https://www.refaccionariagonzalez.com/alta/V-X/VOL17042-0M300_1.jpg"}]
["2020-09-29T14:46:00",15,"VOL17042-0M300","VOL17042-0M300_2.jpg",{"$f":"+GetURL(D39415)","v":"https://www.refaccionariagonzalez.com/alta/V-X/VOL17042-0M300_2.jpg"}]
["2021-09-30T17:30:00",15,"VOL22100-VJ262","VOL22100-VJ262_1.jpg",{"$f":"+GetURL(D39416)","v":"https://www.refaccionariagonzalez.com/alta/V-X/VOL22100-VJ262_1.jpg"}]
["2021-09-30T17:30:00",15,"VOL22100-VJ262","VOL22100-VJ262_2.jpg",{"$f":"+GetURL(D39417)","v":"https://www.refaccionariagonzalez.com/alta/V-X/VOL22100-VJ262_2.jpg"}]
["2021-09-30T17:30:00",15,"VOL22100-VJ262","VOL22100-VJ262_3.jpg",{"$f":"+GetURL(D39418)","v":"https://www.refaccionariagonzalez.com/alta/V-X/VOL22100-VJ262_3.jpg"}]
["2021-09-30T17:30:00",15,"VOL22100-VJ262","VOL22100-VJ262_4.jpg",{"$f":"+GetURL(D39419)","v":"https://www.refaccionariagonzalez.com/alta/V-X/VOL22100-VJ262_4.jpg"}]
["2021-09-30T17:30:00",15,"VOL22100-VJ262","VOL22100-VJ262_5.jpg",{"$f":"+GetURL(D39420)","v":"https://www.refaccionariagonzalez.com/alta/V-X/VOL22100-VJ262_5.jpg"}]
["2020-09-29T14:57:00",13,"VOL176953227","VOL176953227_1.jpg",{"$f":"+GetURL(D39421)","v":"https://www.refaccionariagonzalez.com/alta/V-X/VOL176953227_1.jpg"}]
["2020-09-29T14:57:00",13,"VOL176953227","VOL176953227_2.jpg",{"$f":"+GetURL(D39422)","v":"https://www.refaccionariagonzalez.com/alta/V-X/VOL176953227_2.jpg"}]
["2020-09-29T14:38:00",8,"VOLANTE","VOLANTE_1.jpg",{"$f":"+GetURL(D39423)","v":"https://www.refaccionariagonzalez.com/alta/V-X/VOLANTE_1.jpg"}]
["2020-09-29T15:00:00",8,"VOLANTE","VOLANTE_2.jpg",{"$f":"+GetURL(D39424)","v":"https://www.refaccionariagonzalez.com/alta/V-X/VOLANTE_2.jpg"}]
["2020-09-29T14:35:00",9,"VOLTAR22","VOLTAR22_1.jpg",{"$f":"+GetURL(D39425)","v":"https://www.refaccionariagonzalez.com/alta/V-X/VOLTAR22_1.jpg"}]
["2020-09-29T14:45:00",9,{"$f":"+LEFT(D39426,B39426-1)","v":"VOLTAR22"},"VOLTAR22_2.jpg",{"$f":"+GetURL(D39426)","v":"https://www.refaccionariagonzalez.com/alta/V-X/VOLTAR22_2.jpg"}]
["2020-09-29T14:42:00",9,"VOLTAR34","VOLTAR34_1.jpg",{"$f":"+GetURL(D39427)","v":"https://www.refaccionariagonzalez.com/alta/V-X/VOLTAR34_1.jpg"}]
["2020-09-29T15:04:00",9,"VOLTAR34","VOLTAR34_2.jpg",{"$f":"+GetURL(D39428)","v":"https://www.refaccionariagonzalez.com/alta/V-X/VOLTAR34_2.jpg"}]
["2020-09-29T14:37:00",9,"VOLTAR35","VOLTAR35_1.jpg",{"$f":"+GetURL(D39429)","v":"https://www.refaccionariagonzalez.com/alta/V-X/VOLTAR35_1.jpg"}]
["2020-09-29T14:46:00",9,"VOLTAR35","VOLTAR35_2.jpg",{"$f":"+GetURL(D39430)","v":"https://www.refaccionariagonzalez.com/alta/V-X/VOLTAR35_2.jpg"}]
["2020-09-29T14:27:00",9,"VOLTAR42","VOLTAR42_1.jpg",{"$f":"+GetURL(D39431)","v":"https://www.refaccionariagonzalez.com/alta/V-X/VOLTAR42_1.jpg"}]
["2020-09-29T15:00:00",9,"VOLTAR42","VOLTAR42_2.jpg",{"$f":"+GetURL(D39432)","v":"https://www.refaccionariagonzalez.com/alta/V-X/VOLTAR42_2.jpg"}]
["2020-09-29T15:01:00",9,"VOLTAR42","VOLTAR42_3.jpg",{"$f":"+GetURL(D39433)","v":"https://www.refaccionariagonzalez.com/alta/V-X/VOLTAR42_3.jpg"}]
["2020-09-29T14:59:00",9,"VOLTAR47","VOLTAR47_1.jpg",{"$f":"+GetURL(D39434)","v":"https://www.refaccionariagonzalez.com/alta/V-X/VOLTAR47_1.jpg"}]
["2020-09-29T14:42:00",9,"VOLTAR47","VOLTAR47_2.jpg",{"$f":"+GetURL(D39435)","v":"https://www.refaccionariagonzalez.com/alta/V-X/VOLTAR47_2.jpg"}]
["2020-09-29T14:16:00",9,"VOLTAR47","VOLTAR47_3.jpg",{"$f":"+GetURL(D39436)","v":"https://www.refaccionariagonzalez.com/alta/V-X/VOLTAR47_3.jpg"}]
["2020-09-29T15:03:00",9,"VOLTAR65","VOLTAR65_1.jpg",{"$f":"+GetURL(D39437)","v":"https://www.refaccionariagonzalez.com/alta/V-X/VOLTAR65_1.jpg"}]
["2020-09-29T14:16:00",9,"VOLTAR65","VOLTAR65_2.jpg",{"$f":"+GetURL(D39438)","v":"https://www.refaccionariagonzalez.com/alta/V-X/VOLTAR65_2.jpg"}]
["2020-09-29T14:39:00",9,"VOLTAR65","VOLTAR65_3.jpg",{"$f":"+GetURL(D39439)","v":"https://www.refaccionariagonzalez.com/alta/V-X/VOLTAR65_3.jpg"}]
["2020-09-29T14:16:00",9,"VOLTAR99","VOLTAR99_1.jpg",{"$f":"+GetURL(D39440)","v":"https://www.refaccionariagonzalez.com/alta/V-X/VOLTAR99_1.jpg"}]
["2020-09-29T14:51:00",9,"VOLTAR99","VOLTAR99_2.jpg",{"$f":"+GetURL(D39441)","v":"https://www.refaccionariagonzalez.com/alta/V-X/VOLTAR99_2.jpg"}]
["2020-09-29T14:34:00",9,"VOLTAR99","VOLTAR99_3.jpg",{"$f":"+GetURL(D39442)","v":"https://www.refaccionariagonzalez.com/alta/V-X/VOLTAR99_3.jpg"}]
["2020-09-29T14:20:00",4,"VR6","VR6_1.jpg",{"$f":"+GetURL(D39443)","v":"https://www.refaccionariagonzalez.com/alta/V-X/VR6_1.jpg"}]
["2020-09-29T14:58:00",4,"VR6","VR6_2.jpg",{"$f":"+GetURL(D39444)","v":"https://www.refaccionariagonzalez.com/alta/V-X/VR6_2.jpg"}]
["2020-09-29T14:37:00",10,"VR8NII35U","VR8NII35U_1.jpg",{"$f":"+GetURL(D39445)","v":"https://www.refaccionariagonzalez.com/alta/V-X/VR8NII35U_1.jpg"}]
["2020-09-29T14:48:00",10,"VR8SPP33X","VR8SPP33X_1.jpg",{"$f":"+GetURL(D39446)","v":"https://www.refaccionariagonzalez.com/alta/V-X/VR8SPP33X_1.jpg"}]
["2020-09-29T14:52:00",9,"VS-10005","VS-10005_1.jpg",{"$f":"+GetURL(D39447)","v":"https://www.refaccionariagonzalez.com/alta/V-X/VS-10005_1.jpg"}]
["2020-09-29T15:03:00",9,"VS-10005","VS-10005_2.jpg",{"$f":"+GetURL(D39448)","v":"https://www.refaccionariagonzalez.com/alta/V-X/VS-10005_2.jpg"}]
["2020-09-29T14:17:00",9,"VS-10044","VS-10044_1.jpg",{"$f":"+GetURL(D39449)","v":"https://www.refaccionariagonzalez.com/alta/V-X/VS-10044_1.jpg"}]
["2020-09-29T14:36:00",9,"VS-10044","VS-10044_2.jpg",{"$f":"+GetURL(D39450)","v":"https://www.refaccionariagonzalez.com/alta/V-X/VS-10044_2.jpg"}]
["2020-09-29T14:51:00",9,"VS-10046","VS-10046_1.jpg",{"$f":"+GetURL(D39451)","v":"https://www.refaccionariagonzalez.com/alta/V-X/VS-10046_1.jpg"}]
["2020-09-29T14:39:00",9,"VS-10046","VS-10046_2.jpg",{"$f":"+GetURL(D39452)","v":"https://www.refaccionariagonzalez.com/alta/V-X/VS-10046_2.jpg"}]
["2020-09-29T14:19:00",9,"VS-10048","VS-10048_1.jpg",{"$f":"+GetURL(D39453)","v":"https://www.refaccionariagonzalez.com/alta/V-X/VS-10048_1.jpg"}]
["2020-09-29T14:33:00",9,"VS-10048","VS-10048_2.jpg",{"$f":"+GetURL(D39454)","v":"https://www.refaccionariagonzalez.com/alta/V-X/VS-10048_2.jpg"}]
["2020-09-29T14:29:00",9,"VS-10049","VS-10049_1.jpg",{"$f":"+GetURL(D39455)","v":"https://www.refaccionariagonzalez.com/alta/V-X/VS-10049_1.jpg"}]
["2020-09-29T14:44:00",9,"VS-10049","VS-10049_2.jpg",{"$f":"+GetURL(D39456)","v":"https://www.refaccionariagonzalez.com/alta/V-X/VS-10049_2.jpg"}]
["2020-09-29T14:16:00",9,"VS-10052","VS-10052_1.jpg",{"$f":"+GetURL(D39457)","v":"https://www.refaccionariagonzalez.com/alta/V-X/VS-10052_1.jpg"}]
["2020-09-29T14:22:00",9,"VS-10052","VS-10052_2.jpg",{"$f":"+GetURL(D39458)","v":"https://www.refaccionariagonzalez.com/alta/V-X/VS-10052_2.jpg"}]
["2020-09-29T14:58:00",9,"VS-10054","VS-10054_1.jpg",{"$f":"+GetURL(D39459)","v":"https://www.refaccionariagonzalez.com/alta/V-X/VS-10054_1.jpg"}]
["2020-09-29T14:55:00",9,"VS-10054","VS-10054_2.jpg",{"$f":"+GetURL(D39460)","v":"https://www.refaccionariagonzalez.com/alta/V-X/VS-10054_2.jpg"}]
["2020-09-29T14:55:00",14,"VS-CR-15VITON","VS-CR-15VITON_1.jpg",{"$f":"+GetURL(D39461)","v":"https://www.refaccionariagonzalez.com/alta/V-X/VS-CR-15VITON_1.jpg"}]
["2020-09-29T14:58:00",14,"VS-CR-15VITON","VS-CR-15VITON_2.jpg",{"$f":"+GetURL(D39462)","v":"https://www.refaccionariagonzalez.com/alta/V-X/VS-CR-15VITON_2.jpg"}]
["2020-09-29T14:36:00",15,"VS-FD-103VITON","VS-FD-103VITON_1.jpg",{"$f":"+GetURL(D39463)","v":"https://www.refaccionariagonzalez.com/alta/V-X/VS-FD-103VITON_1.jpg"}]
["2020-09-29T15:02:00",15,"VS-FD-103VITON","VS-FD-103VITON_2.jpg",{"$f":"+GetURL(D39464)","v":"https://www.refaccionariagonzalez.com/alta/V-X/VS-FD-103VITON_2.jpg"}]
["2020-09-29T15:01:00",15,"VS-FD-109VITON","VS-FD-109VITON_1.jpg",{"$f":"+GetURL(D39465)","v":"https://www.refaccionariagonzalez.com/alta/V-X/VS-FD-109VITON_1.jpg"}]
["2020-09-29T14:28:00",15,"VS-FD-109VITON","VS-FD-109VITON_2.jpg",{"$f":"+GetURL(D39466)","v":"https://www.refaccionariagonzalez.com/alta/V-X/VS-FD-109VITON_2.jpg"}]
["2020-09-29T14:22:00",14,"VS-GM-14VITON","VS-GM-14VITON_1.jpg",{"$f":"+GetURL(D39467)","v":"https://www.refaccionariagonzalez.com/alta/V-X/VS-GM-14VITON_1.jpg"}]
["2020-09-29T14:48:00",14,"VS-GM-14VITON","VS-GM-14VITON_2.jpg",{"$f":"+GetURL(D39468)","v":"https://www.refaccionariagonzalez.com/alta/V-X/VS-GM-14VITON_2.jpg"}]
["2020-09-29T14:20:00",14,"VS-NS-01VITON","VS-NS-01VITON_1.jpg",{"$f":"+GetURL(D39469)","v":"https://www.refaccionariagonzalez.com/alta/V-X/VS-NS-01VITON_1.jpg"}]
["2020-09-29T15:01:00",14,"VS-NS-01VITON","VS-NS-01VITON_2.jpg",{"$f":"+GetURL(D39470)","v":"https://www.refaccionariagonzalez.com/alta/V-X/VS-NS-01VITON_2.jpg"}]
["2020-09-29T14:27:00",14,"VS-PG-01VITON","VS-PG-01VITON_1.jpg",{"$f":"+GetURL(D39471)","v":"https://www.refaccionariagonzalez.com/alta/V-X/VS-PG-01VITON_1.jpg"}]
["2020-09-29T15:01:00",14,"VS-PG-01VITON","VS-PG-01VITON_2.jpg",{"$f":"+GetURL(D39472)","v":"https://www.refaccionariagonzalez.com/alta/V-X/VS-PG-01VITON_2.jpg"}]
["2020-09-29T14:22:00",14,"VS-TY-03VITON","VS-TY-03VITON_1.jpg",{"$f":"+GetURL(D39473)","v":"https://www.refaccionariagonzalez.com/alta/V-X/VS-TY-03VITON_1.jpg"}]
["2020-09-29T15:01:00",14,"VS-TY-03VITON","VS-TY-03VITON_2.jpg",{"$f":"+GetURL(D39474)","v":"https://www.refaccionariagonzalez.com/alta/V-X/VS-TY-03VITON_2.jpg"}]
["2020-09-29T14:24:00",8,"VS31001","VS31001_1.jpg",{"$f":"+GetURL(D39475)","v":"https://www.refaccionariagonzalez.com/alta/V-X/VS31001_1.jpg"}]
["2020-09-29T15:01:00",8,"VS31001","VS31001_2.jpg",{"$f":"+GetURL(D39476)","v":"https://www.refaccionariagonzalez.com/alta/V-X/VS31001_2.jpg"}]
["2024-04-25T09:41:00",{"$f":"+FIND(\".\",D39477)","v":9},"VS31021R","VS31021R.jpg",{"$f":"+GetURL(D39477)","v":"https://www.refaccionariagonzalez.com/alta/V-X/VS31021R.jpg"}]
["2020-09-29T14:38:00",{"$f":"+FIND(\"_\",D39478)","v":13},"VT309-92-MTE","VT309-92-MTE_1.jpg",{"$f":"+GetURL(D39478)","v":"https://www.refaccionariagonzalez.com/alta/V-X/VT309-92-MTE_1.jpg"}]
["2020-09-29T14:24:00",{"$f":"+FIND(\"_\",D39479)","v":13},"VT309-92-MTE","VT309-92-MTE_2.jpg",{"$f":"+GetURL(D39479)","v":"https://www.refaccionariagonzalez.com/alta/V-X/VT309-92-MTE_2.jpg"}]
["2020-09-29T14:45:00",13,"VT424-82-MTE","VT424-82-MTE_1.jpg",{"$f":"+GetURL(D39480)","v":"https://www.refaccionariagonzalez.com/alta/V-X/VT424-82-MTE_1.jpg"}]
["2020-09-29T14:58:00",13,"VT424-82-MTE","VT424-82-MTE_2.jpg",{"$f":"+GetURL(D39481)","v":"https://www.refaccionariagonzalez.com/alta/V-X/VT424-82-MTE_2.jpg"}]
["2020-09-29T14:46:00",13,"VT424-82-MTE","VT424-82-MTE_3.jpg",{"$f":"+GetURL(D39482)","v":"https://www.refaccionariagonzalez.com/alta/V-X/VT424-82-MTE_3.jpg"}]
["2020-09-29T14:46:00",13,"VT435-82-MTE","VT435-82-MTE_1.jpg",{"$f":"+GetURL(D39483)","v":"https://www.refaccionariagonzalez.com/alta/V-X/VT435-82-MTE_1.jpg"}]
["2020-09-29T14:46:00",13,"VT435-82-MTE","VT435-82-MTE_2.jpg",{"$f":"+GetURL(D39484)","v":"https://www.refaccionariagonzalez.com/alta/V-X/VT435-82-MTE_2.jpg"}]
["2020-09-29T14:22:00",13,"VW-RSET-02CC","VW-RSET-02CC_1.jpg",{"$f":"+GetURL(D39485)","v":"https://www.refaccionariagonzalez.com/alta/V-X/VW-RSET-02CC_1.jpg"}]
["2020-09-29T14:43:00",13,"VW-RSET-02CC","VW-RSET-02CC_2.jpg",{"$f":"+GetURL(D39486)","v":"https://www.refaccionariagonzalez.com/alta/V-X/VW-RSET-02CC_2.jpg"}]
["2020-09-29T14:58:00",13,"VW-RSET-05CC","VW-RSET-05CC_1.jpg",{"$f":"+GetURL(D39487)","v":"https://www.refaccionariagonzalez.com/alta/V-X/VW-RSET-05CC_1.jpg"}]
["2020-09-29T14:40:00",13,"VW-RSET-05CC","VW-RSET-05CC_2.jpg",{"$f":"+GetURL(D39488)","v":"https://www.refaccionariagonzalez.com/alta/V-X/VW-RSET-05CC_2.jpg"}]
["2020-09-29T14:45:00",13,"VW-RSET-07CC","VW-RSET-07CC_1.jpg",{"$f":"+GetURL(D39489)","v":"https://www.refaccionariagonzalez.com/alta/V-X/VW-RSET-07CC_1.jpg"}]
["2020-09-29T14:37:00",13,{"$f":"+LEFT(D39490,B39490-1)","v":"VW-RSET-07CC"},"VW-RSET-07CC_2.jpg",{"$f":"+GetURL(D39490)","v":"https://www.refaccionariagonzalez.com/alta/V-X/VW-RSET-07CC_2.jpg"}]
["2020-09-29T14:34:00",13,"VW-RSET-08CC","VW-RSET-08CC_1.jpg",{"$f":"+GetURL(D39491)","v":"https://www.refaccionariagonzalez.com/alta/V-X/VW-RSET-08CC_1.jpg"}]
["2020-09-29T14:46:00",13,"VW-RSET-08CC","VW-RSET-08CC_2.jpg",{"$f":"+GetURL(D39492)","v":"https://www.refaccionariagonzalez.com/alta/V-X/VW-RSET-08CC_2.jpg"}]
["2020-09-29T14:51:00",13,"VW-RSET-10CC","VW-RSET-10CC_1.jpg",{"$f":"+GetURL(D39493)","v":"https://www.refaccionariagonzalez.com/alta/V-X/VW-RSET-10CC_1.jpg"}]
["2020-09-29T14:22:00",13,"VW-RSET-10CC","VW-RSET-10CC_2.jpg",{"$f":"+GetURL(D39494)","v":"https://www.refaccionariagonzalez.com/alta/V-X/VW-RSET-10CC_2.jpg"}]
["2020-09-29T14:38:00",13,"VW-RSET-12CC","VW-RSET-12CC_1.jpg",{"$f":"+GetURL(D39495)","v":"https://www.refaccionariagonzalez.com/alta/V-X/VW-RSET-12CC_1.jpg"}]
["2020-09-29T14:49:00",13,"VW-RSET-12CC","VW-RSET-12CC_2.jpg",{"$f":"+GetURL(D39496)","v":"https://www.refaccionariagonzalez.com/alta/V-X/VW-RSET-12CC_2.jpg"}]
["2020-09-29T14:55:00",13,"VW-RSET-17CC","VW-RSET-17CC_1.jpg",{"$f":"+GetURL(D39497)","v":"https://www.refaccionariagonzalez.com/alta/V-X/VW-RSET-17CC_1.jpg"}]
["2020-09-29T14:47:00",13,"VW-RSET-17CC","VW-RSET-17CC_2.jpg",{"$f":"+GetURL(D39498)","v":"https://www.refaccionariagonzalez.com/alta/V-X/VW-RSET-17CC_2.jpg"}]
["2020-09-29T14:49:00",6,"VW050","VW050_1.jpg",{"$f":"+GetURL(D39499)","v":"https://www.refaccionariagonzalez.com/alta/V-X/VW050_1.jpg"}]
["2020-09-29T14:17:00",6,"VW050","VW050_2.jpg",{"$f":"+GetURL(D39500)","v":"https://www.refaccionariagonzalez.com/alta/V-X/VW050_2.jpg"}]
["2020-09-29T14:51:00",10,"VW07080GA","VW07080GA_1.jpg",{"$f":"+GetURL(D39501)","v":"https://www.refaccionariagonzalez.com/alta/V-X/VW07080GA_1.jpg"}]
["2020-09-29T14:26:00",10,"VW07080GA","VW07080GA_2.jpg",{"$f":"+GetURL(D39502)","v":"https://www.refaccionariagonzalez.com/alta/V-X/VW07080GA_2.jpg"}]
["2020-09-29T14:38:00",6,"VW111","VW111_1.jpg",{"$f":"+GetURL(D39503)","v":"https://www.refaccionariagonzalez.com/alta/V-X/VW111_1.jpg"}]
["2020-09-29T14:47:00",6,"VW111","VW111_2.jpg",{"$f":"+GetURL(D39504)","v":"https://www.refaccionariagonzalez.com/alta/V-X/VW111_2.jpg"}]
["2020-09-29T14:49:00",6,"VW112","VW112_1.jpg",{"$f":"+GetURL(D39505)","v":"https://www.refaccionariagonzalez.com/alta/V-X/VW112_1.jpg"}]
["2020-09-29T14:40:00",6,"VW112","VW112_2.jpg",{"$f":"+GetURL(D39506)","v":"https://www.refaccionariagonzalez.com/alta/V-X/VW112_2.jpg"}]
["2020-09-29T14:45:00",8,"VW301NK","VW301NK_1.jpg",{"$f":"+GetURL(D39507)","v":"https://www.refaccionariagonzalez.com/alta/V-X/VW301NK_1.jpg"}]
["2020-09-29T15:03:00",8,"VW301NK","VW301NK_2.jpg",{"$f":"+GetURL(D39508)","v":"https://www.refaccionariagonzalez.com/alta/V-X/VW301NK_2.jpg"}]
["2020-09-29T14:27:00",6,"VW323","VW323_1.jpg",{"$f":"+GetURL(D39509)","v":"https://www.refaccionariagonzalez.com/alta/V-X/VW323_1.jpg"}]
["2020-09-29T15:05:00",6,"VW323","VW323_2.jpg",{"$f":"+GetURL(D39510)","v":"https://www.refaccionariagonzalez.com/alta/V-X/VW323_2.jpg"}]
["2024-03-04T12:47:00",{"$f":"+FIND(\".jpg\",D39511)","v":16},"VW502.00 505.00","VW502.00 505.00.jpg",{"$f":"+GetURL(D39511)","v":"https://www.refaccionariagonzalez.com/alta/V-X/VW502.00 505.00.jpg"}]
["2022-06-03T15:50:00",{"$f":"+FIND(\".jpg\",D39512)","v":18},"VW502.00 505.00_1","VW502.00 505.00_1.jpg",{"$f":"+GetURL(D39512)","v":"https://www.refaccionariagonzalez.com/alta/V-X/VW502.00 505.00_1.jpg"}]
["2024-03-04T12:47:00",18,"VW502.00 505.00_2","VW502.00 505.00_2.jpg",{"$f":"+GetURL(D39513)","v":"https://www.refaccionariagonzalez.com/alta/V-X/VW502.00 505.00_2.jpg"}]
["2024-04-24T14:38:00",15,"VW502.00505.00","VW502.00505.00.jpg",{"$f":"+GetURL(D39514)","v":"https://www.refaccionariagonzalez.com/alta/V-X/VW502.00505.00.jpg"}]
["2020-09-29T14:41:00",9,"VW721A_1","VW721A_1.jpg",{"$f":"+GetURL(D39515)","v":"https://www.refaccionariagonzalez.com/alta/V-X/VW721A_1.jpg"}]
["2020-09-29T14:41:00",9,"VW721A_2","VW721A_2.jpg",{"$f":"+GetURL(D39516)","v":"https://www.refaccionariagonzalez.com/alta/V-X/VW721A_2.jpg"}]
["2020-09-29T15:03:00",10,"VW721MV_1","VW721MV_1.jpg",{"$f":"+GetURL(D39517)","v":"https://www.refaccionariagonzalez.com/alta/V-X/VW721MV_1.jpg"}]
["2020-09-29T14:47:00",10,"VW721MV_2","VW721MV_2.jpg",{"$f":"+GetURL(D39518)","v":"https://www.refaccionariagonzalez.com/alta/V-X/VW721MV_2.jpg"}]
["2020-09-29T14:49:00",15,"VW770BALEROS_1","VW770BALEROS_1.jpg",{"$f":"+GetURL(D39519)","v":"https://www.refaccionariagonzalez.com/alta/V-X/VW770BALEROS_1.jpg"}]
["2020-09-29T14:34:00",15,"VW770BALEROS_2","VW770BALEROS_2.jpg",{"$f":"+GetURL(D39520)","v":"https://www.refaccionariagonzalez.com/alta/V-X/VW770BALEROS_2.jpg"}]
["2020-09-29T14:42:00",{"$f":"+FIND(\".\",D39521)","v":15},"VW770BALEROS_3","VW770BALEROS_3.jpg",{"$f":"+GetURL(D39521)","v":"https://www.refaccionariagonzalez.com/alta/V-X/VW770BALEROS_3.jpg"}]
["2020-09-29T15:00:00",8,"VW800_1","VW800_1.jpg",{"$f":"+GetURL(D39522)","v":"https://www.refaccionariagonzalez.com/alta/V-X/VW800_1.jpg"}]
["2020-09-29T14:59:00",8,"VW800_2","VW800_2.jpg",{"$f":"+GetURL(D39523)","v":"https://www.refaccionariagonzalez.com/alta/V-X/VW800_2.jpg"}]
["2024-05-15T10:05:00",7,"VZ5314","VZ5314.jpg",{"$f":"+GetURL(D39524)","v":"https://www.refaccionariagonzalez.com/alta/V-X/VZ5314.jpg"}]
["2024-05-15T10:06:00",9,"VZ5314_2","VZ5314_2.jpg",{"$f":"+GetURL(D39525)","v":"https://www.refaccionariagonzalez.com/alta/V-X/VZ5314_2.jpg"}]
["2024-05-15T10:06:00",7,"VZ5315","VZ5315.jpg",{"$f":"+GetURL(D39526)","v":"https://www.refaccionariagonzalez.com/alta/V-X/VZ5315.jpg"}]
["2024-05-15T10:06:00",9,"VZ5315_2","VZ5315_2.jpg",{"$f":"+GetURL(D39527)","v":"https://www.refaccionariagonzalez.com/alta/V-X/VZ5315_2.jpg"}]
["2020-09-29T14:48:00",9,"W-100T_1","W-100T_1.jpg",{"$f":"+GetURL(D39528)","v":"https://www.refaccionariagonzalez.com/alta/V-X/W-100T_1.jpg"}]
["2020-09-29T14:56:00",9,"W-100T_2","W-100T_2.jpg",{"$f":"+GetURL(D39529)","v":"https://www.refaccionariagonzalez.com/alta/V-X/W-100T_2.jpg"}]
["2020-09-29T15:01:00",10,"W14EP-U_1","W14EP-U_1.jpg",{"$f":"+GetURL(D39530)","v":"https://www.refaccionariagonzalez.com/alta/V-X/W14EP-U_1.jpg"}]
["2020-09-29T14:33:00",10,"W14EP-U_2","W14EP-U_2.jpg",{"$f":"+GetURL(D39531)","v":"https://www.refaccionariagonzalez.com/alta/V-X/W14EP-U_2.jpg"}]
["2020-09-29T14:53:00",10,"W16EP-U_1","W16EP-U_1.jpg",{"$f":"+GetURL(D39532)","v":"https://www.refaccionariagonzalez.com/alta/V-X/W16EP-U_1.jpg"}]
["2020-09-29T14:36:00",10,"W16EP-U_2","W16EP-U_2.jpg",{"$f":"+GetURL(D39533)","v":"https://www.refaccionariagonzalez.com/alta/V-X/W16EP-U_2.jpg"}]
["2020-09-29T14:54:00",10,"W16FP-U_1","W16FP-U_1.jpg",{"$f":"+GetURL(D39534)","v":"https://www.refaccionariagonzalez.com/alta/V-X/W16FP-U_1.jpg"}]
["2020-09-29T14:46:00",10,"W16FP-U_2","W16FP-U_2.jpg",{"$f":"+GetURL(D39535)","v":"https://www.refaccionariagonzalez.com/alta/V-X/W16FP-U_2.jpg"}]
["2023-05-17T12:30:00",12,"W24FS-U10_1","W24FS-U10_1.jpg",{"$f":"+GetURL(D39536)","v":"https://www.refaccionariagonzalez.com/alta/V-X/W24FS-U10_1.jpg"}]
["2020-09-29T15:00:00",12,"W24FS-U10_2","W24FS-U10_2.jpg",{"$f":"+GetURL(D39537)","v":"https://www.refaccionariagonzalez.com/alta/V-X/W24FS-U10_2.jpg"}]
["2020-09-29T14:23:00",10,"WAG7877_1","WAG7877_1.jpg",{"$f":"+GetURL(D39538)","v":"https://www.refaccionariagonzalez.com/alta/V-X/WAG7877_1.jpg"}]
["2020-09-29T14:21:00",10,"WAG7877_2","WAG7877_2.jpg",{"$f":"+GetURL(D39539)","v":"https://www.refaccionariagonzalez.com/alta/V-X/WAG7877_2.jpg"}]
["2024-05-24T10:03:00",9,"WAG78775","WAG78775.jpg",{"$f":"+GetURL(D39540)","v":"https://www.refaccionariagonzalez.com/alta/V-X/WAG78775.jpg"}]
["2020-09-29T14:41:00",11,"WAG78775_1","WAG78775_1.jpg",{"$f":"+GetURL(D39541)","v":"https://www.refaccionariagonzalez.com/alta/V-X/WAG78775_1.jpg"}]
["2020-09-29T14:31:00",11,"WAG78775_2","WAG78775_2.jpg",{"$f":"+GetURL(D39542)","v":"https://www.refaccionariagonzalez.com/alta/V-X/WAG78775_2.jpg"}]
["2020-09-29T14:25:00",11,"WAIC0037_1","WAIC0037_1.jpg",{"$f":"+GetURL(D39543)","v":"https://www.refaccionariagonzalez.com/alta/V-X/WAIC0037_1.jpg"}]
["2020-09-29T14:47:00",11,"WAIC0037_2","WAIC0037_2.jpg",{"$f":"+GetURL(D39544)","v":"https://www.refaccionariagonzalez.com/alta/V-X/WAIC0037_2.jpg"}]
["2020-09-29T14:19:00",11,"WAIC0040_1","WAIC0040_1.jpg",{"$f":"+GetURL(D39545)","v":"https://www.refaccionariagonzalez.com/alta/V-X/WAIC0040_1.jpg"}]
["2020-09-29T14:23:00",11,"WAIC0040_2","WAIC0040_2.jpg",{"$f":"+GetURL(D39546)","v":"https://www.refaccionariagonzalez.com/alta/V-X/WAIC0040_2.jpg"}]
["2020-09-29T14:32:00",11,"WAIC0041_1","WAIC0041_1.jpg",{"$f":"+GetURL(D39547)","v":"https://www.refaccionariagonzalez.com/alta/V-X/WAIC0041_1.jpg"}]
["2020-09-29T14:43:00",11,"WAIC0041_2","WAIC0041_2.jpg",{"$f":"+GetURL(D39548)","v":"https://www.refaccionariagonzalez.com/alta/V-X/WAIC0041_2.jpg"}]
["2020-09-29T14:18:00",11,"WAIC0049_1","WAIC0049_1.jpg",{"$f":"+GetURL(D39549)","v":"https://www.refaccionariagonzalez.com/alta/V-X/WAIC0049_1.jpg"}]
["2020-09-29T14:18:00",11,"WAIC0049_2","WAIC0049_2.jpg",{"$f":"+GetURL(D39550)","v":"https://www.refaccionariagonzalez.com/alta/V-X/WAIC0049_2.jpg"}]
["2020-09-29T14:25:00",11,"WAIC0057_1","WAIC0057_1.jpg",{"$f":"+GetURL(D39551)","v":"https://www.refaccionariagonzalez.com/alta/V-X/WAIC0057_1.jpg"}]
["2020-09-29T14:18:00",11,"WAIC0057_2","WAIC0057_2.jpg",{"$f":"+GetURL(D39552)","v":"https://www.refaccionariagonzalez.com/alta/V-X/WAIC0057_2.jpg"}]
["2020-09-29T14:44:00",10,"WAIC01C_1","WAIC01C_1.jpg",{"$f":"+GetURL(D39553)","v":"https://www.refaccionariagonzalez.com/alta/V-X/WAIC01C_1.jpg"}]
["2020-09-29T14:35:00",10,{"$f":"+LEFT(D39554,B39554-1)","v":"WAIC01C_2"},"WAIC01C_2.jpg",{"$f":"+GetURL(D39554)","v":"https://www.refaccionariagonzalez.com/alta/V-X/WAIC01C_2.jpg"}]
["2020-09-29T14:37:00",9,"WAIC01_1","WAIC01_1.jpg",{"$f":"+GetURL(D39555)","v":"https://www.refaccionariagonzalez.com/alta/V-X/WAIC01_1.jpg"}]
["2020-09-29T14:18:00",9,"WAIC01_2","WAIC01_2.jpg",{"$f":"+GetURL(D39556)","v":"https://www.refaccionariagonzalez.com/alta/V-X/WAIC01_2.jpg"}]
["2020-09-29T15:01:00",11,"WAIC0101_1","WAIC0101_1.jpg",{"$f":"+GetURL(D39557)","v":"https://www.refaccionariagonzalez.com/alta/V-X/WAIC0101_1.jpg"}]
["2020-09-29T15:02:00",11,"WAIC0101_2","WAIC0101_2.jpg",{"$f":"+GetURL(D39558)","v":"https://www.refaccionariagonzalez.com/alta/V-X/WAIC0101_2.jpg"}]
["2020-09-29T14:45:00",11,"WAIC0108_1","WAIC0108_1.jpg",{"$f":"+GetURL(D39559)","v":"https://www.refaccionariagonzalez.com/alta/V-X/WAIC0108_1.jpg"}]
["2020-09-29T14:54:00",11,"WAIC0108_2","WAIC0108_2.jpg",{"$f":"+GetURL(D39560)","v":"https://www.refaccionariagonzalez.com/alta/V-X/WAIC0108_2.jpg"}]
["2020-09-29T14:17:00",11,"WAIC0136_1","WAIC0136_1.jpg",{"$f":"+GetURL(D39561)","v":"https://www.refaccionariagonzalez.com/alta/V-X/WAIC0136_1.jpg"}]
["2020-09-29T14:24:00",11,"WAIC0136_2","WAIC0136_2.jpg",{"$f":"+GetURL(D39562)","v":"https://www.refaccionariagonzalez.com/alta/V-X/WAIC0136_2.jpg"}]
["2020-09-29T14:20:00",9,"WAIC02_1","WAIC02_1.jpg",{"$f":"+GetURL(D39563)","v":"https://www.refaccionariagonzalez.com/alta/V-X/WAIC02_1.jpg"}]
["2020-09-29T14:44:00",9,"WAIC02_2","WAIC02_2.jpg",{"$f":"+GetURL(D39564)","v":"https://www.refaccionariagonzalez.com/alta/V-X/WAIC02_2.jpg"}]
["2020-09-29T15:04:00",9,"WAIC03_1","WAIC03_1.jpg",{"$f":"+GetURL(D39565)","v":"https://www.refaccionariagonzalez.com/alta/V-X/WAIC03_1.jpg"}]
["2020-09-29T14:38:00",9,"WAIC03_2","WAIC03_2.jpg",{"$f":"+GetURL(D39566)","v":"https://www.refaccionariagonzalez.com/alta/V-X/WAIC03_2.jpg"}]
["2020-09-29T14:48:00",9,"WAIC04_1","WAIC04_1.jpg",{"$f":"+GetURL(D39567)","v":"https://www.refaccionariagonzalez.com/alta/V-X/WAIC04_1.jpg"}]
["2020-09-29T14:54:00",9,"WAIC04_2","WAIC04_2.jpg",{"$f":"+GetURL(D39568)","v":"https://www.refaccionariagonzalez.com/alta/V-X/WAIC04_2.jpg"}]
["2020-09-29T14:25:00",10,"WAIC45C_1","WAIC45C_1.jpg",{"$f":"+GetURL(D39569)","v":"https://www.refaccionariagonzalez.com/alta/V-X/WAIC45C_1.jpg"}]
["2020-09-29T14:52:00",10,"WAIC45C_2","WAIC45C_2.jpg",{"$f":"+GetURL(D39570)","v":"https://www.refaccionariagonzalez.com/alta/V-X/WAIC45C_2.jpg"}]
["2020-09-29T15:01:00",10,"WAIC100_1","WAIC100_1.jpg",{"$f":"+GetURL(D39571)","v":"https://www.refaccionariagonzalez.com/alta/V-X/WAIC100_1.jpg"}]
["2020-09-29T15:03:00",10,"WAIC100_2","WAIC100_2.jpg",{"$f":"+GetURL(D39572)","v":"https://www.refaccionariagonzalez.com/alta/V-X/WAIC100_2.jpg"}]
["2024-05-18T10:18:00",7,"WBUN16","WBUN16.jpg",{"$f":"+GetURL(D39573)","v":"https://www.refaccionariagonzalez.com/alta/V-X/WBUN16.jpg"}]
["2020-09-29T14:30:00",9,"WBUN16_1","WBUN16_1.jpg",{"$f":"+GetURL(D39574)","v":"https://www.refaccionariagonzalez.com/alta/V-X/WBUN16_1.jpg"}]
["2020-09-29T14:58:00",9,"WBUN16_2","WBUN16_2.jpg",{"$f":"+GetURL(D39575)","v":"https://www.refaccionariagonzalez.com/alta/V-X/WBUN16_2.jpg"}]
["2024-05-18T10:18:00",7,"WBUN18","WBUN18.jpg",{"$f":"+GetURL(D39576)","v":"https://www.refaccionariagonzalez.com/alta/V-X/WBUN18.jpg"}]
["2020-09-29T14:43:00",9,"WBUN18_1","WBUN18_1.jpg",{"$f":"+GetURL(D39577)","v":"https://www.refaccionariagonzalez.com/alta/V-X/WBUN18_1.jpg"}]
["2020-09-29T14:38:00",9,"WBUN18_2","WBUN18_2.jpg",{"$f":"+GetURL(D39578)","v":"https://www.refaccionariagonzalez.com/alta/V-X/WBUN18_2.jpg"}]
["2024-05-18T10:18:00",7,"WBUN19","WBUN19.jpg",{"$f":"+GetURL(D39579)","v":"https://www.refaccionariagonzalez.com/alta/V-X/WBUN19.jpg"}]
["2020-09-29T14:56:00",9,"WBUN19_1","WBUN19_1.jpg",{"$f":"+GetURL(D39580)","v":"https://www.refaccionariagonzalez.com/alta/V-X/WBUN19_1.jpg"}]
["2020-09-29T14:57:00",9,"WBUN19_2","WBUN19_2.jpg",{"$f":"+GetURL(D39581)","v":"https://www.refaccionariagonzalez.com/alta/V-X/WBUN19_2.jpg"}]
["2024-05-18T10:18:00",7,"WBUN20","WBUN20.jpg",{"$f":"+GetURL(D39582)","v":"https://www.refaccionariagonzalez.com/alta/V-X/WBUN20.jpg"}]
["2020-09-29T14:48:00",9,"WBUN20_1","WBUN20_1.jpg",{"$f":"+GetURL(D39583)","v":"https://www.refaccionariagonzalez.com/alta/V-X/WBUN20_1.jpg"}]
["2020-09-29T14:41:00",9,"WBUN20_2","WBUN20_2.jpg",{"$f":"+GetURL(D39584)","v":"https://www.refaccionariagonzalez.com/alta/V-X/WBUN20_2.jpg"}]
["2020-09-29T14:41:00",{"$f":"+FIND(\".\",D39585)","v":9},"WBUN21_1","WBUN21_1.jpg",{"$f":"+GetURL(D39585)","v":"https://www.refaccionariagonzalez.com/alta/V-X/WBUN21_1.jpg"}]
["2020-09-29T14:22:00",9,"WBUN21_2","WBUN21_2.jpg",{"$f":"+GetURL(D39586)","v":"https://www.refaccionariagonzalez.com/alta/V-X/WBUN21_2.jpg"}]
["2020-09-29T14:17:00",9,"WBUN22_1","WBUN22_1.jpg",{"$f":"+GetURL(D39587)","v":"https://www.refaccionariagonzalez.com/alta/V-X/WBUN22_1.jpg"}]
["2020-09-29T14:36:00",9,"WBUN22_2","WBUN22_2.jpg",{"$f":"+GetURL(D39588)","v":"https://www.refaccionariagonzalez.com/alta/V-X/WBUN22_2.jpg"}]
["2020-09-29T14:47:00",9,"WBUN24_1","WBUN24_1.jpg",{"$f":"+GetURL(D39589)","v":"https://www.refaccionariagonzalez.com/alta/V-X/WBUN24_1.jpg"}]
["2020-09-29T14:46:00",9,"WBUN24_2","WBUN24_2.jpg",{"$f":"+GetURL(D39590)","v":"https://www.refaccionariagonzalez.com/alta/V-X/WBUN24_2.jpg"}]
["2024-05-13T08:17:00",14,"WC-CR370018RL","WC-CR370018RL.jpg",{"$f":"+GetURL(D39591)","v":"https://www.refaccionariagonzalez.com/alta/V-X/WC-CR370018RL.jpg"}]
["2020-09-29T14:48:00",10,"WC-FD15_1","WC-FD15_1.jpg",{"$f":"+GetURL(D39592)","v":"https://www.refaccionariagonzalez.com/alta/V-X/WC-FD15_1.jpg"}]
["2020-09-29T14:23:00",10,"WC-FD15_2","WC-FD15_2.jpg",{"$f":"+GetURL(D39593)","v":"https://www.refaccionariagonzalez.com/alta/V-X/WC-FD15_2.jpg"}]
["2020-09-29T14:17:00",10,"WC-FD17_1","WC-FD17_1.jpg",{"$f":"+GetURL(D39594)","v":"https://www.refaccionariagonzalez.com/alta/V-X/WC-FD17_1.jpg"}]
["2020-09-29T14:30:00",10,"WC-FD17_2","WC-FD17_2.jpg",{"$f":"+GetURL(D39595)","v":"https://www.refaccionariagonzalez.com/alta/V-X/WC-FD17_2.jpg"}]
["2020-09-29T14:23:00",10,"WC-FD17_3","WC-FD17_3.jpg",{"$f":"+GetURL(D39596)","v":"https://www.refaccionariagonzalez.com/alta/V-X/WC-FD17_3.jpg"}]
["2020-09-29T14:36:00",10,"WC-FD17_4","WC-FD17_4.jpg",{"$f":"+GetURL(D39597)","v":"https://www.refaccionariagonzalez.com/alta/V-X/WC-FD17_4.jpg"}]
["2020-09-29T15:02:00",10,"WC-FD17_5","WC-FD17_5.jpg",{"$f":"+GetURL(D39598)","v":"https://www.refaccionariagonzalez.com/alta/V-X/WC-FD17_5.jpg"}]
["2020-09-29T14:54:00",14,"WC-GM370103_1","WC-GM370103_1.jpg",{"$f":"+GetURL(D39599)","v":"https://www.refaccionariagonzalez.com/alta/V-X/WC-GM370103_1.jpg"}]
["2020-09-29T14:39:00",14,"WC-GM370103_2","WC-GM370103_2.jpg",{"$f":"+GetURL(D39600)","v":"https://www.refaccionariagonzalez.com/alta/V-X/WC-GM370103_2.jpg"}]
["2020-09-29T14:16:00",14,"WC-GM370103_3","WC-GM370103_3.jpg",{"$f":"+GetURL(D39601)","v":"https://www.refaccionariagonzalez.com/alta/V-X/WC-GM370103_3.jpg"}]
["2020-09-29T15:04:00",14,"WC-GM370103_4","WC-GM370103_4.jpg",{"$f":"+GetURL(D39602)","v":"https://www.refaccionariagonzalez.com/alta/V-X/WC-GM370103_4.jpg"}]
["2020-09-29T14:20:00",14,"WC-GM370226_1","WC-GM370226_1.jpg",{"$f":"+GetURL(D39603)","v":"https://www.refaccionariagonzalez.com/alta/V-X/WC-GM370226_1.jpg"}]
["2020-09-29T14:57:00",14,"WC-GM370226_2","WC-GM370226_2.jpg",{"$f":"+GetURL(D39604)","v":"https://www.refaccionariagonzalez.com/alta/V-X/WC-GM370226_2.jpg"}]
["2020-09-29T14:25:00",14,"WC-GM370226_3","WC-GM370226_3.jpg",{"$f":"+GetURL(D39605)","v":"https://www.refaccionariagonzalez.com/alta/V-X/WC-GM370226_3.jpg"}]
["2020-09-29T14:42:00",11,"WC-N404A_1","WC-N404A_1.jpg",{"$f":"+GetURL(D39606)","v":"https://www.refaccionariagonzalez.com/alta/V-X/WC-N404A_1.jpg"}]
["2020-09-29T14:43:00",11,"WC-N404A_2","WC-N404A_2.jpg",{"$f":"+GetURL(D39607)","v":"https://www.refaccionariagonzalez.com/alta/V-X/WC-N404A_2.jpg"}]
["2020-09-29T14:33:00",11,"WC-N410A_1","WC-N410A_1.jpg",{"$f":"+GetURL(D39608)","v":"https://www.refaccionariagonzalez.com/alta/V-X/WC-N410A_1.jpg"}]
["2020-09-29T14:53:00",11,"WC-N410A_2","WC-N410A_2.jpg",{"$f":"+GetURL(D39609)","v":"https://www.refaccionariagonzalez.com/alta/V-X/WC-N410A_2.jpg"}]
["2020-09-29T14:59:00",11,"WC-N410A_3","WC-N410A_3.jpg",{"$f":"+GetURL(D39610)","v":"https://www.refaccionariagonzalez.com/alta/V-X/WC-N410A_3.jpg"}]
["2020-09-29T14:53:00",11,"WC-N410A_4","WC-N410A_4.jpg",{"$f":"+GetURL(D39611)","v":"https://www.refaccionariagonzalez.com/alta/V-X/WC-N410A_4.jpg"}]
["2020-09-29T15:04:00",11,"WC-N410A_5","WC-N410A_5.jpg",{"$f":"+GetURL(D39612)","v":"https://www.refaccionariagonzalez.com/alta/V-X/WC-N410A_5.jpg"}]
["2020-09-29T14:27:00",12,"WC-N8001A_1","WC-N8001A_1.jpg",{"$f":"+GetURL(D39613)","v":"https://www.refaccionariagonzalez.com/alta/V-X/WC-N8001A_1.jpg"}]
["2020-09-29T14:46:00",12,"WC-N8001A_2","WC-N8001A_2.jpg",{"$f":"+GetURL(D39614)","v":"https://www.refaccionariagonzalez.com/alta/V-X/WC-N8001A_2.jpg"}]
["2020-09-29T14:51:00",14,"WC-PG440297_1","WC-PG440297_1.jpg",{"$f":"+GetURL(D39615)","v":"https://www.refaccionariagonzalez.com/alta/V-X/WC-PG440297_1.jpg"}]
["2020-09-29T14:18:00",14,"WC-PG440297_2","WC-PG440297_2.jpg",{"$f":"+GetURL(D39616)","v":"https://www.refaccionariagonzalez.com/alta/V-X/WC-PG440297_2.jpg"}]
["2020-09-29T14:49:00",14,"WC-PG440298_1","WC-PG440298_1.jpg",{"$f":"+GetURL(D39617)","v":"https://www.refaccionariagonzalez.com/alta/V-X/WC-PG440298_1.jpg"}]
["2020-09-29T14:46:00",14,{"$f":"+LEFT(D39618,B39618-1)","v":"WC-PG440298_2"},"WC-PG440298_2.jpg",{"$f":"+GetURL(D39618)","v":"https://www.refaccionariagonzalez.com/alta/V-X/WC-PG440298_2.jpg"}]
["2020-09-29T14:33:00",14,"WC-PG440298_3","WC-PG440298_3.jpg",{"$f":"+GetURL(D39619)","v":"https://www.refaccionariagonzalez.com/alta/V-X/WC-PG440298_3.jpg"}]
["2020-09-29T14:57:00",14,"WC-PG440298_4","WC-PG440298_4.jpg",{"$f":"+GetURL(D39620)","v":"https://www.refaccionariagonzalez.com/alta/V-X/WC-PG440298_4.jpg"}]
["2020-09-29T14:20:00",14,"WC-PG440298_5","WC-PG440298_5.jpg",{"$f":"+GetURL(D39621)","v":"https://www.refaccionariagonzalez.com/alta/V-X/WC-PG440298_5.jpg"}]
["2020-09-29T14:39:00",12,"WC-T8003A_1","WC-T8003A_1.jpg",{"$f":"+GetURL(D39622)","v":"https://www.refaccionariagonzalez.com/alta/V-X/WC-T8003A_1.jpg"}]
["2020-09-29T15:04:00",12,"WC-T8003A_2","WC-T8003A_2.jpg",{"$f":"+GetURL(D39623)","v":"https://www.refaccionariagonzalez.com/alta/V-X/WC-T8003A_2.jpg"}]
["2021-04-14T18:58:00",9,"WC815A_1","WC815A_1.jpg",{"$f":"+GetURL(D39624)","v":"https://www.refaccionariagonzalez.com/alta/V-X/WC815A_1.jpg"}]
["2021-04-14T18:58:00",9,"WC1393_1","WC1393_1.jpg",{"$f":"+GetURL(D39625)","v":"https://www.refaccionariagonzalez.com/alta/V-X/WC1393_1.jpg"}]
["2021-04-14T18:58:00",11,"WC1393_1_2","WC1393_1_2.jpg",{"$f":"+GetURL(D39626)","v":"https://www.refaccionariagonzalez.com/alta/V-X/WC1393_1_2.jpg"}]
["2020-09-29T15:02:00",9,"WC1454_1","WC1454_1.jpg",{"$f":"+GetURL(D39627)","v":"https://www.refaccionariagonzalez.com/alta/V-X/WC1454_1.jpg"}]
["2023-12-22T08:44:00",10,"WC1590 _1","WC1590 _1.jpg",{"$f":"+GetURL(D39628)","v":"https://www.refaccionariagonzalez.com/alta/V-X/WC1590 _1.jpg"}]
["2020-09-29T14:48:00",9,"WC1592_1","WC1592_1.jpg",{"$f":"+GetURL(D39629)","v":"https://www.refaccionariagonzalez.com/alta/V-X/WC1592_1.jpg"}]
["2021-04-14T18:58:00",9,"WC1650_1","WC1650_1.jpg",{"$f":"+GetURL(D39630)","v":"https://www.refaccionariagonzalez.com/alta/V-X/WC1650_1.jpg"}]
["2021-04-14T18:58:00",9,"WC1650_2","WC1650_2.jpg",{"$f":"+GetURL(D39631)","v":"https://www.refaccionariagonzalez.com/alta/V-X/WC1650_2.jpg"}]
["2020-09-29T14:26:00",9,"WC1731_1","WC1731_1.jpg",{"$f":"+GetURL(D39632)","v":"https://www.refaccionariagonzalez.com/alta/V-X/WC1731_1.jpg"}]
["2020-09-29T14:46:00",7,"WD40_1","WD40_1.jpg",{"$f":"+GetURL(D39633)","v":"https://www.refaccionariagonzalez.com/alta/V-X/WD40_1.jpg"}]
["2020-09-29T14:53:00",7,"WD40_2","WD40_2.jpg",{"$f":"+GetURL(D39634)","v":"https://www.refaccionariagonzalez.com/alta/V-X/WD40_2.jpg"}]
["2020-09-29T14:45:00",7,"WD50_1","WD50_1.jpg",{"$f":"+GetURL(D39635)","v":"https://www.refaccionariagonzalez.com/alta/V-X/WD50_1.jpg"}]
["2020-09-29T14:23:00",7,"WD50_2","WD50_2.jpg",{"$f":"+GetURL(D39636)","v":"https://www.refaccionariagonzalez.com/alta/V-X/WD50_2.jpg"}]
["2020-09-29T14:56:00",9,"WD1035_1","WD1035_1.jpg",{"$f":"+GetURL(D39637)","v":"https://www.refaccionariagonzalez.com/alta/V-X/WD1035_1.jpg"}]
["2020-09-29T14:36:00",9,"WD1107_1","WD1107_1.jpg",{"$f":"+GetURL(D39638)","v":"https://www.refaccionariagonzalez.com/alta/V-X/WD1107_1.jpg"}]
["2020-09-29T14:50:00",9,"WD1142_1","WD1142_1.jpg",{"$f":"+GetURL(D39639)","v":"https://www.refaccionariagonzalez.com/alta/V-X/WD1142_1.jpg"}]
["2020-09-29T14:37:00",9,"WD1345_1","WD1345_1.jpg",{"$f":"+GetURL(D39640)","v":"https://www.refaccionariagonzalez.com/alta/V-X/WD1345_1.jpg"}]
["2022-04-30T08:26:00",9,"WF0876_1","WF0876_1.jpg",{"$f":"+GetURL(D39641)","v":"https://www.refaccionariagonzalez.com/alta/V-X/WF0876_1.jpg"}]
["2022-04-30T08:26:00",9,"WF1686_1","WF1686_1.jpg",{"$f":"+GetURL(D39642)","v":"https://www.refaccionariagonzalez.com/alta/V-X/WF1686_1.jpg"}]
["2024-04-24T13:53:00",7,"WF9352","WF9352.jpg",{"$f":"+GetURL(D39643)","v":"https://www.refaccionariagonzalez.com/alta/V-X/WF9352.jpg"}]
["2022-04-30T08:26:00",9,"WF9353_1","WF9353_1.jpg",{"$f":"+GetURL(D39644)","v":"https://www.refaccionariagonzalez.com/alta/V-X/WF9353_1.jpg"}]
["2022-04-30T08:26:00",9,"WF9651_1","WF9651_1.jpg",{"$f":"+GetURL(D39645)","v":"https://www.refaccionariagonzalez.com/alta/V-X/WF9651_1.jpg"}]
["2020-09-29T14:46:00",12,"WH-512023_1","WH-512023_1.jpg",{"$f":"+GetURL(D39646)","v":"https://www.refaccionariagonzalez.com/alta/V-X/WH-512023_1.jpg"}]
["2020-09-29T14:38:00",12,"WH-512023_2","WH-512023_2.jpg",{"$f":"+GetURL(D39647)","v":"https://www.refaccionariagonzalez.com/alta/V-X/WH-512023_2.jpg"}]
["2020-09-29T14:36:00",14,"WH-CR512167_1","WH-CR512167_1.jpg",{"$f":"+GetURL(D39648)","v":"https://www.refaccionariagonzalez.com/alta/V-X/WH-CR512167_1.jpg"}]
["2020-09-29T14:28:00",{"$f":"+FIND(\".\",D39649)","v":14},"WH-CR512167_2","WH-CR512167_2.jpg",{"$f":"+GetURL(D39649)","v":"https://www.refaccionariagonzalez.com/alta/V-X/WH-CR512167_2.jpg"}]
["2020-09-29T14:47:00",10,"WH-FDT4_1","WH-FDT4_1.jpg",{"$f":"+GetURL(D39650)","v":"https://www.refaccionariagonzalez.com/alta/V-X/WH-FDT4_1.jpg"}]
["2020-09-29T14:58:00",10,"WH-FDT4_2","WH-FDT4_2.jpg",{"$f":"+GetURL(D39651)","v":"https://www.refaccionariagonzalez.com/alta/V-X/WH-FDT4_2.jpg"}]
["2020-09-29T14:50:00",16,"WH-GM90576767_1","WH-GM90576767_1.jpg",{"$f":"+GetURL(D39652)","v":"https://www.refaccionariagonzalez.com/alta/V-X/WH-GM90576767_1.jpg"}]
["2020-09-29T14:16:00",16,"WH-GM90576767_2","WH-GM90576767_2.jpg",{"$f":"+GetURL(D39653)","v":"https://www.refaccionariagonzalez.com/alta/V-X/WH-GM90576767_2.jpg"}]
["2020-09-29T14:48:00",14,"WH0716001LH_1","WH0716001LH_1.jpg",{"$f":"+GetURL(D39654)","v":"https://www.refaccionariagonzalez.com/alta/V-X/WH0716001LH_1.jpg"}]
["2020-09-29T14:59:00",14,"WH0716001LH_2","WH0716001LH_2.jpg",{"$f":"+GetURL(D39655)","v":"https://www.refaccionariagonzalez.com/alta/V-X/WH0716001LH_2.jpg"}]
["2020-09-29T14:48:00",14,"WH0716002RH_1","WH0716002RH_1.jpg",{"$f":"+GetURL(D39656)","v":"https://www.refaccionariagonzalez.com/alta/V-X/WH0716002RH_1.jpg"}]
["2020-09-29T14:16:00",14,"WH0716002RH_2","WH0716002RH_2.jpg",{"$f":"+GetURL(D39657)","v":"https://www.refaccionariagonzalez.com/alta/V-X/WH0716002RH_2.jpg"}]
["2024-04-25T09:57:00",10,"WHT003859","WHT003859.jpg",{"$f":"+GetURL(D39658)","v":"https://www.refaccionariagonzalez.com/alta/V-X/WHT003859.jpg"}]
["2024-04-24T13:42:00",10,"WIR-FX3N1","WIR-FX3N1.jpg",{"$f":"+GetURL(D39659)","v":"https://www.refaccionariagonzalez.com/alta/V-X/WIR-FX3N1.jpg"}]
["2024-01-22T08:15:00",11,"WIRFX3N1_1","WIRFX3N1_1.jpg",{"$f":"+GetURL(D39660)","v":"https://www.refaccionariagonzalez.com/alta/V-X/WIRFX3N1_1.jpg"}]
["2024-05-02T10:29:00",8,"WK69--2","WK69--2.jpg",{"$f":"+GetURL(D39661)","v":"https://www.refaccionariagonzalez.com/alta/V-X/WK69--2.jpg"}]
["2024-05-02T10:20:00",7,"WK69-2","WK69-2.jpg",{"$f":"+GetURL(D39662)","v":"https://www.refaccionariagonzalez.com/alta/V-X/WK69-2.jpg"}]
["2021-02-10T15:22:00",10,"WM-MH02_1","WM-MH02_1.jpg",{"$f":"+GetURL(D39663)","v":"https://www.refaccionariagonzalez.com/alta/V-X/WM-MH02_1.jpg"}]
["2023-05-17T12:30:00",14,"WP-CR9139BC_1","WP-CR9139BC_1.jpg",{"$f":"+GetURL(D39664)","v":"https://www.refaccionariagonzalez.com/alta/V-X/WP-CR9139BC_1.jpg"}]
["2023-05-17T12:30:00",14,"WP-CR9139BC_2","WP-CR9139BC_2.jpg",{"$f":"+GetURL(D39665)","v":"https://www.refaccionariagonzalez.com/alta/V-X/WP-CR9139BC_2.jpg"}]
["2020-09-29T14:26:00",10,"WPT-044_1","WPT-044_1.jpg",{"$f":"+GetURL(D39666)","v":"https://www.refaccionariagonzalez.com/alta/V-X/WPT-044_1.jpg"}]
["2020-09-29T14:39:00",10,"WPT-044_2","WPT-044_2.jpg",{"$f":"+GetURL(D39667)","v":"https://www.refaccionariagonzalez.com/alta/V-X/WPT-044_2.jpg"}]
["2020-09-29T14:55:00",10,"WUR0082_1","WUR0082_1.jpg",{"$f":"+GetURL(D39668)","v":"https://www.refaccionariagonzalez.com/alta/V-X/WUR0082_1.jpg"}]
["2020-09-29T14:16:00",10,"WUR0082_2","WUR0082_2.jpg",{"$f":"+GetURL(D39669)","v":"https://www.refaccionariagonzalez.com/alta/V-X/WUR0082_2.jpg"}]
["2020-09-29T14:49:00",13,"WUR0490100_1","WUR0490100_1.jpg",{"$f":"+GetURL(D39670)","v":"https://www.refaccionariagonzalez.com/alta/V-X/WUR0490100_1.jpg"}]
["2020-09-29T15:02:00",13,"WUR0490100_2","WUR0490100_2.jpg",{"$f":"+GetURL(D39671)","v":"https://www.refaccionariagonzalez.com/alta/V-X/WUR0490100_2.jpg"}]
["2020-09-29T14:32:00",12,"WUR049210_1","WUR049210_1.jpg",{"$f":"+GetURL(D39672)","v":"https://www.refaccionariagonzalez.com/alta/V-X/WUR049210_1.jpg"}]
["2020-09-29T14:25:00",12,"WUR049210_2","WUR049210_2.jpg",{"$f":"+GetURL(D39673)","v":"https://www.refaccionariagonzalez.com/alta/V-X/WUR049210_2.jpg"}]
["2020-09-29T14:54:00",13,"WUR0502221_1","WUR0502221_1.jpg",{"$f":"+GetURL(D39674)","v":"https://www.refaccionariagonzalez.com/alta/V-X/WUR0502221_1.jpg"}]
["2020-09-29T14:32:00",13,"WUR0502221_2","WUR0502221_2.jpg",{"$f":"+GetURL(D39675)","v":"https://www.refaccionariagonzalez.com/alta/V-X/WUR0502221_2.jpg"}]
["2020-09-29T15:00:00",10,"WUR3610_1","WUR3610_1.jpg",{"$f":"+GetURL(D39676)","v":"https://www.refaccionariagonzalez.com/alta/V-X/WUR3610_1.jpg"}]
["2020-09-29T14:36:00",10,"WUR3610_2","WUR3610_2.jpg",{"$f":"+GetURL(D39677)","v":"https://www.refaccionariagonzalez.com/alta/V-X/WUR3610_2.jpg"}]
["2020-09-29T15:04:00",10,"WUR4298_1","WUR4298_1.jpg",{"$f":"+GetURL(D39678)","v":"https://www.refaccionariagonzalez.com/alta/V-X/WUR4298_1.jpg"}]
["2020-09-29T14:45:00",10,"WUR4298_2","WUR4298_2.jpg",{"$f":"+GetURL(D39679)","v":"https://www.refaccionariagonzalez.com/alta/V-X/WUR4298_2.jpg"}]
["2020-09-29T14:47:00",11,"WUR13990_1","WUR13990_1.jpg",{"$f":"+GetURL(D39680)","v":"https://www.refaccionariagonzalez.com/alta/V-X/WUR13990_1.jpg"}]
["2020-09-29T14:34:00",11,"WUR13990_2","WUR13990_2.jpg",{"$f":"+GetURL(D39681)","v":"https://www.refaccionariagonzalez.com/alta/V-X/WUR13990_2.jpg"}]
["2020-09-29T14:28:00",8,{"$f":"+LEFT(D39682,B39682-1)","v":"WX280_1"},"WX280_1.jpg",{"$f":"+GetURL(D39682)","v":"https://www.refaccionariagonzalez.com/alta/V-X/WX280_1.jpg"}]
["2020-09-29T14:28:00",8,"WX333_1","WX333_1.jpg",{"$f":"+GetURL(D39683)","v":"https://www.refaccionariagonzalez.com/alta/V-X/WX333_1.jpg"}]
["2020-09-29T14:50:00",9,"WX340A_1","WX340A_1.jpg",{"$f":"+GetURL(D39684)","v":"https://www.refaccionariagonzalez.com/alta/V-X/WX340A_1.jpg"}]
["2021-04-14T18:58:00",8,"WX350_1","WX350_1.jpg",{"$f":"+GetURL(D39685)","v":"https://www.refaccionariagonzalez.com/alta/V-X/WX350_1.jpg"}]
["2021-04-14T18:58:00",8,"WX350_2","WX350_2.jpg",{"$f":"+GetURL(D39686)","v":"https://www.refaccionariagonzalez.com/alta/V-X/WX350_2.jpg"}]
["2021-04-14T18:58:00",8,"WX510_1","WX510_1.jpg",{"$f":"+GetURL(D39687)","v":"https://www.refaccionariagonzalez.com/alta/V-X/WX510_1.jpg"}]
["2020-09-29T14:36:00",8,"WX510_2","WX510_2.jpg",{"$f":"+GetURL(D39688)","v":"https://www.refaccionariagonzalez.com/alta/V-X/WX510_2.jpg"}]
["2020-09-29T14:31:00",8,"WX688_1","WX688_1.jpg",{"$f":"+GetURL(D39689)","v":"https://www.refaccionariagonzalez.com/alta/V-X/WX688_1.jpg"}]
["2020-09-29T14:54:00",8,"WX688_2","WX688_2.jpg",{"$f":"+GetURL(D39690)","v":"https://www.refaccionariagonzalez.com/alta/V-X/WX688_2.jpg"}]
["2020-09-29T14:34:00",9,"WX768A_1","WX768A_1.jpg",{"$f":"+GetURL(D39691)","v":"https://www.refaccionariagonzalez.com/alta/V-X/WX768A_1.jpg"}]
["2020-09-29T15:01:00",9,"WX1173_1","WX1173_1.jpg",{"$f":"+GetURL(D39692)","v":"https://www.refaccionariagonzalez.com/alta/V-X/WX1173_1.jpg"}]
["2024-05-02T10:03:00",12,"WX1191PROMO","WX1191PROMO.jpg",{"$f":"+GetURL(D39693)","v":"https://www.refaccionariagonzalez.com/alta/V-X/WX1191PROMO.jpg"}]
["2020-09-29T14:32:00",9,"WX1191_1","WX1191_1.jpg",{"$f":"+GetURL(D39694)","v":"https://www.refaccionariagonzalez.com/alta/V-X/WX1191_1.jpg"}]
["2020-09-29T15:03:00",9,"WX1269_1","WX1269_1.jpg",{"$f":"+GetURL(D39695)","v":"https://www.refaccionariagonzalez.com/alta/V-X/WX1269_1.jpg"}]
["2020-09-29T14:46:00",9,"WX1321_1","WX1321_1.jpg",{"$f":"+GetURL(D39696)","v":"https://www.refaccionariagonzalez.com/alta/V-X/WX1321_1.jpg"}]
["2020-09-29T14:17:00",9,"WX1344_1","WX1344_1.jpg",{"$f":"+GetURL(D39697)","v":"https://www.refaccionariagonzalez.com/alta/V-X/WX1344_1.jpg"}]
["2020-09-29T14:48:00",9,"WX1601_1","WX1601_1.jpg",{"$f":"+GetURL(D39698)","v":"https://www.refaccionariagonzalez.com/alta/V-X/WX1601_1.jpg"}]
["2020-09-29T14:53:00",9,"WX1627_1","WX1627_1.jpg",{"$f":"+GetURL(D39699)","v":"https://www.refaccionariagonzalez.com/alta/V-X/WX1627_1.jpg"}]
["2020-09-29T14:40:00",9,"WX1627_2","WX1627_2.jpg",{"$f":"+GetURL(D39700)","v":"https://www.refaccionariagonzalez.com/alta/V-X/WX1627_2.jpg"}]
["2020-09-29T14:25:00",9,"WX1702_1","WX1702_1.jpg",{"$f":"+GetURL(D39701)","v":"https://www.refaccionariagonzalez.com/alta/V-X/WX1702_1.jpg"}]
["2020-09-29T14:50:00",9,"WX1776_1","WX1776_1.jpg",{"$f":"+GetURL(D39702)","v":"https://www.refaccionariagonzalez.com/alta/V-X/WX1776_1.jpg"}]
["2020-09-29T14:35:00",11,"WX80009A_1","WX80009A_1.jpg",{"$f":"+GetURL(D39703)","v":"https://www.refaccionariagonzalez.com/alta/V-X/WX80009A_1.jpg"}]
["2020-09-29T14:53:00",11,"WX80009A_2","WX80009A_2.jpg",{"$f":"+GetURL(D39704)","v":"https://www.refaccionariagonzalez.com/alta/V-X/WX80009A_2.jpg"}]
["2024-05-09T08:13:00",6,"WZ574","WZ574.jpg",{"$f":"+GetURL(D39705)","v":"https://www.refaccionariagonzalez.com/alta/V-X/WZ574.jpg"}]
["2020-09-29T14:36:00",8,"WZ574_1","WZ574_1.jpg",{"$f":"+GetURL(D39706)","v":"https://www.refaccionariagonzalez.com/alta/V-X/WZ574_1.jpg"}]
["2020-09-29T14:28:00",8,"WZ638_1","WZ638_1.jpg",{"$f":"+GetURL(D39707)","v":"https://www.refaccionariagonzalez.com/alta/V-X/WZ638_1.jpg"}]
["2020-09-29T14:55:00",8,"WZ662_1","WZ662_1.jpg",{"$f":"+GetURL(D39708)","v":"https://www.refaccionariagonzalez.com/alta/V-X/WZ662_1.jpg"}]
["2020-09-29T14:18:00",8,"WZ924_1","WZ924_1.jpg",{"$f":"+GetURL(D39709)","v":"https://www.refaccionariagonzalez.com/alta/V-X/WZ924_1.jpg"}]
["2020-09-29T14:58:00",8,"WZ994_1","WZ994_1.jpg",{"$f":"+GetURL(D39710)","v":"https://www.refaccionariagonzalez.com/alta/V-X/WZ994_1.jpg"}]
["2020-09-29T14:43:00",9,"WZ1020_1","WZ1020_1.jpg",{"$f":"+GetURL(D39711)","v":"https://www.refaccionariagonzalez.com/alta/V-X/WZ1020_1.jpg"}]
["2020-09-29T14:24:00",15,"X2S6G8250A1B_1","X2S6G8250A1B_1.jpg",{"$f":"+GetURL(D39712)","v":"https://www.refaccionariagonzalez.com/alta/V-X/X2S6G8250A1B_1.jpg"}]
["2020-09-29T14:43:00",{"$f":"+FIND(\".\",D39713)","v":15},"X2S6G8250A1B_2","X2S6G8250A1B_2.jpg",{"$f":"+GetURL(D39713)","v":"https://www.refaccionariagonzalez.com/alta/V-X/X2S6G8250A1B_2.jpg"}]
["2020-09-29T14:37:00",15,"X2S6G8250A1B_3","X2S6G8250A1B_3.jpg",{"$f":"+GetURL(D39714)","v":"https://www.refaccionariagonzalez.com/alta/V-X/X2S6G8250A1B_3.jpg"}]
["2020-09-29T14:34:00",10,"X24ES-U_1","X24ES-U_1.jpg",{"$f":"+GetURL(D39715)","v":"https://www.refaccionariagonzalez.com/alta/V-X/X24ES-U_1.jpg"}]
["2020-09-29T14:16:00",10,"X24ES-U_2","X24ES-U_2.jpg",{"$f":"+GetURL(D39716)","v":"https://www.refaccionariagonzalez.com/alta/V-X/X24ES-U_2.jpg"}]
["2020-09-29T14:37:00",10,"X24ES-U_3","X24ES-U_3.jpg",{"$f":"+GetURL(D39717)","v":"https://www.refaccionariagonzalez.com/alta/V-X/X24ES-U_3.jpg"}]
["2020-09-29T14:22:00",8,"X106G_1","X106G_1.jpg",{"$f":"+GetURL(D39718)","v":"https://www.refaccionariagonzalez.com/alta/V-X/X106G_1.jpg"}]
["2020-09-29T14:40:00",8,"X106G_2","X106G_2.jpg",{"$f":"+GetURL(D39719)","v":"https://www.refaccionariagonzalez.com/alta/V-X/X106G_2.jpg"}]
["2020-09-29T14:29:00",7,"X106_1","X106_1.jpg",{"$f":"+GetURL(D39720)","v":"https://www.refaccionariagonzalez.com/alta/V-X/X106_1.jpg"}]
["2020-09-29T14:50:00",7,"X106_2","X106_2.jpg",{"$f":"+GetURL(D39721)","v":"https://www.refaccionariagonzalez.com/alta/V-X/X106_2.jpg"}]
["2020-09-29T14:23:00",7,"XC09_1","XC09_1.jpg",{"$f":"+GetURL(D39722)","v":"https://www.refaccionariagonzalez.com/alta/V-X/XC09_1.jpg"}]
["2020-09-29T14:21:00",7,"XC09_2","XC09_2.jpg",{"$f":"+GetURL(D39723)","v":"https://www.refaccionariagonzalez.com/alta/V-X/XC09_2.jpg"}]
["2020-09-29T15:02:00",7,"XC09_3","XC09_3.jpg",{"$f":"+GetURL(D39724)","v":"https://www.refaccionariagonzalez.com/alta/V-X/XC09_3.jpg"}]
["2020-09-29T14:46:00",7,"XC13_1","XC13_1.jpg",{"$f":"+GetURL(D39725)","v":"https://www.refaccionariagonzalez.com/alta/V-X/XC13_1.jpg"}]
["2020-09-29T14:48:00",7,"XC13_2","XC13_2.jpg",{"$f":"+GetURL(D39726)","v":"https://www.refaccionariagonzalez.com/alta/V-X/XC13_2.jpg"}]
["2020-09-29T14:30:00",11,"XCH-2007_1","XCH-2007_1.jpg",{"$f":"+GetURL(D39727)","v":"https://www.refaccionariagonzalez.com/alta/V-X/XCH-2007_1.jpg"}]
["2020-09-29T14:49:00",11,"XCH-2007_2","XCH-2007_2.jpg",{"$f":"+GetURL(D39728)","v":"https://www.refaccionariagonzalez.com/alta/V-X/XCH-2007_2.jpg"}]
["2024-04-24T18:10:00",10,"XE20HR-U9","XE20HR-U9.jpg",{"$f":"+GetURL(D39729)","v":"https://www.refaccionariagonzalez.com/alta/V-X/XE20HR-U9.jpg"}]
["2020-09-29T15:05:00",{"$f":"+FIND(\"_\",D39730)","v":6},"XENON","XENON_1.jpg",{"$f":"+GetURL(D39730)","v":"https://www.refaccionariagonzalez.com/alta/V-X/XENON_1.jpg"}]
["2020-09-29T14:57:00",{"$f":"+FIND(\"_\",D39731)","v":6},"XENON","XENON_2.jpg",{"$f":"+GetURL(D39731)","v":"https://www.refaccionariagonzalez.com/alta/V-X/XENON_2.jpg"}]
["2020-09-29T14:19:00",7,"XG032C","XG032C_1.jpg",{"$f":"+GetURL(D39732)","v":"https://www.refaccionariagonzalez.com/alta/V-X/XG032C_1.jpg"}]
["2020-09-29T14:24:00",7,"XG032C","XG032C_2.jpg",{"$f":"+GetURL(D39733)","v":"https://www.refaccionariagonzalez.com/alta/V-X/XG032C_2.jpg"}]
["2020-09-29T14:25:00",8,"XG0832D","XG0832D_1.jpg",{"$f":"+GetURL(D39734)","v":"https://www.refaccionariagonzalez.com/alta/V-X/XG0832D_1.jpg"}]
["2020-09-29T14:40:00",8,"XG0832D","XG0832D_2.jpg",{"$f":"+GetURL(D39735)","v":"https://www.refaccionariagonzalez.com/alta/V-X/XG0832D_2.jpg"}]
["2020-09-29T14:17:00",8,"XG0832D","XG0832D_3.jpg",{"$f":"+GetURL(D39736)","v":"https://www.refaccionariagonzalez.com/alta/V-X/XG0832D_3.jpg"}]
["2020-09-29T14:40:00",7,"XG0832","XG0832_1.jpg",{"$f":"+GetURL(D39737)","v":"https://www.refaccionariagonzalez.com/alta/V-X/XG0832_1.jpg"}]
["2020-09-29T14:37:00",7,"XG0832","XG0832_2.jpg",{"$f":"+GetURL(D39738)","v":"https://www.refaccionariagonzalez.com/alta/V-X/XG0832_2.jpg"}]
["2020-09-29T14:44:00",6,"XINGU","XINGU_1.jpg",{"$f":"+GetURL(D39739)","v":"https://www.refaccionariagonzalez.com/alta/V-X/XINGU_1.jpg"}]
["2020-09-29T14:16:00",14,"XL-BK-BIGHOLE","XL-BK-BIGHOLE_1.jpg",{"$f":"+GetURL(D39740)","v":"https://www.refaccionariagonzalez.com/alta/V-X/XL-BK-BIGHOLE_1.jpg"}]
["2020-09-29T14:41:00",14,"XL-BK-BIGHOLE","XL-BK-BIGHOLE_2.jpg",{"$f":"+GetURL(D39741)","v":"https://www.refaccionariagonzalez.com/alta/V-X/XL-BK-BIGHOLE_2.jpg"}]
["2020-09-29T14:19:00",7,"XL2082","XL2082_1.jpg",{"$f":"+GetURL(D39742)","v":"https://www.refaccionariagonzalez.com/alta/V-X/XL2082_1.jpg"}]
["2020-09-29T14:30:00",7,"XL2082","XL2082_2.jpg",{"$f":"+GetURL(D39743)","v":"https://www.refaccionariagonzalez.com/alta/V-X/XL2082_2.jpg"}]
["2022-07-12T08:09:00",7,"XP6203","XP6203_1.jpg",{"$f":"+GetURL(D39744)","v":"https://www.refaccionariagonzalez.com/alta/V-X/XP6203_1.jpg"}]
["2020-09-29T14:50:00",13,"XS6E9K478A2F","XS6E9K478A2F_1.jpg",{"$f":"+GetURL(D39745)","v":"https://www.refaccionariagonzalez.com/alta/V-X/XS6E9K478A2F_1.jpg"}]
["2020-09-29T14:47:00",13,{"$f":"+LEFT(D39746,B39746-1)","v":"XS6E9K478A2F"},"XS6E9K478A2F_2.jpg",{"$f":"+GetURL(D39746)","v":"https://www.refaccionariagonzalez.com/alta/V-X/XS6E9K478A2F_2.jpg"}]
["2020-09-29T14:18:00",13,"XS6E9K478A2F","XS6E9K478A2F_3.jpg",{"$f":"+GetURL(D39747)","v":"https://www.refaccionariagonzalez.com/alta/V-X/XS6E9K478A2F_3.jpg"}]
["2020-09-29T14:23:00",12,"XS6E6750A1D","XS6E6750A1D_1.jpg",{"$f":"+GetURL(D39748)","v":"https://www.refaccionariagonzalez.com/alta/V-X/XS6E6750A1D_1.jpg"}]
["2020-09-29T14:27:00",13,"XS6T11K665CA","XS6T11K665CA_1.jpg",{"$f":"+GetURL(D39749)","v":"https://www.refaccionariagonzalez.com/alta/V-X/XS6T11K665CA_1.jpg"}]
["2020-09-29T14:20:00",13,"XS6T11K665CA","XS6T11K665CA_2.jpg",{"$f":"+GetURL(D39750)","v":"https://www.refaccionariagonzalez.com/alta/V-X/XS6T11K665CA_2.jpg"}]
["2020-09-29T15:03:00",12,"XS6U9F715AA","XS6U9F715AA_1.jpg",{"$f":"+GetURL(D39751)","v":"https://www.refaccionariagonzalez.com/alta/V-X/XS6U9F715AA_1.jpg"}]
["2020-09-29T14:16:00",12,"XS6U9F715AA","XS6U9F715AA_2.jpg",{"$f":"+GetURL(D39752)","v":"https://www.refaccionariagonzalez.com/alta/V-X/XS6U9F715AA_2.jpg"}]
["2020-09-29T14:32:00",12,"XS6U9F715AA","XS6U9F715AA_3.jpg",{"$f":"+GetURL(D39753)","v":"https://www.refaccionariagonzalez.com/alta/V-X/XS6U9F715AA_3.jpg"}]
["2024-05-14T08:41:00",9,"XTREME22","XTREME22.jpg",{"$f":"+GetURL(D39754)","v":"https://www.refaccionariagonzalez.com/alta/V-X/XTREME22.jpg"}]
["2024-05-14T08:41:00",11,"XTREME22_1","XTREME22_1.jpg",{"$f":"+GetURL(D39755)","v":"https://www.refaccionariagonzalez.com/alta/V-X/XTREME22_1.jpg"}]
["2024-05-14T08:42:00",9,"XTREME34","XTREME34.jpg",{"$f":"+GetURL(D39756)","v":"https://www.refaccionariagonzalez.com/alta/V-X/XTREME34.jpg"}]
["2024-05-14T08:42:00",11,"XTREME34_1","XTREME34_1.jpg",{"$f":"+GetURL(D39757)","v":"https://www.refaccionariagonzalez.com/alta/V-X/XTREME34_1.jpg"}]
["2024-05-14T08:42:00",9,"XTREME35","XTREME35.jpg",{"$f":"+GetURL(D39758)","v":"https://www.refaccionariagonzalez.com/alta/V-X/XTREME35.jpg"}]
["2024-05-14T08:42:00",11,"XTREME35_1","XTREME35_1.jpg",{"$f":"+GetURL(D39759)","v":"https://www.refaccionariagonzalez.com/alta/V-X/XTREME35_1.jpg"}]
["2024-05-16T08:53:00",9,"XTREME42","XTREME42.jpg",{"$f":"+GetURL(D39760)","v":"https://www.refaccionariagonzalez.com/alta/V-X/XTREME42.jpg"}]
["2024-05-16T08:53:00",11,"XTREME42_1","XTREME42_1.jpg",{"$f":"+GetURL(D39761)","v":"https://www.refaccionariagonzalez.com/alta/V-X/XTREME42_1.jpg"}]
["2022-01-25T12:22:00",11,"XTREME42_2","XTREME42_2.jpg",{"$f":"+GetURL(D39762)","v":"https://www.refaccionariagonzalez.com/alta/V-X/XTREME42_2.jpg"}]
["2022-01-25T17:23:00",9,"XTREME47","XTREME47.jpg",{"$f":"+GetURL(D39763)","v":"https://www.refaccionariagonzalez.com/alta/V-X/XTREME47.jpg"}]
["2024-05-14T08:42:00",9,"XTREME65","XTREME65.jpg",{"$f":"+GetURL(D39764)","v":"https://www.refaccionariagonzalez.com/alta/V-X/XTREME65.jpg"}]
["2024-05-14T08:42:00",11,"XTREME65_1","XTREME65_1.jpg",{"$f":"+GetURL(D39765)","v":"https://www.refaccionariagonzalez.com/alta/V-X/XTREME65_1.jpg"}]
["2024-05-16T08:53:00",9,"XTREME99","XTREME99.jpg",{"$f":"+GetURL(D39766)","v":"https://www.refaccionariagonzalez.com/alta/V-X/XTREME99.jpg"}]
["2024-05-16T08:53:00",11,"XTREME99_1","XTREME99_1.jpg",{"$f":"+GetURL(D39767)","v":"https://www.refaccionariagonzalez.com/alta/V-X/XTREME99_1.jpg"}]
["2024-05-16T08:53:00",11,"XTREME99_2","XTREME99_2.jpg",{"$f":"+GetURL(D39768)","v":"https://www.refaccionariagonzalez.com/alta/V-X/XTREME99_2.jpg"}]
["2024-03-04T12:47:00",12,"XTRPRO10W30","XTRPRO10W30.jpg",{"$f":"+GetURL(D39769)","v":"https://www.refaccionariagonzalez.com/alta/V-X/XTRPRO10W30.jpg"}]
["2020-09-29T14:55:00",14,"XTRPRO10W30_1","XTRPRO10W30_1.jpg",{"$f":"+GetURL(D39770)","v":"https://www.refaccionariagonzalez.com/alta/V-X/XTRPRO10W30_1.jpg"}]
["2020-09-29T14:23:00",14,"XTRPRO10W30_2","XTRPRO10W30_2.jpg",{"$f":"+GetURL(D39771)","v":"https://www.refaccionariagonzalez.com/alta/V-X/XTRPRO10W30_2.jpg"}]
["2024-03-04T12:46:00",12,"XTRPRO15W40","XTRPRO15W40.jpg",{"$f":"+GetURL(D39772)","v":"https://www.refaccionariagonzalez.com/alta/V-X/XTRPRO15W40.jpg"}]
["2024-03-04T12:47:00",14,"XTRPRO15W40_1","XTRPRO15W40_1.jpg",{"$f":"+GetURL(D39773)","v":"https://www.refaccionariagonzalez.com/alta/V-X/XTRPRO15W40_1.jpg"}]
["2020-09-29T14:52:00",14,"XTRPRO15W40_2","XTRPRO15W40_2.jpg",{"$f":"+GetURL(D39774)","v":"https://www.refaccionariagonzalez.com/alta/V-X/XTRPRO15W40_2.jpg"}]
["2024-03-04T12:47:00",12,"XTRPRO20W50","XTRPRO20W50.jpg",{"$f":"+GetURL(D39775)","v":"https://www.refaccionariagonzalez.com/alta/V-X/XTRPRO20W50.jpg"}]
["2024-03-04T12:47:00",17,"XTRPRO20W50GARRA","XTRPRO20W50GARRA.jpg",{"$f":"+GetURL(D39776)","v":"https://www.refaccionariagonzalez.com/alta/V-X/XTRPRO20W50GARRA.jpg"}]
["2024-03-04T12:47:00",{"$f":"+FIND(\".\",D39777)","v":19},"XTRPRO20W50GARRA_1","XTRPRO20W50GARRA_1.jpg",{"$f":"+GetURL(D39777)","v":"https://www.refaccionariagonzalez.com/alta/V-X/XTRPRO20W50GARRA_1.jpg"}]
["2020-09-29T14:28:00",19,"XTRPRO20W50GARRA_2","XTRPRO20W50GARRA_2.jpg",{"$f":"+GetURL(D39778)","v":"https://www.refaccionariagonzalez.com/alta/V-X/XTRPRO20W50GARRA_2.jpg"}]
["2024-03-04T12:47:00",{"$f":"+FIND(\"_\",D39779)","v":12},"XTRPRO20W50","XTRPRO20W50_1.jpg",{"$f":"+GetURL(D39779)","v":"https://www.refaccionariagonzalez.com/alta/V-X/XTRPRO20W50_1.jpg"}]
["2020-09-29T15:05:00",14,"XTRPRO20W50_2","XTRPRO20W50_2.jpg",{"$f":"+GetURL(D39780)","v":"https://www.refaccionariagonzalez.com/alta/V-X/XTRPRO20W50_2.jpg"}]
["2024-05-03T10:00:00",10,"XU22EPR-U","XU22EPR-U.jpg",{"$f":"+GetURL(D39781)","v":"https://www.refaccionariagonzalez.com/alta/V-X/XU22EPR-U.jpg"}]
["2020-09-29T14:29:00",{"$f":"+FIND(\"_\",D39782)","v":12},"XY-80W90-QL","XY-80W90-QL_1.jpg",{"$f":"+GetURL(D39782)","v":"https://www.refaccionariagonzalez.com/alta/V-X/XY-80W90-QL_1.jpg"}]
["2020-09-29T14:23:00",{"$f":"+FIND(\"_\",D39783)","v":12},"XY-80W90-QL","XY-80W90-QL_2.jpg",{"$f":"+GetURL(D39783)","v":"https://www.refaccionariagonzalez.com/alta/V-X/XY-80W90-QL_2.jpg"}]
["2021-01-14T08:22:00",8,"XZR-007","XZR-007_1.jpg",{"$f":"+GetURL(D39784)","v":"https://www.refaccionariagonzalez.com/alta/V-X/XZR-007_1.jpg"}]
["2020-09-29T14:35:00",8,"Y-S08_1","Y-S08_1.jpg",{"$f":"+GetURL(D39785)","v":"https://www.refaccionariagonzalez.com/alta/Y-Z/Y-S08_1.jpg"}]
["2020-09-29T14:25:00",8,"Y-S08_2","Y-S08_2.jpg",{"$f":"+GetURL(D39786)","v":"https://www.refaccionariagonzalez.com/alta/Y-Z/Y-S08_2.jpg"}]
["2021-02-10T15:22:00",8,"Y4-MH_1","Y4-MH_1.jpg",{"$f":"+GetURL(D39787)","v":"https://www.refaccionariagonzalez.com/alta/Y-Z/Y4-MH_1.jpg"}]
["2024-04-25T10:20:00",10,"YC1T13335","YC1T13335.jpg",{"$f":"+GetURL(D39788)","v":"https://www.refaccionariagonzalez.com/alta/Y-Z/YC1T13335.jpg"}]
["2024-05-02T10:35:00",13,"YC1T13335 AB","YC1T13335 AB.jpg",{"$f":"+GetURL(D39789)","v":"https://www.refaccionariagonzalez.com/alta/Y-Z/YC1T13335 AB.jpg"}]
["2020-12-15T12:22:00",11,"YH3272_CHR","YH3272_CHR.1.jpg",{"$f":"+GetURL(D39790)","v":"https://www.refaccionariagonzalez.com/alta/Y-Z/YH3272_CHR.1.jpg"}]
["2020-09-29T14:39:00",{"$f":"+FIND(\"_\",D39791)","v":7},"YH6003","YH6003_1.jpg",{"$f":"+GetURL(D39791)","v":"https://www.refaccionariagonzalez.com/alta/Y-Z/YH6003_1.jpg"}]
["2020-09-29T14:27:00",{"$f":"+FIND(\"_\",D39792)","v":7},"YH6009","YH6009_1.jpg",{"$f":"+GetURL(D39792)","v":"https://www.refaccionariagonzalez.com/alta/Y-Z/YH6009_1.jpg"}]
["2020-09-29T14:52:00",7,"YH6679","YH6679_1.jpg",{"$f":"+GetURL(D39793)","v":"https://www.refaccionariagonzalez.com/alta/Y-Z/YH6679_1.jpg"}]
["2020-09-29T14:50:00",7,"YH6679","YH6679_2.jpg",{"$f":"+GetURL(D39794)","v":"https://www.refaccionariagonzalez.com/alta/Y-Z/YH6679_2.jpg"}]
["2021-02-18T11:34:00",10,"YR7SII33U","YR7SII33U_1.jpg",{"$f":"+GetURL(D39795)","v":"https://www.refaccionariagonzalez.com/alta/Y-Z/YR7SII33U_1.jpg"}]
["2020-09-29T14:36:00",8,"YS0019A","YS0019A_1.jpg",{"$f":"+GetURL(D39796)","v":"https://www.refaccionariagonzalez.com/alta/Y-Z/YS0019A_1.jpg"}]
["2020-09-29T14:52:00",8,"YS0019A","YS0019A_2.jpg",{"$f":"+GetURL(D39797)","v":"https://www.refaccionariagonzalez.com/alta/Y-Z/YS0019A_2.jpg"}]
["2020-09-29T14:29:00",8,"YS0019C","YS0019C_1.jpg",{"$f":"+GetURL(D39798)","v":"https://www.refaccionariagonzalez.com/alta/Y-Z/YS0019C_1.jpg"}]
["2020-09-29T14:18:00",8,"YS0019C","YS0019C_2.jpg",{"$f":"+GetURL(D39799)","v":"https://www.refaccionariagonzalez.com/alta/Y-Z/YS0019C_2.jpg"}]
["2020-09-29T14:35:00",11,"YS4G6766AA","YS4G6766AA_1.jpg",{"$f":"+GetURL(D39800)","v":"https://www.refaccionariagonzalez.com/alta/Y-Z/YS4G6766AA_1.jpg"}]
["2020-09-29T14:35:00",11,"YS4G6766AA","YS4G6766AA_2.jpg",{"$f":"+GetURL(D39801)","v":"https://www.refaccionariagonzalez.com/alta/Y-Z/YS4G6766AA_2.jpg"}]
["2020-09-29T14:34:00",15,"YS4Z-8005-BBCP","YS4Z-8005-BBCP_1.jpg",{"$f":"+GetURL(D39802)","v":"https://www.refaccionariagonzalez.com/alta/Y-Z/YS4Z-8005-BBCP_1.jpg"}]
["2020-09-29T14:55:00",15,"YS4Z-8005-BBCP","YS4Z-8005-BBCP_2.jpg",{"$f":"+GetURL(D39803)","v":"https://www.refaccionariagonzalez.com/alta/Y-Z/YS4Z-8005-BBCP_2.jpg"}]
["2020-09-29T14:33:00",15,"YS4Z-8005-BBCP","YS4Z-8005-BBCP_3.jpg",{"$f":"+GetURL(D39804)","v":"https://www.refaccionariagonzalez.com/alta/Y-Z/YS4Z-8005-BBCP_3.jpg"}]
["2020-09-29T14:40:00",11,"YS4Z8290BA","YS4Z8290BA_1.jpg",{"$f":"+GetURL(D39805)","v":"https://www.refaccionariagonzalez.com/alta/Y-Z/YS4Z8290BA_1.jpg"}]
["2020-09-29T14:22:00",11,"YS4Z8290BA","YS4Z8290BA_2.jpg",{"$f":"+GetURL(D39806)","v":"https://www.refaccionariagonzalez.com/alta/Y-Z/YS4Z8290BA_2.jpg"}]
["2020-09-29T14:42:00",11,"YS4Z8290BA","YS4Z8290BA_3.jpg",{"$f":"+GetURL(D39807)","v":"https://www.refaccionariagonzalez.com/alta/Y-Z/YS4Z8290BA_3.jpg"}]
["2020-09-29T14:32:00",14,"YS6U-9F593-HA","YS6U-9F593-HA_1.jpg",{"$f":"+GetURL(D39808)","v":"https://www.refaccionariagonzalez.com/alta/Y-Z/YS6U-9F593-HA_1.jpg"}]
["2020-09-29T15:03:00",14,"YS6U-9F593-HA","YS6U-9F593-HA_2.jpg",{"$f":"+GetURL(D39809)","v":"https://www.refaccionariagonzalez.com/alta/Y-Z/YS6U-9F593-HA_2.jpg"}]
["2020-09-29T14:57:00",6,{"$f":"+LEFT(D39810,B39810-1)","v":"YT002"},"YT002_1.jpg",{"$f":"+GetURL(D39810)","v":"https://www.refaccionariagonzalez.com/alta/Y-Z/YT002_1.jpg"}]
["2020-09-29T14:54:00",6,"YT002","YT002_2.jpg",{"$f":"+GetURL(D39811)","v":"https://www.refaccionariagonzalez.com/alta/Y-Z/YT002_2.jpg"}]
["2020-10-27T18:26:00",9,"YTX7A-BS","YTX7A-BS.1.jpg",{"$f":"+GetURL(D39812)","v":"https://www.refaccionariagonzalez.com/alta/Y-Z/YTX7A-BS.1.jpg"}]
["2020-10-27T18:26:00",9,"YTX7A-BS","YTX7A-BS.2.jpg",{"$f":"+GetURL(D39813)","v":"https://www.refaccionariagonzalez.com/alta/Y-Z/YTX7A-BS.2.jpg"}]
["2024-05-14T08:42:00",9,"YTX7A-BS","YTX7A-BS.jpg",{"$f":"+GetURL(D39814)","v":"https://www.refaccionariagonzalez.com/alta/Y-Z/YTX7A-BS.jpg"}]
["2024-05-14T08:42:00",11,"YTX7A-BS_1","YTX7A-BS_1.jpg",{"$f":"+GetURL(D39815)","v":"https://www.refaccionariagonzalez.com/alta/Y-Z/YTX7A-BS_1.jpg"}]
["2020-09-29T14:37:00",11,"YTX7A-BS_2","YTX7A-BS_2.jpg",{"$f":"+GetURL(D39816)","v":"https://www.refaccionariagonzalez.com/alta/Y-Z/YTX7A-BS_2.jpg"}]
["2020-09-29T14:41:00",{"$f":"+FIND(\"_\",D39817)","v":4},"Z-8","Z-8_1.jpg",{"$f":"+GetURL(D39817)","v":"https://www.refaccionariagonzalez.com/alta/Y-Z/Z-8_1.jpg"}]
["2020-09-29T14:55:00",{"$f":"+FIND(\"_\",D39818)","v":4},"Z-8","Z-8_2.jpg",{"$f":"+GetURL(D39818)","v":"https://www.refaccionariagonzalez.com/alta/Y-Z/Z-8_2.jpg"}]
["2020-09-29T14:25:00",4,"Z-8","Z-8_3.jpg",{"$f":"+GetURL(D39819)","v":"https://www.refaccionariagonzalez.com/alta/Y-Z/Z-8_3.jpg"}]
["2020-09-29T14:30:00",5,"Z-14","Z-14_1.jpg",{"$f":"+GetURL(D39820)","v":"https://www.refaccionariagonzalez.com/alta/Y-Z/Z-14_1.jpg"}]
["2020-09-29T14:28:00",5,"Z-14","Z-14_2.jpg",{"$f":"+GetURL(D39821)","v":"https://www.refaccionariagonzalez.com/alta/Y-Z/Z-14_2.jpg"}]
["2020-09-29T14:33:00",5,"Z-74","Z-74_1.jpg",{"$f":"+GetURL(D39822)","v":"https://www.refaccionariagonzalez.com/alta/Y-Z/Z-74_1.jpg"}]
["2020-09-29T14:39:00",5,"Z-74","Z-74_2.jpg",{"$f":"+GetURL(D39823)","v":"https://www.refaccionariagonzalez.com/alta/Y-Z/Z-74_2.jpg"}]
["2020-09-29T14:31:00",5,"Z-74","Z-74_3.jpg",{"$f":"+GetURL(D39824)","v":"https://www.refaccionariagonzalez.com/alta/Y-Z/Z-74_3.jpg"}]
["2020-09-29T14:51:00",5,"Z-90","Z-90_1.jpg",{"$f":"+GetURL(D39825)","v":"https://www.refaccionariagonzalez.com/alta/Y-Z/Z-90_1.jpg"}]
["2020-09-29T14:41:00",5,"Z-90","Z-90_2.jpg",{"$f":"+GetURL(D39826)","v":"https://www.refaccionariagonzalez.com/alta/Y-Z/Z-90_2.jpg"}]
["2020-09-29T14:55:00",5,"Z-90","Z-90_3.jpg",{"$f":"+GetURL(D39827)","v":"https://www.refaccionariagonzalez.com/alta/Y-Z/Z-90_3.jpg"}]
["2020-09-29T15:00:00",5,"Z-90","Z-90_4.jpg",{"$f":"+GetURL(D39828)","v":"https://www.refaccionariagonzalez.com/alta/Y-Z/Z-90_4.jpg"}]
["2020-09-29T14:25:00",6,"Z-176","Z-176_1.jpg",{"$f":"+GetURL(D39829)","v":"https://www.refaccionariagonzalez.com/alta/Y-Z/Z-176_1.jpg"}]
["2020-09-29T14:17:00",6,"Z-176","Z-176_2.jpg",{"$f":"+GetURL(D39830)","v":"https://www.refaccionariagonzalez.com/alta/Y-Z/Z-176_2.jpg"}]
["2020-09-29T14:39:00",12,"Z2S652140CA","Z2S652140CA_1.jpg",{"$f":"+GetURL(D39831)","v":"https://www.refaccionariagonzalez.com/alta/Y-Z/Z2S652140CA_1.jpg"}]
["2020-09-29T14:54:00",12,"Z2S652140CA","Z2S652140CA_2.jpg",{"$f":"+GetURL(D39832)","v":"https://www.refaccionariagonzalez.com/alta/Y-Z/Z2S652140CA_2.jpg"}]
["2020-09-29T14:35:00",13,"Z96FB3A262AD","Z96FB3A262AD_1.jpg",{"$f":"+GetURL(D39833)","v":"https://www.refaccionariagonzalez.com/alta/Y-Z/Z96FB3A262AD_1.jpg"}]
["2020-09-29T14:54:00",13,"Z96FB3A262AD","Z96FB3A262AD_2.jpg",{"$f":"+GetURL(D39834)","v":"https://www.refaccionariagonzalez.com/alta/Y-Z/Z96FB3A262AD_2.jpg"}]
["2020-09-29T15:04:00",13,"Z96FB3A262AD","Z96FB3A262AD_3.jpg",{"$f":"+GetURL(D39835)","v":"https://www.refaccionariagonzalez.com/alta/Y-Z/Z96FB3A262AD_3.jpg"}]
["2020-09-29T14:20:00",13,"Z96FB5K653CA","Z96FB5K653CA_1.jpg",{"$f":"+GetURL(D39836)","v":"https://www.refaccionariagonzalez.com/alta/Y-Z/Z96FB5K653CA_1.jpg"}]
["2020-09-29T14:51:00",13,"Z96FB5K653CA","Z96FB5K653CA_2.jpg",{"$f":"+GetURL(D39837)","v":"https://www.refaccionariagonzalez.com/alta/Y-Z/Z96FB5K653CA_2.jpg"}]
["2020-09-29T15:03:00",13,"Z96FB5K653CA","Z96FB5K653CA_3.jpg",{"$f":"+GetURL(D39838)","v":"https://www.refaccionariagonzalez.com/alta/Y-Z/Z96FB5K653CA_3.jpg"}]
["2020-09-29T14:32:00",12,"Z96FB3063AA","Z96FB3063AA_1.jpg",{"$f":"+GetURL(D39839)","v":"https://www.refaccionariagonzalez.com/alta/Y-Z/Z96FB3063AA_1.jpg"}]
["2020-09-29T14:45:00",12,"Z96FB3063AA","Z96FB3063AA_2.jpg",{"$f":"+GetURL(D39840)","v":"https://www.refaccionariagonzalez.com/alta/Y-Z/Z96FB3063AA_2.jpg"}]
["2020-09-29T14:39:00",12,"Z96FB3063AA","Z96FB3063AA_3.jpg",{"$f":"+GetURL(D39841)","v":"https://www.refaccionariagonzalez.com/alta/Y-Z/Z96FB3063AA_3.jpg"}]
["2020-09-29T14:17:00",5,"Z400","Z400_1.jpg",{"$f":"+GetURL(D39842)","v":"https://www.refaccionariagonzalez.com/alta/Y-Z/Z400_1.jpg"}]
["2020-09-29T14:51:00",5,"Z400","Z400_2.jpg",{"$f":"+GetURL(D39843)","v":"https://www.refaccionariagonzalez.com/alta/Y-Z/Z400_2.jpg"}]
["2020-09-29T14:25:00",5,"Z404","Z404_1.jpg",{"$f":"+GetURL(D39844)","v":"https://www.refaccionariagonzalez.com/alta/Y-Z/Z404_1.jpg"}]
["2020-09-29T14:46:00",5,"Z404","Z404_2.jpg",{"$f":"+GetURL(D39845)","v":"https://www.refaccionariagonzalez.com/alta/Y-Z/Z404_2.jpg"}]
["2020-09-29T14:59:00",12,"Z938M6766BB","Z938M6766BB_1.jpg",{"$f":"+GetURL(D39846)","v":"https://www.refaccionariagonzalez.com/alta/Y-Z/Z938M6766BB_1.jpg"}]
["2020-09-29T15:01:00",12,"Z938M6766BB","Z938M6766BB_2.jpg",{"$f":"+GetURL(D39847)","v":"https://www.refaccionariagonzalez.com/alta/Y-Z/Z938M6766BB_2.jpg"}]
["2020-09-29T15:02:00",5,"ZJ13","ZJ13_1.jpg",{"$f":"+GetURL(D39848)","v":"https://www.refaccionariagonzalez.com/alta/Y-Z/ZJ13_1.jpg"}]
["2020-09-29T14:24:00",5,"ZJ13","ZJ13_2.jpg",{"$f":"+GetURL(D39849)","v":"https://www.refaccionariagonzalez.com/alta/Y-Z/ZJ13_2.jpg"}]
["2020-09-29T14:31:00",5,"ZJ13","ZJ13_3.jpg",{"$f":"+GetURL(D39850)","v":"https://www.refaccionariagonzalez.com/alta/Y-Z/ZJ13_3.jpg"}]
["2020-09-29T14:49:00",5,"ZJ13","ZJ13_4.jpg",{"$f":"+GetURL(D39851)","v":"https://www.refaccionariagonzalez.com/alta/Y-Z/ZJ13_4.jpg"}]
["2020-09-29T14:29:00",5,"ZJ26","ZJ26_1.jpg",{"$f":"+GetURL(D39852)","v":"https://www.refaccionariagonzalez.com/alta/Y-Z/ZJ26_1.jpg"}]
["2020-09-29T15:05:00",5,"ZJ26","ZJ26_2.jpg",{"$f":"+GetURL(D39853)","v":"https://www.refaccionariagonzalez.com/alta/Y-Z/ZJ26_2.jpg"}]
["2020-09-29T14:53:00",5,"ZJ55","ZJ55_1.jpg",{"$f":"+GetURL(D39854)","v":"https://www.refaccionariagonzalez.com/alta/Y-Z/ZJ55_1.jpg"}]
["2020-09-29T15:05:00",6,"ZJ322","ZJ322_2.jpg",{"$f":"+GetURL(D39855)","v":"https://www.refaccionariagonzalez.com/alta/Y-Z/ZJ322_2.jpg"}]
["2024-05-03T10:01:00",{"$f":"+FIND(\".\",D39856)","v":7},"ZRESFC","ZRESFC.jpg",{"$f":"+GetURL(D39856)","v":"https://www.refaccionariagonzalez.com/alta/Y-Z/ZRESFC.jpg"}]
["2024-05-02T10:07:00",7,"ZRESFN","ZRESFN.jpg",{"$f":"+GetURL(D39857)","v":"https://www.refaccionariagonzalez.com/alta/Y-Z/ZRESFN.jpg"}]
["2020-09-29T14:29:00",{"$f":"+FIND(\"_\",D39858)","v":7},"ZS-266","ZS-266_1.jpg",{"$f":"+GetURL(D39858)","v":"https://www.refaccionariagonzalez.com/alta/Y-Z/ZS-266_1.jpg"}]
["2020-09-29T14:53:00",{"$f":"+FIND(\"_\",D39859)","v":7},"ZS-266","ZS-266_2.jpg",{"$f":"+GetURL(D39859)","v":"https://www.refaccionariagonzalez.com/alta/Y-Z/ZS-266_2.jpg"}]
["2020-09-29T14:54:00",7,"ZS-266","ZS-266_3.jpg",{"$f":"+GetURL(D39860)","v":"https://www.refaccionariagonzalez.com/alta/Y-Z/ZS-266_3.jpg"}]
["2020-09-29T14:26:00",10,"ZS-277-BM","ZS-277-BM_1.jpg",{"$f":"+GetURL(D39861)","v":"https://www.refaccionariagonzalez.com/alta/Y-Z/ZS-277-BM_1.jpg"}]
["2020-09-29T14:52:00",10,"ZS-277-BM","ZS-277-BM_2.jpg",{"$f":"+GetURL(D39862)","v":"https://www.refaccionariagonzalez.com/alta/Y-Z/ZS-277-BM_2.jpg"}]
["2020-09-29T14:40:00",10,"ZS-277-BM","ZS-277-BM_3.jpg",{"$f":"+GetURL(D39863)","v":"https://www.refaccionariagonzalez.com/alta/Y-Z/ZS-277-BM_3.jpg"}]
["2020-09-29T14:41:00",7,"ZS-350","ZS-350_1.jpg",{"$f":"+GetURL(D39864)","v":"https://www.refaccionariagonzalez.com/alta/Y-Z/ZS-350_1.jpg"}]
["2020-09-29T14:22:00",7,"ZS-350","ZS-350_2.jpg",{"$f":"+GetURL(D39865)","v":"https://www.refaccionariagonzalez.com/alta/Y-Z/ZS-350_2.jpg"}]
["2020-09-29T14:44:00",7,"ZS-350","ZS-350_3.jpg",{"$f":"+GetURL(D39866)","v":"https://www.refaccionariagonzalez.com/alta/Y-Z/ZS-350_3.jpg"}]
["2020-09-29T14:51:00",10,"ZS-376-BM","ZS-376-BM_1.jpg",{"$f":"+GetURL(D39867)","v":"https://www.refaccionariagonzalez.com/alta/Y-Z/ZS-376-BM_1.jpg"}]
["2020-09-29T14:47:00",10,"ZS-376-BM","ZS-376-BM_2.jpg",{"$f":"+GetURL(D39868)","v":"https://www.refaccionariagonzalez.com/alta/Y-Z/ZS-376-BM_2.jpg"}]
["2020-09-29T14:17:00",7,"ZS-689","ZS-689_1.jpg",{"$f":"+GetURL(D39869)","v":"https://www.refaccionariagonzalez.com/alta/Y-Z/ZS-689_1.jpg"}]
["2020-09-29T14:17:00",7,"ZS-689","ZS-689_2.jpg",{"$f":"+GetURL(D39870)","v":"https://www.refaccionariagonzalez.com/alta/Y-Z/ZS-689_2.jpg"}]
["2020-09-29T14:22:00",7,"ZS-689","ZS-689_3.jpg",{"$f":"+GetURL(D39871)","v":"https://www.refaccionariagonzalez.com/alta/Y-Z/ZS-689_3.jpg"}]
["2024-01-15T13:46:00",9,"ZSE-033 ","ZSE-033 _1.jpg",{"$f":"+GetURL(D39872)","v":"https://www.refaccionariagonzalez.com/alta/Y-Z/ZSE-033 _1.jpg"}]
["2020-09-29T14:59:00",8,"ZSE-033","ZSE-033_1.jpg",{"$f":"+GetURL(D39873)","v":"https://www.refaccionariagonzalez.com/alta/Y-Z/ZSE-033_1.jpg"}]
["2024-01-15T13:46:00",9,{"$f":"+LEFT(D39874,B39874-1)","v":"ZSE-033 "},"ZSE-033 _2.jpg",{"$f":"+GetURL(D39874)","v":"https://www.refaccionariagonzalez.com/alta/Y-Z/ZSE-033 _2.jpg"}]
["2020-09-29T14:40:00",8,"ZSE-033","ZSE-033_2.jpg",{"$f":"+GetURL(D39875)","v":"https://www.refaccionariagonzalez.com/alta/Y-Z/ZSE-033_2.jpg"}]
["2024-01-15T13:46:00",9,"ZSE-033 ","ZSE-033 _3.jpg",{"$f":"+GetURL(D39876)","v":"https://www.refaccionariagonzalez.com/alta/Y-Z/ZSE-033 _3.jpg"}]
["2024-01-15T13:46:00",8,"ZSE-061","ZSE-061_1.jpg",{"$f":"+GetURL(D39877)","v":"https://www.refaccionariagonzalez.com/alta/Y-Z/ZSE-061_1.jpg"}]
["2024-01-15T13:46:00",8,"ZSE-061","ZSE-061_2.jpg",{"$f":"+GetURL(D39878)","v":"https://www.refaccionariagonzalez.com/alta/Y-Z/ZSE-061_2.jpg"}]
["2024-01-15T13:46:00",8,"ZSE-061","ZSE-061_3.jpg",{"$f":"+GetURL(D39879)","v":"https://www.refaccionariagonzalez.com/alta/Y-Z/ZSE-061_3.jpg"}]
["2024-01-15T13:46:00",9,"ZSE003BM","ZSE003BM_1.jpg",{"$f":"+GetURL(D39880)","v":"https://www.refaccionariagonzalez.com/alta/Y-Z/ZSE003BM_1.jpg"}]
["2024-01-15T13:46:00",9,"ZSE003BM","ZSE003BM_2.jpg",{"$f":"+GetURL(D39881)","v":"https://www.refaccionariagonzalez.com/alta/Y-Z/ZSE003BM_2.jpg"}]
["2024-01-15T13:46:00",9,"ZSE003BM","ZSE003BM_3.jpg",{"$f":"+GetURL(D39882)","v":"https://www.refaccionariagonzalez.com/alta/Y-Z/ZSE003BM_3.jpg"}]
["2024-01-18T17:37:00",9,"ZSE030BM","ZSE030BM_1.jpg",{"$f":"+GetURL(D39883)","v":"https://www.refaccionariagonzalez.com/alta/Y-Z/ZSE030BM_1.jpg"}]
["2024-01-18T17:37:00",9,"ZSE030BM","ZSE030BM_2.jpg",{"$f":"+GetURL(D39884)","v":"https://www.refaccionariagonzalez.com/alta/Y-Z/ZSE030BM_2.jpg"}]
["2024-01-18T17:37:00",9,"ZSE030BM","ZSE030BM_3.jpg",{"$f":"+GetURL(D39885)","v":"https://www.refaccionariagonzalez.com/alta/Y-Z/ZSE030BM_3.jpg"}]
["2024-01-18T17:37:00",9,"ZSE056BM","ZSE056BM_1.jpg",{"$f":"+GetURL(D39886)","v":"https://www.refaccionariagonzalez.com/alta/Y-Z/ZSE056BM_1.jpg"}]
["2024-01-18T17:37:00",9,"ZSE056BM","ZSE056BM_2.jpg",{"$f":"+GetURL(D39887)","v":"https://www.refaccionariagonzalez.com/alta/Y-Z/ZSE056BM_2.jpg"}]
["2024-01-18T17:37:00",9,"ZSE056BM","ZSE056BM_3.jpg",{"$f":"+GetURL(D39888)","v":"https://www.refaccionariagonzalez.com/alta/Y-Z/ZSE056BM_3.jpg"}]
["2024-01-18T17:37:00",7,"ZSE617","ZSE617_1.jpg",{"$f":"+GetURL(D39889)","v":"https://www.refaccionariagonzalez.com/alta/Y-Z/ZSE617_1.jpg"}]
["2024-01-18T17:37:00",7,"ZSE617","ZSE617_2.jpg",{"$f":"+GetURL(D39890)","v":"https://www.refaccionariagonzalez.com/alta/Y-Z/ZSE617_2.jpg"}]
["2024-01-18T17:37:00",7,"ZSE617","ZSE617_3.jpg",{"$f":"+GetURL(D39891)","v":"https://www.refaccionariagonzalez.com/alta/Y-Z/ZSE617_3.jpg"}]
["2024-04-24T15:11:00",10,"ZX-121075","ZX-121075.jpg",{"$f":"+GetURL(D39892)","v":"https://www.refaccionariagonzalez.com/alta/Y-Z/ZX-121075.jpg"}]
["2020-09-29T15:03:00",{"$f":"+FIND(\"_\",D39893)","v":13},"ZXS617A543AB","ZXS617A543AB_1.jpg",{"$f":"+GetURL(D39893)","v":"https://www.refaccionariagonzalez.com/alta/Y-Z/ZXS617A543AB_1.jpg"}]
["2020-09-29T15:04:00",{"$f":"+FIND(\"_\",D39894)","v":13},"ZXS617A543AB","ZXS617A543AB_2.jpg",{"$f":"+GetURL(D39894)","v":"https://www.refaccionariagonzalez.com/alta/Y-Z/ZXS617A543AB_2.jpg"}]